{"text_format":"1","workbook":"xlsx","n_sheets":3,"sheets":["Invoice Treatment Analysis","Pivot","Data Input"],"not_rendered":{"charts":0,"images":0,"macros":1,"external_links":0,"defined_names":0,"comments":1,"pivot_tables":1},"unopened":[],"bounds":{"document_bytes":16777216,"sheet_cells":100000,"rows_first":2000,"rows_last":500,"rows_between":2000,"halvings":0,"cell_chars":16384,"cell_head_chars":4096},"cells_cut":0,"cells_raw":0,"read":"whole","date_system":"1900"}

{"sheet":"Invoice Treatment Analysis","index":0,"n_rows":1048576,"n_cols":19,"rows_kept":4500,"cut":true,"hidden":false,"merged":[],"bounds":{"rows_first":2000,"rows_last":500,"rows_between":2000,"halvings":0}}
["Service",null,"No.Items",null,"Average","Fees","%Fees","Time","Average Time","Hourly Rate",null,"Full Price","Rev @ no ","Difference",null,"Suggested Price","Fees","Difference","% Difference"]
[null,null,null,null,null,null,null,null,null,null,null,null,"Discount"]
[]
["Totals",null,{"$f":"SUM(C7:C171)","v":0},null,null,{"$f":"SUM(F7:F171)","v":0},null,null,null,null,null,null,{"$f":"SUM(M7:M171)","v":0},{"$f":"SUM(N7:N171)","v":0},{"$f":"N4/M4","v":{"$error":"#DIV/0!"}},null,{"$f":"SUM(Q7:Q171)","v":0},{"$f":"SUM(R7:R171)","v":0},{"$f":"R4/F4","v":{"$error":"#DIV/0!"}}]
[]
[]
[{"$f":"IF(Pivot!G4=\"\",\"\",Pivot!G4)","v":""},null,{"$f":"IF(Pivot!H4=\"\",\"\",Pivot!H4)","v":""},null,{"$f":"IF(Pivot!J4=\"\",\"\",Pivot!J4)","v":""},{"$f":"IF(Pivot!I4=\"\",\"\",Pivot!I4)","v":""},16.260000000000002,26.025694444444444,1.6666666666666666E-2,143.69999999999999,null,null,{"$f":"IF(C7=\"\",\"\",C7*L7)","v":""},{"$f":"IF(F7=\"\",\"\",M7-F7)","v":""},{"$f":"N7/M7","v":{"$error":"#VALUE!"}},null,{"$f":"IF(C7=\"\",\"\",C7*P7)","v":""},{"$f":"IF(F7=\"\",\"\",Q7-F7)","v":""},{"$f":"IF(F7=\"\",\"\",R7/F7)","v":""}]
[{"$f":"IF(Pivot!G5=\"\",\"\",Pivot!G5)","v":""},null,{"$f":"IF(Pivot!H5=\"\",\"\",Pivot!H5)","v":""},null,{"$f":"IF(Pivot!J5=\"\",\"\",Pivot!J5)","v":""},{"$f":"IF(Pivot!I5=\"\",\"\",Pivot!I5)","v":""},12.29,17.270833333333332,7.6388888888888886E-3,163.76,null,null,{"$f":"IF(C8=\"\",\"\",C8*L8)","v":""},{"$f":"IF(F8=\"\",\"\",M8-F8)","v":""},{"$error":"#VALUE!"},null,{"$f":"IF(C8=\"\",\"\",C8*P8)","v":""},{"$f":"IF(F8=\"\",\"\",Q8-F8)","v":""},{"$f":"IF(F8=\"\",\"\",R8/F8)","v":""}]
[{"$f":"IF(Pivot!G6=\"\",\"\",Pivot!G6)","v":""},null,{"$f":"IF(Pivot!H6=\"\",\"\",Pivot!H6)","v":""},null,{"$f":"IF(Pivot!J6=\"\",\"\",Pivot!J6)","v":""},{"$f":"IF(Pivot!I6=\"\",\"\",Pivot!I6)","v":""},7.33,6.7055555555555557,1.1805555555555555E-2,251.4,null,null,"","",{"$error":"#VALUE!"},null,"","",""]
[{"$f":"IF(Pivot!G7=\"\",\"\",Pivot!G7)","v":""},null,{"$f":"IF(Pivot!H7=\"\",\"\",Pivot!H7)","v":""},null,{"$f":"IF(Pivot!J7=\"\",\"\",Pivot!J7)","v":""},{"$f":"IF(Pivot!I7=\"\",\"\",Pivot!I7)","v":""},7.15,11.839583333333332,8.3333333333333332E-3,138.82,null,null,"","",{"$error":"#VALUE!"},null,"","",""]
[{"$f":"IF(Pivot!G8=\"\",\"\",Pivot!G8)","v":""},null,{"$f":"IF(Pivot!H8=\"\",\"\",Pivot!H8)","v":""},null,{"$f":"IF(Pivot!J8=\"\",\"\",Pivot!J8)","v":""},{"$f":"IF(Pivot!I8=\"\",\"\",Pivot!I8)","v":""},5.21,3.9381944444444446,3.125E-2,304.60000000000002,null,null,"","",{"$error":"#VALUE!"},null,"","",""]
[{"$f":"IF(Pivot!G9=\"\",\"\",Pivot!G9)","v":""},null,{"$f":"IF(Pivot!H9=\"\",\"\",Pivot!H9)","v":""},null,{"$f":"IF(Pivot!J9=\"\",\"\",Pivot!J9)","v":""},{"$f":"IF(Pivot!I9=\"\",\"\",Pivot!I9)","v":""},4.68,4.0013888888888891,6.9444444444444441E-3,269.26,null,null,"","",{"$error":"#VALUE!"},null,"","",""]
[{"$f":"IF(Pivot!G10=\"\",\"\",Pivot!G10)","v":""},null,{"$f":"IF(Pivot!H10=\"\",\"\",Pivot!H10)","v":""},null,{"$f":"IF(Pivot!J10=\"\",\"\",Pivot!J10)","v":""},{"$f":"IF(Pivot!I10=\"\",\"\",Pivot!I10)","v":""},4.49,3.8631944444444444,9.7222222222222224E-3,267.52,null,null,"","",{"$error":"#VALUE!"},null,"","",""]
[{"$f":"IF(Pivot!G11=\"\",\"\",Pivot!G11)","v":""},null,{"$f":"IF(Pivot!H11=\"\",\"\",Pivot!H11)","v":""},null,{"$f":"IF(Pivot!J11=\"\",\"\",Pivot!J11)","v":""},{"$f":"IF(Pivot!I11=\"\",\"\",Pivot!I11)","v":""},4.43,3.8215277777777779,7.6388888888888886E-3,266.75,null,null,"","",{"$error":"#VALUE!"},null,"","",""]
[{"$f":"IF(Pivot!G12=\"\",\"\",Pivot!G12)","v":""},null,{"$f":"IF(Pivot!H12=\"\",\"\",Pivot!H12)","v":""},null,{"$f":"IF(Pivot!J12=\"\",\"\",Pivot!J12)","v":""},{"$f":"IF(Pivot!I12=\"\",\"\",Pivot!I12)","v":""},3.65,2.1576388888888887,1.8055555555555557E-2,388.93,null,null,"","",{"$error":"#VALUE!"},null,"","",""]
[{"$f":"IF(Pivot!G13=\"\",\"\",Pivot!G13)","v":""},null,{"$f":"IF(Pivot!H13=\"\",\"\",Pivot!H13)","v":""},null,{"$f":"IF(Pivot!J13=\"\",\"\",Pivot!J13)","v":""},{"$f":"IF(Pivot!I13=\"\",\"\",Pivot!I13)","v":""},3.52,2.495138888888889,1.0416666666666666E-2,324.08,null,null,"","",{"$error":"#VALUE!"},null,"","",""]
[{"$f":"IF(Pivot!G14=\"\",\"\",Pivot!G14)","v":""},null,{"$f":"IF(Pivot!H14=\"\",\"\",Pivot!H14)","v":""},null,{"$f":"IF(Pivot!J14=\"\",\"\",Pivot!J14)","v":""},{"$f":"IF(Pivot!I14=\"\",\"\",Pivot!I14)","v":""},3.46,0.45347222222222222,6.9444444444444447E-4,1754.43,null,null,"","",{"$error":"#VALUE!"},null,"","",""]
[{"$f":"IF(Pivot!G15=\"\",\"\",Pivot!G15)","v":""},null,{"$f":"IF(Pivot!H15=\"\",\"\",Pivot!H15)","v":""},null,{"$f":"IF(Pivot!J15=\"\",\"\",Pivot!J15)","v":""},{"$f":"IF(Pivot!I15=\"\",\"\",Pivot!I15)","v":""},3.32,0.7090277777777777,9.0277777777777787E-3,1078.3499999999999,null,null,"","",{"$error":"#VALUE!"},null,"","",""]
[{"$f":"IF(Pivot!G16=\"\",\"\",Pivot!G16)","v":""},null,{"$f":"IF(Pivot!H16=\"\",\"\",Pivot!H16)","v":""},null,{"$f":"IF(Pivot!J16=\"\",\"\",Pivot!J16)","v":""},{"$f":"IF(Pivot!I16=\"\",\"\",Pivot!I16)","v":""},2.5099999999999998,1.6770833333333333,3.472222222222222E-3,343.63,null,null,"","",{"$error":"#VALUE!"},null,"","",""]
[{"$f":"IF(Pivot!G17=\"\",\"\",Pivot!G17)","v":""},null,{"$f":"IF(Pivot!H17=\"\",\"\",Pivot!H17)","v":""},null,{"$f":"IF(Pivot!J17=\"\",\"\",Pivot!J17)","v":""},{"$f":"IF(Pivot!I17=\"\",\"\",Pivot!I17)","v":""},1.47,8.9340277777777768,9.0277777777777787E-3,37.729999999999997,null,null,"","",{"$error":"#VALUE!"},null,"","",""]
[{"$f":"IF(Pivot!G18=\"\",\"\",Pivot!G18)","v":""},null,{"$f":"IF(Pivot!H18=\"\",\"\",Pivot!H18)","v":""},null,{"$f":"IF(Pivot!J18=\"\",\"\",Pivot!J18)","v":""},{"$f":"IF(Pivot!I18=\"\",\"\",Pivot!I18)","v":""},1.38,3.3208333333333333,2.0833333333333332E-2,95.86,null,null,"","",{"$error":"#VALUE!"},null,"","",""]
[{"$f":"IF(Pivot!G19=\"\",\"\",Pivot!G19)","v":""},null,{"$f":"IF(Pivot!H19=\"\",\"\",Pivot!H19)","v":""},null,{"$f":"IF(Pivot!J19=\"\",\"\",Pivot!J19)","v":""},{"$f":"IF(Pivot!I19=\"\",\"\",Pivot!I19)","v":""},1.37,1.5513888888888889,7.6388888888888886E-3,203.12,null,null,"","",{"$error":"#VALUE!"},null,"","",""]
[{"$f":"IF(Pivot!G20=\"\",\"\",Pivot!G20)","v":""},null,{"$f":"IF(Pivot!H20=\"\",\"\",Pivot!H20)","v":""},null,{"$f":"IF(Pivot!J20=\"\",\"\",Pivot!J20)","v":""},{"$f":"IF(Pivot!I20=\"\",\"\",Pivot!I20)","v":""},1.3,0.16388888888888889,3.2638888888888891E-2,1827.97,null,null,"","",{"$error":"#VALUE!"},null,"","",""]
[{"$f":"IF(Pivot!G21=\"\",\"\",Pivot!G21)","v":""},null,{"$f":"IF(Pivot!H21=\"\",\"\",Pivot!H21)","v":""},null,{"$f":"IF(Pivot!J21=\"\",\"\",Pivot!J21)","v":""},{"$f":"IF(Pivot!I21=\"\",\"\",Pivot!I21)","v":""},1.1499999999999999,0.3215277777777778,9.0277777777777787E-3,822.76,null,null,"","",{"$error":"#VALUE!"},null,"","",""]
[{"$f":"IF(Pivot!G22=\"\",\"\",Pivot!G22)","v":""},null,{"$f":"IF(Pivot!H22=\"\",\"\",Pivot!H22)","v":""},null,{"$f":"IF(Pivot!J22=\"\",\"\",Pivot!J22)","v":""},{"$f":"IF(Pivot!I22=\"\",\"\",Pivot!I22)","v":""},1.1399999999999999,0.22430555555555556,8.3333333333333332E-3,1172.32,null,null,"","",{"$error":"#VALUE!"},null,"","",""]
[{"$f":"IF(Pivot!G23=\"\",\"\",Pivot!G23)","v":""},null,{"$f":"IF(Pivot!H23=\"\",\"\",Pivot!H23)","v":""},null,{"$f":"IF(Pivot!J23=\"\",\"\",Pivot!J23)","v":""},{"$f":"IF(Pivot!I23=\"\",\"\",Pivot!I23)","v":""},1.04,0.4375,2.0833333333333332E-2,548.29,null,null,"","",{"$error":"#VALUE!"},null,"","",""]
[{"$f":"IF(Pivot!G24=\"\",\"\",Pivot!G24)","v":""},null,{"$f":"IF(Pivot!H24=\"\",\"\",Pivot!H24)","v":""},null,{"$f":"IF(Pivot!J24=\"\",\"\",Pivot!J24)","v":""},{"$f":"IF(Pivot!I24=\"\",\"\",Pivot!I24)","v":""},0.96,0.1013888888888889,6.2499999999999995E-3,2182.19,null,null,"","",{"$error":"#VALUE!"},null,"","",""]
[{"$f":"IF(Pivot!G25=\"\",\"\",Pivot!G25)","v":""},null,{"$f":"IF(Pivot!H25=\"\",\"\",Pivot!H25)","v":""},null,{"$f":"IF(Pivot!J25=\"\",\"\",Pivot!J25)","v":""},{"$f":"IF(Pivot!I25=\"\",\"\",Pivot!I25)","v":""},0.93,0.21736111111111112,1.3888888888888888E-2,979.55,null,null,"","",{"$error":"#VALUE!"},null,"","",""]
[{"$f":"IF(Pivot!G26=\"\",\"\",Pivot!G26)","v":""},null,{"$f":"IF(Pivot!H26=\"\",\"\",Pivot!H26)","v":""},null,{"$f":"IF(Pivot!J26=\"\",\"\",Pivot!J26)","v":""},{"$f":"IF(Pivot!I26=\"\",\"\",Pivot!I26)","v":""},0.85,5.6250000000000001E-2,6.2499999999999995E-3,3484.44,null,null,"","",{"$error":"#VALUE!"},null,"","",""]
[{"$f":"IF(Pivot!G27=\"\",\"\",Pivot!G27)","v":""},null,{"$f":"IF(Pivot!H27=\"\",\"\",Pivot!H27)","v":""},null,{"$f":"IF(Pivot!J27=\"\",\"\",Pivot!J27)","v":""},{"$f":"IF(Pivot!I27=\"\",\"\",Pivot!I27)","v":""},0.83,0.19236111111111112,2.4305555555555556E-2,987.73,null,null,"","",{"$error":"#VALUE!"},null,"","",""]
[{"$f":"IF(Pivot!G28=\"\",\"\",Pivot!G28)","v":""},null,{"$f":"IF(Pivot!H28=\"\",\"\",Pivot!H28)","v":""},null,{"$f":"IF(Pivot!J28=\"\",\"\",Pivot!J28)","v":""},{"$f":"IF(Pivot!I28=\"\",\"\",Pivot!I28)","v":""},0.81,0.17361111111111113,9.7222222222222224E-3,1075.2,null,null,"","",{"$error":"#VALUE!"},null,"","",""]
[{"$f":"IF(Pivot!G29=\"\",\"\",Pivot!G29)","v":""},null,{"$f":"IF(Pivot!H29=\"\",\"\",Pivot!H29)","v":""},null,{"$f":"IF(Pivot!J29=\"\",\"\",Pivot!J29)","v":""},{"$f":"IF(Pivot!I29=\"\",\"\",Pivot!I29)","v":""},0.75,1.4013888888888888,1.9444444444444445E-2,123.09,null,null,"","",{"$error":"#VALUE!"},null,"","",""]
[{"$f":"IF(Pivot!G30=\"\",\"\",Pivot!G30)","v":""},null,{"$f":"IF(Pivot!H30=\"\",\"\",Pivot!H30)","v":""},null,{"$f":"IF(Pivot!J30=\"\",\"\",Pivot!J30)","v":""},{"$f":"IF(Pivot!I30=\"\",\"\",Pivot!I30)","v":""},0.59,0.56111111111111112,1.3888888888888889E-3,241.93,null,null,"","",{"$error":"#VALUE!"},null,"","",""]
[{"$f":"IF(Pivot!G31=\"\",\"\",Pivot!G31)","v":""},null,{"$f":"IF(Pivot!H31=\"\",\"\",Pivot!H31)","v":""},null,{"$f":"IF(Pivot!J31=\"\",\"\",Pivot!J31)","v":""},{"$f":"IF(Pivot!I31=\"\",\"\",Pivot!I31)","v":""},0.53,9.7222222222222224E-2,1.1111111111111112E-2,1258.93,null,null,"","",{"$error":"#VALUE!"},null,"","",""]
[{"$f":"IF(Pivot!G32=\"\",\"\",Pivot!G32)","v":""},null,{"$f":"IF(Pivot!H32=\"\",\"\",Pivot!H32)","v":""},null,{"$f":"IF(Pivot!J32=\"\",\"\",Pivot!J32)","v":""},{"$f":"IF(Pivot!I32=\"\",\"\",Pivot!I32)","v":""},0.44,0.66527777777777775,1.1805555555555555E-2,152.82,null,null,"","",{"$error":"#VALUE!"},null,"","",""]
[{"$f":"IF(Pivot!G33=\"\",\"\",Pivot!G33)","v":""},null,{"$f":"IF(Pivot!H33=\"\",\"\",Pivot!H33)","v":""},null,{"$f":"IF(Pivot!J33=\"\",\"\",Pivot!J33)","v":""},{"$f":"IF(Pivot!I33=\"\",\"\",Pivot!I33)","v":""},0.44,0.52430555555555558,1.1111111111111112E-2,193.11,null,null,"","",{"$error":"#VALUE!"},null,"","",""]
[{"$f":"IF(Pivot!G34=\"\",\"\",Pivot!G34)","v":""},null,{"$f":"IF(Pivot!H34=\"\",\"\",Pivot!H34)","v":""},null,{"$f":"IF(Pivot!J34=\"\",\"\",Pivot!J34)","v":""},{"$f":"IF(Pivot!I34=\"\",\"\",Pivot!I34)","v":""},0.42,0.19999999999999998,2.013888888888889E-2,479.17,null,null,"","",{"$error":"#VALUE!"},null,"","",""]
[{"$f":"IF(Pivot!G35=\"\",\"\",Pivot!G35)","v":""},null,{"$f":"IF(Pivot!H35=\"\",\"\",Pivot!H35)","v":""},null,{"$f":"IF(Pivot!J35=\"\",\"\",Pivot!J35)","v":""},{"$f":"IF(Pivot!I35=\"\",\"\",Pivot!I35)","v":""},0.4,0.29097222222222224,6.9444444444444441E-3,316.75,null,null,"","",{"$error":"#VALUE!"},null,"","",""]
[{"$f":"IF(Pivot!G36=\"\",\"\",Pivot!G36)","v":""},null,{"$f":"IF(Pivot!H36=\"\",\"\",Pivot!H36)","v":""},null,{"$f":"IF(Pivot!J36=\"\",\"\",Pivot!J36)","v":""},{"$f":"IF(Pivot!I36=\"\",\"\",Pivot!I36)","v":""},0.38,0.16388888888888889,5.5555555555555558E-3,535.80999999999995,null,null,"","",{"$error":"#VALUE!"},null,"","",""]
[{"$f":"IF(Pivot!G37=\"\",\"\",Pivot!G37)","v":""},null,{"$f":"IF(Pivot!H37=\"\",\"\",Pivot!H37)","v":""},null,{"$f":"IF(Pivot!J37=\"\",\"\",Pivot!J37)","v":""},{"$f":"IF(Pivot!I37=\"\",\"\",Pivot!I37)","v":""},0.34,6.8749999999999992E-2,9.7222222222222224E-3,1121.21,null,null,"","",{"$error":"#VALUE!"},null,"","",""]
[{"$f":"IF(Pivot!G38=\"\",\"\",Pivot!G38)","v":""},null,{"$f":"IF(Pivot!H38=\"\",\"\",Pivot!H38)","v":""},null,{"$f":"IF(Pivot!J38=\"\",\"\",Pivot!J38)","v":""},{"$f":"IF(Pivot!I38=\"\",\"\",Pivot!I38)","v":""},0.28999999999999998,5.9722222222222225E-2,2.013888888888889E-2,1130.23,null,null,"","",{"$error":"#VALUE!"},null,"","",""]
[{"$f":"IF(Pivot!G39=\"\",\"\",Pivot!G39)","v":""},null,{"$f":"IF(Pivot!H39=\"\",\"\",Pivot!H39)","v":""},null,{"$f":"IF(Pivot!J39=\"\",\"\",Pivot!J39)","v":""},{"$f":"IF(Pivot!I39=\"\",\"\",Pivot!I39)","v":""},0.28000000000000003,3.125E-2,3.125E-2,2080,null,null,"","",{"$error":"#VALUE!"},null,"","",""]
[{"$f":"IF(Pivot!G40=\"\",\"\",Pivot!G40)","v":""},null,{"$f":"IF(Pivot!H40=\"\",\"\",Pivot!H40)","v":""},null,{"$f":"IF(Pivot!J40=\"\",\"\",Pivot!J40)","v":""},{"$f":"IF(Pivot!I40=\"\",\"\",Pivot!I40)","v":""},0.25,0.17291666666666669,1.2499999999999999E-2,337.35,null,null,"","",{"$error":"#VALUE!"},null,"","",""]
[{"$f":"IF(Pivot!G41=\"\",\"\",Pivot!G41)","v":""},null,{"$f":"IF(Pivot!H41=\"\",\"\",Pivot!H41)","v":""},null,{"$f":"IF(Pivot!J41=\"\",\"\",Pivot!J41)","v":""},{"$f":"IF(Pivot!I41=\"\",\"\",Pivot!I41)","v":""},0.25,0.27013888888888887,8.3333333333333332E-3,212.08,null,null,"","",{"$error":"#VALUE!"},null,"","",""]
[{"$f":"IF(Pivot!G42=\"\",\"\",Pivot!G42)","v":""},null,{"$f":"IF(Pivot!H42=\"\",\"\",Pivot!H42)","v":""},null,{"$f":"IF(Pivot!J42=\"\",\"\",Pivot!J42)","v":""},{"$f":"IF(Pivot!I42=\"\",\"\",Pivot!I42)","v":""},0.22,0.13819444444444443,2.7777777777777776E-2,361.81,null,null,"","",{"$error":"#VALUE!"},null,"","",""]
[{"$f":"IF(Pivot!G43=\"\",\"\",Pivot!G43)","v":""},null,{"$f":"IF(Pivot!H43=\"\",\"\",Pivot!H43)","v":""},null,{"$f":"IF(Pivot!J43=\"\",\"\",Pivot!J43)","v":""},{"$f":"IF(Pivot!I43=\"\",\"\",Pivot!I43)","v":""},0.21,0.38194444444444442,1.1805555555555555E-2,124.36,null,null,"","",{"$error":"#VALUE!"},null,"","",""]
[{"$f":"IF(Pivot!G44=\"\",\"\",Pivot!G44)","v":""},null,{"$f":"IF(Pivot!H44=\"\",\"\",Pivot!H44)","v":""},null,{"$f":"IF(Pivot!J44=\"\",\"\",Pivot!J44)","v":""},{"$f":"IF(Pivot!I44=\"\",\"\",Pivot!I44)","v":""},0.19,4.5833333333333337E-2,9.0277777777777787E-3,963.64,null,null,"","",{"$error":"#VALUE!"},null,"","",""]
[{"$f":"IF(Pivot!G45=\"\",\"\",Pivot!G45)","v":""},null,{"$f":"IF(Pivot!H45=\"\",\"\",Pivot!H45)","v":""},null,{"$f":"IF(Pivot!J45=\"\",\"\",Pivot!J45)","v":""},{"$f":"IF(Pivot!I45=\"\",\"\",Pivot!I45)","v":""},0.19,0,0,0,null,null,"","",{"$error":"#VALUE!"},null,"","",""]
[{"$f":"IF(Pivot!G46=\"\",\"\",Pivot!G46)","v":""},null,{"$f":"IF(Pivot!H46=\"\",\"\",Pivot!H46)","v":""},null,{"$f":"IF(Pivot!J46=\"\",\"\",Pivot!J46)","v":""},{"$f":"IF(Pivot!I46=\"\",\"\",Pivot!I46)","v":""},0.15,1.4083333333333332,1.1111111111111112E-2,23.82,null,null,"","",{"$error":"#VALUE!"},null,"","",""]
[{"$f":"IF(Pivot!G47=\"\",\"\",Pivot!G47)","v":""},null,{"$f":"IF(Pivot!H47=\"\",\"\",Pivot!H47)","v":""},null,{"$f":"IF(Pivot!J47=\"\",\"\",Pivot!J47)","v":""},{"$f":"IF(Pivot!I47=\"\",\"\",Pivot!I47)","v":""},0.14000000000000001,0.15,3.472222222222222E-3,222.08,null,null,"","",{"$error":"#VALUE!"},null,"","",""]
[{"$f":"IF(Pivot!G48=\"\",\"\",Pivot!G48)","v":""},null,{"$f":"IF(Pivot!H48=\"\",\"\",Pivot!H48)","v":""},null,{"$f":"IF(Pivot!J48=\"\",\"\",Pivot!J48)","v":""},{"$f":"IF(Pivot!I48=\"\",\"\",Pivot!I48)","v":""},0.14000000000000001,0.20138888888888887,1.6666666666666666E-2,155.16999999999999,null,null,"","",{"$error":"#VALUE!"},null,"","",""]
[{"$f":"IF(Pivot!G49=\"\",\"\",Pivot!G49)","v":""},null,{"$f":"IF(Pivot!H49=\"\",\"\",Pivot!H49)","v":""},null,{"$f":"IF(Pivot!J49=\"\",\"\",Pivot!J49)","v":""},{"$f":"IF(Pivot!I49=\"\",\"\",Pivot!I49)","v":""},0.13,0.18194444444444444,1.1805555555555555E-2,160.31,null,null,"","",{"$error":"#VALUE!"},null,"","",""]
[{"$f":"IF(Pivot!G50=\"\",\"\",Pivot!G50)","v":""},null,{"$f":"IF(Pivot!H50=\"\",\"\",Pivot!H50)","v":""},null,{"$f":"IF(Pivot!J50=\"\",\"\",Pivot!J50)","v":""},{"$f":"IF(Pivot!I50=\"\",\"\",Pivot!I50)","v":""},0.12,0.19166666666666665,9.0277777777777787E-3,147.83000000000001,null,null,"","",{"$error":"#VALUE!"},null,"","",""]
[{"$f":"IF(Pivot!G51=\"\",\"\",Pivot!G51)","v":""},null,{"$f":"IF(Pivot!H51=\"\",\"\",Pivot!H51)","v":""},null,{"$f":"IF(Pivot!J51=\"\",\"\",Pivot!J51)","v":""},{"$f":"IF(Pivot!I51=\"\",\"\",Pivot!I51)","v":""},0.11,0.12916666666666668,5.5555555555555558E-3,203.23,null,null,"","",{"$error":"#VALUE!"},null,"","",""]
[{"$f":"IF(Pivot!G52=\"\",\"\",Pivot!G52)","v":""},null,{"$f":"IF(Pivot!H52=\"\",\"\",Pivot!H52)","v":""},null,{"$f":"IF(Pivot!J52=\"\",\"\",Pivot!J52)","v":""},{"$f":"IF(Pivot!I52=\"\",\"\",Pivot!I52)","v":""},0.11,6.6666666666666666E-2,8.3333333333333332E-3,375,null,null,"","",{"$error":"#VALUE!"},null,"","",""]
[{"$f":"IF(Pivot!G53=\"\",\"\",Pivot!G53)","v":""},null,{"$f":"IF(Pivot!H53=\"\",\"\",Pivot!H53)","v":""},null,{"$f":"IF(Pivot!J53=\"\",\"\",Pivot!J53)","v":""},{"$f":"IF(Pivot!I53=\"\",\"\",Pivot!I53)","v":""},0.11,1.8055555555555557E-2,9.0277777777777787E-3,1384.62,null,null,"","",{"$error":"#VALUE!"},null,"","",""]
[{"$f":"IF(Pivot!G54=\"\",\"\",Pivot!G54)","v":""},null,{"$f":"IF(Pivot!H54=\"\",\"\",Pivot!H54)","v":""},null,{"$f":"IF(Pivot!J54=\"\",\"\",Pivot!J54)","v":""},{"$f":"IF(Pivot!I54=\"\",\"\",Pivot!I54)","v":""},0.1,0.1423611111111111,1.3194444444444444E-2,161.56,null,null,"","",{"$error":"#VALUE!"},null,"","",""]
[{"$f":"IF(Pivot!G55=\"\",\"\",Pivot!G55)","v":""},null,{"$f":"IF(Pivot!H55=\"\",\"\",Pivot!H55)","v":""},null,{"$f":"IF(Pivot!J55=\"\",\"\",Pivot!J55)","v":""},{"$f":"IF(Pivot!I55=\"\",\"\",Pivot!I55)","v":""},0.09,5.5555555555555552E-2,2.7777777777777776E-2,375,null,null,"","",{"$error":"#VALUE!"},null,"","",""]
[{"$f":"IF(Pivot!G56=\"\",\"\",Pivot!G56)","v":""},null,{"$f":"IF(Pivot!H56=\"\",\"\",Pivot!H56)","v":""},null,{"$f":"IF(Pivot!J56=\"\",\"\",Pivot!J56)","v":""},{"$f":"IF(Pivot!I56=\"\",\"\",Pivot!I56)","v":""},0.09,1.8749999999999999E-2,9.7222222222222224E-3,1111.1099999999999,null,null,"","",{"$error":"#VALUE!"},null,"","",""]
[{"$f":"IF(Pivot!G57=\"\",\"\",Pivot!G57)","v":""},null,{"$f":"IF(Pivot!H57=\"\",\"\",Pivot!H57)","v":""},null,{"$f":"IF(Pivot!J57=\"\",\"\",Pivot!J57)","v":""},{"$f":"IF(Pivot!I57=\"\",\"\",Pivot!I57)","v":""},0.09,0.11180555555555556,6.9444444444444441E-3,184.66,null,null,"","",{"$error":"#VALUE!"},null,"","",""]
[{"$f":"IF(Pivot!G58=\"\",\"\",Pivot!G58)","v":""},null,{"$f":"IF(Pivot!H58=\"\",\"\",Pivot!H58)","v":""},null,{"$f":"IF(Pivot!J58=\"\",\"\",Pivot!J58)","v":""},{"$f":"IF(Pivot!I58=\"\",\"\",Pivot!I58)","v":""},0.08,8.6805555555555566E-2,7.6388888888888886E-3,206.4,null,null,"","",{"$error":"#VALUE!"},null,"","",""]
[{"$f":"IF(Pivot!G59=\"\",\"\",Pivot!G59)","v":""},null,{"$f":"IF(Pivot!H59=\"\",\"\",Pivot!H59)","v":""},null,{"$f":"IF(Pivot!J59=\"\",\"\",Pivot!J59)","v":""},{"$f":"IF(Pivot!I59=\"\",\"\",Pivot!I59)","v":""},7.0000000000000007E-2,0,0,0,null,null,"","",{"$error":"#VALUE!"},null,"","",""]
[{"$f":"IF(Pivot!G60=\"\",\"\",Pivot!G60)","v":""},null,{"$f":"IF(Pivot!H60=\"\",\"\",Pivot!H60)","v":""},null,{"$f":"IF(Pivot!J60=\"\",\"\",Pivot!J60)","v":""},{"$f":"IF(Pivot!I60=\"\",\"\",Pivot!I60)","v":""},7.0000000000000007E-2,0.10069444444444443,5.5555555555555558E-3,155.16999999999999,null,null,"","",{"$error":"#VALUE!"},null,"","",""]
[{"$f":"IF(Pivot!G61=\"\",\"\",Pivot!G61)","v":""},null,{"$f":"IF(Pivot!H61=\"\",\"\",Pivot!H61)","v":""},null,{"$f":"IF(Pivot!J61=\"\",\"\",Pivot!J61)","v":""},{"$f":"IF(Pivot!I61=\"\",\"\",Pivot!I61)","v":""},0.06,0.11388888888888889,8.3333333333333332E-3,128.05000000000001,null,null,"","",{"$error":"#VALUE!"},null,"","",""]
[{"$f":"IF(Pivot!G62=\"\",\"\",Pivot!G62)","v":""},null,{"$f":"IF(Pivot!H62=\"\",\"\",Pivot!H62)","v":""},null,{"$f":"IF(Pivot!J62=\"\",\"\",Pivot!J62)","v":""},{"$f":"IF(Pivot!I62=\"\",\"\",Pivot!I62)","v":""},0.06,3.4027777777777775E-2,6.9444444444444441E-3,373.47,null,null,"","",{"$error":"#VALUE!"},null,"","",""]
[{"$f":"IF(Pivot!G63=\"\",\"\",Pivot!G63)","v":""},null,{"$f":"IF(Pivot!H63=\"\",\"\",Pivot!H63)","v":""},null,{"$f":"IF(Pivot!J63=\"\",\"\",Pivot!J63)","v":""},{"$f":"IF(Pivot!I63=\"\",\"\",Pivot!I63)","v":""},0.05,5.1388888888888894E-2,5.1388888888888894E-2,243.24,null,null,"","",{"$error":"#VALUE!"},null,"","",""]
[{"$f":"IF(Pivot!G64=\"\",\"\",Pivot!G64)","v":""},null,{"$f":"IF(Pivot!H64=\"\",\"\",Pivot!H64)","v":""},null,{"$f":"IF(Pivot!J64=\"\",\"\",Pivot!J64)","v":""},{"$f":"IF(Pivot!I64=\"\",\"\",Pivot!I64)","v":""},0.05,9.2361111111111116E-2,1.5277777777777777E-2,124.06,null,null,"","",{"$error":"#VALUE!"},null,"","",""]
[{"$f":"IF(Pivot!G65=\"\",\"\",Pivot!G65)","v":""},null,{"$f":"IF(Pivot!H65=\"\",\"\",Pivot!H65)","v":""},null,{"$f":"IF(Pivot!J65=\"\",\"\",Pivot!J65)","v":""},{"$f":"IF(Pivot!I65=\"\",\"\",Pivot!I65)","v":""},0.05,7.6388888888888895E-2,1.2499999999999999E-2,141.82,null,null,"","",{"$error":"#VALUE!"},null,"","",""]
[{"$f":"IF(Pivot!G66=\"\",\"\",Pivot!G66)","v":""},null,{"$f":"IF(Pivot!H66=\"\",\"\",Pivot!H66)","v":""},null,{"$f":"IF(Pivot!J66=\"\",\"\",Pivot!J66)","v":""},{"$f":"IF(Pivot!I66=\"\",\"\",Pivot!I66)","v":""},0.05,0,0,0,null,null,"","",{"$error":"#VALUE!"},null,"","",""]
[{"$f":"IF(Pivot!G67=\"\",\"\",Pivot!G67)","v":""},null,{"$f":"IF(Pivot!H67=\"\",\"\",Pivot!H67)","v":""},null,{"$f":"IF(Pivot!J67=\"\",\"\",Pivot!J67)","v":""},{"$f":"IF(Pivot!I67=\"\",\"\",Pivot!I67)","v":""},0.05,2.7083333333333334E-2,9.0277777777777787E-3,384.62,null,null,"","",{"$error":"#VALUE!"},null,"","",""]
[{"$f":"IF(Pivot!G68=\"\",\"\",Pivot!G68)","v":""},null,{"$f":"IF(Pivot!H68=\"\",\"\",Pivot!H68)","v":""},null,{"$f":"IF(Pivot!J68=\"\",\"\",Pivot!J68)","v":""},{"$f":"IF(Pivot!I68=\"\",\"\",Pivot!I68)","v":""},0.03,8.819444444444445E-2,9.7222222222222224E-3,70.87,null,null,"","",{"$f":"N71/M71","v":{"$error":"#VALUE!"}},null,"","",""]
[{"$f":"IF(Pivot!G69=\"\",\"\",Pivot!G69)","v":""},null,{"$f":"IF(Pivot!H69=\"\",\"\",Pivot!H69)","v":""},null,{"$f":"IF(Pivot!J69=\"\",\"\",Pivot!J69)","v":""},{"$f":"IF(Pivot!I69=\"\",\"\",Pivot!I69)","v":""},0.03,2.2222222222222223E-2,2.2222222222222223E-2,281.25,null,null,{"$f":"IF(C72=\"\",\"\",C72*L72)","v":""},{"$f":"IF(F72=\"\",\"\",M72-F72)","v":""},{"$error":"#VALUE!"},null,{"$f":"IF(C72=\"\",\"\",C72*P72)","v":""},{"$f":"IF(F72=\"\",\"\",Q72-F72)","v":""},{"$f":"IF(F72=\"\",\"\",R72/F72)","v":""}]
[{"$f":"IF(Pivot!G70=\"\",\"\",Pivot!G70)","v":""},null,{"$f":"IF(Pivot!H70=\"\",\"\",Pivot!H70)","v":""},null,{"$f":"IF(Pivot!J70=\"\",\"\",Pivot!J70)","v":""},{"$f":"IF(Pivot!I70=\"\",\"\",Pivot!I70)","v":""},0.02,2.9861111111111113E-2,6.2499999999999995E-3,189.77,null,null,"","",{"$error":"#VALUE!"},null,"","",""]
[{"$f":"IF(Pivot!G71=\"\",\"\",Pivot!G71)","v":""},null,{"$f":"IF(Pivot!H71=\"\",\"\",Pivot!H71)","v":""},null,{"$f":"IF(Pivot!J71=\"\",\"\",Pivot!J71)","v":""},{"$f":"IF(Pivot!I71=\"\",\"\",Pivot!I71)","v":""},0.02,1.1111111111111112E-2,3.472222222222222E-3,450,null,null,"","",{"$error":"#VALUE!"},null,"","",""]
[{"$f":"IF(Pivot!G72=\"\",\"\",Pivot!G72)","v":""},null,{"$f":"IF(Pivot!H72=\"\",\"\",Pivot!H72)","v":""},null,{"$f":"IF(Pivot!J72=\"\",\"\",Pivot!J72)","v":""},{"$f":"IF(Pivot!I72=\"\",\"\",Pivot!I72)","v":""},0.02,2.0833333333333332E-2,1.0416666666666666E-2,220,null,null,"","",{"$error":"#VALUE!"},null,"","",""]
[{"$f":"IF(Pivot!G73=\"\",\"\",Pivot!G73)","v":""},null,{"$f":"IF(Pivot!H73=\"\",\"\",Pivot!H73)","v":""},null,{"$f":"IF(Pivot!J73=\"\",\"\",Pivot!J73)","v":""},{"$f":"IF(Pivot!I73=\"\",\"\",Pivot!I73)","v":""},0.02,1.7597222222222222,4.1666666666666666E-3,2.4900000000000002,null,null,"","",{"$error":"#VALUE!"},null,"","",""]
[{"$f":"IF(Pivot!G74=\"\",\"\",Pivot!G74)","v":""},null,{"$f":"IF(Pivot!H74=\"\",\"\",Pivot!H74)","v":""},null,{"$f":"IF(Pivot!J74=\"\",\"\",Pivot!J74)","v":""},{"$f":"IF(Pivot!I74=\"\",\"\",Pivot!I74)","v":""},0.02,0,0,0,null,null,"","",{"$error":"#VALUE!"},null,"","",""]
[{"$f":"IF(Pivot!G75=\"\",\"\",Pivot!G75)","v":""},null,{"$f":"IF(Pivot!H75=\"\",\"\",Pivot!H75)","v":""},null,{"$f":"IF(Pivot!J75=\"\",\"\",Pivot!J75)","v":""},{"$f":"IF(Pivot!I75=\"\",\"\",Pivot!I75)","v":""},0.02,1.3888888888888889E-3,1.3888888888888889E-3,3000,null,null,"","",{"$error":"#VALUE!"},null,"","",""]
[{"$f":"IF(Pivot!G76=\"\",\"\",Pivot!G76)","v":""},null,{"$f":"IF(Pivot!H76=\"\",\"\",Pivot!H76)","v":""},null,{"$f":"IF(Pivot!J76=\"\",\"\",Pivot!J76)","v":""},{"$f":"IF(Pivot!I76=\"\",\"\",Pivot!I76)","v":""},0.02,9.0277777777777787E-3,9.0277777777777787E-3,461.54,null,null,"","",{"$error":"#VALUE!"},null,"","",""]
[{"$f":"IF(Pivot!G77=\"\",\"\",Pivot!G77)","v":""},null,{"$f":"IF(Pivot!H77=\"\",\"\",Pivot!H77)","v":""},null,{"$f":"IF(Pivot!J77=\"\",\"\",Pivot!J77)","v":""},{"$f":"IF(Pivot!I77=\"\",\"\",Pivot!I77)","v":""},0.02,2.8472222222222222E-2,6.9444444444444441E-3,131.71,null,null,"","",{"$error":"#VALUE!"},null,"","",""]
[{"$f":"IF(Pivot!G78=\"\",\"\",Pivot!G78)","v":""},null,{"$f":"IF(Pivot!H78=\"\",\"\",Pivot!H78)","v":""},null,{"$f":"IF(Pivot!J78=\"\",\"\",Pivot!J78)","v":""},{"$f":"IF(Pivot!I78=\"\",\"\",Pivot!I78)","v":""},0.02,1.8749999999999999E-2,9.7222222222222224E-3,200,null,null,"","",{"$error":"#VALUE!"},null,"","",""]
[{"$f":"IF(Pivot!G79=\"\",\"\",Pivot!G79)","v":""},null,{"$f":"IF(Pivot!H79=\"\",\"\",Pivot!H79)","v":""},null,{"$f":"IF(Pivot!J79=\"\",\"\",Pivot!J79)","v":""},{"$f":"IF(Pivot!I79=\"\",\"\",Pivot!I79)","v":""},0.02,6.4319444444444445,3.472222222222222E-3,0.54,null,null,"","",{"$error":"#VALUE!"},null,"","",""]
[{"$f":"IF(Pivot!G80=\"\",\"\",Pivot!G80)","v":""},null,{"$f":"IF(Pivot!H80=\"\",\"\",Pivot!H80)","v":""},null,{"$f":"IF(Pivot!J80=\"\",\"\",Pivot!J80)","v":""},{"$f":"IF(Pivot!I80=\"\",\"\",Pivot!I80)","v":""},0.01,4.1666666666666666E-3,4.1666666666666666E-3,750,null,null,"","",{"$error":"#VALUE!"},null,"","",""]
[{"$f":"IF(Pivot!G81=\"\",\"\",Pivot!G81)","v":""},null,{"$f":"IF(Pivot!H81=\"\",\"\",Pivot!H81)","v":""},null,{"$f":"IF(Pivot!J81=\"\",\"\",Pivot!J81)","v":""},{"$f":"IF(Pivot!I81=\"\",\"\",Pivot!I81)","v":""},0.01,2.2222222222222223E-2,3.472222222222222E-3,127.5,null,null,"","",{"$error":"#VALUE!"},null,"","",""]
[{"$f":"IF(Pivot!G82=\"\",\"\",Pivot!G82)","v":""},null,{"$f":"IF(Pivot!H82=\"\",\"\",Pivot!H82)","v":""},null,{"$f":"IF(Pivot!J82=\"\",\"\",Pivot!J82)","v":""},{"$f":"IF(Pivot!I82=\"\",\"\",Pivot!I82)","v":""},0.01,1.3631944444444446,8.3333333333333332E-3,1.99,null,null,"","",{"$error":"#VALUE!"},null,"","",""]
[{"$f":"IF(Pivot!G83=\"\",\"\",Pivot!G83)","v":""},null,{"$f":"IF(Pivot!H83=\"\",\"\",Pivot!H83)","v":""},null,{"$f":"IF(Pivot!J83=\"\",\"\",Pivot!J83)","v":""},{"$f":"IF(Pivot!I83=\"\",\"\",Pivot!I83)","v":""},0.01,4.5833333333333337E-2,6.2499999999999995E-3,59.09,null,null,"","",{"$error":"#VALUE!"},null,"","",""]
[{"$f":"IF(Pivot!G84=\"\",\"\",Pivot!G84)","v":""},null,{"$f":"IF(Pivot!H84=\"\",\"\",Pivot!H84)","v":""},null,{"$f":"IF(Pivot!J84=\"\",\"\",Pivot!J84)","v":""},{"$f":"IF(Pivot!I84=\"\",\"\",Pivot!I84)","v":""},0.01,0,0,0,null,null,"","",{"$error":"#VALUE!"},null,"","",""]
[{"$f":"IF(Pivot!G85=\"\",\"\",Pivot!G85)","v":""},null,{"$f":"IF(Pivot!H85=\"\",\"\",Pivot!H85)","v":""},null,{"$f":"IF(Pivot!J85=\"\",\"\",Pivot!J85)","v":""},{"$f":"IF(Pivot!I85=\"\",\"\",Pivot!I85)","v":""},0.01,0,0,0,null,null,"","",{"$error":"#VALUE!"},null,"","",""]
[{"$f":"IF(Pivot!G86=\"\",\"\",Pivot!G86)","v":""},null,{"$f":"IF(Pivot!H86=\"\",\"\",Pivot!H86)","v":""},null,{"$f":"IF(Pivot!J86=\"\",\"\",Pivot!J86)","v":""},{"$f":"IF(Pivot!I86=\"\",\"\",Pivot!I86)","v":""},0.01,5.6250000000000001E-2,1.8749999999999999E-2,37.04,null,null,"","",{"$error":"#VALUE!"},null,"","",""]
[{"$f":"IF(Pivot!G87=\"\",\"\",Pivot!G87)","v":""},null,{"$f":"IF(Pivot!H87=\"\",\"\",Pivot!H87)","v":""},null,{"$f":"IF(Pivot!J87=\"\",\"\",Pivot!J87)","v":""},{"$f":"IF(Pivot!I87=\"\",\"\",Pivot!I87)","v":""},0.01,0,0,0,null,null,"","",{"$error":"#VALUE!"},null,"","",""]
[{"$f":"IF(Pivot!G88=\"\",\"\",Pivot!G88)","v":""},null,{"$f":"IF(Pivot!H88=\"\",\"\",Pivot!H88)","v":""},null,{"$f":"IF(Pivot!J88=\"\",\"\",Pivot!J88)","v":""},{"$f":"IF(Pivot!I88=\"\",\"\",Pivot!I88)","v":""},0,1.3194444444444444E-2,1.3194444444444444E-2,78.95,null,null,"","",{"$error":"#VALUE!"},null,"","",""]
[{"$f":"IF(Pivot!G89=\"\",\"\",Pivot!G89)","v":""},null,{"$f":"IF(Pivot!H89=\"\",\"\",Pivot!H89)","v":""},null,{"$f":"IF(Pivot!J89=\"\",\"\",Pivot!J89)","v":""},{"$f":"IF(Pivot!I89=\"\",\"\",Pivot!I89)","v":""},0,6.9444444444444441E-3,3.472222222222222E-3,57,null,null,"","",{"$error":"#VALUE!"},null,"","",""]
[{"$f":"IF(Pivot!G90=\"\",\"\",Pivot!G90)","v":""},null,{"$f":"IF(Pivot!H90=\"\",\"\",Pivot!H90)","v":""},null,{"$f":"IF(Pivot!J90=\"\",\"\",Pivot!J90)","v":""},{"$f":"IF(Pivot!I90=\"\",\"\",Pivot!I90)","v":""},0,9.5833333333333326E-2,0,0,null,null,"","",{"$error":"#VALUE!"},null,"","",""]
[{"$f":"IF(Pivot!G91=\"\",\"\",Pivot!G91)","v":""},null,{"$f":"IF(Pivot!H91=\"\",\"\",Pivot!H91)","v":""},null,{"$f":"IF(Pivot!J91=\"\",\"\",Pivot!J91)","v":""},{"$f":"IF(Pivot!I91=\"\",\"\",Pivot!I91)","v":""},0,1.2499999999999999E-2,0,0,null,null,"","",{"$error":"#VALUE!"},null,"","",""]
[{"$f":"IF(Pivot!G92=\"\",\"\",Pivot!G92)","v":""},null,{"$f":"IF(Pivot!H92=\"\",\"\",Pivot!H92)","v":""},null,{"$f":"IF(Pivot!J92=\"\",\"\",Pivot!J92)","v":""},{"$f":"IF(Pivot!I92=\"\",\"\",Pivot!I92)","v":""},0,0.87638888888888899,5.5555555555555558E-3,0,null,null,"","",{"$error":"#VALUE!"},null,"","",""]
[{"$f":"IF(Pivot!G93=\"\",\"\",Pivot!G93)","v":""},null,{"$f":"IF(Pivot!H93=\"\",\"\",Pivot!H93)","v":""},null,{"$f":"IF(Pivot!J93=\"\",\"\",Pivot!J93)","v":""},{"$f":"IF(Pivot!I93=\"\",\"\",Pivot!I93)","v":""},0,0.3354166666666667,2.0833333333333333E-3,0,null,null,"","",{"$error":"#VALUE!"},null,"","",""]
[{"$f":"IF(Pivot!G94=\"\",\"\",Pivot!G94)","v":""},null,{"$f":"IF(Pivot!H94=\"\",\"\",Pivot!H94)","v":""},null,{"$f":"IF(Pivot!J94=\"\",\"\",Pivot!J94)","v":""},{"$f":"IF(Pivot!I94=\"\",\"\",Pivot!I94)","v":""},0,0.61458333333333337,1.0416666666666666E-2,0,null,null,"","",{"$error":"#VALUE!"},null,"","",""]
[{"$f":"IF(Pivot!G95=\"\",\"\",Pivot!G95)","v":""},null,{"$f":"IF(Pivot!H95=\"\",\"\",Pivot!H95)","v":""},null,{"$f":"IF(Pivot!J95=\"\",\"\",Pivot!J95)","v":""},{"$f":"IF(Pivot!I95=\"\",\"\",Pivot!I95)","v":""},0,1.7361111111111112E-2,6.9444444444444447E-4,0,null,null,"","",{"$error":"#VALUE!"},null,"","",""]
[{"$f":"IF(Pivot!G96=\"\",\"\",Pivot!G96)","v":""},null,{"$f":"IF(Pivot!H96=\"\",\"\",Pivot!H96)","v":""},null,{"$f":"IF(Pivot!J96=\"\",\"\",Pivot!J96)","v":""},{"$f":"IF(Pivot!I96=\"\",\"\",Pivot!I96)","v":""},0,0.29166666666666669,9.7222222222222224E-3,0,null,null,"","",{"$error":"#VALUE!"},null,"","",""]
[{"$f":"IF(Pivot!G97=\"\",\"\",Pivot!G97)","v":""},null,{"$f":"IF(Pivot!H97=\"\",\"\",Pivot!H97)","v":""},null,{"$f":"IF(Pivot!J97=\"\",\"\",Pivot!J97)","v":""},{"$f":"IF(Pivot!I97=\"\",\"\",Pivot!I97)","v":""},0,0.77638888888888891,2.8472222222222222E-2,0,null,null,"","",{"$error":"#VALUE!"},null,"","",""]
[{"$f":"IF(Pivot!G98=\"\",\"\",Pivot!G98)","v":""},null,{"$f":"IF(Pivot!H98=\"\",\"\",Pivot!H98)","v":""},null,{"$f":"IF(Pivot!J98=\"\",\"\",Pivot!J98)","v":""},{"$f":"IF(Pivot!I98=\"\",\"\",Pivot!I98)","v":""},0,0.35625000000000001,1.5972222222222224E-2,0,null,null,"","",{"$error":"#VALUE!"},null,"","",""]
[{"$f":"IF(Pivot!G99=\"\",\"\",Pivot!G99)","v":""},null,{"$f":"IF(Pivot!H99=\"\",\"\",Pivot!H99)","v":""},null,{"$f":"IF(Pivot!J99=\"\",\"\",Pivot!J99)","v":""},{"$f":"IF(Pivot!I99=\"\",\"\",Pivot!I99)","v":""},0,0.1111111111111111,5.5555555555555558E-3,0,null,null,"","",{"$error":"#VALUE!"},null,"","",""]
[{"$f":"IF(Pivot!G100=\"\",\"\",Pivot!G100)","v":""},null,{"$f":"IF(Pivot!H100=\"\",\"\",Pivot!H100)","v":""},null,{"$f":"IF(Pivot!J100=\"\",\"\",Pivot!J100)","v":""},{"$f":"IF(Pivot!I100=\"\",\"\",Pivot!I100)","v":""},0,4.6527777777777779E-2,2.7777777777777779E-3,0,null,null,"","",{"$error":"#VALUE!"},null,"","",""]
[{"$f":"IF(Pivot!G101=\"\",\"\",Pivot!G101)","v":""},null,{"$f":"IF(Pivot!H101=\"\",\"\",Pivot!H101)","v":""},null,{"$f":"IF(Pivot!J101=\"\",\"\",Pivot!J101)","v":""},{"$f":"IF(Pivot!I101=\"\",\"\",Pivot!I101)","v":""},0,0.10555555555555556,6.9444444444444441E-3,0,null,null,"","",{"$error":"#VALUE!"},null,"","",""]
[{"$f":"IF(Pivot!G102=\"\",\"\",Pivot!G102)","v":""},null,{"$f":"IF(Pivot!H102=\"\",\"\",Pivot!H102)","v":""},null,{"$f":"IF(Pivot!J102=\"\",\"\",Pivot!J102)","v":""},{"$f":"IF(Pivot!I102=\"\",\"\",Pivot!I102)","v":""},0,3.3333333333333333E-2,3.472222222222222E-3,0,null,null,"","",{"$error":"#VALUE!"},null,"","",""]
[{"$f":"IF(Pivot!G103=\"\",\"\",Pivot!G103)","v":""},null,{"$f":"IF(Pivot!H103=\"\",\"\",Pivot!H103)","v":""},null,{"$f":"IF(Pivot!J103=\"\",\"\",Pivot!J103)","v":""},{"$f":"IF(Pivot!I103=\"\",\"\",Pivot!I103)","v":""},0,0,0,0,null,null,"","",{"$error":"#VALUE!"},null,"","",""]
[{"$f":"IF(Pivot!G104=\"\",\"\",Pivot!G104)","v":""},null,{"$f":"IF(Pivot!H104=\"\",\"\",Pivot!H104)","v":""},null,{"$f":"IF(Pivot!J104=\"\",\"\",Pivot!J104)","v":""},{"$f":"IF(Pivot!I104=\"\",\"\",Pivot!I104)","v":""},0,0,0,0,null,null,"","",{"$error":"#VALUE!"},null,"","",""]
[{"$f":"IF(Pivot!G105=\"\",\"\",Pivot!G105)","v":""},null,{"$f":"IF(Pivot!H105=\"\",\"\",Pivot!H105)","v":""},null,{"$f":"IF(Pivot!J105=\"\",\"\",Pivot!J105)","v":""},{"$f":"IF(Pivot!I105=\"\",\"\",Pivot!I105)","v":""},0,3.125E-2,5.5555555555555558E-3,0,null,null,"","",{"$error":"#VALUE!"},null,"","",""]
[{"$f":"IF(Pivot!G106=\"\",\"\",Pivot!G106)","v":""},null,{"$f":"IF(Pivot!H106=\"\",\"\",Pivot!H106)","v":""},null,{"$f":"IF(Pivot!J106=\"\",\"\",Pivot!J106)","v":""},{"$f":"IF(Pivot!I106=\"\",\"\",Pivot!I106)","v":""},0,5.7638888888888885E-2,1.1805555555555555E-2,0,null,null,"","",{"$error":"#VALUE!"},null,"","",""]
[{"$f":"IF(Pivot!G107=\"\",\"\",Pivot!G107)","v":""},null,{"$f":"IF(Pivot!H107=\"\",\"\",Pivot!H107)","v":""},null,{"$f":"IF(Pivot!J107=\"\",\"\",Pivot!J107)","v":""},{"$f":"IF(Pivot!I107=\"\",\"\",Pivot!I107)","v":""},0,6.1111111111111116E-2,1.2499999999999999E-2,0,null,null,"","",{"$error":"#VALUE!"},null,"","",""]
[{"$f":"IF(Pivot!G108=\"\",\"\",Pivot!G108)","v":""},null,{"$f":"IF(Pivot!H108=\"\",\"\",Pivot!H108)","v":""},null,{"$f":"IF(Pivot!J108=\"\",\"\",Pivot!J108)","v":""},{"$f":"IF(Pivot!I108=\"\",\"\",Pivot!I108)","v":""},0,0,0,0,null,null,"","",{"$error":"#VALUE!"},null,"","",""]
[{"$f":"IF(Pivot!G109=\"\",\"\",Pivot!G109)","v":""},null,{"$f":"IF(Pivot!H109=\"\",\"\",Pivot!H109)","v":""},null,{"$f":"IF(Pivot!J109=\"\",\"\",Pivot!J109)","v":""},{"$f":"IF(Pivot!I109=\"\",\"\",Pivot!I109)","v":""},0,1.1111111111111112E-2,2.7777777777777779E-3,0,null,null,"","",{"$error":"#VALUE!"},null,"","",""]
[{"$f":"IF(Pivot!G110=\"\",\"\",Pivot!G110)","v":""},null,{"$f":"IF(Pivot!H110=\"\",\"\",Pivot!H110)","v":""},null,{"$f":"IF(Pivot!J110=\"\",\"\",Pivot!J110)","v":""},{"$f":"IF(Pivot!I110=\"\",\"\",Pivot!I110)","v":""},0,0,0,0,null,null,"","",{"$error":"#VALUE!"},null,"","",""]
[{"$f":"IF(Pivot!G111=\"\",\"\",Pivot!G111)","v":""},null,{"$f":"IF(Pivot!H111=\"\",\"\",Pivot!H111)","v":""},null,{"$f":"IF(Pivot!J111=\"\",\"\",Pivot!J111)","v":""},{"$f":"IF(Pivot!I111=\"\",\"\",Pivot!I111)","v":""},0,0,0,0,null,null,"","",{"$error":"#VALUE!"},null,"","",""]
[{"$f":"IF(Pivot!G112=\"\",\"\",Pivot!G112)","v":""},null,{"$f":"IF(Pivot!H112=\"\",\"\",Pivot!H112)","v":""},null,{"$f":"IF(Pivot!J112=\"\",\"\",Pivot!J112)","v":""},{"$f":"IF(Pivot!I112=\"\",\"\",Pivot!I112)","v":""},0,1.3888888888888889E-3,6.9444444444444447E-4,0,null,null,"","",{"$error":"#VALUE!"},null,"","",""]
[{"$f":"IF(Pivot!G113=\"\",\"\",Pivot!G113)","v":""},null,{"$f":"IF(Pivot!H113=\"\",\"\",Pivot!H113)","v":""},null,{"$f":"IF(Pivot!J113=\"\",\"\",Pivot!J113)","v":""},{"$f":"IF(Pivot!I113=\"\",\"\",Pivot!I113)","v":""},0,0,0,0,null,null,"","",{"$error":"#VALUE!"},null,"","",""]
[{"$f":"IF(Pivot!G114=\"\",\"\",Pivot!G114)","v":""},null,{"$f":"IF(Pivot!H114=\"\",\"\",Pivot!H114)","v":""},null,{"$f":"IF(Pivot!J114=\"\",\"\",Pivot!J114)","v":""},{"$f":"IF(Pivot!I114=\"\",\"\",Pivot!I114)","v":""},0,1.6666666666666666E-2,5.5555555555555558E-3,0,null,null,"","",{"$error":"#VALUE!"},null,"","",""]
[{"$f":"IF(Pivot!G115=\"\",\"\",Pivot!G115)","v":""},null,{"$f":"IF(Pivot!H115=\"\",\"\",Pivot!H115)","v":""},null,{"$f":"IF(Pivot!J115=\"\",\"\",Pivot!J115)","v":""},{"$f":"IF(Pivot!I115=\"\",\"\",Pivot!I115)","v":""},0,0,0,0,null,null,"","",{"$error":"#VALUE!"},null,"","",""]
[{"$f":"IF(Pivot!G116=\"\",\"\",Pivot!G116)","v":""},null,{"$f":"IF(Pivot!H116=\"\",\"\",Pivot!H116)","v":""},null,{"$f":"IF(Pivot!J116=\"\",\"\",Pivot!J116)","v":""},{"$f":"IF(Pivot!I116=\"\",\"\",Pivot!I116)","v":""},0,2.5694444444444447E-2,1.3194444444444444E-2,0,null,null,"","",{"$error":"#VALUE!"},null,"","",""]
[{"$f":"IF(Pivot!G117=\"\",\"\",Pivot!G117)","v":""},null,{"$f":"IF(Pivot!H117=\"\",\"\",Pivot!H117)","v":""},null,{"$f":"IF(Pivot!J117=\"\",\"\",Pivot!J117)","v":""},{"$f":"IF(Pivot!I117=\"\",\"\",Pivot!I117)","v":""},0,6.2499999999999995E-3,3.472222222222222E-3,0,null,null,"","",{"$error":"#VALUE!"},null,"","",""]
[{"$f":"IF(Pivot!G118=\"\",\"\",Pivot!G118)","v":""},null,{"$f":"IF(Pivot!H118=\"\",\"\",Pivot!H118)","v":""},null,{"$f":"IF(Pivot!J118=\"\",\"\",Pivot!J118)","v":""},{"$f":"IF(Pivot!I118=\"\",\"\",Pivot!I118)","v":""},0,1.8055555555555557E-2,9.0277777777777787E-3,0,null,null,"","",{"$error":"#VALUE!"},null,"","",""]
[{"$f":"IF(Pivot!G119=\"\",\"\",Pivot!G119)","v":""},null,{"$f":"IF(Pivot!H119=\"\",\"\",Pivot!H119)","v":""},null,{"$f":"IF(Pivot!J119=\"\",\"\",Pivot!J119)","v":""},{"$f":"IF(Pivot!I119=\"\",\"\",Pivot!I119)","v":""},0,9.0277777777777787E-3,4.8611111111111112E-3,0,null,null,"","",{"$error":"#VALUE!"},null,"","",""]
[{"$f":"IF(Pivot!G120=\"\",\"\",Pivot!G120)","v":""},null,{"$f":"IF(Pivot!H120=\"\",\"\",Pivot!H120)","v":""},null,{"$f":"IF(Pivot!J120=\"\",\"\",Pivot!J120)","v":""},{"$f":"IF(Pivot!I120=\"\",\"\",Pivot!I120)","v":""},0,1.7361111111111112E-2,9.0277777777777787E-3,0,null,null,"","",{"$error":"#VALUE!"},null,"","",""]
[{"$f":"IF(Pivot!G121=\"\",\"\",Pivot!G121)","v":""},null,{"$f":"IF(Pivot!H121=\"\",\"\",Pivot!H121)","v":""},null,{"$f":"IF(Pivot!J121=\"\",\"\",Pivot!J121)","v":""},{"$f":"IF(Pivot!I121=\"\",\"\",Pivot!I121)","v":""},0,0,0,0,null,null,"","",{"$error":"#VALUE!"},null,"","",""]
[{"$f":"IF(Pivot!G122=\"\",\"\",Pivot!G122)","v":""},null,{"$f":"IF(Pivot!H122=\"\",\"\",Pivot!H122)","v":""},null,{"$f":"IF(Pivot!J122=\"\",\"\",Pivot!J122)","v":""},{"$f":"IF(Pivot!I122=\"\",\"\",Pivot!I122)","v":""},0,0,0,0,null,null,"","",{"$error":"#VALUE!"},null,"","",""]
[{"$f":"IF(Pivot!G123=\"\",\"\",Pivot!G123)","v":""},null,{"$f":"IF(Pivot!H123=\"\",\"\",Pivot!H123)","v":""},null,{"$f":"IF(Pivot!J123=\"\",\"\",Pivot!J123)","v":""},{"$f":"IF(Pivot!I123=\"\",\"\",Pivot!I123)","v":""},0,0,0,0,null,null,"","",{"$error":"#VALUE!"},null,"","",""]
[{"$f":"IF(Pivot!G124=\"\",\"\",Pivot!G124)","v":""},null,{"$f":"IF(Pivot!H124=\"\",\"\",Pivot!H124)","v":""},null,{"$f":"IF(Pivot!J124=\"\",\"\",Pivot!J124)","v":""},{"$f":"IF(Pivot!I124=\"\",\"\",Pivot!I124)","v":""},0,0,0,0,null,null,"","",{"$error":"#VALUE!"},null,"","",""]
[{"$f":"IF(Pivot!G125=\"\",\"\",Pivot!G125)","v":""},null,{"$f":"IF(Pivot!H125=\"\",\"\",Pivot!H125)","v":""},null,{"$f":"IF(Pivot!J125=\"\",\"\",Pivot!J125)","v":""},{"$f":"IF(Pivot!I125=\"\",\"\",Pivot!I125)","v":""},0,1.7361111111111112E-2,1.7361111111111112E-2,0,null,null,"","",{"$error":"#VALUE!"},null,"","",""]
[{"$f":"IF(Pivot!G126=\"\",\"\",Pivot!G126)","v":""},null,{"$f":"IF(Pivot!H126=\"\",\"\",Pivot!H126)","v":""},null,{"$f":"IF(Pivot!J126=\"\",\"\",Pivot!J126)","v":""},{"$f":"IF(Pivot!I126=\"\",\"\",Pivot!I126)","v":""},0,0,0,0,null,null,"","",{"$error":"#VALUE!"},null,"","",""]
[{"$f":"IF(Pivot!G127=\"\",\"\",Pivot!G127)","v":""},null,{"$f":"IF(Pivot!H127=\"\",\"\",Pivot!H127)","v":""},null,{"$f":"IF(Pivot!J127=\"\",\"\",Pivot!J127)","v":""},{"$f":"IF(Pivot!I127=\"\",\"\",Pivot!I127)","v":""},0,0,0,0,null,null,"","",{"$error":"#VALUE!"},null,"","",""]
[{"$f":"IF(Pivot!G128=\"\",\"\",Pivot!G128)","v":""},null,{"$f":"IF(Pivot!H128=\"\",\"\",Pivot!H128)","v":""},null,{"$f":"IF(Pivot!J128=\"\",\"\",Pivot!J128)","v":""},{"$f":"IF(Pivot!I128=\"\",\"\",Pivot!I128)","v":""},0,0,0,0,null,null,"","",{"$error":"#VALUE!"},null,"","",""]
[{"$f":"IF(Pivot!G129=\"\",\"\",Pivot!G129)","v":""},null,{"$f":"IF(Pivot!H129=\"\",\"\",Pivot!H129)","v":""},null,{"$f":"IF(Pivot!J129=\"\",\"\",Pivot!J129)","v":""},{"$f":"IF(Pivot!I129=\"\",\"\",Pivot!I129)","v":""},0,0,0,0,null,null,"","",{"$error":"#VALUE!"},null,"","",""]
[{"$f":"IF(Pivot!G130=\"\",\"\",Pivot!G130)","v":""},null,{"$f":"IF(Pivot!H130=\"\",\"\",Pivot!H130)","v":""},null,{"$f":"IF(Pivot!J130=\"\",\"\",Pivot!J130)","v":""},{"$f":"IF(Pivot!I130=\"\",\"\",Pivot!I130)","v":""},0,0,0,0,null,null,"","",{"$error":"#VALUE!"},null,"","",""]
[{"$f":"IF(Pivot!G131=\"\",\"\",Pivot!G131)","v":""},null,{"$f":"IF(Pivot!H131=\"\",\"\",Pivot!H131)","v":""},null,{"$f":"IF(Pivot!J131=\"\",\"\",Pivot!J131)","v":""},{"$f":"IF(Pivot!I131=\"\",\"\",Pivot!I131)","v":""},0,0,0,0,null,null,"","",{"$error":"#VALUE!"},null,"","",""]
[{"$f":"IF(Pivot!G132=\"\",\"\",Pivot!G132)","v":""},null,{"$f":"IF(Pivot!H132=\"\",\"\",Pivot!H132)","v":""},null,{"$f":"IF(Pivot!J132=\"\",\"\",Pivot!J132)","v":""},{"$f":"IF(Pivot!I132=\"\",\"\",Pivot!I132)","v":""},0,1.4583333333333332E-2,1.4583333333333332E-2,0,null,null,"","",{"$f":"N135/M135","v":{"$error":"#VALUE!"}},null,"","",""]
[{"$f":"IF(Pivot!G133=\"\",\"\",Pivot!G133)","v":""},null,{"$f":"IF(Pivot!H133=\"\",\"\",Pivot!H133)","v":""},null,{"$f":"IF(Pivot!J133=\"\",\"\",Pivot!J133)","v":""},{"$f":"IF(Pivot!I133=\"\",\"\",Pivot!I133)","v":""},0,0,0,0,null,null,{"$f":"IF(C136=\"\",\"\",C136*L136)","v":""},{"$f":"IF(F136=\"\",\"\",M136-F136)","v":""},{"$error":"#VALUE!"},null,{"$f":"IF(C136=\"\",\"\",C136*P136)","v":""},{"$f":"IF(F136=\"\",\"\",Q136-F136)","v":""},{"$f":"IF(F136=\"\",\"\",R136/F136)","v":""}]
[{"$f":"IF(Pivot!G134=\"\",\"\",Pivot!G134)","v":""},null,{"$f":"IF(Pivot!H134=\"\",\"\",Pivot!H134)","v":""},null,{"$f":"IF(Pivot!J134=\"\",\"\",Pivot!J134)","v":""},{"$f":"IF(Pivot!I134=\"\",\"\",Pivot!I134)","v":""},0,0,0,0,null,null,"","",{"$error":"#VALUE!"},null,"","",""]
[{"$f":"IF(Pivot!G135=\"\",\"\",Pivot!G135)","v":""},null,{"$f":"IF(Pivot!H135=\"\",\"\",Pivot!H135)","v":""},null,{"$f":"IF(Pivot!J135=\"\",\"\",Pivot!J135)","v":""},{"$f":"IF(Pivot!I135=\"\",\"\",Pivot!I135)","v":""},0,1.9444444444444445E-2,1.9444444444444445E-2,0,null,null,"","",{"$error":"#VALUE!"},null,"","",""]
[{"$f":"IF(Pivot!G136=\"\",\"\",Pivot!G136)","v":""},null,{"$f":"IF(Pivot!H136=\"\",\"\",Pivot!H136)","v":""},null,{"$f":"IF(Pivot!J136=\"\",\"\",Pivot!J136)","v":""},{"$f":"IF(Pivot!I136=\"\",\"\",Pivot!I136)","v":""},0,0.10555555555555556,0.10555555555555556,0,null,null,"","",{"$error":"#VALUE!"},null,"","",""]
[{"$f":"IF(Pivot!G137=\"\",\"\",Pivot!G137)","v":""},null,{"$f":"IF(Pivot!H137=\"\",\"\",Pivot!H137)","v":""},null,{"$f":"IF(Pivot!J137=\"\",\"\",Pivot!J137)","v":""},{"$f":"IF(Pivot!I137=\"\",\"\",Pivot!I137)","v":""},0,0,0,0,null,null,"","",{"$error":"#VALUE!"},null,"","",""]
[{"$f":"IF(Pivot!G138=\"\",\"\",Pivot!G138)","v":""},null,{"$f":"IF(Pivot!H138=\"\",\"\",Pivot!H138)","v":""},null,{"$f":"IF(Pivot!J138=\"\",\"\",Pivot!J138)","v":""},{"$f":"IF(Pivot!I138=\"\",\"\",Pivot!I138)","v":""},0,0,0,0,null,null,"","",{"$error":"#VALUE!"},null,"","",""]
[{"$f":"IF(Pivot!G139=\"\",\"\",Pivot!G139)","v":""},null,{"$f":"IF(Pivot!H139=\"\",\"\",Pivot!H139)","v":""},null,{"$f":"IF(Pivot!J139=\"\",\"\",Pivot!J139)","v":""},{"$f":"IF(Pivot!I139=\"\",\"\",Pivot!I139)","v":""},0,0,0,0,null,null,"","",{"$error":"#VALUE!"},null,"","",""]
[{"$f":"IF(Pivot!G140=\"\",\"\",Pivot!G140)","v":""},null,{"$f":"IF(Pivot!H140=\"\",\"\",Pivot!H140)","v":""},null,{"$f":"IF(Pivot!J140=\"\",\"\",Pivot!J140)","v":""},{"$f":"IF(Pivot!I140=\"\",\"\",Pivot!I140)","v":""},0,0,0,0,null,null,"","",{"$error":"#VALUE!"},null,"","",""]
[{"$f":"IF(Pivot!G141=\"\",\"\",Pivot!G141)","v":""},null,{"$f":"IF(Pivot!H141=\"\",\"\",Pivot!H141)","v":""},null,{"$f":"IF(Pivot!J141=\"\",\"\",Pivot!J141)","v":""},{"$f":"IF(Pivot!I141=\"\",\"\",Pivot!I141)","v":""},0,2.0833333333333333E-3,2.0833333333333333E-3,0,null,null,"","",{"$error":"#VALUE!"},null,"","",""]
[{"$f":"IF(Pivot!G142=\"\",\"\",Pivot!G142)","v":""},null,{"$f":"IF(Pivot!H142=\"\",\"\",Pivot!H142)","v":""},null,{"$f":"IF(Pivot!J142=\"\",\"\",Pivot!J142)","v":""},{"$f":"IF(Pivot!I142=\"\",\"\",Pivot!I142)","v":""},0,5.5555555555555558E-3,5.5555555555555558E-3,0,null,null,"","",{"$error":"#VALUE!"},null,"","",""]
[{"$f":"IF(Pivot!G143=\"\",\"\",Pivot!G143)","v":""},null,{"$f":"IF(Pivot!H143=\"\",\"\",Pivot!H143)","v":""},null,{"$f":"IF(Pivot!J143=\"\",\"\",Pivot!J143)","v":""},{"$f":"IF(Pivot!I143=\"\",\"\",Pivot!I143)","v":""},0,0,0,0,null,null,"","",{"$error":"#VALUE!"},null,"","",""]
[{"$f":"IF(Pivot!G144=\"\",\"\",Pivot!G144)","v":""},null,{"$f":"IF(Pivot!H144=\"\",\"\",Pivot!H144)","v":""},null,{"$f":"IF(Pivot!J144=\"\",\"\",Pivot!J144)","v":""},{"$f":"IF(Pivot!I144=\"\",\"\",Pivot!I144)","v":""},0,3.472222222222222E-3,3.472222222222222E-3,0,null,null,"","",{"$error":"#VALUE!"},null,"","",""]
[{"$f":"IF(Pivot!G145=\"\",\"\",Pivot!G145)","v":""},null,{"$f":"IF(Pivot!H145=\"\",\"\",Pivot!H145)","v":""},null,{"$f":"IF(Pivot!J145=\"\",\"\",Pivot!J145)","v":""},{"$f":"IF(Pivot!I145=\"\",\"\",Pivot!I145)","v":""},0,3.472222222222222E-3,3.472222222222222E-3,0,null,null,"","",{"$error":"#VALUE!"},null,"","",""]
[{"$f":"IF(Pivot!G146=\"\",\"\",Pivot!G146)","v":""},null,{"$f":"IF(Pivot!H146=\"\",\"\",Pivot!H146)","v":""},null,{"$f":"IF(Pivot!J146=\"\",\"\",Pivot!J146)","v":""},{"$f":"IF(Pivot!I146=\"\",\"\",Pivot!I146)","v":""},0,0,0,0,null,null,"","",{"$error":"#VALUE!"},null,"","",""]
[{"$f":"IF(Pivot!G147=\"\",\"\",Pivot!G147)","v":""},null,{"$f":"IF(Pivot!H147=\"\",\"\",Pivot!H147)","v":""},null,{"$f":"IF(Pivot!J147=\"\",\"\",Pivot!J147)","v":""},{"$f":"IF(Pivot!I147=\"\",\"\",Pivot!I147)","v":""},0,1.3888888888888888E-2,1.3888888888888888E-2,0,null,null,"","",{"$error":"#VALUE!"},null,"","",""]
[{"$f":"IF(Pivot!G148=\"\",\"\",Pivot!G148)","v":""},null,{"$f":"IF(Pivot!H148=\"\",\"\",Pivot!H148)","v":""},null,{"$f":"IF(Pivot!J148=\"\",\"\",Pivot!J148)","v":""},{"$f":"IF(Pivot!I148=\"\",\"\",Pivot!I148)","v":""},0,1.3888888888888888E-2,1.3888888888888888E-2,0,null,null,"","",{"$error":"#VALUE!"},null,"","",""]
[{"$f":"IF(Pivot!G149=\"\",\"\",Pivot!G149)","v":""},null,{"$f":"IF(Pivot!H149=\"\",\"\",Pivot!H149)","v":""},null,{"$f":"IF(Pivot!J149=\"\",\"\",Pivot!J149)","v":""},{"$f":"IF(Pivot!I149=\"\",\"\",Pivot!I149)","v":""},null,null,null,null,null,null,"","",{"$error":"#VALUE!"},null,"","",""]
[{"$f":"IF(Pivot!G150=\"\",\"\",Pivot!G150)","v":""},null,{"$f":"IF(Pivot!H150=\"\",\"\",Pivot!H150)","v":""},null,{"$f":"IF(Pivot!J150=\"\",\"\",Pivot!J150)","v":""},{"$f":"IF(Pivot!I150=\"\",\"\",Pivot!I150)","v":""},null,null,null,null,null,null,"","",{"$error":"#VALUE!"},null,"","",""]
[{"$f":"IF(Pivot!G151=\"\",\"\",Pivot!G151)","v":""},null,{"$f":"IF(Pivot!H151=\"\",\"\",Pivot!H151)","v":""},null,{"$f":"IF(Pivot!J151=\"\",\"\",Pivot!J151)","v":""},{"$f":"IF(Pivot!I151=\"\",\"\",Pivot!I151)","v":""},null,null,null,null,null,null,"","",{"$error":"#VALUE!"},null,"","",""]
[{"$f":"IF(Pivot!G152=\"\",\"\",Pivot!G152)","v":""},null,{"$f":"IF(Pivot!H152=\"\",\"\",Pivot!H152)","v":""},null,{"$f":"IF(Pivot!J152=\"\",\"\",Pivot!J152)","v":""},{"$f":"IF(Pivot!I152=\"\",\"\",Pivot!I152)","v":""},null,null,null,null,null,null,"","",{"$error":"#VALUE!"},null,"","",""]
[{"$f":"IF(Pivot!G153=\"\",\"\",Pivot!G153)","v":""},null,{"$f":"IF(Pivot!H153=\"\",\"\",Pivot!H153)","v":""},null,{"$f":"IF(Pivot!J153=\"\",\"\",Pivot!J153)","v":""},{"$f":"IF(Pivot!I153=\"\",\"\",Pivot!I153)","v":""},null,null,null,null,null,null,"","",{"$error":"#VALUE!"},null,"","",""]
[{"$f":"IF(Pivot!G154=\"\",\"\",Pivot!G154)","v":""},null,{"$f":"IF(Pivot!H154=\"\",\"\",Pivot!H154)","v":""},null,{"$f":"IF(Pivot!J154=\"\",\"\",Pivot!J154)","v":""},{"$f":"IF(Pivot!I154=\"\",\"\",Pivot!I154)","v":""},null,null,null,null,null,null,"","",{"$error":"#VALUE!"},null,"","",""]
[{"$f":"IF(Pivot!G155=\"\",\"\",Pivot!G155)","v":""},null,{"$f":"IF(Pivot!H155=\"\",\"\",Pivot!H155)","v":""},null,{"$f":"IF(Pivot!J155=\"\",\"\",Pivot!J155)","v":""},{"$f":"IF(Pivot!I155=\"\",\"\",Pivot!I155)","v":""},null,null,null,null,null,null,"","",{"$error":"#VALUE!"},null,"","",""]
[{"$f":"IF(Pivot!G156=\"\",\"\",Pivot!G156)","v":""},null,{"$f":"IF(Pivot!H156=\"\",\"\",Pivot!H156)","v":""},null,{"$f":"IF(Pivot!J156=\"\",\"\",Pivot!J156)","v":""},{"$f":"IF(Pivot!I156=\"\",\"\",Pivot!I156)","v":""},null,null,null,null,null,null,"","",{"$error":"#VALUE!"},null,"","",""]
[{"$f":"IF(Pivot!G157=\"\",\"\",Pivot!G157)","v":""},null,{"$f":"IF(Pivot!H157=\"\",\"\",Pivot!H157)","v":""},null,{"$f":"IF(Pivot!J157=\"\",\"\",Pivot!J157)","v":""},{"$f":"IF(Pivot!I157=\"\",\"\",Pivot!I157)","v":""},null,null,null,null,null,null,"","",{"$error":"#VALUE!"},null,"","",""]
[{"$f":"IF(Pivot!G158=\"\",\"\",Pivot!G158)","v":""},null,{"$f":"IF(Pivot!H158=\"\",\"\",Pivot!H158)","v":""},null,{"$f":"IF(Pivot!J158=\"\",\"\",Pivot!J158)","v":""},{"$f":"IF(Pivot!I158=\"\",\"\",Pivot!I158)","v":""},null,null,null,null,null,null,"","",{"$error":"#VALUE!"},null,"","",""]
[{"$f":"IF(Pivot!G159=\"\",\"\",Pivot!G159)","v":""},null,{"$f":"IF(Pivot!H159=\"\",\"\",Pivot!H159)","v":""},null,{"$f":"IF(Pivot!J159=\"\",\"\",Pivot!J159)","v":""},{"$f":"IF(Pivot!I159=\"\",\"\",Pivot!I159)","v":""},null,null,null,null,null,null,"","",{"$error":"#VALUE!"},null,"","",""]
[{"$f":"IF(Pivot!G160=\"\",\"\",Pivot!G160)","v":""},null,{"$f":"IF(Pivot!H160=\"\",\"\",Pivot!H160)","v":""},null,{"$f":"IF(Pivot!J160=\"\",\"\",Pivot!J160)","v":""},{"$f":"IF(Pivot!I160=\"\",\"\",Pivot!I160)","v":""},null,null,null,null,null,null,"","",{"$error":"#VALUE!"},null,"","",""]
[{"$f":"IF(Pivot!G161=\"\",\"\",Pivot!G161)","v":""},null,{"$f":"IF(Pivot!H161=\"\",\"\",Pivot!H161)","v":""},null,{"$f":"IF(Pivot!J161=\"\",\"\",Pivot!J161)","v":""},{"$f":"IF(Pivot!I161=\"\",\"\",Pivot!I161)","v":""},null,null,null,null,null,null,"","",{"$error":"#VALUE!"},null,"","",""]
[{"$f":"IF(Pivot!G162=\"\",\"\",Pivot!G162)","v":""},null,{"$f":"IF(Pivot!H162=\"\",\"\",Pivot!H162)","v":""},null,{"$f":"IF(Pivot!J162=\"\",\"\",Pivot!J162)","v":""},{"$f":"IF(Pivot!I162=\"\",\"\",Pivot!I162)","v":""},null,null,null,null,null,null,"","",{"$error":"#VALUE!"},null,"","",""]
[{"$f":"IF(Pivot!G163=\"\",\"\",Pivot!G163)","v":""},null,{"$f":"IF(Pivot!H163=\"\",\"\",Pivot!H163)","v":""},null,{"$f":"IF(Pivot!J163=\"\",\"\",Pivot!J163)","v":""},{"$f":"IF(Pivot!I163=\"\",\"\",Pivot!I163)","v":""},null,null,null,null,null,null,"","",{"$error":"#VALUE!"},null,"","",""]
[{"$f":"IF(Pivot!G164=\"\",\"\",Pivot!G164)","v":""},null,{"$f":"IF(Pivot!H164=\"\",\"\",Pivot!H164)","v":""},null,{"$f":"IF(Pivot!J164=\"\",\"\",Pivot!J164)","v":""},{"$f":"IF(Pivot!I164=\"\",\"\",Pivot!I164)","v":""},null,null,null,null,null,null,"","",{"$error":"#VALUE!"},null,"","",""]
[{"$f":"IF(Pivot!G165=\"\",\"\",Pivot!G165)","v":""},null,{"$f":"IF(Pivot!H165=\"\",\"\",Pivot!H165)","v":""},null,{"$f":"IF(Pivot!J165=\"\",\"\",Pivot!J165)","v":""},{"$f":"IF(Pivot!I165=\"\",\"\",Pivot!I165)","v":""},null,null,null,null,null,null,"","",{"$error":"#VALUE!"},null,"","",""]
[{"$f":"IF(Pivot!G166=\"\",\"\",Pivot!G166)","v":""},null,{"$f":"IF(Pivot!H166=\"\",\"\",Pivot!H166)","v":""},null,{"$f":"IF(Pivot!J166=\"\",\"\",Pivot!J166)","v":""},{"$f":"IF(Pivot!I166=\"\",\"\",Pivot!I166)","v":""},null,null,null,null,null,null,"","",{"$error":"#VALUE!"},null,"","",""]
[{"$f":"IF(Pivot!G167=\"\",\"\",Pivot!G167)","v":""},null,{"$f":"IF(Pivot!H167=\"\",\"\",Pivot!H167)","v":""},null,{"$f":"IF(Pivot!J167=\"\",\"\",Pivot!J167)","v":""},{"$f":"IF(Pivot!I167=\"\",\"\",Pivot!I167)","v":""},null,null,null,null,null,null,"","",{"$error":"#VALUE!"},null,"","",""]
[{"$f":"IF(Pivot!G168=\"\",\"\",Pivot!G168)","v":""},null,{"$f":"IF(Pivot!H168=\"\",\"\",Pivot!H168)","v":""},null,{"$f":"IF(Pivot!J168=\"\",\"\",Pivot!J168)","v":""},{"$f":"IF(Pivot!I168=\"\",\"\",Pivot!I168)","v":""},null,null,null,null,null,null,"","",{"$error":"#VALUE!"},null,"","",""]
[{"$f":"IF(Pivot!G169=\"\",\"\",Pivot!G169)","v":""},null,{"$f":"IF(Pivot!H169=\"\",\"\",Pivot!H169)","v":""},null,{"$f":"IF(Pivot!J169=\"\",\"\",Pivot!J169)","v":""},{"$f":"IF(Pivot!I169=\"\",\"\",Pivot!I169)","v":""},null,null,null,null,null,null,"","",{"$error":"#VALUE!"},null,"","",""]
[{"$f":"IF(Pivot!G170=\"\",\"\",Pivot!G170)","v":""},null,{"$f":"IF(Pivot!H170=\"\",\"\",Pivot!H170)","v":""},null,{"$f":"IF(Pivot!J170=\"\",\"\",Pivot!J170)","v":""},{"$f":"IF(Pivot!I170=\"\",\"\",Pivot!I170)","v":""},null,null,null,null,null,null,"","",{"$error":"#VALUE!"},null,"","",""]
[{"$f":"IF(Pivot!G171=\"\",\"\",Pivot!G171)","v":""},null,{"$f":"IF(Pivot!H171=\"\",\"\",Pivot!H171)","v":""},null,{"$f":"IF(Pivot!J171=\"\",\"\",Pivot!J171)","v":""},{"$f":"IF(Pivot!I171=\"\",\"\",Pivot!I171)","v":""},null,null,null,null,null,null,"","",{"$error":"#VALUE!"},null,"","",""]
[{"$f":"IF(Pivot!G172=\"\",\"\",Pivot!G172)","v":""},null,{"$f":"IF(Pivot!H172=\"\",\"\",Pivot!H172)","v":""},null,{"$f":"IF(Pivot!J172=\"\",\"\",Pivot!J172)","v":""},{"$f":"IF(Pivot!I172=\"\",\"\",Pivot!I172)","v":""},null,null,null,null,null,null,"","",{"$error":"#VALUE!"},null,"","",""]
[{"$f":"IF(Pivot!G173=\"\",\"\",Pivot!G173)","v":""},null,{"$f":"IF(Pivot!H173=\"\",\"\",Pivot!H173)","v":""},null,{"$f":"IF(Pivot!J173=\"\",\"\",Pivot!J173)","v":""},{"$f":"IF(Pivot!I173=\"\",\"\",Pivot!I173)","v":""},null,null,null,null,null,null,"","",{"$error":"#VALUE!"},null,"","",""]
[{"$f":"IF(Pivot!G174=\"\",\"\",Pivot!G174)","v":""},null,{"$f":"IF(Pivot!H174=\"\",\"\",Pivot!H174)","v":""},null,{"$f":"IF(Pivot!J174=\"\",\"\",Pivot!J174)","v":""},{"$f":"IF(Pivot!I174=\"\",\"\",Pivot!I174)","v":""},null,null,null,null,null,null,"","",{"$error":"#VALUE!"},null,"","",""]
[{"$f":"IF(Pivot!G175=\"\",\"\",Pivot!G175)","v":""},null,{"$f":"IF(Pivot!H175=\"\",\"\",Pivot!H175)","v":""},null,{"$f":"IF(Pivot!J175=\"\",\"\",Pivot!J175)","v":""},{"$f":"IF(Pivot!I175=\"\",\"\",Pivot!I175)","v":""},null,null,null,null,null,null,"","",{"$error":"#VALUE!"},null,"","",""]
[{"$f":"IF(Pivot!G176=\"\",\"\",Pivot!G176)","v":""},null,{"$f":"IF(Pivot!H176=\"\",\"\",Pivot!H176)","v":""},null,{"$f":"IF(Pivot!J176=\"\",\"\",Pivot!J176)","v":""},{"$f":"IF(Pivot!I176=\"\",\"\",Pivot!I176)","v":""},null,null,null,null,null,null,"","",{"$error":"#VALUE!"},null,"","",""]
[{"$f":"IF(Pivot!G177=\"\",\"\",Pivot!G177)","v":""},null,{"$f":"IF(Pivot!H177=\"\",\"\",Pivot!H177)","v":""},null,{"$f":"IF(Pivot!J177=\"\",\"\",Pivot!J177)","v":""},{"$f":"IF(Pivot!I177=\"\",\"\",Pivot!I177)","v":""},null,null,null,null,null,null,"","",{"$error":"#VALUE!"},null,"","",""]
[{"$f":"IF(Pivot!G178=\"\",\"\",Pivot!G178)","v":""},null,{"$f":"IF(Pivot!H178=\"\",\"\",Pivot!H178)","v":""},null,{"$f":"IF(Pivot!J178=\"\",\"\",Pivot!J178)","v":""},{"$f":"IF(Pivot!I178=\"\",\"\",Pivot!I178)","v":""},null,null,null,null,null,null,"","",{"$error":"#VALUE!"},null,"","",""]
[{"$f":"IF(Pivot!G179=\"\",\"\",Pivot!G179)","v":""},null,{"$f":"IF(Pivot!H179=\"\",\"\",Pivot!H179)","v":""},null,{"$f":"IF(Pivot!J179=\"\",\"\",Pivot!J179)","v":""},{"$f":"IF(Pivot!I179=\"\",\"\",Pivot!I179)","v":""},null,null,null,null,null,null,"","",{"$error":"#VALUE!"},null,"","",""]
[{"$f":"IF(Pivot!G180=\"\",\"\",Pivot!G180)","v":""},null,{"$f":"IF(Pivot!H180=\"\",\"\",Pivot!H180)","v":""},null,{"$f":"IF(Pivot!J180=\"\",\"\",Pivot!J180)","v":""},{"$f":"IF(Pivot!I180=\"\",\"\",Pivot!I180)","v":""},null,null,null,null,null,null,"","",{"$error":"#VALUE!"},null,"","",""]
[{"$f":"IF(Pivot!G181=\"\",\"\",Pivot!G181)","v":""},null,{"$f":"IF(Pivot!H181=\"\",\"\",Pivot!H181)","v":""},null,{"$f":"IF(Pivot!J181=\"\",\"\",Pivot!J181)","v":""},{"$f":"IF(Pivot!I181=\"\",\"\",Pivot!I181)","v":""},null,null,null,null,null,null,"","",{"$error":"#VALUE!"},null,"","",""]
[{"$f":"IF(Pivot!G182=\"\",\"\",Pivot!G182)","v":""},null,{"$f":"IF(Pivot!H182=\"\",\"\",Pivot!H182)","v":""},null,{"$f":"IF(Pivot!J182=\"\",\"\",Pivot!J182)","v":""},{"$f":"IF(Pivot!I182=\"\",\"\",Pivot!I182)","v":""},null,null,null,null,null,null,"","",{"$error":"#VALUE!"},null,"","",""]
[{"$f":"IF(Pivot!G183=\"\",\"\",Pivot!G183)","v":""},null,{"$f":"IF(Pivot!H183=\"\",\"\",Pivot!H183)","v":""},null,{"$f":"IF(Pivot!J183=\"\",\"\",Pivot!J183)","v":""},{"$f":"IF(Pivot!I183=\"\",\"\",Pivot!I183)","v":""},null,null,null,null,null,null,"","",{"$error":"#VALUE!"},null,"","",""]
[{"$f":"IF(Pivot!G184=\"\",\"\",Pivot!G184)","v":""},null,{"$f":"IF(Pivot!H184=\"\",\"\",Pivot!H184)","v":""},null,{"$f":"IF(Pivot!J184=\"\",\"\",Pivot!J184)","v":""},{"$f":"IF(Pivot!I184=\"\",\"\",Pivot!I184)","v":""},null,null,null,null,null,null,"","",{"$error":"#VALUE!"},null,"","",""]
[{"$f":"IF(Pivot!G185=\"\",\"\",Pivot!G185)","v":""},null,{"$f":"IF(Pivot!H185=\"\",\"\",Pivot!H185)","v":""},null,{"$f":"IF(Pivot!J185=\"\",\"\",Pivot!J185)","v":""},{"$f":"IF(Pivot!I185=\"\",\"\",Pivot!I185)","v":""},null,null,null,null,null,null,"","",{"$error":"#VALUE!"},null,"","",""]
[{"$f":"IF(Pivot!G186=\"\",\"\",Pivot!G186)","v":""},null,{"$f":"IF(Pivot!H186=\"\",\"\",Pivot!H186)","v":""},null,{"$f":"IF(Pivot!J186=\"\",\"\",Pivot!J186)","v":""},{"$f":"IF(Pivot!I186=\"\",\"\",Pivot!I186)","v":""},null,null,null,null,null,null,"","",{"$error":"#VALUE!"},null,"","",""]
[{"$f":"IF(Pivot!G187=\"\",\"\",Pivot!G187)","v":""},null,{"$f":"IF(Pivot!H187=\"\",\"\",Pivot!H187)","v":""},null,{"$f":"IF(Pivot!J187=\"\",\"\",Pivot!J187)","v":""},{"$f":"IF(Pivot!I187=\"\",\"\",Pivot!I187)","v":""},null,null,null,null,null,null,"","",{"$error":"#VALUE!"},null,"","",""]
[{"$f":"IF(Pivot!G188=\"\",\"\",Pivot!G188)","v":""},null,{"$f":"IF(Pivot!H188=\"\",\"\",Pivot!H188)","v":""},null,{"$f":"IF(Pivot!J188=\"\",\"\",Pivot!J188)","v":""},{"$f":"IF(Pivot!I188=\"\",\"\",Pivot!I188)","v":""},null,null,null,null,null,null,"","",{"$error":"#VALUE!"},null,"","",""]
[{"$f":"IF(Pivot!G189=\"\",\"\",Pivot!G189)","v":""},null,{"$f":"IF(Pivot!H189=\"\",\"\",Pivot!H189)","v":""},null,{"$f":"IF(Pivot!J189=\"\",\"\",Pivot!J189)","v":""},{"$f":"IF(Pivot!I189=\"\",\"\",Pivot!I189)","v":""},null,null,null,null,null,null,"","",{"$error":"#VALUE!"},null,"","",""]
[{"$f":"IF(Pivot!G190=\"\",\"\",Pivot!G190)","v":""},null,{"$f":"IF(Pivot!H190=\"\",\"\",Pivot!H190)","v":""},null,{"$f":"IF(Pivot!J190=\"\",\"\",Pivot!J190)","v":""},{"$f":"IF(Pivot!I190=\"\",\"\",Pivot!I190)","v":""},null,null,null,null,null,null,"","",{"$error":"#VALUE!"},null,"","",""]
[{"$f":"IF(Pivot!G191=\"\",\"\",Pivot!G191)","v":""},null,{"$f":"IF(Pivot!H191=\"\",\"\",Pivot!H191)","v":""},null,{"$f":"IF(Pivot!J191=\"\",\"\",Pivot!J191)","v":""},{"$f":"IF(Pivot!I191=\"\",\"\",Pivot!I191)","v":""},null,null,null,null,null,null,"","",{"$error":"#VALUE!"},null,"","",""]
[{"$f":"IF(Pivot!G192=\"\",\"\",Pivot!G192)","v":""},null,{"$f":"IF(Pivot!H192=\"\",\"\",Pivot!H192)","v":""},null,{"$f":"IF(Pivot!J192=\"\",\"\",Pivot!J192)","v":""},{"$f":"IF(Pivot!I192=\"\",\"\",Pivot!I192)","v":""},null,null,null,null,null,null,"","",{"$error":"#VALUE!"},null,"","",""]
[{"$f":"IF(Pivot!G193=\"\",\"\",Pivot!G193)","v":""},null,{"$f":"IF(Pivot!H193=\"\",\"\",Pivot!H193)","v":""},null,{"$f":"IF(Pivot!J193=\"\",\"\",Pivot!J193)","v":""},{"$f":"IF(Pivot!I193=\"\",\"\",Pivot!I193)","v":""},null,null,null,null,null,null,"","",{"$error":"#VALUE!"},null,"","",""]
[{"$f":"IF(Pivot!G194=\"\",\"\",Pivot!G194)","v":""},null,{"$f":"IF(Pivot!H194=\"\",\"\",Pivot!H194)","v":""},null,{"$f":"IF(Pivot!J194=\"\",\"\",Pivot!J194)","v":""},{"$f":"IF(Pivot!I194=\"\",\"\",Pivot!I194)","v":""},null,null,null,null,null,null,"","",{"$error":"#VALUE!"},null,"","",""]
[{"$f":"IF(Pivot!G195=\"\",\"\",Pivot!G195)","v":""},null,{"$f":"IF(Pivot!H195=\"\",\"\",Pivot!H195)","v":""},null,{"$f":"IF(Pivot!J195=\"\",\"\",Pivot!J195)","v":""},{"$f":"IF(Pivot!I195=\"\",\"\",Pivot!I195)","v":""},null,null,null,null,null,null,"","",{"$error":"#VALUE!"},null,"","",""]
[{"$f":"IF(Pivot!G196=\"\",\"\",Pivot!G196)","v":""},null,{"$f":"IF(Pivot!H196=\"\",\"\",Pivot!H196)","v":""},null,{"$f":"IF(Pivot!J196=\"\",\"\",Pivot!J196)","v":""},{"$f":"IF(Pivot!I196=\"\",\"\",Pivot!I196)","v":""},null,null,null,null,null,null,"","",{"$f":"N199/M199","v":{"$error":"#VALUE!"}},null,"","",""]
[{"$f":"IF(Pivot!G197=\"\",\"\",Pivot!G197)","v":""},null,{"$f":"IF(Pivot!H197=\"\",\"\",Pivot!H197)","v":""},null,{"$f":"IF(Pivot!J197=\"\",\"\",Pivot!J197)","v":""},{"$f":"IF(Pivot!I197=\"\",\"\",Pivot!I197)","v":""},null,null,null,null,null,null,{"$f":"IF(C200=\"\",\"\",C200*L200)","v":""},{"$f":"IF(F200=\"\",\"\",M200-F200)","v":""},{"$error":"#VALUE!"},null,{"$f":"IF(C200=\"\",\"\",C200*P200)","v":""},{"$f":"IF(F200=\"\",\"\",Q200-F200)","v":""},{"$f":"IF(F200=\"\",\"\",R200/F200)","v":""}]
[{"$f":"IF(Pivot!G198=\"\",\"\",Pivot!G198)","v":""},null,{"$f":"IF(Pivot!H198=\"\",\"\",Pivot!H198)","v":""},null,{"$f":"IF(Pivot!J198=\"\",\"\",Pivot!J198)","v":""},{"$f":"IF(Pivot!I198=\"\",\"\",Pivot!I198)","v":""},null,null,null,null,null,null,"","",{"$error":"#VALUE!"},null,"","",""]
[{"$f":"IF(Pivot!G199=\"\",\"\",Pivot!G199)","v":""},null,{"$f":"IF(Pivot!H199=\"\",\"\",Pivot!H199)","v":""},null,{"$f":"IF(Pivot!J199=\"\",\"\",Pivot!J199)","v":""},{"$f":"IF(Pivot!I199=\"\",\"\",Pivot!I199)","v":""},null,null,null,null,null,null,"","",{"$error":"#VALUE!"},null,"","",""]
[{"$f":"IF(Pivot!G200=\"\",\"\",Pivot!G200)","v":""},null,{"$f":"IF(Pivot!H200=\"\",\"\",Pivot!H200)","v":""},null,{"$f":"IF(Pivot!J200=\"\",\"\",Pivot!J200)","v":""},{"$f":"IF(Pivot!I200=\"\",\"\",Pivot!I200)","v":""},null,null,null,null,null,null,"","",{"$error":"#VALUE!"},null,"","",""]
[{"$f":"IF(Pivot!G201=\"\",\"\",Pivot!G201)","v":""},null,{"$f":"IF(Pivot!H201=\"\",\"\",Pivot!H201)","v":""},null,{"$f":"IF(Pivot!J201=\"\",\"\",Pivot!J201)","v":""},{"$f":"IF(Pivot!I201=\"\",\"\",Pivot!I201)","v":""},null,null,null,null,null,null,"","",{"$error":"#VALUE!"},null,"","",""]
[{"$f":"IF(Pivot!G202=\"\",\"\",Pivot!G202)","v":""},null,{"$f":"IF(Pivot!H202=\"\",\"\",Pivot!H202)","v":""},null,{"$f":"IF(Pivot!J202=\"\",\"\",Pivot!J202)","v":""},{"$f":"IF(Pivot!I202=\"\",\"\",Pivot!I202)","v":""},null,null,null,null,null,null,"","",{"$error":"#VALUE!"},null,"","",""]
[{"$f":"IF(Pivot!G203=\"\",\"\",Pivot!G203)","v":""},null,{"$f":"IF(Pivot!H203=\"\",\"\",Pivot!H203)","v":""},null,{"$f":"IF(Pivot!J203=\"\",\"\",Pivot!J203)","v":""},{"$f":"IF(Pivot!I203=\"\",\"\",Pivot!I203)","v":""},null,null,null,null,null,null,"","",{"$error":"#VALUE!"},null,"","",""]
[{"$f":"IF(Pivot!G204=\"\",\"\",Pivot!G204)","v":""},null,{"$f":"IF(Pivot!H204=\"\",\"\",Pivot!H204)","v":""},null,{"$f":"IF(Pivot!J204=\"\",\"\",Pivot!J204)","v":""},{"$f":"IF(Pivot!I204=\"\",\"\",Pivot!I204)","v":""},null,null,null,null,null,null,"","",{"$error":"#VALUE!"},null,"","",""]
[{"$f":"IF(Pivot!G205=\"\",\"\",Pivot!G205)","v":""},null,{"$f":"IF(Pivot!H205=\"\",\"\",Pivot!H205)","v":""},null,{"$f":"IF(Pivot!J205=\"\",\"\",Pivot!J205)","v":""},{"$f":"IF(Pivot!I205=\"\",\"\",Pivot!I205)","v":""},null,null,null,null,null,null,"","",{"$error":"#VALUE!"},null,"","",""]
[{"$f":"IF(Pivot!G206=\"\",\"\",Pivot!G206)","v":""},null,{"$f":"IF(Pivot!H206=\"\",\"\",Pivot!H206)","v":""},null,{"$f":"IF(Pivot!J206=\"\",\"\",Pivot!J206)","v":""},{"$f":"IF(Pivot!I206=\"\",\"\",Pivot!I206)","v":""},null,null,null,null,null,null,"","",{"$error":"#VALUE!"},null,"","",""]
[{"$f":"IF(Pivot!G207=\"\",\"\",Pivot!G207)","v":""},null,{"$f":"IF(Pivot!H207=\"\",\"\",Pivot!H207)","v":""},null,{"$f":"IF(Pivot!J207=\"\",\"\",Pivot!J207)","v":""},{"$f":"IF(Pivot!I207=\"\",\"\",Pivot!I207)","v":""},null,null,null,null,null,null,"","",{"$error":"#VALUE!"},null,"","",""]
[{"$f":"IF(Pivot!G208=\"\",\"\",Pivot!G208)","v":""},null,{"$f":"IF(Pivot!H208=\"\",\"\",Pivot!H208)","v":""},null,{"$f":"IF(Pivot!J208=\"\",\"\",Pivot!J208)","v":""},{"$f":"IF(Pivot!I208=\"\",\"\",Pivot!I208)","v":""},null,null,null,null,null,null,"","",{"$error":"#VALUE!"},null,"","",""]
[{"$f":"IF(Pivot!G209=\"\",\"\",Pivot!G209)","v":""},null,{"$f":"IF(Pivot!H209=\"\",\"\",Pivot!H209)","v":""},null,{"$f":"IF(Pivot!J209=\"\",\"\",Pivot!J209)","v":""},{"$f":"IF(Pivot!I209=\"\",\"\",Pivot!I209)","v":""},null,null,null,null,null,null,"","",{"$error":"#VALUE!"},null,"","",""]
[{"$f":"IF(Pivot!G210=\"\",\"\",Pivot!G210)","v":""},null,{"$f":"IF(Pivot!H210=\"\",\"\",Pivot!H210)","v":""},null,{"$f":"IF(Pivot!J210=\"\",\"\",Pivot!J210)","v":""},{"$f":"IF(Pivot!I210=\"\",\"\",Pivot!I210)","v":""},null,null,null,null,null,null,"","",{"$error":"#VALUE!"},null,"","",""]
[{"$f":"IF(Pivot!G211=\"\",\"\",Pivot!G211)","v":""},null,{"$f":"IF(Pivot!H211=\"\",\"\",Pivot!H211)","v":""},null,{"$f":"IF(Pivot!J211=\"\",\"\",Pivot!J211)","v":""},{"$f":"IF(Pivot!I211=\"\",\"\",Pivot!I211)","v":""},null,null,null,null,null,null,"","",{"$error":"#VALUE!"},null,"","",""]
[{"$f":"IF(Pivot!G212=\"\",\"\",Pivot!G212)","v":""},null,{"$f":"IF(Pivot!H212=\"\",\"\",Pivot!H212)","v":""},null,{"$f":"IF(Pivot!J212=\"\",\"\",Pivot!J212)","v":""},{"$f":"IF(Pivot!I212=\"\",\"\",Pivot!I212)","v":""},null,null,null,null,null,null,"","",{"$error":"#VALUE!"},null,"","",""]
[{"$f":"IF(Pivot!G213=\"\",\"\",Pivot!G213)","v":""},null,{"$f":"IF(Pivot!H213=\"\",\"\",Pivot!H213)","v":""},null,{"$f":"IF(Pivot!J213=\"\",\"\",Pivot!J213)","v":""},{"$f":"IF(Pivot!I213=\"\",\"\",Pivot!I213)","v":""},null,null,null,null,null,null,"","",{"$error":"#VALUE!"},null,"","",""]
[{"$f":"IF(Pivot!G214=\"\",\"\",Pivot!G214)","v":""},null,{"$f":"IF(Pivot!H214=\"\",\"\",Pivot!H214)","v":""},null,{"$f":"IF(Pivot!J214=\"\",\"\",Pivot!J214)","v":""},{"$f":"IF(Pivot!I214=\"\",\"\",Pivot!I214)","v":""},null,null,null,null,null,null,"","",{"$error":"#VALUE!"},null,"","",""]
[{"$f":"IF(Pivot!G215=\"\",\"\",Pivot!G215)","v":""},null,{"$f":"IF(Pivot!H215=\"\",\"\",Pivot!H215)","v":""},null,{"$f":"IF(Pivot!J215=\"\",\"\",Pivot!J215)","v":""},{"$f":"IF(Pivot!I215=\"\",\"\",Pivot!I215)","v":""},null,null,null,null,null,null,"","",{"$error":"#VALUE!"},null,"","",""]
[{"$f":"IF(Pivot!G216=\"\",\"\",Pivot!G216)","v":""},null,{"$f":"IF(Pivot!H216=\"\",\"\",Pivot!H216)","v":""},null,{"$f":"IF(Pivot!J216=\"\",\"\",Pivot!J216)","v":""},{"$f":"IF(Pivot!I216=\"\",\"\",Pivot!I216)","v":""},null,null,null,null,null,null,"","",{"$error":"#VALUE!"},null,"","",""]
[{"$f":"IF(Pivot!G217=\"\",\"\",Pivot!G217)","v":""},null,{"$f":"IF(Pivot!H217=\"\",\"\",Pivot!H217)","v":""},null,{"$f":"IF(Pivot!J217=\"\",\"\",Pivot!J217)","v":""},{"$f":"IF(Pivot!I217=\"\",\"\",Pivot!I217)","v":""},null,null,null,null,null,null,"","",{"$error":"#VALUE!"},null,"","",""]
[{"$f":"IF(Pivot!G218=\"\",\"\",Pivot!G218)","v":""},null,{"$f":"IF(Pivot!H218=\"\",\"\",Pivot!H218)","v":""},null,{"$f":"IF(Pivot!J218=\"\",\"\",Pivot!J218)","v":""},{"$f":"IF(Pivot!I218=\"\",\"\",Pivot!I218)","v":""},null,null,null,null,null,null,"","",{"$error":"#VALUE!"},null,"","",""]
[{"$f":"IF(Pivot!G219=\"\",\"\",Pivot!G219)","v":""},null,{"$f":"IF(Pivot!H219=\"\",\"\",Pivot!H219)","v":""},null,{"$f":"IF(Pivot!J219=\"\",\"\",Pivot!J219)","v":""},{"$f":"IF(Pivot!I219=\"\",\"\",Pivot!I219)","v":""},null,null,null,null,null,null,"","",{"$error":"#VALUE!"},null,"","",""]
[{"$f":"IF(Pivot!G220=\"\",\"\",Pivot!G220)","v":""},null,{"$f":"IF(Pivot!H220=\"\",\"\",Pivot!H220)","v":""},null,{"$f":"IF(Pivot!J220=\"\",\"\",Pivot!J220)","v":""},{"$f":"IF(Pivot!I220=\"\",\"\",Pivot!I220)","v":""},null,null,null,null,null,null,"","",{"$error":"#VALUE!"},null,"","",""]
[{"$f":"IF(Pivot!G221=\"\",\"\",Pivot!G221)","v":""},null,{"$f":"IF(Pivot!H221=\"\",\"\",Pivot!H221)","v":""},null,{"$f":"IF(Pivot!J221=\"\",\"\",Pivot!J221)","v":""},{"$f":"IF(Pivot!I221=\"\",\"\",Pivot!I221)","v":""},null,null,null,null,null,null,"","",{"$error":"#VALUE!"},null,"","",""]
[{"$f":"IF(Pivot!G222=\"\",\"\",Pivot!G222)","v":""},null,{"$f":"IF(Pivot!H222=\"\",\"\",Pivot!H222)","v":""},null,{"$f":"IF(Pivot!J222=\"\",\"\",Pivot!J222)","v":""},{"$f":"IF(Pivot!I222=\"\",\"\",Pivot!I222)","v":""},null,null,null,null,null,null,"","",{"$error":"#VALUE!"},null,"","",""]
[{"$f":"IF(Pivot!G223=\"\",\"\",Pivot!G223)","v":""},null,{"$f":"IF(Pivot!H223=\"\",\"\",Pivot!H223)","v":""},null,{"$f":"IF(Pivot!J223=\"\",\"\",Pivot!J223)","v":""},{"$f":"IF(Pivot!I223=\"\",\"\",Pivot!I223)","v":""},null,null,null,null,null,null,"","",{"$error":"#VALUE!"},null,"","",""]
[{"$f":"IF(Pivot!G224=\"\",\"\",Pivot!G224)","v":""},null,{"$f":"IF(Pivot!H224=\"\",\"\",Pivot!H224)","v":""},null,{"$f":"IF(Pivot!J224=\"\",\"\",Pivot!J224)","v":""},{"$f":"IF(Pivot!I224=\"\",\"\",Pivot!I224)","v":""},null,null,null,null,null,null,"","",{"$error":"#VALUE!"},null,"","",""]
[{"$f":"IF(Pivot!G225=\"\",\"\",Pivot!G225)","v":""},null,{"$f":"IF(Pivot!H225=\"\",\"\",Pivot!H225)","v":""},null,{"$f":"IF(Pivot!J225=\"\",\"\",Pivot!J225)","v":""},{"$f":"IF(Pivot!I225=\"\",\"\",Pivot!I225)","v":""},null,null,null,null,null,null,"","",{"$error":"#VALUE!"},null,"","",""]
[{"$f":"IF(Pivot!G226=\"\",\"\",Pivot!G226)","v":""},null,{"$f":"IF(Pivot!H226=\"\",\"\",Pivot!H226)","v":""},null,{"$f":"IF(Pivot!J226=\"\",\"\",Pivot!J226)","v":""},{"$f":"IF(Pivot!I226=\"\",\"\",Pivot!I226)","v":""},null,null,null,null,null,null,"","",{"$error":"#VALUE!"},null,"","",""]
[{"$f":"IF(Pivot!G227=\"\",\"\",Pivot!G227)","v":""},null,{"$f":"IF(Pivot!H227=\"\",\"\",Pivot!H227)","v":""},null,{"$f":"IF(Pivot!J227=\"\",\"\",Pivot!J227)","v":""},{"$f":"IF(Pivot!I227=\"\",\"\",Pivot!I227)","v":""},null,null,null,null,null,null,"","",{"$error":"#VALUE!"},null,"","",""]
[{"$f":"IF(Pivot!G228=\"\",\"\",Pivot!G228)","v":""},null,{"$f":"IF(Pivot!H228=\"\",\"\",Pivot!H228)","v":""},null,{"$f":"IF(Pivot!J228=\"\",\"\",Pivot!J228)","v":""},{"$f":"IF(Pivot!I228=\"\",\"\",Pivot!I228)","v":""},null,null,null,null,null,null,"","",{"$error":"#VALUE!"},null,"","",""]
[{"$f":"IF(Pivot!G229=\"\",\"\",Pivot!G229)","v":""},null,{"$f":"IF(Pivot!H229=\"\",\"\",Pivot!H229)","v":""},null,{"$f":"IF(Pivot!J229=\"\",\"\",Pivot!J229)","v":""},{"$f":"IF(Pivot!I229=\"\",\"\",Pivot!I229)","v":""},null,null,null,null,null,null,"","",{"$error":"#VALUE!"},null,"","",""]
[{"$f":"IF(Pivot!G230=\"\",\"\",Pivot!G230)","v":""},null,{"$f":"IF(Pivot!H230=\"\",\"\",Pivot!H230)","v":""},null,{"$f":"IF(Pivot!J230=\"\",\"\",Pivot!J230)","v":""},{"$f":"IF(Pivot!I230=\"\",\"\",Pivot!I230)","v":""},null,null,null,null,null,null,"","",{"$error":"#VALUE!"},null,"","",""]
[{"$f":"IF(Pivot!G231=\"\",\"\",Pivot!G231)","v":""},null,{"$f":"IF(Pivot!H231=\"\",\"\",Pivot!H231)","v":""},null,{"$f":"IF(Pivot!J231=\"\",\"\",Pivot!J231)","v":""},{"$f":"IF(Pivot!I231=\"\",\"\",Pivot!I231)","v":""},null,null,null,null,null,null,"","",{"$error":"#VALUE!"},null,"","",""]
[{"$f":"IF(Pivot!G232=\"\",\"\",Pivot!G232)","v":""},null,{"$f":"IF(Pivot!H232=\"\",\"\",Pivot!H232)","v":""},null,{"$f":"IF(Pivot!J232=\"\",\"\",Pivot!J232)","v":""},{"$f":"IF(Pivot!I232=\"\",\"\",Pivot!I232)","v":""},null,null,null,null,null,null,"","",{"$error":"#VALUE!"},null,"","",""]
[{"$f":"IF(Pivot!G233=\"\",\"\",Pivot!G233)","v":""},null,{"$f":"IF(Pivot!H233=\"\",\"\",Pivot!H233)","v":""},null,{"$f":"IF(Pivot!J233=\"\",\"\",Pivot!J233)","v":""},{"$f":"IF(Pivot!I233=\"\",\"\",Pivot!I233)","v":""},null,null,null,null,null,null,"","",{"$error":"#VALUE!"},null,"","",""]
[{"$f":"IF(Pivot!G234=\"\",\"\",Pivot!G234)","v":""},null,{"$f":"IF(Pivot!H234=\"\",\"\",Pivot!H234)","v":""},null,{"$f":"IF(Pivot!J234=\"\",\"\",Pivot!J234)","v":""},{"$f":"IF(Pivot!I234=\"\",\"\",Pivot!I234)","v":""},null,null,null,null,null,null,"","",{"$error":"#VALUE!"},null,"","",""]
[{"$f":"IF(Pivot!G235=\"\",\"\",Pivot!G235)","v":""},null,{"$f":"IF(Pivot!H235=\"\",\"\",Pivot!H235)","v":""},null,{"$f":"IF(Pivot!J235=\"\",\"\",Pivot!J235)","v":""},{"$f":"IF(Pivot!I235=\"\",\"\",Pivot!I235)","v":""},null,null,null,null,null,null,"","",{"$error":"#VALUE!"},null,"","",""]
[{"$f":"IF(Pivot!G236=\"\",\"\",Pivot!G236)","v":""},null,{"$f":"IF(Pivot!H236=\"\",\"\",Pivot!H236)","v":""},null,{"$f":"IF(Pivot!J236=\"\",\"\",Pivot!J236)","v":""},{"$f":"IF(Pivot!I236=\"\",\"\",Pivot!I236)","v":""},null,null,null,null,null,null,"","",{"$error":"#VALUE!"},null,"","",""]
[{"$f":"IF(Pivot!G237=\"\",\"\",Pivot!G237)","v":""},null,{"$f":"IF(Pivot!H237=\"\",\"\",Pivot!H237)","v":""},null,{"$f":"IF(Pivot!J237=\"\",\"\",Pivot!J237)","v":""},{"$f":"IF(Pivot!I237=\"\",\"\",Pivot!I237)","v":""},null,null,null,null,null,null,"","",{"$error":"#VALUE!"},null,"","",""]
[{"$f":"IF(Pivot!G238=\"\",\"\",Pivot!G238)","v":""},null,{"$f":"IF(Pivot!H238=\"\",\"\",Pivot!H238)","v":""},null,{"$f":"IF(Pivot!J238=\"\",\"\",Pivot!J238)","v":""},{"$f":"IF(Pivot!I238=\"\",\"\",Pivot!I238)","v":""},null,null,null,null,null,null,"","",{"$error":"#VALUE!"},null,"","",""]
[{"$f":"IF(Pivot!G239=\"\",\"\",Pivot!G239)","v":""},null,{"$f":"IF(Pivot!H239=\"\",\"\",Pivot!H239)","v":""},null,{"$f":"IF(Pivot!J239=\"\",\"\",Pivot!J239)","v":""},{"$f":"IF(Pivot!I239=\"\",\"\",Pivot!I239)","v":""},null,null,null,null,null,null,"","",{"$error":"#VALUE!"},null,"","",""]
[{"$f":"IF(Pivot!G240=\"\",\"\",Pivot!G240)","v":""},null,{"$f":"IF(Pivot!H240=\"\",\"\",Pivot!H240)","v":""},null,{"$f":"IF(Pivot!J240=\"\",\"\",Pivot!J240)","v":""},{"$f":"IF(Pivot!I240=\"\",\"\",Pivot!I240)","v":""},null,null,null,null,null,null,"","",{"$error":"#VALUE!"},null,"","",""]
[{"$f":"IF(Pivot!G241=\"\",\"\",Pivot!G241)","v":""},null,{"$f":"IF(Pivot!H241=\"\",\"\",Pivot!H241)","v":""},null,{"$f":"IF(Pivot!J241=\"\",\"\",Pivot!J241)","v":""},{"$f":"IF(Pivot!I241=\"\",\"\",Pivot!I241)","v":""},null,null,null,null,null,null,"","",{"$error":"#VALUE!"},null,"","",""]
[{"$f":"IF(Pivot!G242=\"\",\"\",Pivot!G242)","v":""},null,{"$f":"IF(Pivot!H242=\"\",\"\",Pivot!H242)","v":""},null,{"$f":"IF(Pivot!J242=\"\",\"\",Pivot!J242)","v":""},{"$f":"IF(Pivot!I242=\"\",\"\",Pivot!I242)","v":""},null,null,null,null,null,null,"","",{"$error":"#VALUE!"},null,"","",""]
[{"$f":"IF(Pivot!G243=\"\",\"\",Pivot!G243)","v":""},null,{"$f":"IF(Pivot!H243=\"\",\"\",Pivot!H243)","v":""},null,{"$f":"IF(Pivot!J243=\"\",\"\",Pivot!J243)","v":""},{"$f":"IF(Pivot!I243=\"\",\"\",Pivot!I243)","v":""},null,null,null,null,null,null,"","",{"$error":"#VALUE!"},null,"","",""]
[{"$f":"IF(Pivot!G244=\"\",\"\",Pivot!G244)","v":""},null,{"$f":"IF(Pivot!H244=\"\",\"\",Pivot!H244)","v":""},null,{"$f":"IF(Pivot!J244=\"\",\"\",Pivot!J244)","v":""},{"$f":"IF(Pivot!I244=\"\",\"\",Pivot!I244)","v":""},null,null,null,null,null,null,"","",{"$error":"#VALUE!"},null,"","",""]
[{"$f":"IF(Pivot!G245=\"\",\"\",Pivot!G245)","v":""},null,{"$f":"IF(Pivot!H245=\"\",\"\",Pivot!H245)","v":""},null,{"$f":"IF(Pivot!J245=\"\",\"\",Pivot!J245)","v":""},{"$f":"IF(Pivot!I245=\"\",\"\",Pivot!I245)","v":""},null,null,null,null,null,null,"","",{"$error":"#VALUE!"},null,"","",""]
[{"$f":"IF(Pivot!G246=\"\",\"\",Pivot!G246)","v":""},null,{"$f":"IF(Pivot!H246=\"\",\"\",Pivot!H246)","v":""},null,{"$f":"IF(Pivot!J246=\"\",\"\",Pivot!J246)","v":""},{"$f":"IF(Pivot!I246=\"\",\"\",Pivot!I246)","v":""},null,null,null,null,null,null,"","",{"$error":"#VALUE!"},null,"","",""]
[{"$f":"IF(Pivot!G247=\"\",\"\",Pivot!G247)","v":""},null,{"$f":"IF(Pivot!H247=\"\",\"\",Pivot!H247)","v":""},null,{"$f":"IF(Pivot!J247=\"\",\"\",Pivot!J247)","v":""},{"$f":"IF(Pivot!I247=\"\",\"\",Pivot!I247)","v":""},null,null,null,null,null,null,"","",{"$error":"#VALUE!"},null,"","",""]
[{"$f":"IF(Pivot!G248=\"\",\"\",Pivot!G248)","v":""},null,{"$f":"IF(Pivot!H248=\"\",\"\",Pivot!H248)","v":""},null,{"$f":"IF(Pivot!J248=\"\",\"\",Pivot!J248)","v":""},{"$f":"IF(Pivot!I248=\"\",\"\",Pivot!I248)","v":""},null,null,null,null,null,null,"","",{"$error":"#VALUE!"},null,"","",""]
[{"$f":"IF(Pivot!G249=\"\",\"\",Pivot!G249)","v":""},null,{"$f":"IF(Pivot!H249=\"\",\"\",Pivot!H249)","v":""},null,{"$f":"IF(Pivot!J249=\"\",\"\",Pivot!J249)","v":""},{"$f":"IF(Pivot!I249=\"\",\"\",Pivot!I249)","v":""},null,null,null,null,null,null,"","",{"$error":"#VALUE!"},null,"","",""]
[{"$f":"IF(Pivot!G250=\"\",\"\",Pivot!G250)","v":""},null,{"$f":"IF(Pivot!H250=\"\",\"\",Pivot!H250)","v":""},null,{"$f":"IF(Pivot!J250=\"\",\"\",Pivot!J250)","v":""},{"$f":"IF(Pivot!I250=\"\",\"\",Pivot!I250)","v":""},null,null,null,null,null,null,"","",{"$error":"#VALUE!"},null,"","",""]
[{"$f":"IF(Pivot!G251=\"\",\"\",Pivot!G251)","v":""},null,{"$f":"IF(Pivot!H251=\"\",\"\",Pivot!H251)","v":""},null,{"$f":"IF(Pivot!J251=\"\",\"\",Pivot!J251)","v":""},{"$f":"IF(Pivot!I251=\"\",\"\",Pivot!I251)","v":""},null,null,null,null,null,null,"","",{"$error":"#VALUE!"},null,"","",""]
[{"$f":"IF(Pivot!G252=\"\",\"\",Pivot!G252)","v":""},null,{"$f":"IF(Pivot!H252=\"\",\"\",Pivot!H252)","v":""},null,{"$f":"IF(Pivot!J252=\"\",\"\",Pivot!J252)","v":""},{"$f":"IF(Pivot!I252=\"\",\"\",Pivot!I252)","v":""},null,null,null,null,null,null,"","",{"$error":"#VALUE!"},null,"","",""]
[{"$f":"IF(Pivot!G253=\"\",\"\",Pivot!G253)","v":""},null,{"$f":"IF(Pivot!H253=\"\",\"\",Pivot!H253)","v":""},null,{"$f":"IF(Pivot!J253=\"\",\"\",Pivot!J253)","v":""},{"$f":"IF(Pivot!I253=\"\",\"\",Pivot!I253)","v":""},null,null,null,null,null,null,"","",{"$error":"#VALUE!"},null,"","",""]
[{"$f":"IF(Pivot!G254=\"\",\"\",Pivot!G254)","v":""},null,{"$f":"IF(Pivot!H254=\"\",\"\",Pivot!H254)","v":""},null,{"$f":"IF(Pivot!J254=\"\",\"\",Pivot!J254)","v":""},{"$f":"IF(Pivot!I254=\"\",\"\",Pivot!I254)","v":""},null,null,null,null,null,null,"","",{"$error":"#VALUE!"},null,"","",""]
[{"$f":"IF(Pivot!G255=\"\",\"\",Pivot!G255)","v":""},null,{"$f":"IF(Pivot!H255=\"\",\"\",Pivot!H255)","v":""},null,{"$f":"IF(Pivot!J255=\"\",\"\",Pivot!J255)","v":""},{"$f":"IF(Pivot!I255=\"\",\"\",Pivot!I255)","v":""},null,null,null,null,null,null,"","",{"$error":"#VALUE!"},null,"","",""]
[{"$f":"IF(Pivot!G256=\"\",\"\",Pivot!G256)","v":""},null,{"$f":"IF(Pivot!H256=\"\",\"\",Pivot!H256)","v":""},null,{"$f":"IF(Pivot!J256=\"\",\"\",Pivot!J256)","v":""},{"$f":"IF(Pivot!I256=\"\",\"\",Pivot!I256)","v":""},null,null,null,null,null,null,"","",{"$error":"#VALUE!"},null,"","",""]
[{"$f":"IF(Pivot!G257=\"\",\"\",Pivot!G257)","v":""},null,{"$f":"IF(Pivot!H257=\"\",\"\",Pivot!H257)","v":""},null,{"$f":"IF(Pivot!J257=\"\",\"\",Pivot!J257)","v":""},{"$f":"IF(Pivot!I257=\"\",\"\",Pivot!I257)","v":""},null,null,null,null,null,null,"","",{"$error":"#VALUE!"},null,"","",""]
[{"$f":"IF(Pivot!G258=\"\",\"\",Pivot!G258)","v":""},null,{"$f":"IF(Pivot!H258=\"\",\"\",Pivot!H258)","v":""},null,{"$f":"IF(Pivot!J258=\"\",\"\",Pivot!J258)","v":""},{"$f":"IF(Pivot!I258=\"\",\"\",Pivot!I258)","v":""},null,null,null,null,null,null,"","",{"$error":"#VALUE!"},null,"","",""]
[{"$f":"IF(Pivot!G259=\"\",\"\",Pivot!G259)","v":""},null,{"$f":"IF(Pivot!H259=\"\",\"\",Pivot!H259)","v":""},null,{"$f":"IF(Pivot!J259=\"\",\"\",Pivot!J259)","v":""},{"$f":"IF(Pivot!I259=\"\",\"\",Pivot!I259)","v":""},null,null,null,null,null,null,"","",{"$error":"#VALUE!"},null,"","",""]
[{"$f":"IF(Pivot!G260=\"\",\"\",Pivot!G260)","v":""},null,{"$f":"IF(Pivot!H260=\"\",\"\",Pivot!H260)","v":""},null,{"$f":"IF(Pivot!J260=\"\",\"\",Pivot!J260)","v":""},{"$f":"IF(Pivot!I260=\"\",\"\",Pivot!I260)","v":""},null,null,null,null,null,null,"","",{"$f":"N263/M263","v":{"$error":"#VALUE!"}},null,"","",""]
[{"$f":"IF(Pivot!G261=\"\",\"\",Pivot!G261)","v":""},null,{"$f":"IF(Pivot!H261=\"\",\"\",Pivot!H261)","v":""},null,{"$f":"IF(Pivot!J261=\"\",\"\",Pivot!J261)","v":""},{"$f":"IF(Pivot!I261=\"\",\"\",Pivot!I261)","v":""},null,null,null,null,null,null,{"$f":"IF(C264=\"\",\"\",C264*L264)","v":""},{"$f":"IF(F264=\"\",\"\",M264-F264)","v":""},{"$error":"#VALUE!"},null,{"$f":"IF(C264=\"\",\"\",C264*P264)","v":""},{"$f":"IF(F264=\"\",\"\",Q264-F264)","v":""},{"$f":"IF(F264=\"\",\"\",R264/F264)","v":""}]
[{"$f":"IF(Pivot!G262=\"\",\"\",Pivot!G262)","v":""},null,{"$f":"IF(Pivot!H262=\"\",\"\",Pivot!H262)","v":""},null,{"$f":"IF(Pivot!J262=\"\",\"\",Pivot!J262)","v":""},{"$f":"IF(Pivot!I262=\"\",\"\",Pivot!I262)","v":""},null,null,null,null,null,null,"","",{"$error":"#VALUE!"},null,"","",""]
[{"$f":"IF(Pivot!G263=\"\",\"\",Pivot!G263)","v":""},null,{"$f":"IF(Pivot!H263=\"\",\"\",Pivot!H263)","v":""},null,{"$f":"IF(Pivot!J263=\"\",\"\",Pivot!J263)","v":""},{"$f":"IF(Pivot!I263=\"\",\"\",Pivot!I263)","v":""},null,null,null,null,null,null,"","",{"$error":"#VALUE!"},null,"","",""]
[{"$f":"IF(Pivot!G264=\"\",\"\",Pivot!G264)","v":""},null,{"$f":"IF(Pivot!H264=\"\",\"\",Pivot!H264)","v":""},null,{"$f":"IF(Pivot!J264=\"\",\"\",Pivot!J264)","v":""},{"$f":"IF(Pivot!I264=\"\",\"\",Pivot!I264)","v":""},null,null,null,null,null,null,"","",{"$error":"#VALUE!"},null,"","",""]
[{"$f":"IF(Pivot!G265=\"\",\"\",Pivot!G265)","v":""},null,{"$f":"IF(Pivot!H265=\"\",\"\",Pivot!H265)","v":""},null,{"$f":"IF(Pivot!J265=\"\",\"\",Pivot!J265)","v":""},{"$f":"IF(Pivot!I265=\"\",\"\",Pivot!I265)","v":""},null,null,null,null,null,null,"","",{"$error":"#VALUE!"},null,"","",""]
[{"$f":"IF(Pivot!G266=\"\",\"\",Pivot!G266)","v":""},null,{"$f":"IF(Pivot!H266=\"\",\"\",Pivot!H266)","v":""},null,{"$f":"IF(Pivot!J266=\"\",\"\",Pivot!J266)","v":""},{"$f":"IF(Pivot!I266=\"\",\"\",Pivot!I266)","v":""},null,null,null,null,null,null,"","",{"$error":"#VALUE!"},null,"","",""]
[{"$f":"IF(Pivot!G267=\"\",\"\",Pivot!G267)","v":""},null,{"$f":"IF(Pivot!H267=\"\",\"\",Pivot!H267)","v":""},null,{"$f":"IF(Pivot!J267=\"\",\"\",Pivot!J267)","v":""},{"$f":"IF(Pivot!I267=\"\",\"\",Pivot!I267)","v":""},null,null,null,null,null,null,"","",{"$error":"#VALUE!"},null,"","",""]
[{"$f":"IF(Pivot!G268=\"\",\"\",Pivot!G268)","v":""},null,{"$f":"IF(Pivot!H268=\"\",\"\",Pivot!H268)","v":""},null,{"$f":"IF(Pivot!J268=\"\",\"\",Pivot!J268)","v":""},{"$f":"IF(Pivot!I268=\"\",\"\",Pivot!I268)","v":""},null,null,null,null,null,null,"","",{"$error":"#VALUE!"},null,"","",""]
[{"$f":"IF(Pivot!G269=\"\",\"\",Pivot!G269)","v":""},null,{"$f":"IF(Pivot!H269=\"\",\"\",Pivot!H269)","v":""},null,{"$f":"IF(Pivot!J269=\"\",\"\",Pivot!J269)","v":""},{"$f":"IF(Pivot!I269=\"\",\"\",Pivot!I269)","v":""},null,null,null,null,null,null,"","",{"$error":"#VALUE!"},null,"","",""]
[{"$f":"IF(Pivot!G270=\"\",\"\",Pivot!G270)","v":""},null,{"$f":"IF(Pivot!H270=\"\",\"\",Pivot!H270)","v":""},null,{"$f":"IF(Pivot!J270=\"\",\"\",Pivot!J270)","v":""},{"$f":"IF(Pivot!I270=\"\",\"\",Pivot!I270)","v":""},null,null,null,null,null,null,"","",{"$error":"#VALUE!"},null,"","",""]
[{"$f":"IF(Pivot!G271=\"\",\"\",Pivot!G271)","v":""},null,{"$f":"IF(Pivot!H271=\"\",\"\",Pivot!H271)","v":""},null,{"$f":"IF(Pivot!J271=\"\",\"\",Pivot!J271)","v":""},{"$f":"IF(Pivot!I271=\"\",\"\",Pivot!I271)","v":""},null,null,null,null,null,null,"","",{"$error":"#VALUE!"},null,"","",""]
[{"$f":"IF(Pivot!G272=\"\",\"\",Pivot!G272)","v":""},null,{"$f":"IF(Pivot!H272=\"\",\"\",Pivot!H272)","v":""},null,{"$f":"IF(Pivot!J272=\"\",\"\",Pivot!J272)","v":""},{"$f":"IF(Pivot!I272=\"\",\"\",Pivot!I272)","v":""},null,null,null,null,null,null,"","",{"$error":"#VALUE!"},null,"","",""]
[{"$f":"IF(Pivot!G273=\"\",\"\",Pivot!G273)","v":""},null,{"$f":"IF(Pivot!H273=\"\",\"\",Pivot!H273)","v":""},null,{"$f":"IF(Pivot!J273=\"\",\"\",Pivot!J273)","v":""},{"$f":"IF(Pivot!I273=\"\",\"\",Pivot!I273)","v":""},null,null,null,null,null,null,"","",{"$error":"#VALUE!"},null,"","",""]
[{"$f":"IF(Pivot!G274=\"\",\"\",Pivot!G274)","v":""},null,{"$f":"IF(Pivot!H274=\"\",\"\",Pivot!H274)","v":""},null,{"$f":"IF(Pivot!J274=\"\",\"\",Pivot!J274)","v":""},{"$f":"IF(Pivot!I274=\"\",\"\",Pivot!I274)","v":""},null,null,null,null,null,null,"","",{"$error":"#VALUE!"},null,"","",""]
[{"$f":"IF(Pivot!G275=\"\",\"\",Pivot!G275)","v":""},null,{"$f":"IF(Pivot!H275=\"\",\"\",Pivot!H275)","v":""},null,{"$f":"IF(Pivot!J275=\"\",\"\",Pivot!J275)","v":""},{"$f":"IF(Pivot!I275=\"\",\"\",Pivot!I275)","v":""},null,null,null,null,null,null,"","",{"$error":"#VALUE!"},null,"","",""]
[{"$f":"IF(Pivot!G276=\"\",\"\",Pivot!G276)","v":""},null,{"$f":"IF(Pivot!H276=\"\",\"\",Pivot!H276)","v":""},null,{"$f":"IF(Pivot!J276=\"\",\"\",Pivot!J276)","v":""},{"$f":"IF(Pivot!I276=\"\",\"\",Pivot!I276)","v":""},null,null,null,null,null,null,"","",{"$error":"#VALUE!"},null,"","",""]
[{"$f":"IF(Pivot!G277=\"\",\"\",Pivot!G277)","v":""},null,{"$f":"IF(Pivot!H277=\"\",\"\",Pivot!H277)","v":""},null,{"$f":"IF(Pivot!J277=\"\",\"\",Pivot!J277)","v":""},{"$f":"IF(Pivot!I277=\"\",\"\",Pivot!I277)","v":""},null,null,null,null,null,null,"","",{"$error":"#VALUE!"},null,"","",""]
[{"$f":"IF(Pivot!G278=\"\",\"\",Pivot!G278)","v":""},null,{"$f":"IF(Pivot!H278=\"\",\"\",Pivot!H278)","v":""},null,{"$f":"IF(Pivot!J278=\"\",\"\",Pivot!J278)","v":""},{"$f":"IF(Pivot!I278=\"\",\"\",Pivot!I278)","v":""},null,null,null,null,null,null,"","",{"$error":"#VALUE!"},null,"","",""]
[{"$f":"IF(Pivot!G279=\"\",\"\",Pivot!G279)","v":""},null,{"$f":"IF(Pivot!H279=\"\",\"\",Pivot!H279)","v":""},null,{"$f":"IF(Pivot!J279=\"\",\"\",Pivot!J279)","v":""},{"$f":"IF(Pivot!I279=\"\",\"\",Pivot!I279)","v":""},null,null,null,null,null,null,"","",{"$error":"#VALUE!"},null,"","",""]
[{"$f":"IF(Pivot!G280=\"\",\"\",Pivot!G280)","v":""},null,{"$f":"IF(Pivot!H280=\"\",\"\",Pivot!H280)","v":""},null,{"$f":"IF(Pivot!J280=\"\",\"\",Pivot!J280)","v":""},{"$f":"IF(Pivot!I280=\"\",\"\",Pivot!I280)","v":""},null,null,null,null,null,null,"","",{"$error":"#VALUE!"},null,"","",""]
[{"$f":"IF(Pivot!G281=\"\",\"\",Pivot!G281)","v":""},null,{"$f":"IF(Pivot!H281=\"\",\"\",Pivot!H281)","v":""},null,{"$f":"IF(Pivot!J281=\"\",\"\",Pivot!J281)","v":""},{"$f":"IF(Pivot!I281=\"\",\"\",Pivot!I281)","v":""},null,null,null,null,null,null,"","",{"$error":"#VALUE!"},null,"","",""]
[{"$f":"IF(Pivot!G282=\"\",\"\",Pivot!G282)","v":""},null,{"$f":"IF(Pivot!H282=\"\",\"\",Pivot!H282)","v":""},null,{"$f":"IF(Pivot!J282=\"\",\"\",Pivot!J282)","v":""},{"$f":"IF(Pivot!I282=\"\",\"\",Pivot!I282)","v":""},null,null,null,null,null,null,"","",{"$error":"#VALUE!"},null,"","",""]
[{"$f":"IF(Pivot!G283=\"\",\"\",Pivot!G283)","v":""},null,{"$f":"IF(Pivot!H283=\"\",\"\",Pivot!H283)","v":""},null,{"$f":"IF(Pivot!J283=\"\",\"\",Pivot!J283)","v":""},{"$f":"IF(Pivot!I283=\"\",\"\",Pivot!I283)","v":""},null,null,null,null,null,null,"","",{"$error":"#VALUE!"},null,"","",""]
[{"$f":"IF(Pivot!G284=\"\",\"\",Pivot!G284)","v":""},null,{"$f":"IF(Pivot!H284=\"\",\"\",Pivot!H284)","v":""},null,{"$f":"IF(Pivot!J284=\"\",\"\",Pivot!J284)","v":""},{"$f":"IF(Pivot!I284=\"\",\"\",Pivot!I284)","v":""},null,null,null,null,null,null,"","",{"$error":"#VALUE!"},null,"","",""]
[{"$f":"IF(Pivot!G285=\"\",\"\",Pivot!G285)","v":""},null,{"$f":"IF(Pivot!H285=\"\",\"\",Pivot!H285)","v":""},null,{"$f":"IF(Pivot!J285=\"\",\"\",Pivot!J285)","v":""},{"$f":"IF(Pivot!I285=\"\",\"\",Pivot!I285)","v":""},null,null,null,null,null,null,"","",{"$error":"#VALUE!"},null,"","",""]
[{"$f":"IF(Pivot!G286=\"\",\"\",Pivot!G286)","v":""},null,{"$f":"IF(Pivot!H286=\"\",\"\",Pivot!H286)","v":""},null,{"$f":"IF(Pivot!J286=\"\",\"\",Pivot!J286)","v":""},{"$f":"IF(Pivot!I286=\"\",\"\",Pivot!I286)","v":""},null,null,null,null,null,null,"","",{"$error":"#VALUE!"},null,"","",""]
[{"$f":"IF(Pivot!G287=\"\",\"\",Pivot!G287)","v":""},null,{"$f":"IF(Pivot!H287=\"\",\"\",Pivot!H287)","v":""},null,{"$f":"IF(Pivot!J287=\"\",\"\",Pivot!J287)","v":""},{"$f":"IF(Pivot!I287=\"\",\"\",Pivot!I287)","v":""},null,null,null,null,null,null,"","",{"$error":"#VALUE!"},null,"","",""]
[{"$f":"IF(Pivot!G288=\"\",\"\",Pivot!G288)","v":""},null,{"$f":"IF(Pivot!H288=\"\",\"\",Pivot!H288)","v":""},null,{"$f":"IF(Pivot!J288=\"\",\"\",Pivot!J288)","v":""},{"$f":"IF(Pivot!I288=\"\",\"\",Pivot!I288)","v":""},null,null,null,null,null,null,"","",{"$error":"#VALUE!"},null,"","",""]
[{"$f":"IF(Pivot!G289=\"\",\"\",Pivot!G289)","v":""},null,{"$f":"IF(Pivot!H289=\"\",\"\",Pivot!H289)","v":""},null,{"$f":"IF(Pivot!J289=\"\",\"\",Pivot!J289)","v":""},{"$f":"IF(Pivot!I289=\"\",\"\",Pivot!I289)","v":""},null,null,null,null,null,null,"","",{"$error":"#VALUE!"},null,"","",""]
[{"$f":"IF(Pivot!G290=\"\",\"\",Pivot!G290)","v":""},null,{"$f":"IF(Pivot!H290=\"\",\"\",Pivot!H290)","v":""},null,{"$f":"IF(Pivot!J290=\"\",\"\",Pivot!J290)","v":""},{"$f":"IF(Pivot!I290=\"\",\"\",Pivot!I290)","v":""},null,null,null,null,null,null,"","",{"$error":"#VALUE!"},null,"","",""]
[{"$f":"IF(Pivot!G291=\"\",\"\",Pivot!G291)","v":""},null,{"$f":"IF(Pivot!H291=\"\",\"\",Pivot!H291)","v":""},null,{"$f":"IF(Pivot!J291=\"\",\"\",Pivot!J291)","v":""},{"$f":"IF(Pivot!I291=\"\",\"\",Pivot!I291)","v":""},null,null,null,null,null,null,"","",{"$error":"#VALUE!"},null,"","",""]
[{"$f":"IF(Pivot!G292=\"\",\"\",Pivot!G292)","v":""},null,{"$f":"IF(Pivot!H292=\"\",\"\",Pivot!H292)","v":""},null,{"$f":"IF(Pivot!J292=\"\",\"\",Pivot!J292)","v":""},{"$f":"IF(Pivot!I292=\"\",\"\",Pivot!I292)","v":""},null,null,null,null,null,null,"","",{"$error":"#VALUE!"},null,"","",""]
[{"$f":"IF(Pivot!G293=\"\",\"\",Pivot!G293)","v":""},null,{"$f":"IF(Pivot!H293=\"\",\"\",Pivot!H293)","v":""},null,{"$f":"IF(Pivot!J293=\"\",\"\",Pivot!J293)","v":""},{"$f":"IF(Pivot!I293=\"\",\"\",Pivot!I293)","v":""},null,null,null,null,null,null,"","",{"$error":"#VALUE!"},null,"","",""]
[{"$f":"IF(Pivot!G294=\"\",\"\",Pivot!G294)","v":""},null,{"$f":"IF(Pivot!H294=\"\",\"\",Pivot!H294)","v":""},null,{"$f":"IF(Pivot!J294=\"\",\"\",Pivot!J294)","v":""},{"$f":"IF(Pivot!I294=\"\",\"\",Pivot!I294)","v":""},null,null,null,null,null,null,"","",{"$error":"#VALUE!"},null,"","",""]
[{"$f":"IF(Pivot!G295=\"\",\"\",Pivot!G295)","v":""},null,{"$f":"IF(Pivot!H295=\"\",\"\",Pivot!H295)","v":""},null,{"$f":"IF(Pivot!J295=\"\",\"\",Pivot!J295)","v":""},{"$f":"IF(Pivot!I295=\"\",\"\",Pivot!I295)","v":""},null,null,null,null,null,null,"","",{"$error":"#VALUE!"},null,"","",""]
[{"$f":"IF(Pivot!G296=\"\",\"\",Pivot!G296)","v":""},null,{"$f":"IF(Pivot!H296=\"\",\"\",Pivot!H296)","v":""},null,{"$f":"IF(Pivot!J296=\"\",\"\",Pivot!J296)","v":""},{"$f":"IF(Pivot!I296=\"\",\"\",Pivot!I296)","v":""},null,null,null,null,null,null,"","",{"$error":"#VALUE!"},null,"","",""]
[{"$f":"IF(Pivot!G297=\"\",\"\",Pivot!G297)","v":""},null,{"$f":"IF(Pivot!H297=\"\",\"\",Pivot!H297)","v":""},null,{"$f":"IF(Pivot!J297=\"\",\"\",Pivot!J297)","v":""},{"$f":"IF(Pivot!I297=\"\",\"\",Pivot!I297)","v":""},null,null,null,null,null,null,"","",{"$error":"#VALUE!"},null,"","",""]
[{"$f":"IF(Pivot!G298=\"\",\"\",Pivot!G298)","v":""},null,{"$f":"IF(Pivot!H298=\"\",\"\",Pivot!H298)","v":""},null,{"$f":"IF(Pivot!J298=\"\",\"\",Pivot!J298)","v":""},{"$f":"IF(Pivot!I298=\"\",\"\",Pivot!I298)","v":""},null,null,null,null,null,null,"","",{"$error":"#VALUE!"},null,"","",""]
[{"$f":"IF(Pivot!G299=\"\",\"\",Pivot!G299)","v":""},null,{"$f":"IF(Pivot!H299=\"\",\"\",Pivot!H299)","v":""},null,{"$f":"IF(Pivot!J299=\"\",\"\",Pivot!J299)","v":""},{"$f":"IF(Pivot!I299=\"\",\"\",Pivot!I299)","v":""},null,null,null,null,null,null,"","",{"$error":"#VALUE!"},null,"","",""]
[{"$f":"IF(Pivot!G300=\"\",\"\",Pivot!G300)","v":""},null,{"$f":"IF(Pivot!H300=\"\",\"\",Pivot!H300)","v":""},null,{"$f":"IF(Pivot!J300=\"\",\"\",Pivot!J300)","v":""},{"$f":"IF(Pivot!I300=\"\",\"\",Pivot!I300)","v":""},null,null,null,null,null,null,"","",{"$error":"#VALUE!"},null,"","",""]
[{"$f":"IF(Pivot!G301=\"\",\"\",Pivot!G301)","v":""},null,{"$f":"IF(Pivot!H301=\"\",\"\",Pivot!H301)","v":""},null,{"$f":"IF(Pivot!J301=\"\",\"\",Pivot!J301)","v":""},{"$f":"IF(Pivot!I301=\"\",\"\",Pivot!I301)","v":""},null,null,null,null,null,null,"","",{"$error":"#VALUE!"},null,"","",""]
[{"$f":"IF(Pivot!G302=\"\",\"\",Pivot!G302)","v":""},null,{"$f":"IF(Pivot!H302=\"\",\"\",Pivot!H302)","v":""},null,{"$f":"IF(Pivot!J302=\"\",\"\",Pivot!J302)","v":""},{"$f":"IF(Pivot!I302=\"\",\"\",Pivot!I302)","v":""},null,null,null,null,null,null,"","",{"$error":"#VALUE!"},null,"","",""]
[{"$f":"IF(Pivot!G303=\"\",\"\",Pivot!G303)","v":""},null,{"$f":"IF(Pivot!H303=\"\",\"\",Pivot!H303)","v":""},null,{"$f":"IF(Pivot!J303=\"\",\"\",Pivot!J303)","v":""},{"$f":"IF(Pivot!I303=\"\",\"\",Pivot!I303)","v":""},null,null,null,null,null,null,"","",{"$error":"#VALUE!"},null,"","",""]
[{"$f":"IF(Pivot!G304=\"\",\"\",Pivot!G304)","v":""},null,{"$f":"IF(Pivot!H304=\"\",\"\",Pivot!H304)","v":""},null,{"$f":"IF(Pivot!J304=\"\",\"\",Pivot!J304)","v":""},{"$f":"IF(Pivot!I304=\"\",\"\",Pivot!I304)","v":""},null,null,null,null,null,null,"","",{"$error":"#VALUE!"},null,"","",""]
[{"$f":"IF(Pivot!G305=\"\",\"\",Pivot!G305)","v":""},null,{"$f":"IF(Pivot!H305=\"\",\"\",Pivot!H305)","v":""},null,{"$f":"IF(Pivot!J305=\"\",\"\",Pivot!J305)","v":""},{"$f":"IF(Pivot!I305=\"\",\"\",Pivot!I305)","v":""},null,null,null,null,null,null,"","",{"$error":"#VALUE!"},null,"","",""]
[{"$f":"IF(Pivot!G306=\"\",\"\",Pivot!G306)","v":""},null,{"$f":"IF(Pivot!H306=\"\",\"\",Pivot!H306)","v":""},null,{"$f":"IF(Pivot!J306=\"\",\"\",Pivot!J306)","v":""},{"$f":"IF(Pivot!I306=\"\",\"\",Pivot!I306)","v":""},null,null,null,null,null,null,"","",{"$error":"#VALUE!"},null,"","",""]
[{"$f":"IF(Pivot!G307=\"\",\"\",Pivot!G307)","v":""},null,{"$f":"IF(Pivot!H307=\"\",\"\",Pivot!H307)","v":""},null,{"$f":"IF(Pivot!J307=\"\",\"\",Pivot!J307)","v":""},{"$f":"IF(Pivot!I307=\"\",\"\",Pivot!I307)","v":""},null,null,null,null,null,null,"","",{"$error":"#VALUE!"},null,"","",""]
[{"$f":"IF(Pivot!G308=\"\",\"\",Pivot!G308)","v":""},null,{"$f":"IF(Pivot!H308=\"\",\"\",Pivot!H308)","v":""},null,{"$f":"IF(Pivot!J308=\"\",\"\",Pivot!J308)","v":""},{"$f":"IF(Pivot!I308=\"\",\"\",Pivot!I308)","v":""},null,null,null,null,null,null,"","",{"$error":"#VALUE!"},null,"","",""]
[{"$f":"IF(Pivot!G309=\"\",\"\",Pivot!G309)","v":""},null,{"$f":"IF(Pivot!H309=\"\",\"\",Pivot!H309)","v":""},null,{"$f":"IF(Pivot!J309=\"\",\"\",Pivot!J309)","v":""},{"$f":"IF(Pivot!I309=\"\",\"\",Pivot!I309)","v":""},null,null,null,null,null,null,"","",{"$error":"#VALUE!"},null,"","",""]
[{"$f":"IF(Pivot!G310=\"\",\"\",Pivot!G310)","v":""},null,{"$f":"IF(Pivot!H310=\"\",\"\",Pivot!H310)","v":""},null,{"$f":"IF(Pivot!J310=\"\",\"\",Pivot!J310)","v":""},{"$f":"IF(Pivot!I310=\"\",\"\",Pivot!I310)","v":""},null,null,null,null,null,null,"","",{"$error":"#VALUE!"},null,"","",""]
[{"$f":"IF(Pivot!G311=\"\",\"\",Pivot!G311)","v":""},null,{"$f":"IF(Pivot!H311=\"\",\"\",Pivot!H311)","v":""},null,{"$f":"IF(Pivot!J311=\"\",\"\",Pivot!J311)","v":""},{"$f":"IF(Pivot!I311=\"\",\"\",Pivot!I311)","v":""},null,null,null,null,null,null,"","",{"$error":"#VALUE!"},null,"","",""]
[{"$f":"IF(Pivot!G312=\"\",\"\",Pivot!G312)","v":""},null,{"$f":"IF(Pivot!H312=\"\",\"\",Pivot!H312)","v":""},null,{"$f":"IF(Pivot!J312=\"\",\"\",Pivot!J312)","v":""},{"$f":"IF(Pivot!I312=\"\",\"\",Pivot!I312)","v":""},null,null,null,null,null,null,"","",{"$error":"#VALUE!"},null,"","",""]
[{"$f":"IF(Pivot!G313=\"\",\"\",Pivot!G313)","v":""},null,{"$f":"IF(Pivot!H313=\"\",\"\",Pivot!H313)","v":""},null,{"$f":"IF(Pivot!J313=\"\",\"\",Pivot!J313)","v":""},{"$f":"IF(Pivot!I313=\"\",\"\",Pivot!I313)","v":""},null,null,null,null,null,null,"","",{"$error":"#VALUE!"},null,"","",""]
[{"$f":"IF(Pivot!G314=\"\",\"\",Pivot!G314)","v":""},null,{"$f":"IF(Pivot!H314=\"\",\"\",Pivot!H314)","v":""},null,{"$f":"IF(Pivot!J314=\"\",\"\",Pivot!J314)","v":""},{"$f":"IF(Pivot!I314=\"\",\"\",Pivot!I314)","v":""},null,null,null,null,null,null,"","",{"$error":"#VALUE!"},null,"","",""]
[{"$f":"IF(Pivot!G315=\"\",\"\",Pivot!G315)","v":""},null,{"$f":"IF(Pivot!H315=\"\",\"\",Pivot!H315)","v":""},null,{"$f":"IF(Pivot!J315=\"\",\"\",Pivot!J315)","v":""},{"$f":"IF(Pivot!I315=\"\",\"\",Pivot!I315)","v":""},null,null,null,null,null,null,"","",{"$error":"#VALUE!"},null,"","",""]
[{"$f":"IF(Pivot!G316=\"\",\"\",Pivot!G316)","v":""},null,{"$f":"IF(Pivot!H316=\"\",\"\",Pivot!H316)","v":""},null,{"$f":"IF(Pivot!J316=\"\",\"\",Pivot!J316)","v":""},{"$f":"IF(Pivot!I316=\"\",\"\",Pivot!I316)","v":""},null,null,null,null,null,null,"","",{"$error":"#VALUE!"},null,"","",""]
[{"$f":"IF(Pivot!G317=\"\",\"\",Pivot!G317)","v":""},null,{"$f":"IF(Pivot!H317=\"\",\"\",Pivot!H317)","v":""},null,{"$f":"IF(Pivot!J317=\"\",\"\",Pivot!J317)","v":""},{"$f":"IF(Pivot!I317=\"\",\"\",Pivot!I317)","v":""},null,null,null,null,null,null,"","",{"$error":"#VALUE!"},null,"","",""]
[{"$f":"IF(Pivot!G318=\"\",\"\",Pivot!G318)","v":""},null,{"$f":"IF(Pivot!H318=\"\",\"\",Pivot!H318)","v":""},null,{"$f":"IF(Pivot!J318=\"\",\"\",Pivot!J318)","v":""},{"$f":"IF(Pivot!I318=\"\",\"\",Pivot!I318)","v":""},null,null,null,null,null,null,"","",{"$error":"#VALUE!"},null,"","",""]
[{"$f":"IF(Pivot!G319=\"\",\"\",Pivot!G319)","v":""},null,{"$f":"IF(Pivot!H319=\"\",\"\",Pivot!H319)","v":""},null,{"$f":"IF(Pivot!J319=\"\",\"\",Pivot!J319)","v":""},{"$f":"IF(Pivot!I319=\"\",\"\",Pivot!I319)","v":""},null,null,null,null,null,null,"","",{"$error":"#VALUE!"},null,"","",""]
[{"$f":"IF(Pivot!G320=\"\",\"\",Pivot!G320)","v":""},null,{"$f":"IF(Pivot!H320=\"\",\"\",Pivot!H320)","v":""},null,{"$f":"IF(Pivot!J320=\"\",\"\",Pivot!J320)","v":""},{"$f":"IF(Pivot!I320=\"\",\"\",Pivot!I320)","v":""},null,null,null,null,null,null,"","",{"$error":"#VALUE!"},null,"","",""]
[{"$f":"IF(Pivot!G321=\"\",\"\",Pivot!G321)","v":""},null,{"$f":"IF(Pivot!H321=\"\",\"\",Pivot!H321)","v":""},null,{"$f":"IF(Pivot!J321=\"\",\"\",Pivot!J321)","v":""},{"$f":"IF(Pivot!I321=\"\",\"\",Pivot!I321)","v":""},null,null,null,null,null,null,"","",{"$error":"#VALUE!"},null,"","",""]
[{"$f":"IF(Pivot!G322=\"\",\"\",Pivot!G322)","v":""},null,{"$f":"IF(Pivot!H322=\"\",\"\",Pivot!H322)","v":""},null,{"$f":"IF(Pivot!J322=\"\",\"\",Pivot!J322)","v":""},{"$f":"IF(Pivot!I322=\"\",\"\",Pivot!I322)","v":""},null,null,null,null,null,null,"","",{"$error":"#VALUE!"},null,"","",""]
[{"$f":"IF(Pivot!G323=\"\",\"\",Pivot!G323)","v":""},null,{"$f":"IF(Pivot!H323=\"\",\"\",Pivot!H323)","v":""},null,{"$f":"IF(Pivot!J323=\"\",\"\",Pivot!J323)","v":""},{"$f":"IF(Pivot!I323=\"\",\"\",Pivot!I323)","v":""},null,null,null,null,null,null,"","",{"$error":"#VALUE!"},null,"","",""]
[{"$f":"IF(Pivot!G324=\"\",\"\",Pivot!G324)","v":""},null,{"$f":"IF(Pivot!H324=\"\",\"\",Pivot!H324)","v":""},null,{"$f":"IF(Pivot!J324=\"\",\"\",Pivot!J324)","v":""},{"$f":"IF(Pivot!I324=\"\",\"\",Pivot!I324)","v":""},null,null,null,null,null,null,"","",{"$f":"N327/M327","v":{"$error":"#VALUE!"}},null,"","",""]
[{"$f":"IF(Pivot!G325=\"\",\"\",Pivot!G325)","v":""},null,{"$f":"IF(Pivot!H325=\"\",\"\",Pivot!H325)","v":""},null,{"$f":"IF(Pivot!J325=\"\",\"\",Pivot!J325)","v":""},{"$f":"IF(Pivot!I325=\"\",\"\",Pivot!I325)","v":""},null,null,null,null,null,null,{"$f":"IF(C328=\"\",\"\",C328*L328)","v":""},{"$f":"IF(F328=\"\",\"\",M328-F328)","v":""},{"$error":"#VALUE!"},null,{"$f":"IF(C328=\"\",\"\",C328*P328)","v":""},{"$f":"IF(F328=\"\",\"\",Q328-F328)","v":""},{"$f":"IF(F328=\"\",\"\",R328/F328)","v":""}]
[{"$f":"IF(Pivot!G326=\"\",\"\",Pivot!G326)","v":""},null,{"$f":"IF(Pivot!H326=\"\",\"\",Pivot!H326)","v":""},null,{"$f":"IF(Pivot!J326=\"\",\"\",Pivot!J326)","v":""},{"$f":"IF(Pivot!I326=\"\",\"\",Pivot!I326)","v":""},null,null,null,null,null,null,"","",{"$error":"#VALUE!"},null,"","",""]
[{"$f":"IF(Pivot!G327=\"\",\"\",Pivot!G327)","v":""},null,{"$f":"IF(Pivot!H327=\"\",\"\",Pivot!H327)","v":""},null,{"$f":"IF(Pivot!J327=\"\",\"\",Pivot!J327)","v":""},{"$f":"IF(Pivot!I327=\"\",\"\",Pivot!I327)","v":""},null,null,null,null,null,null,"","",{"$error":"#VALUE!"},null,"","",""]
[{"$f":"IF(Pivot!G328=\"\",\"\",Pivot!G328)","v":""},null,{"$f":"IF(Pivot!H328=\"\",\"\",Pivot!H328)","v":""},null,{"$f":"IF(Pivot!J328=\"\",\"\",Pivot!J328)","v":""},{"$f":"IF(Pivot!I328=\"\",\"\",Pivot!I328)","v":""},null,null,null,null,null,null,"","",{"$error":"#VALUE!"},null,"","",""]
[{"$f":"IF(Pivot!G329=\"\",\"\",Pivot!G329)","v":""},null,{"$f":"IF(Pivot!H329=\"\",\"\",Pivot!H329)","v":""},null,{"$f":"IF(Pivot!J329=\"\",\"\",Pivot!J329)","v":""},{"$f":"IF(Pivot!I329=\"\",\"\",Pivot!I329)","v":""},null,null,null,null,null,null,"","",{"$error":"#VALUE!"},null,"","",""]
[{"$f":"IF(Pivot!G330=\"\",\"\",Pivot!G330)","v":""},null,{"$f":"IF(Pivot!H330=\"\",\"\",Pivot!H330)","v":""},null,{"$f":"IF(Pivot!J330=\"\",\"\",Pivot!J330)","v":""},{"$f":"IF(Pivot!I330=\"\",\"\",Pivot!I330)","v":""},null,null,null,null,null,null,"","",{"$error":"#VALUE!"},null,"","",""]
[{"$f":"IF(Pivot!G331=\"\",\"\",Pivot!G331)","v":""},null,{"$f":"IF(Pivot!H331=\"\",\"\",Pivot!H331)","v":""},null,{"$f":"IF(Pivot!J331=\"\",\"\",Pivot!J331)","v":""},{"$f":"IF(Pivot!I331=\"\",\"\",Pivot!I331)","v":""},null,null,null,null,null,null,"","",{"$error":"#VALUE!"},null,"","",""]
[{"$f":"IF(Pivot!G332=\"\",\"\",Pivot!G332)","v":""},null,{"$f":"IF(Pivot!H332=\"\",\"\",Pivot!H332)","v":""},null,{"$f":"IF(Pivot!J332=\"\",\"\",Pivot!J332)","v":""},{"$f":"IF(Pivot!I332=\"\",\"\",Pivot!I332)","v":""},null,null,null,null,null,null,"","",{"$error":"#VALUE!"},null,"","",""]
[{"$f":"IF(Pivot!G333=\"\",\"\",Pivot!G333)","v":""},null,{"$f":"IF(Pivot!H333=\"\",\"\",Pivot!H333)","v":""},null,{"$f":"IF(Pivot!J333=\"\",\"\",Pivot!J333)","v":""},{"$f":"IF(Pivot!I333=\"\",\"\",Pivot!I333)","v":""},null,null,null,null,null,null,"","",{"$error":"#VALUE!"},null,"","",""]
[{"$f":"IF(Pivot!G334=\"\",\"\",Pivot!G334)","v":""},null,{"$f":"IF(Pivot!H334=\"\",\"\",Pivot!H334)","v":""},null,{"$f":"IF(Pivot!J334=\"\",\"\",Pivot!J334)","v":""},{"$f":"IF(Pivot!I334=\"\",\"\",Pivot!I334)","v":""},null,null,null,null,null,null,"","",{"$error":"#VALUE!"},null,"","",""]
[{"$f":"IF(Pivot!G335=\"\",\"\",Pivot!G335)","v":""},null,{"$f":"IF(Pivot!H335=\"\",\"\",Pivot!H335)","v":""},null,{"$f":"IF(Pivot!J335=\"\",\"\",Pivot!J335)","v":""},{"$f":"IF(Pivot!I335=\"\",\"\",Pivot!I335)","v":""},null,null,null,null,null,null,"","",{"$error":"#VALUE!"},null,"","",""]
[{"$f":"IF(Pivot!G336=\"\",\"\",Pivot!G336)","v":""},null,{"$f":"IF(Pivot!H336=\"\",\"\",Pivot!H336)","v":""},null,{"$f":"IF(Pivot!J336=\"\",\"\",Pivot!J336)","v":""},{"$f":"IF(Pivot!I336=\"\",\"\",Pivot!I336)","v":""},null,null,null,null,null,null,"","",{"$error":"#VALUE!"},null,"","",""]
[{"$f":"IF(Pivot!G337=\"\",\"\",Pivot!G337)","v":""},null,{"$f":"IF(Pivot!H337=\"\",\"\",Pivot!H337)","v":""},null,{"$f":"IF(Pivot!J337=\"\",\"\",Pivot!J337)","v":""},{"$f":"IF(Pivot!I337=\"\",\"\",Pivot!I337)","v":""},null,null,null,null,null,null,"","",{"$error":"#VALUE!"},null,"","",""]
[{"$f":"IF(Pivot!G338=\"\",\"\",Pivot!G338)","v":""},null,{"$f":"IF(Pivot!H338=\"\",\"\",Pivot!H338)","v":""},null,{"$f":"IF(Pivot!J338=\"\",\"\",Pivot!J338)","v":""},{"$f":"IF(Pivot!I338=\"\",\"\",Pivot!I338)","v":""},null,null,null,null,null,null,"","",{"$error":"#VALUE!"},null,"","",""]
[{"$f":"IF(Pivot!G339=\"\",\"\",Pivot!G339)","v":""},null,{"$f":"IF(Pivot!H339=\"\",\"\",Pivot!H339)","v":""},null,{"$f":"IF(Pivot!J339=\"\",\"\",Pivot!J339)","v":""},{"$f":"IF(Pivot!I339=\"\",\"\",Pivot!I339)","v":""},null,null,null,null,null,null,"","",{"$error":"#VALUE!"},null,"","",""]
[{"$f":"IF(Pivot!G340=\"\",\"\",Pivot!G340)","v":""},null,{"$f":"IF(Pivot!H340=\"\",\"\",Pivot!H340)","v":""},null,{"$f":"IF(Pivot!J340=\"\",\"\",Pivot!J340)","v":""},{"$f":"IF(Pivot!I340=\"\",\"\",Pivot!I340)","v":""},null,null,null,null,null,null,"","",{"$error":"#VALUE!"},null,"","",""]
[{"$f":"IF(Pivot!G341=\"\",\"\",Pivot!G341)","v":""},null,{"$f":"IF(Pivot!H341=\"\",\"\",Pivot!H341)","v":""},null,{"$f":"IF(Pivot!J341=\"\",\"\",Pivot!J341)","v":""},{"$f":"IF(Pivot!I341=\"\",\"\",Pivot!I341)","v":""},null,null,null,null,null,null,"","",{"$error":"#VALUE!"},null,"","",""]
[{"$f":"IF(Pivot!G342=\"\",\"\",Pivot!G342)","v":""},null,{"$f":"IF(Pivot!H342=\"\",\"\",Pivot!H342)","v":""},null,{"$f":"IF(Pivot!J342=\"\",\"\",Pivot!J342)","v":""},{"$f":"IF(Pivot!I342=\"\",\"\",Pivot!I342)","v":""},null,null,null,null,null,null,"","",{"$error":"#VALUE!"},null,"","",""]
[{"$f":"IF(Pivot!G343=\"\",\"\",Pivot!G343)","v":""},null,{"$f":"IF(Pivot!H343=\"\",\"\",Pivot!H343)","v":""},null,{"$f":"IF(Pivot!J343=\"\",\"\",Pivot!J343)","v":""},{"$f":"IF(Pivot!I343=\"\",\"\",Pivot!I343)","v":""},null,null,null,null,null,null,"","",{"$error":"#VALUE!"},null,"","",""]
[{"$f":"IF(Pivot!G344=\"\",\"\",Pivot!G344)","v":""},null,{"$f":"IF(Pivot!H344=\"\",\"\",Pivot!H344)","v":""},null,{"$f":"IF(Pivot!J344=\"\",\"\",Pivot!J344)","v":""},{"$f":"IF(Pivot!I344=\"\",\"\",Pivot!I344)","v":""},null,null,null,null,null,null,"","",{"$error":"#VALUE!"},null,"","",""]
[{"$f":"IF(Pivot!G345=\"\",\"\",Pivot!G345)","v":""},null,{"$f":"IF(Pivot!H345=\"\",\"\",Pivot!H345)","v":""},null,{"$f":"IF(Pivot!J345=\"\",\"\",Pivot!J345)","v":""},{"$f":"IF(Pivot!I345=\"\",\"\",Pivot!I345)","v":""},null,null,null,null,null,null,"","",{"$error":"#VALUE!"},null,"","",""]
[{"$f":"IF(Pivot!G346=\"\",\"\",Pivot!G346)","v":""},null,{"$f":"IF(Pivot!H346=\"\",\"\",Pivot!H346)","v":""},null,{"$f":"IF(Pivot!J346=\"\",\"\",Pivot!J346)","v":""},{"$f":"IF(Pivot!I346=\"\",\"\",Pivot!I346)","v":""},null,null,null,null,null,null,"","",{"$error":"#VALUE!"},null,"","",""]
[{"$f":"IF(Pivot!G347=\"\",\"\",Pivot!G347)","v":""},null,{"$f":"IF(Pivot!H347=\"\",\"\",Pivot!H347)","v":""},null,{"$f":"IF(Pivot!J347=\"\",\"\",Pivot!J347)","v":""},{"$f":"IF(Pivot!I347=\"\",\"\",Pivot!I347)","v":""},null,null,null,null,null,null,"","",{"$error":"#VALUE!"},null,"","",""]
[{"$f":"IF(Pivot!G348=\"\",\"\",Pivot!G348)","v":""},null,{"$f":"IF(Pivot!H348=\"\",\"\",Pivot!H348)","v":""},null,{"$f":"IF(Pivot!J348=\"\",\"\",Pivot!J348)","v":""},{"$f":"IF(Pivot!I348=\"\",\"\",Pivot!I348)","v":""},null,null,null,null,null,null,"","",{"$error":"#VALUE!"},null,"","",""]
[{"$f":"IF(Pivot!G349=\"\",\"\",Pivot!G349)","v":""},null,{"$f":"IF(Pivot!H349=\"\",\"\",Pivot!H349)","v":""},null,{"$f":"IF(Pivot!J349=\"\",\"\",Pivot!J349)","v":""},{"$f":"IF(Pivot!I349=\"\",\"\",Pivot!I349)","v":""},null,null,null,null,null,null,"","",{"$error":"#VALUE!"},null,"","",""]
[{"$f":"IF(Pivot!G350=\"\",\"\",Pivot!G350)","v":""},null,{"$f":"IF(Pivot!H350=\"\",\"\",Pivot!H350)","v":""},null,{"$f":"IF(Pivot!J350=\"\",\"\",Pivot!J350)","v":""},{"$f":"IF(Pivot!I350=\"\",\"\",Pivot!I350)","v":""},null,null,null,null,null,null,"","",{"$error":"#VALUE!"},null,"","",""]
[{"$f":"IF(Pivot!G351=\"\",\"\",Pivot!G351)","v":""},null,{"$f":"IF(Pivot!H351=\"\",\"\",Pivot!H351)","v":""},null,{"$f":"IF(Pivot!J351=\"\",\"\",Pivot!J351)","v":""},{"$f":"IF(Pivot!I351=\"\",\"\",Pivot!I351)","v":""},null,null,null,null,null,null,"","",{"$error":"#VALUE!"},null,"","",""]
[{"$f":"IF(Pivot!G352=\"\",\"\",Pivot!G352)","v":""},null,{"$f":"IF(Pivot!H352=\"\",\"\",Pivot!H352)","v":""},null,{"$f":"IF(Pivot!J352=\"\",\"\",Pivot!J352)","v":""},{"$f":"IF(Pivot!I352=\"\",\"\",Pivot!I352)","v":""},null,null,null,null,null,null,"","",{"$error":"#VALUE!"},null,"","",""]
[{"$f":"IF(Pivot!G353=\"\",\"\",Pivot!G353)","v":""},null,{"$f":"IF(Pivot!H353=\"\",\"\",Pivot!H353)","v":""},null,{"$f":"IF(Pivot!J353=\"\",\"\",Pivot!J353)","v":""},{"$f":"IF(Pivot!I353=\"\",\"\",Pivot!I353)","v":""},null,null,null,null,null,null,"","",{"$error":"#VALUE!"},null,"","",""]
[{"$f":"IF(Pivot!G354=\"\",\"\",Pivot!G354)","v":""},null,{"$f":"IF(Pivot!H354=\"\",\"\",Pivot!H354)","v":""},null,{"$f":"IF(Pivot!J354=\"\",\"\",Pivot!J354)","v":""},{"$f":"IF(Pivot!I354=\"\",\"\",Pivot!I354)","v":""},null,null,null,null,null,null,"","",{"$error":"#VALUE!"},null,"","",""]
[{"$f":"IF(Pivot!G355=\"\",\"\",Pivot!G355)","v":""},null,{"$f":"IF(Pivot!H355=\"\",\"\",Pivot!H355)","v":""},null,{"$f":"IF(Pivot!J355=\"\",\"\",Pivot!J355)","v":""},{"$f":"IF(Pivot!I355=\"\",\"\",Pivot!I355)","v":""},null,null,null,null,null,null,"","",{"$error":"#VALUE!"},null,"","",""]
[{"$f":"IF(Pivot!G356=\"\",\"\",Pivot!G356)","v":""},null,{"$f":"IF(Pivot!H356=\"\",\"\",Pivot!H356)","v":""},null,{"$f":"IF(Pivot!J356=\"\",\"\",Pivot!J356)","v":""},{"$f":"IF(Pivot!I356=\"\",\"\",Pivot!I356)","v":""},null,null,null,null,null,null,"","",{"$error":"#VALUE!"},null,"","",""]
[{"$f":"IF(Pivot!G357=\"\",\"\",Pivot!G357)","v":""},null,{"$f":"IF(Pivot!H357=\"\",\"\",Pivot!H357)","v":""},null,{"$f":"IF(Pivot!J357=\"\",\"\",Pivot!J357)","v":""},{"$f":"IF(Pivot!I357=\"\",\"\",Pivot!I357)","v":""},null,null,null,null,null,null,"","",{"$error":"#VALUE!"},null,"","",""]
[{"$f":"IF(Pivot!G358=\"\",\"\",Pivot!G358)","v":""},null,{"$f":"IF(Pivot!H358=\"\",\"\",Pivot!H358)","v":""},null,{"$f":"IF(Pivot!J358=\"\",\"\",Pivot!J358)","v":""},{"$f":"IF(Pivot!I358=\"\",\"\",Pivot!I358)","v":""},null,null,null,null,null,null,"","",{"$error":"#VALUE!"},null,"","",""]
[{"$f":"IF(Pivot!G359=\"\",\"\",Pivot!G359)","v":""},null,{"$f":"IF(Pivot!H359=\"\",\"\",Pivot!H359)","v":""},null,{"$f":"IF(Pivot!J359=\"\",\"\",Pivot!J359)","v":""},{"$f":"IF(Pivot!I359=\"\",\"\",Pivot!I359)","v":""},null,null,null,null,null,null,"","",{"$error":"#VALUE!"},null,"","",""]
[{"$f":"IF(Pivot!G360=\"\",\"\",Pivot!G360)","v":""},null,{"$f":"IF(Pivot!H360=\"\",\"\",Pivot!H360)","v":""},null,{"$f":"IF(Pivot!J360=\"\",\"\",Pivot!J360)","v":""},{"$f":"IF(Pivot!I360=\"\",\"\",Pivot!I360)","v":""},null,null,null,null,null,null,"","",{"$error":"#VALUE!"},null,"","",""]
[{"$f":"IF(Pivot!G361=\"\",\"\",Pivot!G361)","v":""},null,{"$f":"IF(Pivot!H361=\"\",\"\",Pivot!H361)","v":""},null,{"$f":"IF(Pivot!J361=\"\",\"\",Pivot!J361)","v":""},{"$f":"IF(Pivot!I361=\"\",\"\",Pivot!I361)","v":""},null,null,null,null,null,null,"","",{"$error":"#VALUE!"},null,"","",""]
[{"$f":"IF(Pivot!G362=\"\",\"\",Pivot!G362)","v":""},null,{"$f":"IF(Pivot!H362=\"\",\"\",Pivot!H362)","v":""},null,{"$f":"IF(Pivot!J362=\"\",\"\",Pivot!J362)","v":""},{"$f":"IF(Pivot!I362=\"\",\"\",Pivot!I362)","v":""},null,null,null,null,null,null,"","",{"$error":"#VALUE!"},null,"","",""]
[{"$f":"IF(Pivot!G363=\"\",\"\",Pivot!G363)","v":""},null,{"$f":"IF(Pivot!H363=\"\",\"\",Pivot!H363)","v":""},null,{"$f":"IF(Pivot!J363=\"\",\"\",Pivot!J363)","v":""},{"$f":"IF(Pivot!I363=\"\",\"\",Pivot!I363)","v":""},null,null,null,null,null,null,"","",{"$error":"#VALUE!"},null,"","",""]
[{"$f":"IF(Pivot!G364=\"\",\"\",Pivot!G364)","v":""},null,{"$f":"IF(Pivot!H364=\"\",\"\",Pivot!H364)","v":""},null,{"$f":"IF(Pivot!J364=\"\",\"\",Pivot!J364)","v":""},{"$f":"IF(Pivot!I364=\"\",\"\",Pivot!I364)","v":""},null,null,null,null,null,null,"","",{"$error":"#VALUE!"},null,"","",""]
[{"$f":"IF(Pivot!G365=\"\",\"\",Pivot!G365)","v":""},null,{"$f":"IF(Pivot!H365=\"\",\"\",Pivot!H365)","v":""},null,{"$f":"IF(Pivot!J365=\"\",\"\",Pivot!J365)","v":""},{"$f":"IF(Pivot!I365=\"\",\"\",Pivot!I365)","v":""},null,null,null,null,null,null,"","",{"$error":"#VALUE!"},null,"","",""]
[{"$f":"IF(Pivot!G366=\"\",\"\",Pivot!G366)","v":""},null,{"$f":"IF(Pivot!H366=\"\",\"\",Pivot!H366)","v":""},null,{"$f":"IF(Pivot!J366=\"\",\"\",Pivot!J366)","v":""},{"$f":"IF(Pivot!I366=\"\",\"\",Pivot!I366)","v":""},null,null,null,null,null,null,"","",{"$error":"#VALUE!"},null,"","",""]
[{"$f":"IF(Pivot!G367=\"\",\"\",Pivot!G367)","v":""},null,{"$f":"IF(Pivot!H367=\"\",\"\",Pivot!H367)","v":""},null,{"$f":"IF(Pivot!J367=\"\",\"\",Pivot!J367)","v":""},{"$f":"IF(Pivot!I367=\"\",\"\",Pivot!I367)","v":""},null,null,null,null,null,null,"","",{"$error":"#VALUE!"},null,"","",""]
[{"$f":"IF(Pivot!G368=\"\",\"\",Pivot!G368)","v":""},null,{"$f":"IF(Pivot!H368=\"\",\"\",Pivot!H368)","v":""},null,{"$f":"IF(Pivot!J368=\"\",\"\",Pivot!J368)","v":""},{"$f":"IF(Pivot!I368=\"\",\"\",Pivot!I368)","v":""},null,null,null,null,null,null,"","",{"$error":"#VALUE!"},null,"","",""]
[{"$f":"IF(Pivot!G369=\"\",\"\",Pivot!G369)","v":""},null,{"$f":"IF(Pivot!H369=\"\",\"\",Pivot!H369)","v":""},null,{"$f":"IF(Pivot!J369=\"\",\"\",Pivot!J369)","v":""},{"$f":"IF(Pivot!I369=\"\",\"\",Pivot!I369)","v":""},null,null,null,null,null,null,"","",{"$error":"#VALUE!"},null,"","",""]
[{"$f":"IF(Pivot!G370=\"\",\"\",Pivot!G370)","v":""},null,{"$f":"IF(Pivot!H370=\"\",\"\",Pivot!H370)","v":""},null,{"$f":"IF(Pivot!J370=\"\",\"\",Pivot!J370)","v":""},{"$f":"IF(Pivot!I370=\"\",\"\",Pivot!I370)","v":""},null,null,null,null,null,null,"","",{"$error":"#VALUE!"},null,"","",""]
[{"$f":"IF(Pivot!G371=\"\",\"\",Pivot!G371)","v":""},null,{"$f":"IF(Pivot!H371=\"\",\"\",Pivot!H371)","v":""},null,{"$f":"IF(Pivot!J371=\"\",\"\",Pivot!J371)","v":""},{"$f":"IF(Pivot!I371=\"\",\"\",Pivot!I371)","v":""},null,null,null,null,null,null,"","",{"$error":"#VALUE!"},null,"","",""]
[{"$f":"IF(Pivot!G372=\"\",\"\",Pivot!G372)","v":""},null,{"$f":"IF(Pivot!H372=\"\",\"\",Pivot!H372)","v":""},null,{"$f":"IF(Pivot!J372=\"\",\"\",Pivot!J372)","v":""},{"$f":"IF(Pivot!I372=\"\",\"\",Pivot!I372)","v":""},null,null,null,null,null,null,"","",{"$error":"#VALUE!"},null,"","",""]
[{"$f":"IF(Pivot!G373=\"\",\"\",Pivot!G373)","v":""},null,{"$f":"IF(Pivot!H373=\"\",\"\",Pivot!H373)","v":""},null,{"$f":"IF(Pivot!J373=\"\",\"\",Pivot!J373)","v":""},{"$f":"IF(Pivot!I373=\"\",\"\",Pivot!I373)","v":""},null,null,null,null,null,null,"","",{"$error":"#VALUE!"},null,"","",""]
[{"$f":"IF(Pivot!G374=\"\",\"\",Pivot!G374)","v":""},null,{"$f":"IF(Pivot!H374=\"\",\"\",Pivot!H374)","v":""},null,{"$f":"IF(Pivot!J374=\"\",\"\",Pivot!J374)","v":""},{"$f":"IF(Pivot!I374=\"\",\"\",Pivot!I374)","v":""},null,null,null,null,null,null,"","",{"$error":"#VALUE!"},null,"","",""]
[{"$f":"IF(Pivot!G375=\"\",\"\",Pivot!G375)","v":""},null,{"$f":"IF(Pivot!H375=\"\",\"\",Pivot!H375)","v":""},null,{"$f":"IF(Pivot!J375=\"\",\"\",Pivot!J375)","v":""},{"$f":"IF(Pivot!I375=\"\",\"\",Pivot!I375)","v":""},null,null,null,null,null,null,"","",{"$error":"#VALUE!"},null,"","",""]
[{"$f":"IF(Pivot!G376=\"\",\"\",Pivot!G376)","v":""},null,{"$f":"IF(Pivot!H376=\"\",\"\",Pivot!H376)","v":""},null,{"$f":"IF(Pivot!J376=\"\",\"\",Pivot!J376)","v":""},{"$f":"IF(Pivot!I376=\"\",\"\",Pivot!I376)","v":""},null,null,null,null,null,null,"","",{"$error":"#VALUE!"},null,"","",""]
[{"$f":"IF(Pivot!G377=\"\",\"\",Pivot!G377)","v":""},null,{"$f":"IF(Pivot!H377=\"\",\"\",Pivot!H377)","v":""},null,{"$f":"IF(Pivot!J377=\"\",\"\",Pivot!J377)","v":""},{"$f":"IF(Pivot!I377=\"\",\"\",Pivot!I377)","v":""},null,null,null,null,null,null,"","",{"$error":"#VALUE!"},null,"","",""]
[{"$f":"IF(Pivot!G378=\"\",\"\",Pivot!G378)","v":""},null,{"$f":"IF(Pivot!H378=\"\",\"\",Pivot!H378)","v":""},null,{"$f":"IF(Pivot!J378=\"\",\"\",Pivot!J378)","v":""},{"$f":"IF(Pivot!I378=\"\",\"\",Pivot!I378)","v":""},null,null,null,null,null,null,"","",{"$error":"#VALUE!"},null,"","",""]
[{"$f":"IF(Pivot!G379=\"\",\"\",Pivot!G379)","v":""},null,{"$f":"IF(Pivot!H379=\"\",\"\",Pivot!H379)","v":""},null,{"$f":"IF(Pivot!J379=\"\",\"\",Pivot!J379)","v":""},{"$f":"IF(Pivot!I379=\"\",\"\",Pivot!I379)","v":""},null,null,null,null,null,null,"","",{"$error":"#VALUE!"},null,"","",""]
[{"$f":"IF(Pivot!G380=\"\",\"\",Pivot!G380)","v":""},null,{"$f":"IF(Pivot!H380=\"\",\"\",Pivot!H380)","v":""},null,{"$f":"IF(Pivot!J380=\"\",\"\",Pivot!J380)","v":""},{"$f":"IF(Pivot!I380=\"\",\"\",Pivot!I380)","v":""},null,null,null,null,null,null,"","",{"$error":"#VALUE!"},null,"","",""]
[{"$f":"IF(Pivot!G381=\"\",\"\",Pivot!G381)","v":""},null,{"$f":"IF(Pivot!H381=\"\",\"\",Pivot!H381)","v":""},null,{"$f":"IF(Pivot!J381=\"\",\"\",Pivot!J381)","v":""},{"$f":"IF(Pivot!I381=\"\",\"\",Pivot!I381)","v":""},null,null,null,null,null,null,"","",{"$error":"#VALUE!"},null,"","",""]
[{"$f":"IF(Pivot!G382=\"\",\"\",Pivot!G382)","v":""},null,{"$f":"IF(Pivot!H382=\"\",\"\",Pivot!H382)","v":""},null,{"$f":"IF(Pivot!J382=\"\",\"\",Pivot!J382)","v":""},{"$f":"IF(Pivot!I382=\"\",\"\",Pivot!I382)","v":""},null,null,null,null,null,null,"","",{"$error":"#VALUE!"},null,"","",""]
[{"$f":"IF(Pivot!G383=\"\",\"\",Pivot!G383)","v":""},null,{"$f":"IF(Pivot!H383=\"\",\"\",Pivot!H383)","v":""},null,{"$f":"IF(Pivot!J383=\"\",\"\",Pivot!J383)","v":""},{"$f":"IF(Pivot!I383=\"\",\"\",Pivot!I383)","v":""},null,null,null,null,null,null,"","",{"$error":"#VALUE!"},null,"","",""]
[{"$f":"IF(Pivot!G384=\"\",\"\",Pivot!G384)","v":""},null,{"$f":"IF(Pivot!H384=\"\",\"\",Pivot!H384)","v":""},null,{"$f":"IF(Pivot!J384=\"\",\"\",Pivot!J384)","v":""},{"$f":"IF(Pivot!I384=\"\",\"\",Pivot!I384)","v":""},null,null,null,null,null,null,"","",{"$error":"#VALUE!"},null,"","",""]
[{"$f":"IF(Pivot!G385=\"\",\"\",Pivot!G385)","v":""},null,{"$f":"IF(Pivot!H385=\"\",\"\",Pivot!H385)","v":""},null,{"$f":"IF(Pivot!J385=\"\",\"\",Pivot!J385)","v":""},{"$f":"IF(Pivot!I385=\"\",\"\",Pivot!I385)","v":""},null,null,null,null,null,null,"","",{"$error":"#VALUE!"},null,"","",""]
[{"$f":"IF(Pivot!G386=\"\",\"\",Pivot!G386)","v":""},null,{"$f":"IF(Pivot!H386=\"\",\"\",Pivot!H386)","v":""},null,{"$f":"IF(Pivot!J386=\"\",\"\",Pivot!J386)","v":""},{"$f":"IF(Pivot!I386=\"\",\"\",Pivot!I386)","v":""},null,null,null,null,null,null,"","",{"$error":"#VALUE!"},null,"","",""]
[{"$f":"IF(Pivot!G387=\"\",\"\",Pivot!G387)","v":""},null,{"$f":"IF(Pivot!H387=\"\",\"\",Pivot!H387)","v":""},null,{"$f":"IF(Pivot!J387=\"\",\"\",Pivot!J387)","v":""},{"$f":"IF(Pivot!I387=\"\",\"\",Pivot!I387)","v":""},null,null,null,null,null,null,"","",{"$error":"#VALUE!"},null,"","",""]
[{"$f":"IF(Pivot!G388=\"\",\"\",Pivot!G388)","v":""},null,{"$f":"IF(Pivot!H388=\"\",\"\",Pivot!H388)","v":""},null,{"$f":"IF(Pivot!J388=\"\",\"\",Pivot!J388)","v":""},{"$f":"IF(Pivot!I388=\"\",\"\",Pivot!I388)","v":""},null,null,null,null,null,null,"","",{"$f":"N391/M391","v":{"$error":"#VALUE!"}},null,"","",""]
[{"$f":"IF(Pivot!G389=\"\",\"\",Pivot!G389)","v":""},null,{"$f":"IF(Pivot!H389=\"\",\"\",Pivot!H389)","v":""},null,{"$f":"IF(Pivot!J389=\"\",\"\",Pivot!J389)","v":""},{"$f":"IF(Pivot!I389=\"\",\"\",Pivot!I389)","v":""},null,null,null,null,null,null,{"$f":"IF(C392=\"\",\"\",C392*L392)","v":""},{"$f":"IF(F392=\"\",\"\",M392-F392)","v":""},{"$error":"#VALUE!"},null,{"$f":"IF(C392=\"\",\"\",C392*P392)","v":""},{"$f":"IF(F392=\"\",\"\",Q392-F392)","v":""},{"$f":"IF(F392=\"\",\"\",R392/F392)","v":""}]
[{"$f":"IF(Pivot!G390=\"\",\"\",Pivot!G390)","v":""},null,{"$f":"IF(Pivot!H390=\"\",\"\",Pivot!H390)","v":""},null,{"$f":"IF(Pivot!J390=\"\",\"\",Pivot!J390)","v":""},{"$f":"IF(Pivot!I390=\"\",\"\",Pivot!I390)","v":""},null,null,null,null,null,null,"","",{"$error":"#VALUE!"},null,"","",""]
[{"$f":"IF(Pivot!G391=\"\",\"\",Pivot!G391)","v":""},null,{"$f":"IF(Pivot!H391=\"\",\"\",Pivot!H391)","v":""},null,{"$f":"IF(Pivot!J391=\"\",\"\",Pivot!J391)","v":""},{"$f":"IF(Pivot!I391=\"\",\"\",Pivot!I391)","v":""},null,null,null,null,null,null,"","",{"$error":"#VALUE!"},null,"","",""]
[{"$f":"IF(Pivot!G392=\"\",\"\",Pivot!G392)","v":""},null,{"$f":"IF(Pivot!H392=\"\",\"\",Pivot!H392)","v":""},null,{"$f":"IF(Pivot!J392=\"\",\"\",Pivot!J392)","v":""},{"$f":"IF(Pivot!I392=\"\",\"\",Pivot!I392)","v":""},null,null,null,null,null,null,"","",{"$error":"#VALUE!"},null,"","",""]
[{"$f":"IF(Pivot!G393=\"\",\"\",Pivot!G393)","v":""},null,{"$f":"IF(Pivot!H393=\"\",\"\",Pivot!H393)","v":""},null,{"$f":"IF(Pivot!J393=\"\",\"\",Pivot!J393)","v":""},{"$f":"IF(Pivot!I393=\"\",\"\",Pivot!I393)","v":""},null,null,null,null,null,null,"","",{"$error":"#VALUE!"},null,"","",""]
[{"$f":"IF(Pivot!G394=\"\",\"\",Pivot!G394)","v":""},null,{"$f":"IF(Pivot!H394=\"\",\"\",Pivot!H394)","v":""},null,{"$f":"IF(Pivot!J394=\"\",\"\",Pivot!J394)","v":""},{"$f":"IF(Pivot!I394=\"\",\"\",Pivot!I394)","v":""},null,null,null,null,null,null,"","",{"$error":"#VALUE!"},null,"","",""]
[{"$f":"IF(Pivot!G395=\"\",\"\",Pivot!G395)","v":""},null,{"$f":"IF(Pivot!H395=\"\",\"\",Pivot!H395)","v":""},null,{"$f":"IF(Pivot!J395=\"\",\"\",Pivot!J395)","v":""},{"$f":"IF(Pivot!I395=\"\",\"\",Pivot!I395)","v":""},null,null,null,null,null,null,"","",{"$error":"#VALUE!"},null,"","",""]
[{"$f":"IF(Pivot!G396=\"\",\"\",Pivot!G396)","v":""},null,{"$f":"IF(Pivot!H396=\"\",\"\",Pivot!H396)","v":""},null,{"$f":"IF(Pivot!J396=\"\",\"\",Pivot!J396)","v":""},{"$f":"IF(Pivot!I396=\"\",\"\",Pivot!I396)","v":""},null,null,null,null,null,null,"","",{"$error":"#VALUE!"},null,"","",""]
[{"$f":"IF(Pivot!G397=\"\",\"\",Pivot!G397)","v":""},null,{"$f":"IF(Pivot!H397=\"\",\"\",Pivot!H397)","v":""},null,{"$f":"IF(Pivot!J397=\"\",\"\",Pivot!J397)","v":""},{"$f":"IF(Pivot!I397=\"\",\"\",Pivot!I397)","v":""},null,null,null,null,null,null,"","",{"$error":"#VALUE!"},null,"","",""]
[{"$f":"IF(Pivot!G398=\"\",\"\",Pivot!G398)","v":""},null,{"$f":"IF(Pivot!H398=\"\",\"\",Pivot!H398)","v":""},null,{"$f":"IF(Pivot!J398=\"\",\"\",Pivot!J398)","v":""},{"$f":"IF(Pivot!I398=\"\",\"\",Pivot!I398)","v":""},null,null,null,null,null,null,"","",{"$error":"#VALUE!"},null,"","",""]
[{"$f":"IF(Pivot!G399=\"\",\"\",Pivot!G399)","v":""},null,{"$f":"IF(Pivot!H399=\"\",\"\",Pivot!H399)","v":""},null,{"$f":"IF(Pivot!J399=\"\",\"\",Pivot!J399)","v":""},{"$f":"IF(Pivot!I399=\"\",\"\",Pivot!I399)","v":""},null,null,null,null,null,null,"","",{"$error":"#VALUE!"},null,"","",""]
[{"$f":"IF(Pivot!G400=\"\",\"\",Pivot!G400)","v":""},null,{"$f":"IF(Pivot!H400=\"\",\"\",Pivot!H400)","v":""},null,{"$f":"IF(Pivot!J400=\"\",\"\",Pivot!J400)","v":""},{"$f":"IF(Pivot!I400=\"\",\"\",Pivot!I400)","v":""},null,null,null,null,null,null,"","",{"$error":"#VALUE!"},null,"","",""]
[{"$f":"IF(Pivot!G401=\"\",\"\",Pivot!G401)","v":""},null,{"$f":"IF(Pivot!H401=\"\",\"\",Pivot!H401)","v":""},null,{"$f":"IF(Pivot!J401=\"\",\"\",Pivot!J401)","v":""},{"$f":"IF(Pivot!I401=\"\",\"\",Pivot!I401)","v":""},null,null,null,null,null,null,"","",{"$error":"#VALUE!"},null,"","",""]
[{"$f":"IF(Pivot!G402=\"\",\"\",Pivot!G402)","v":""},null,{"$f":"IF(Pivot!H402=\"\",\"\",Pivot!H402)","v":""},null,{"$f":"IF(Pivot!J402=\"\",\"\",Pivot!J402)","v":""},{"$f":"IF(Pivot!I402=\"\",\"\",Pivot!I402)","v":""},null,null,null,null,null,null,"","",{"$error":"#VALUE!"},null,"","",""]
[{"$f":"IF(Pivot!G403=\"\",\"\",Pivot!G403)","v":""},null,{"$f":"IF(Pivot!H403=\"\",\"\",Pivot!H403)","v":""},null,{"$f":"IF(Pivot!J403=\"\",\"\",Pivot!J403)","v":""},{"$f":"IF(Pivot!I403=\"\",\"\",Pivot!I403)","v":""},null,null,null,null,null,null,"","",{"$error":"#VALUE!"},null,"","",""]
[{"$f":"IF(Pivot!G404=\"\",\"\",Pivot!G404)","v":""},null,{"$f":"IF(Pivot!H404=\"\",\"\",Pivot!H404)","v":""},null,{"$f":"IF(Pivot!J404=\"\",\"\",Pivot!J404)","v":""},{"$f":"IF(Pivot!I404=\"\",\"\",Pivot!I404)","v":""},null,null,null,null,null,null,"","",{"$error":"#VALUE!"},null,"","",""]
[{"$f":"IF(Pivot!G405=\"\",\"\",Pivot!G405)","v":""},null,{"$f":"IF(Pivot!H405=\"\",\"\",Pivot!H405)","v":""},null,{"$f":"IF(Pivot!J405=\"\",\"\",Pivot!J405)","v":""},{"$f":"IF(Pivot!I405=\"\",\"\",Pivot!I405)","v":""},null,null,null,null,null,null,"","",{"$error":"#VALUE!"},null,"","",""]
[{"$f":"IF(Pivot!G406=\"\",\"\",Pivot!G406)","v":""},null,{"$f":"IF(Pivot!H406=\"\",\"\",Pivot!H406)","v":""},null,{"$f":"IF(Pivot!J406=\"\",\"\",Pivot!J406)","v":""},{"$f":"IF(Pivot!I406=\"\",\"\",Pivot!I406)","v":""},null,null,null,null,null,null,"","",{"$error":"#VALUE!"},null,"","",""]
[{"$f":"IF(Pivot!G407=\"\",\"\",Pivot!G407)","v":""},null,{"$f":"IF(Pivot!H407=\"\",\"\",Pivot!H407)","v":""},null,{"$f":"IF(Pivot!J407=\"\",\"\",Pivot!J407)","v":""},{"$f":"IF(Pivot!I407=\"\",\"\",Pivot!I407)","v":""},null,null,null,null,null,null,"","",{"$error":"#VALUE!"},null,"","",""]
[{"$f":"IF(Pivot!G408=\"\",\"\",Pivot!G408)","v":""},null,{"$f":"IF(Pivot!H408=\"\",\"\",Pivot!H408)","v":""},null,{"$f":"IF(Pivot!J408=\"\",\"\",Pivot!J408)","v":""},{"$f":"IF(Pivot!I408=\"\",\"\",Pivot!I408)","v":""},null,null,null,null,null,null,"","",{"$error":"#VALUE!"},null,"","",""]
[{"$f":"IF(Pivot!G409=\"\",\"\",Pivot!G409)","v":""},null,{"$f":"IF(Pivot!H409=\"\",\"\",Pivot!H409)","v":""},null,{"$f":"IF(Pivot!J409=\"\",\"\",Pivot!J409)","v":""},{"$f":"IF(Pivot!I409=\"\",\"\",Pivot!I409)","v":""},null,null,null,null,null,null,"","",{"$error":"#VALUE!"},null,"","",""]
[{"$f":"IF(Pivot!G410=\"\",\"\",Pivot!G410)","v":""},null,{"$f":"IF(Pivot!H410=\"\",\"\",Pivot!H410)","v":""},null,{"$f":"IF(Pivot!J410=\"\",\"\",Pivot!J410)","v":""},{"$f":"IF(Pivot!I410=\"\",\"\",Pivot!I410)","v":""},null,null,null,null,null,null,"","",{"$error":"#VALUE!"},null,"","",""]
[{"$f":"IF(Pivot!G411=\"\",\"\",Pivot!G411)","v":""},null,{"$f":"IF(Pivot!H411=\"\",\"\",Pivot!H411)","v":""},null,{"$f":"IF(Pivot!J411=\"\",\"\",Pivot!J411)","v":""},{"$f":"IF(Pivot!I411=\"\",\"\",Pivot!I411)","v":""},null,null,null,null,null,null,"","",{"$error":"#VALUE!"},null,"","",""]
[{"$f":"IF(Pivot!G412=\"\",\"\",Pivot!G412)","v":""},null,{"$f":"IF(Pivot!H412=\"\",\"\",Pivot!H412)","v":""},null,{"$f":"IF(Pivot!J412=\"\",\"\",Pivot!J412)","v":""},{"$f":"IF(Pivot!I412=\"\",\"\",Pivot!I412)","v":""},null,null,null,null,null,null,"","",{"$error":"#VALUE!"},null,"","",""]
[{"$f":"IF(Pivot!G413=\"\",\"\",Pivot!G413)","v":""},null,{"$f":"IF(Pivot!H413=\"\",\"\",Pivot!H413)","v":""},null,{"$f":"IF(Pivot!J413=\"\",\"\",Pivot!J413)","v":""},{"$f":"IF(Pivot!I413=\"\",\"\",Pivot!I413)","v":""},null,null,null,null,null,null,"","",{"$error":"#VALUE!"},null,"","",""]
[{"$f":"IF(Pivot!G414=\"\",\"\",Pivot!G414)","v":""},null,{"$f":"IF(Pivot!H414=\"\",\"\",Pivot!H414)","v":""},null,{"$f":"IF(Pivot!J414=\"\",\"\",Pivot!J414)","v":""},{"$f":"IF(Pivot!I414=\"\",\"\",Pivot!I414)","v":""},null,null,null,null,null,null,"","",{"$error":"#VALUE!"},null,"","",""]
[{"$f":"IF(Pivot!G415=\"\",\"\",Pivot!G415)","v":""},null,{"$f":"IF(Pivot!H415=\"\",\"\",Pivot!H415)","v":""},null,{"$f":"IF(Pivot!J415=\"\",\"\",Pivot!J415)","v":""},{"$f":"IF(Pivot!I415=\"\",\"\",Pivot!I415)","v":""},null,null,null,null,null,null,"","",{"$error":"#VALUE!"},null,"","",""]
[{"$f":"IF(Pivot!G416=\"\",\"\",Pivot!G416)","v":""},null,{"$f":"IF(Pivot!H416=\"\",\"\",Pivot!H416)","v":""},null,{"$f":"IF(Pivot!J416=\"\",\"\",Pivot!J416)","v":""},{"$f":"IF(Pivot!I416=\"\",\"\",Pivot!I416)","v":""},null,null,null,null,null,null,"","",{"$error":"#VALUE!"},null,"","",""]
[{"$f":"IF(Pivot!G417=\"\",\"\",Pivot!G417)","v":""},null,{"$f":"IF(Pivot!H417=\"\",\"\",Pivot!H417)","v":""},null,{"$f":"IF(Pivot!J417=\"\",\"\",Pivot!J417)","v":""},{"$f":"IF(Pivot!I417=\"\",\"\",Pivot!I417)","v":""},null,null,null,null,null,null,"","",{"$error":"#VALUE!"},null,"","",""]
[{"$f":"IF(Pivot!G418=\"\",\"\",Pivot!G418)","v":""},null,{"$f":"IF(Pivot!H418=\"\",\"\",Pivot!H418)","v":""},null,{"$f":"IF(Pivot!J418=\"\",\"\",Pivot!J418)","v":""},{"$f":"IF(Pivot!I418=\"\",\"\",Pivot!I418)","v":""},null,null,null,null,null,null,"","",{"$error":"#VALUE!"},null,"","",""]
[{"$f":"IF(Pivot!G419=\"\",\"\",Pivot!G419)","v":""},null,{"$f":"IF(Pivot!H419=\"\",\"\",Pivot!H419)","v":""},null,{"$f":"IF(Pivot!J419=\"\",\"\",Pivot!J419)","v":""},{"$f":"IF(Pivot!I419=\"\",\"\",Pivot!I419)","v":""},null,null,null,null,null,null,"","",{"$error":"#VALUE!"},null,"","",""]
[{"$f":"IF(Pivot!G420=\"\",\"\",Pivot!G420)","v":""},null,{"$f":"IF(Pivot!H420=\"\",\"\",Pivot!H420)","v":""},null,{"$f":"IF(Pivot!J420=\"\",\"\",Pivot!J420)","v":""},{"$f":"IF(Pivot!I420=\"\",\"\",Pivot!I420)","v":""},null,null,null,null,null,null,"","",{"$error":"#VALUE!"},null,"","",""]
[{"$f":"IF(Pivot!G421=\"\",\"\",Pivot!G421)","v":""},null,{"$f":"IF(Pivot!H421=\"\",\"\",Pivot!H421)","v":""},null,{"$f":"IF(Pivot!J421=\"\",\"\",Pivot!J421)","v":""},{"$f":"IF(Pivot!I421=\"\",\"\",Pivot!I421)","v":""},null,null,null,null,null,null,"","",{"$error":"#VALUE!"},null,"","",""]
[{"$f":"IF(Pivot!G422=\"\",\"\",Pivot!G422)","v":""},null,{"$f":"IF(Pivot!H422=\"\",\"\",Pivot!H422)","v":""},null,{"$f":"IF(Pivot!J422=\"\",\"\",Pivot!J422)","v":""},{"$f":"IF(Pivot!I422=\"\",\"\",Pivot!I422)","v":""},null,null,null,null,null,null,"","",{"$error":"#VALUE!"},null,"","",""]
[{"$f":"IF(Pivot!G423=\"\",\"\",Pivot!G423)","v":""},null,{"$f":"IF(Pivot!H423=\"\",\"\",Pivot!H423)","v":""},null,{"$f":"IF(Pivot!J423=\"\",\"\",Pivot!J423)","v":""},{"$f":"IF(Pivot!I423=\"\",\"\",Pivot!I423)","v":""},null,null,null,null,null,null,"","",{"$error":"#VALUE!"},null,"","",""]
[{"$f":"IF(Pivot!G424=\"\",\"\",Pivot!G424)","v":""},null,{"$f":"IF(Pivot!H424=\"\",\"\",Pivot!H424)","v":""},null,{"$f":"IF(Pivot!J424=\"\",\"\",Pivot!J424)","v":""},{"$f":"IF(Pivot!I424=\"\",\"\",Pivot!I424)","v":""},null,null,null,null,null,null,"","",{"$error":"#VALUE!"},null,"","",""]
[{"$f":"IF(Pivot!G425=\"\",\"\",Pivot!G425)","v":""},null,{"$f":"IF(Pivot!H425=\"\",\"\",Pivot!H425)","v":""},null,{"$f":"IF(Pivot!J425=\"\",\"\",Pivot!J425)","v":""},{"$f":"IF(Pivot!I425=\"\",\"\",Pivot!I425)","v":""},null,null,null,null,null,null,"","",{"$error":"#VALUE!"},null,"","",""]
[{"$f":"IF(Pivot!G426=\"\",\"\",Pivot!G426)","v":""},null,{"$f":"IF(Pivot!H426=\"\",\"\",Pivot!H426)","v":""},null,{"$f":"IF(Pivot!J426=\"\",\"\",Pivot!J426)","v":""},{"$f":"IF(Pivot!I426=\"\",\"\",Pivot!I426)","v":""},null,null,null,null,null,null,"","",{"$error":"#VALUE!"},null,"","",""]
[{"$f":"IF(Pivot!G427=\"\",\"\",Pivot!G427)","v":""},null,{"$f":"IF(Pivot!H427=\"\",\"\",Pivot!H427)","v":""},null,{"$f":"IF(Pivot!J427=\"\",\"\",Pivot!J427)","v":""},{"$f":"IF(Pivot!I427=\"\",\"\",Pivot!I427)","v":""},null,null,null,null,null,null,"","",{"$error":"#VALUE!"},null,"","",""]
[{"$f":"IF(Pivot!G428=\"\",\"\",Pivot!G428)","v":""},null,{"$f":"IF(Pivot!H428=\"\",\"\",Pivot!H428)","v":""},null,{"$f":"IF(Pivot!J428=\"\",\"\",Pivot!J428)","v":""},{"$f":"IF(Pivot!I428=\"\",\"\",Pivot!I428)","v":""},null,null,null,null,null,null,"","",{"$error":"#VALUE!"},null,"","",""]
[{"$f":"IF(Pivot!G429=\"\",\"\",Pivot!G429)","v":""},null,{"$f":"IF(Pivot!H429=\"\",\"\",Pivot!H429)","v":""},null,{"$f":"IF(Pivot!J429=\"\",\"\",Pivot!J429)","v":""},{"$f":"IF(Pivot!I429=\"\",\"\",Pivot!I429)","v":""},null,null,null,null,null,null,"","",{"$error":"#VALUE!"},null,"","",""]
[{"$f":"IF(Pivot!G430=\"\",\"\",Pivot!G430)","v":""},null,{"$f":"IF(Pivot!H430=\"\",\"\",Pivot!H430)","v":""},null,{"$f":"IF(Pivot!J430=\"\",\"\",Pivot!J430)","v":""},{"$f":"IF(Pivot!I430=\"\",\"\",Pivot!I430)","v":""},null,null,null,null,null,null,"","",{"$error":"#VALUE!"},null,"","",""]
[{"$f":"IF(Pivot!G431=\"\",\"\",Pivot!G431)","v":""},null,{"$f":"IF(Pivot!H431=\"\",\"\",Pivot!H431)","v":""},null,{"$f":"IF(Pivot!J431=\"\",\"\",Pivot!J431)","v":""},{"$f":"IF(Pivot!I431=\"\",\"\",Pivot!I431)","v":""},null,null,null,null,null,null,"","",{"$error":"#VALUE!"},null,"","",""]
[{"$f":"IF(Pivot!G432=\"\",\"\",Pivot!G432)","v":""},null,{"$f":"IF(Pivot!H432=\"\",\"\",Pivot!H432)","v":""},null,{"$f":"IF(Pivot!J432=\"\",\"\",Pivot!J432)","v":""},{"$f":"IF(Pivot!I432=\"\",\"\",Pivot!I432)","v":""},null,null,null,null,null,null,"","",{"$error":"#VALUE!"},null,"","",""]
[{"$f":"IF(Pivot!G433=\"\",\"\",Pivot!G433)","v":""},null,{"$f":"IF(Pivot!H433=\"\",\"\",Pivot!H433)","v":""},null,{"$f":"IF(Pivot!J433=\"\",\"\",Pivot!J433)","v":""},{"$f":"IF(Pivot!I433=\"\",\"\",Pivot!I433)","v":""},null,null,null,null,null,null,"","",{"$error":"#VALUE!"},null,"","",""]
[{"$f":"IF(Pivot!G434=\"\",\"\",Pivot!G434)","v":""},null,{"$f":"IF(Pivot!H434=\"\",\"\",Pivot!H434)","v":""},null,{"$f":"IF(Pivot!J434=\"\",\"\",Pivot!J434)","v":""},{"$f":"IF(Pivot!I434=\"\",\"\",Pivot!I434)","v":""},null,null,null,null,null,null,"","",{"$error":"#VALUE!"},null,"","",""]
[{"$f":"IF(Pivot!G435=\"\",\"\",Pivot!G435)","v":""},null,{"$f":"IF(Pivot!H435=\"\",\"\",Pivot!H435)","v":""},null,{"$f":"IF(Pivot!J435=\"\",\"\",Pivot!J435)","v":""},{"$f":"IF(Pivot!I435=\"\",\"\",Pivot!I435)","v":""},null,null,null,null,null,null,"","",{"$error":"#VALUE!"},null,"","",""]
[{"$f":"IF(Pivot!G436=\"\",\"\",Pivot!G436)","v":""},null,{"$f":"IF(Pivot!H436=\"\",\"\",Pivot!H436)","v":""},null,{"$f":"IF(Pivot!J436=\"\",\"\",Pivot!J436)","v":""},{"$f":"IF(Pivot!I436=\"\",\"\",Pivot!I436)","v":""},null,null,null,null,null,null,"","",{"$error":"#VALUE!"},null,"","",""]
[{"$f":"IF(Pivot!G437=\"\",\"\",Pivot!G437)","v":""},null,{"$f":"IF(Pivot!H437=\"\",\"\",Pivot!H437)","v":""},null,{"$f":"IF(Pivot!J437=\"\",\"\",Pivot!J437)","v":""},{"$f":"IF(Pivot!I437=\"\",\"\",Pivot!I437)","v":""},null,null,null,null,null,null,"","",{"$error":"#VALUE!"},null,"","",""]
[{"$f":"IF(Pivot!G438=\"\",\"\",Pivot!G438)","v":""},null,{"$f":"IF(Pivot!H438=\"\",\"\",Pivot!H438)","v":""},null,{"$f":"IF(Pivot!J438=\"\",\"\",Pivot!J438)","v":""},{"$f":"IF(Pivot!I438=\"\",\"\",Pivot!I438)","v":""},null,null,null,null,null,null,"","",{"$error":"#VALUE!"},null,"","",""]
[{"$f":"IF(Pivot!G439=\"\",\"\",Pivot!G439)","v":""},null,{"$f":"IF(Pivot!H439=\"\",\"\",Pivot!H439)","v":""},null,{"$f":"IF(Pivot!J439=\"\",\"\",Pivot!J439)","v":""},{"$f":"IF(Pivot!I439=\"\",\"\",Pivot!I439)","v":""},null,null,null,null,null,null,"","",{"$error":"#VALUE!"},null,"","",""]
[{"$f":"IF(Pivot!G440=\"\",\"\",Pivot!G440)","v":""},null,{"$f":"IF(Pivot!H440=\"\",\"\",Pivot!H440)","v":""},null,{"$f":"IF(Pivot!J440=\"\",\"\",Pivot!J440)","v":""},{"$f":"IF(Pivot!I440=\"\",\"\",Pivot!I440)","v":""},null,null,null,null,null,null,"","",{"$error":"#VALUE!"},null,"","",""]
[{"$f":"IF(Pivot!G441=\"\",\"\",Pivot!G441)","v":""},null,{"$f":"IF(Pivot!H441=\"\",\"\",Pivot!H441)","v":""},null,{"$f":"IF(Pivot!J441=\"\",\"\",Pivot!J441)","v":""},{"$f":"IF(Pivot!I441=\"\",\"\",Pivot!I441)","v":""},null,null,null,null,null,null,"","",{"$error":"#VALUE!"},null,"","",""]
[{"$f":"IF(Pivot!G442=\"\",\"\",Pivot!G442)","v":""},null,{"$f":"IF(Pivot!H442=\"\",\"\",Pivot!H442)","v":""},null,{"$f":"IF(Pivot!J442=\"\",\"\",Pivot!J442)","v":""},{"$f":"IF(Pivot!I442=\"\",\"\",Pivot!I442)","v":""},null,null,null,null,null,null,"","",{"$error":"#VALUE!"},null,"","",""]
[{"$f":"IF(Pivot!G443=\"\",\"\",Pivot!G443)","v":""},null,{"$f":"IF(Pivot!H443=\"\",\"\",Pivot!H443)","v":""},null,{"$f":"IF(Pivot!J443=\"\",\"\",Pivot!J443)","v":""},{"$f":"IF(Pivot!I443=\"\",\"\",Pivot!I443)","v":""},null,null,null,null,null,null,"","",{"$error":"#VALUE!"},null,"","",""]
[{"$f":"IF(Pivot!G444=\"\",\"\",Pivot!G444)","v":""},null,{"$f":"IF(Pivot!H444=\"\",\"\",Pivot!H444)","v":""},null,{"$f":"IF(Pivot!J444=\"\",\"\",Pivot!J444)","v":""},{"$f":"IF(Pivot!I444=\"\",\"\",Pivot!I444)","v":""},null,null,null,null,null,null,"","",{"$error":"#VALUE!"},null,"","",""]
[{"$f":"IF(Pivot!G445=\"\",\"\",Pivot!G445)","v":""},null,{"$f":"IF(Pivot!H445=\"\",\"\",Pivot!H445)","v":""},null,{"$f":"IF(Pivot!J445=\"\",\"\",Pivot!J445)","v":""},{"$f":"IF(Pivot!I445=\"\",\"\",Pivot!I445)","v":""},null,null,null,null,null,null,"","",{"$error":"#VALUE!"},null,"","",""]
[{"$f":"IF(Pivot!G446=\"\",\"\",Pivot!G446)","v":""},null,{"$f":"IF(Pivot!H446=\"\",\"\",Pivot!H446)","v":""},null,{"$f":"IF(Pivot!J446=\"\",\"\",Pivot!J446)","v":""},{"$f":"IF(Pivot!I446=\"\",\"\",Pivot!I446)","v":""},null,null,null,null,null,null,"","",{"$error":"#VALUE!"},null,"","",""]
[{"$f":"IF(Pivot!G447=\"\",\"\",Pivot!G447)","v":""},null,{"$f":"IF(Pivot!H447=\"\",\"\",Pivot!H447)","v":""},null,{"$f":"IF(Pivot!J447=\"\",\"\",Pivot!J447)","v":""},{"$f":"IF(Pivot!I447=\"\",\"\",Pivot!I447)","v":""},null,null,null,null,null,null,"","",{"$error":"#VALUE!"},null,"","",""]
[{"$f":"IF(Pivot!G448=\"\",\"\",Pivot!G448)","v":""},null,{"$f":"IF(Pivot!H448=\"\",\"\",Pivot!H448)","v":""},null,{"$f":"IF(Pivot!J448=\"\",\"\",Pivot!J448)","v":""},{"$f":"IF(Pivot!I448=\"\",\"\",Pivot!I448)","v":""},null,null,null,null,null,null,"","",{"$error":"#VALUE!"},null,"","",""]
[{"$f":"IF(Pivot!G449=\"\",\"\",Pivot!G449)","v":""},null,{"$f":"IF(Pivot!H449=\"\",\"\",Pivot!H449)","v":""},null,{"$f":"IF(Pivot!J449=\"\",\"\",Pivot!J449)","v":""},{"$f":"IF(Pivot!I449=\"\",\"\",Pivot!I449)","v":""},null,null,null,null,null,null,"","",{"$error":"#VALUE!"},null,"","",""]
[{"$f":"IF(Pivot!G450=\"\",\"\",Pivot!G450)","v":""},null,{"$f":"IF(Pivot!H450=\"\",\"\",Pivot!H450)","v":""},null,{"$f":"IF(Pivot!J450=\"\",\"\",Pivot!J450)","v":""},{"$f":"IF(Pivot!I450=\"\",\"\",Pivot!I450)","v":""},null,null,null,null,null,null,"","",{"$error":"#VALUE!"},null,"","",""]
[{"$f":"IF(Pivot!G451=\"\",\"\",Pivot!G451)","v":""},null,{"$f":"IF(Pivot!H451=\"\",\"\",Pivot!H451)","v":""},null,{"$f":"IF(Pivot!J451=\"\",\"\",Pivot!J451)","v":""},{"$f":"IF(Pivot!I451=\"\",\"\",Pivot!I451)","v":""},null,null,null,null,null,null,"","",{"$error":"#VALUE!"},null,"","",""]
[{"$f":"IF(Pivot!G452=\"\",\"\",Pivot!G452)","v":""},null,{"$f":"IF(Pivot!H452=\"\",\"\",Pivot!H452)","v":""},null,{"$f":"IF(Pivot!J452=\"\",\"\",Pivot!J452)","v":""},{"$f":"IF(Pivot!I452=\"\",\"\",Pivot!I452)","v":""},null,null,null,null,null,null,"","",{"$f":"N455/M455","v":{"$error":"#VALUE!"}},null,"","",""]
[{"$f":"IF(Pivot!G453=\"\",\"\",Pivot!G453)","v":""},null,{"$f":"IF(Pivot!H453=\"\",\"\",Pivot!H453)","v":""},null,{"$f":"IF(Pivot!J453=\"\",\"\",Pivot!J453)","v":""},{"$f":"IF(Pivot!I453=\"\",\"\",Pivot!I453)","v":""},null,null,null,null,null,null,{"$f":"IF(C456=\"\",\"\",C456*L456)","v":""},{"$f":"IF(F456=\"\",\"\",M456-F456)","v":""},{"$error":"#VALUE!"},null,{"$f":"IF(C456=\"\",\"\",C456*P456)","v":""},{"$f":"IF(F456=\"\",\"\",Q456-F456)","v":""},{"$f":"IF(F456=\"\",\"\",R456/F456)","v":""}]
[{"$f":"IF(Pivot!G454=\"\",\"\",Pivot!G454)","v":""},null,{"$f":"IF(Pivot!H454=\"\",\"\",Pivot!H454)","v":""},null,{"$f":"IF(Pivot!J454=\"\",\"\",Pivot!J454)","v":""},{"$f":"IF(Pivot!I454=\"\",\"\",Pivot!I454)","v":""},null,null,null,null,null,null,"","",{"$error":"#VALUE!"},null,"","",""]
[{"$f":"IF(Pivot!G455=\"\",\"\",Pivot!G455)","v":""},null,{"$f":"IF(Pivot!H455=\"\",\"\",Pivot!H455)","v":""},null,{"$f":"IF(Pivot!J455=\"\",\"\",Pivot!J455)","v":""},{"$f":"IF(Pivot!I455=\"\",\"\",Pivot!I455)","v":""},null,null,null,null,null,null,"","",{"$error":"#VALUE!"},null,"","",""]
[{"$f":"IF(Pivot!G456=\"\",\"\",Pivot!G456)","v":""},null,{"$f":"IF(Pivot!H456=\"\",\"\",Pivot!H456)","v":""},null,{"$f":"IF(Pivot!J456=\"\",\"\",Pivot!J456)","v":""},{"$f":"IF(Pivot!I456=\"\",\"\",Pivot!I456)","v":""},null,null,null,null,null,null,"","",{"$error":"#VALUE!"},null,"","",""]
[{"$f":"IF(Pivot!G457=\"\",\"\",Pivot!G457)","v":""},null,{"$f":"IF(Pivot!H457=\"\",\"\",Pivot!H457)","v":""},null,{"$f":"IF(Pivot!J457=\"\",\"\",Pivot!J457)","v":""},{"$f":"IF(Pivot!I457=\"\",\"\",Pivot!I457)","v":""},null,null,null,null,null,null,"","",{"$error":"#VALUE!"},null,"","",""]
[{"$f":"IF(Pivot!G458=\"\",\"\",Pivot!G458)","v":""},null,{"$f":"IF(Pivot!H458=\"\",\"\",Pivot!H458)","v":""},null,{"$f":"IF(Pivot!J458=\"\",\"\",Pivot!J458)","v":""},{"$f":"IF(Pivot!I458=\"\",\"\",Pivot!I458)","v":""},null,null,null,null,null,null,"","",{"$error":"#VALUE!"},null,"","",""]
[{"$f":"IF(Pivot!G459=\"\",\"\",Pivot!G459)","v":""},null,{"$f":"IF(Pivot!H459=\"\",\"\",Pivot!H459)","v":""},null,{"$f":"IF(Pivot!J459=\"\",\"\",Pivot!J459)","v":""},{"$f":"IF(Pivot!I459=\"\",\"\",Pivot!I459)","v":""},null,null,null,null,null,null,"","",{"$error":"#VALUE!"},null,"","",""]
[{"$f":"IF(Pivot!G460=\"\",\"\",Pivot!G460)","v":""},null,{"$f":"IF(Pivot!H460=\"\",\"\",Pivot!H460)","v":""},null,{"$f":"IF(Pivot!J460=\"\",\"\",Pivot!J460)","v":""},{"$f":"IF(Pivot!I460=\"\",\"\",Pivot!I460)","v":""},null,null,null,null,null,null,"","",{"$error":"#VALUE!"},null,"","",""]
[{"$f":"IF(Pivot!G461=\"\",\"\",Pivot!G461)","v":""},null,{"$f":"IF(Pivot!H461=\"\",\"\",Pivot!H461)","v":""},null,{"$f":"IF(Pivot!J461=\"\",\"\",Pivot!J461)","v":""},{"$f":"IF(Pivot!I461=\"\",\"\",Pivot!I461)","v":""},null,null,null,null,null,null,"","",{"$error":"#VALUE!"},null,"","",""]
[{"$f":"IF(Pivot!G462=\"\",\"\",Pivot!G462)","v":""},null,{"$f":"IF(Pivot!H462=\"\",\"\",Pivot!H462)","v":""},null,{"$f":"IF(Pivot!J462=\"\",\"\",Pivot!J462)","v":""},{"$f":"IF(Pivot!I462=\"\",\"\",Pivot!I462)","v":""},null,null,null,null,null,null,"","",{"$error":"#VALUE!"},null,"","",""]
[{"$f":"IF(Pivot!G463=\"\",\"\",Pivot!G463)","v":""},null,{"$f":"IF(Pivot!H463=\"\",\"\",Pivot!H463)","v":""},null,{"$f":"IF(Pivot!J463=\"\",\"\",Pivot!J463)","v":""},{"$f":"IF(Pivot!I463=\"\",\"\",Pivot!I463)","v":""},null,null,null,null,null,null,"","",{"$error":"#VALUE!"},null,"","",""]
[{"$f":"IF(Pivot!G464=\"\",\"\",Pivot!G464)","v":""},null,{"$f":"IF(Pivot!H464=\"\",\"\",Pivot!H464)","v":""},null,{"$f":"IF(Pivot!J464=\"\",\"\",Pivot!J464)","v":""},{"$f":"IF(Pivot!I464=\"\",\"\",Pivot!I464)","v":""},null,null,null,null,null,null,"","",{"$error":"#VALUE!"},null,"","",""]
[{"$f":"IF(Pivot!G465=\"\",\"\",Pivot!G465)","v":""},null,{"$f":"IF(Pivot!H465=\"\",\"\",Pivot!H465)","v":""},null,{"$f":"IF(Pivot!J465=\"\",\"\",Pivot!J465)","v":""},{"$f":"IF(Pivot!I465=\"\",\"\",Pivot!I465)","v":""},null,null,null,null,null,null,"","",{"$error":"#VALUE!"},null,"","",""]
[{"$f":"IF(Pivot!G466=\"\",\"\",Pivot!G466)","v":""},null,{"$f":"IF(Pivot!H466=\"\",\"\",Pivot!H466)","v":""},null,{"$f":"IF(Pivot!J466=\"\",\"\",Pivot!J466)","v":""},{"$f":"IF(Pivot!I466=\"\",\"\",Pivot!I466)","v":""},null,null,null,null,null,null,"","",{"$error":"#VALUE!"},null,"","",""]
[{"$f":"IF(Pivot!G467=\"\",\"\",Pivot!G467)","v":""},null,{"$f":"IF(Pivot!H467=\"\",\"\",Pivot!H467)","v":""},null,{"$f":"IF(Pivot!J467=\"\",\"\",Pivot!J467)","v":""},{"$f":"IF(Pivot!I467=\"\",\"\",Pivot!I467)","v":""},null,null,null,null,null,null,"","",{"$error":"#VALUE!"},null,"","",""]
[{"$f":"IF(Pivot!G468=\"\",\"\",Pivot!G468)","v":""},null,{"$f":"IF(Pivot!H468=\"\",\"\",Pivot!H468)","v":""},null,{"$f":"IF(Pivot!J468=\"\",\"\",Pivot!J468)","v":""},{"$f":"IF(Pivot!I468=\"\",\"\",Pivot!I468)","v":""},null,null,null,null,null,null,"","",{"$error":"#VALUE!"},null,"","",""]
[{"$f":"IF(Pivot!G469=\"\",\"\",Pivot!G469)","v":""},null,{"$f":"IF(Pivot!H469=\"\",\"\",Pivot!H469)","v":""},null,{"$f":"IF(Pivot!J469=\"\",\"\",Pivot!J469)","v":""},{"$f":"IF(Pivot!I469=\"\",\"\",Pivot!I469)","v":""},null,null,null,null,null,null,"","",{"$error":"#VALUE!"},null,"","",""]
[{"$f":"IF(Pivot!G470=\"\",\"\",Pivot!G470)","v":""},null,{"$f":"IF(Pivot!H470=\"\",\"\",Pivot!H470)","v":""},null,{"$f":"IF(Pivot!J470=\"\",\"\",Pivot!J470)","v":""},{"$f":"IF(Pivot!I470=\"\",\"\",Pivot!I470)","v":""},null,null,null,null,null,null,"","",{"$error":"#VALUE!"},null,"","",""]
[{"$f":"IF(Pivot!G471=\"\",\"\",Pivot!G471)","v":""},null,{"$f":"IF(Pivot!H471=\"\",\"\",Pivot!H471)","v":""},null,{"$f":"IF(Pivot!J471=\"\",\"\",Pivot!J471)","v":""},{"$f":"IF(Pivot!I471=\"\",\"\",Pivot!I471)","v":""},null,null,null,null,null,null,"","",{"$error":"#VALUE!"},null,"","",""]
[{"$f":"IF(Pivot!G472=\"\",\"\",Pivot!G472)","v":""},null,{"$f":"IF(Pivot!H472=\"\",\"\",Pivot!H472)","v":""},null,{"$f":"IF(Pivot!J472=\"\",\"\",Pivot!J472)","v":""},{"$f":"IF(Pivot!I472=\"\",\"\",Pivot!I472)","v":""},null,null,null,null,null,null,"","",{"$error":"#VALUE!"},null,"","",""]
[{"$f":"IF(Pivot!G473=\"\",\"\",Pivot!G473)","v":""},null,{"$f":"IF(Pivot!H473=\"\",\"\",Pivot!H473)","v":""},null,{"$f":"IF(Pivot!J473=\"\",\"\",Pivot!J473)","v":""},{"$f":"IF(Pivot!I473=\"\",\"\",Pivot!I473)","v":""},null,null,null,null,null,null,"","",{"$error":"#VALUE!"},null,"","",""]
[{"$f":"IF(Pivot!G474=\"\",\"\",Pivot!G474)","v":""},null,{"$f":"IF(Pivot!H474=\"\",\"\",Pivot!H474)","v":""},null,{"$f":"IF(Pivot!J474=\"\",\"\",Pivot!J474)","v":""},{"$f":"IF(Pivot!I474=\"\",\"\",Pivot!I474)","v":""},null,null,null,null,null,null,"","",{"$error":"#VALUE!"},null,"","",""]
[{"$f":"IF(Pivot!G475=\"\",\"\",Pivot!G475)","v":""},null,{"$f":"IF(Pivot!H475=\"\",\"\",Pivot!H475)","v":""},null,{"$f":"IF(Pivot!J475=\"\",\"\",Pivot!J475)","v":""},{"$f":"IF(Pivot!I475=\"\",\"\",Pivot!I475)","v":""},null,null,null,null,null,null,"","",{"$error":"#VALUE!"},null,"","",""]
[{"$f":"IF(Pivot!G476=\"\",\"\",Pivot!G476)","v":""},null,{"$f":"IF(Pivot!H476=\"\",\"\",Pivot!H476)","v":""},null,{"$f":"IF(Pivot!J476=\"\",\"\",Pivot!J476)","v":""},{"$f":"IF(Pivot!I476=\"\",\"\",Pivot!I476)","v":""},null,null,null,null,null,null,"","",{"$error":"#VALUE!"},null,"","",""]
[{"$f":"IF(Pivot!G477=\"\",\"\",Pivot!G477)","v":""},null,{"$f":"IF(Pivot!H477=\"\",\"\",Pivot!H477)","v":""},null,{"$f":"IF(Pivot!J477=\"\",\"\",Pivot!J477)","v":""},{"$f":"IF(Pivot!I477=\"\",\"\",Pivot!I477)","v":""},null,null,null,null,null,null,"","",{"$error":"#VALUE!"},null,"","",""]
[{"$f":"IF(Pivot!G478=\"\",\"\",Pivot!G478)","v":""},null,{"$f":"IF(Pivot!H478=\"\",\"\",Pivot!H478)","v":""},null,{"$f":"IF(Pivot!J478=\"\",\"\",Pivot!J478)","v":""},{"$f":"IF(Pivot!I478=\"\",\"\",Pivot!I478)","v":""},null,null,null,null,null,null,"","",{"$error":"#VALUE!"},null,"","",""]
[{"$f":"IF(Pivot!G479=\"\",\"\",Pivot!G479)","v":""},null,{"$f":"IF(Pivot!H479=\"\",\"\",Pivot!H479)","v":""},null,{"$f":"IF(Pivot!J479=\"\",\"\",Pivot!J479)","v":""},{"$f":"IF(Pivot!I479=\"\",\"\",Pivot!I479)","v":""},null,null,null,null,null,null,"","",{"$error":"#VALUE!"},null,"","",""]
[{"$f":"IF(Pivot!G480=\"\",\"\",Pivot!G480)","v":""},null,{"$f":"IF(Pivot!H480=\"\",\"\",Pivot!H480)","v":""},null,{"$f":"IF(Pivot!J480=\"\",\"\",Pivot!J480)","v":""},{"$f":"IF(Pivot!I480=\"\",\"\",Pivot!I480)","v":""},null,null,null,null,null,null,"","",{"$error":"#VALUE!"},null,"","",""]
[{"$f":"IF(Pivot!G481=\"\",\"\",Pivot!G481)","v":""},null,{"$f":"IF(Pivot!H481=\"\",\"\",Pivot!H481)","v":""},null,{"$f":"IF(Pivot!J481=\"\",\"\",Pivot!J481)","v":""},{"$f":"IF(Pivot!I481=\"\",\"\",Pivot!I481)","v":""},null,null,null,null,null,null,"","",{"$error":"#VALUE!"},null,"","",""]
[{"$f":"IF(Pivot!G482=\"\",\"\",Pivot!G482)","v":""},null,{"$f":"IF(Pivot!H482=\"\",\"\",Pivot!H482)","v":""},null,{"$f":"IF(Pivot!J482=\"\",\"\",Pivot!J482)","v":""},{"$f":"IF(Pivot!I482=\"\",\"\",Pivot!I482)","v":""},null,null,null,null,null,null,"","",{"$error":"#VALUE!"},null,"","",""]
[{"$f":"IF(Pivot!G483=\"\",\"\",Pivot!G483)","v":""},null,{"$f":"IF(Pivot!H483=\"\",\"\",Pivot!H483)","v":""},null,{"$f":"IF(Pivot!J483=\"\",\"\",Pivot!J483)","v":""},{"$f":"IF(Pivot!I483=\"\",\"\",Pivot!I483)","v":""},null,null,null,null,null,null,"","",{"$error":"#VALUE!"},null,"","",""]
[{"$f":"IF(Pivot!G484=\"\",\"\",Pivot!G484)","v":""},null,{"$f":"IF(Pivot!H484=\"\",\"\",Pivot!H484)","v":""},null,{"$f":"IF(Pivot!J484=\"\",\"\",Pivot!J484)","v":""},{"$f":"IF(Pivot!I484=\"\",\"\",Pivot!I484)","v":""},null,null,null,null,null,null,"","",{"$error":"#VALUE!"},null,"","",""]
[{"$f":"IF(Pivot!G485=\"\",\"\",Pivot!G485)","v":""},null,{"$f":"IF(Pivot!H485=\"\",\"\",Pivot!H485)","v":""},null,{"$f":"IF(Pivot!J485=\"\",\"\",Pivot!J485)","v":""},{"$f":"IF(Pivot!I485=\"\",\"\",Pivot!I485)","v":""},null,null,null,null,null,null,"","",{"$error":"#VALUE!"},null,"","",""]
[{"$f":"IF(Pivot!G486=\"\",\"\",Pivot!G486)","v":""},null,{"$f":"IF(Pivot!H486=\"\",\"\",Pivot!H486)","v":""},null,{"$f":"IF(Pivot!J486=\"\",\"\",Pivot!J486)","v":""},{"$f":"IF(Pivot!I486=\"\",\"\",Pivot!I486)","v":""},null,null,null,null,null,null,"","",{"$error":"#VALUE!"},null,"","",""]
[{"$f":"IF(Pivot!G487=\"\",\"\",Pivot!G487)","v":""},null,{"$f":"IF(Pivot!H487=\"\",\"\",Pivot!H487)","v":""},null,{"$f":"IF(Pivot!J487=\"\",\"\",Pivot!J487)","v":""},{"$f":"IF(Pivot!I487=\"\",\"\",Pivot!I487)","v":""},null,null,null,null,null,null,"","",{"$error":"#VALUE!"},null,"","",""]
[{"$f":"IF(Pivot!G488=\"\",\"\",Pivot!G488)","v":""},null,{"$f":"IF(Pivot!H488=\"\",\"\",Pivot!H488)","v":""},null,{"$f":"IF(Pivot!J488=\"\",\"\",Pivot!J488)","v":""},{"$f":"IF(Pivot!I488=\"\",\"\",Pivot!I488)","v":""},null,null,null,null,null,null,"","",{"$error":"#VALUE!"},null,"","",""]
[{"$f":"IF(Pivot!G489=\"\",\"\",Pivot!G489)","v":""},null,{"$f":"IF(Pivot!H489=\"\",\"\",Pivot!H489)","v":""},null,{"$f":"IF(Pivot!J489=\"\",\"\",Pivot!J489)","v":""},{"$f":"IF(Pivot!I489=\"\",\"\",Pivot!I489)","v":""},null,null,null,null,null,null,"","",{"$error":"#VALUE!"},null,"","",""]
[{"$f":"IF(Pivot!G490=\"\",\"\",Pivot!G490)","v":""},null,{"$f":"IF(Pivot!H490=\"\",\"\",Pivot!H490)","v":""},null,{"$f":"IF(Pivot!J490=\"\",\"\",Pivot!J490)","v":""},{"$f":"IF(Pivot!I490=\"\",\"\",Pivot!I490)","v":""},null,null,null,null,null,null,"","",{"$error":"#VALUE!"},null,"","",""]
[{"$f":"IF(Pivot!G491=\"\",\"\",Pivot!G491)","v":""},null,{"$f":"IF(Pivot!H491=\"\",\"\",Pivot!H491)","v":""},null,{"$f":"IF(Pivot!J491=\"\",\"\",Pivot!J491)","v":""},{"$f":"IF(Pivot!I491=\"\",\"\",Pivot!I491)","v":""},null,null,null,null,null,null,"","",{"$error":"#VALUE!"},null,"","",""]
[{"$f":"IF(Pivot!G492=\"\",\"\",Pivot!G492)","v":""},null,{"$f":"IF(Pivot!H492=\"\",\"\",Pivot!H492)","v":""},null,{"$f":"IF(Pivot!J492=\"\",\"\",Pivot!J492)","v":""},{"$f":"IF(Pivot!I492=\"\",\"\",Pivot!I492)","v":""},null,null,null,null,null,null,"","",{"$error":"#VALUE!"},null,"","",""]
[{"$f":"IF(Pivot!G493=\"\",\"\",Pivot!G493)","v":""},null,{"$f":"IF(Pivot!H493=\"\",\"\",Pivot!H493)","v":""},null,{"$f":"IF(Pivot!J493=\"\",\"\",Pivot!J493)","v":""},{"$f":"IF(Pivot!I493=\"\",\"\",Pivot!I493)","v":""},null,null,null,null,null,null,"","",{"$error":"#VALUE!"},null,"","",""]
[{"$f":"IF(Pivot!G494=\"\",\"\",Pivot!G494)","v":""},null,{"$f":"IF(Pivot!H494=\"\",\"\",Pivot!H494)","v":""},null,{"$f":"IF(Pivot!J494=\"\",\"\",Pivot!J494)","v":""},{"$f":"IF(Pivot!I494=\"\",\"\",Pivot!I494)","v":""},null,null,null,null,null,null,"","",{"$error":"#VALUE!"},null,"","",""]
[{"$f":"IF(Pivot!G495=\"\",\"\",Pivot!G495)","v":""},null,{"$f":"IF(Pivot!H495=\"\",\"\",Pivot!H495)","v":""},null,{"$f":"IF(Pivot!J495=\"\",\"\",Pivot!J495)","v":""},{"$f":"IF(Pivot!I495=\"\",\"\",Pivot!I495)","v":""},null,null,null,null,null,null,"","",{"$error":"#VALUE!"},null,"","",""]
[{"$f":"IF(Pivot!G496=\"\",\"\",Pivot!G496)","v":""},null,{"$f":"IF(Pivot!H496=\"\",\"\",Pivot!H496)","v":""},null,{"$f":"IF(Pivot!J496=\"\",\"\",Pivot!J496)","v":""},{"$f":"IF(Pivot!I496=\"\",\"\",Pivot!I496)","v":""},null,null,null,null,null,null,"","",{"$error":"#VALUE!"},null,"","",""]
[{"$f":"IF(Pivot!G497=\"\",\"\",Pivot!G497)","v":""},null,{"$f":"IF(Pivot!H497=\"\",\"\",Pivot!H497)","v":""},null,{"$f":"IF(Pivot!J497=\"\",\"\",Pivot!J497)","v":""},{"$f":"IF(Pivot!I497=\"\",\"\",Pivot!I497)","v":""},null,null,null,null,null,null,"","",{"$error":"#VALUE!"},null,"","",""]
[{"$f":"IF(Pivot!G498=\"\",\"\",Pivot!G498)","v":""},null,{"$f":"IF(Pivot!H498=\"\",\"\",Pivot!H498)","v":""},null,{"$f":"IF(Pivot!J498=\"\",\"\",Pivot!J498)","v":""},{"$f":"IF(Pivot!I498=\"\",\"\",Pivot!I498)","v":""},null,null,null,null,null,null,"","",{"$error":"#VALUE!"},null,"","",""]
[{"$f":"IF(Pivot!G499=\"\",\"\",Pivot!G499)","v":""},null,{"$f":"IF(Pivot!H499=\"\",\"\",Pivot!H499)","v":""},null,{"$f":"IF(Pivot!J499=\"\",\"\",Pivot!J499)","v":""},{"$f":"IF(Pivot!I499=\"\",\"\",Pivot!I499)","v":""},null,null,null,null,null,null,"","",{"$error":"#VALUE!"},null,"","",""]
[{"$f":"IF(Pivot!G500=\"\",\"\",Pivot!G500)","v":""},null,{"$f":"IF(Pivot!H500=\"\",\"\",Pivot!H500)","v":""},null,{"$f":"IF(Pivot!J500=\"\",\"\",Pivot!J500)","v":""},{"$f":"IF(Pivot!I500=\"\",\"\",Pivot!I500)","v":""},null,null,null,null,null,null,"","",{"$error":"#VALUE!"},null,"","",""]
[{"$f":"IF(Pivot!G501=\"\",\"\",Pivot!G501)","v":""},null,{"$f":"IF(Pivot!H501=\"\",\"\",Pivot!H501)","v":""},null,{"$f":"IF(Pivot!J501=\"\",\"\",Pivot!J501)","v":""},{"$f":"IF(Pivot!I501=\"\",\"\",Pivot!I501)","v":""},null,null,null,null,null,null,"","",{"$error":"#VALUE!"},null,"","",""]
[{"$f":"IF(Pivot!G502=\"\",\"\",Pivot!G502)","v":""},null,{"$f":"IF(Pivot!H502=\"\",\"\",Pivot!H502)","v":""},null,{"$f":"IF(Pivot!J502=\"\",\"\",Pivot!J502)","v":""},{"$f":"IF(Pivot!I502=\"\",\"\",Pivot!I502)","v":""},null,null,null,null,null,null,"","",{"$error":"#VALUE!"},null,"","",""]
[{"$f":"IF(Pivot!G503=\"\",\"\",Pivot!G503)","v":""},null,{"$f":"IF(Pivot!H503=\"\",\"\",Pivot!H503)","v":""},null,{"$f":"IF(Pivot!J503=\"\",\"\",Pivot!J503)","v":""},{"$f":"IF(Pivot!I503=\"\",\"\",Pivot!I503)","v":""},null,null,null,null,null,null,"","",{"$error":"#VALUE!"},null,"","",""]
[{"$f":"IF(Pivot!G504=\"\",\"\",Pivot!G504)","v":""},null,{"$f":"IF(Pivot!H504=\"\",\"\",Pivot!H504)","v":""},null,{"$f":"IF(Pivot!J504=\"\",\"\",Pivot!J504)","v":""},{"$f":"IF(Pivot!I504=\"\",\"\",Pivot!I504)","v":""},null,null,null,null,null,null,"","",{"$error":"#VALUE!"},null,"","",""]
[{"$f":"IF(Pivot!G505=\"\",\"\",Pivot!G505)","v":""},null,{"$f":"IF(Pivot!H505=\"\",\"\",Pivot!H505)","v":""},null,{"$f":"IF(Pivot!J505=\"\",\"\",Pivot!J505)","v":""},{"$f":"IF(Pivot!I505=\"\",\"\",Pivot!I505)","v":""},null,null,null,null,null,null,"","",{"$error":"#VALUE!"},null,"","",""]
[{"$f":"IF(Pivot!G506=\"\",\"\",Pivot!G506)","v":""},null,{"$f":"IF(Pivot!H506=\"\",\"\",Pivot!H506)","v":""},null,{"$f":"IF(Pivot!J506=\"\",\"\",Pivot!J506)","v":""},{"$f":"IF(Pivot!I506=\"\",\"\",Pivot!I506)","v":""},null,null,null,null,null,null,"","",{"$error":"#VALUE!"},null,"","",""]
[{"$f":"IF(Pivot!G507=\"\",\"\",Pivot!G507)","v":""},null,{"$f":"IF(Pivot!H507=\"\",\"\",Pivot!H507)","v":""},null,{"$f":"IF(Pivot!J507=\"\",\"\",Pivot!J507)","v":""},{"$f":"IF(Pivot!I507=\"\",\"\",Pivot!I507)","v":""},null,null,null,null,null,null,"","",{"$error":"#VALUE!"},null,"","",""]
[{"$f":"IF(Pivot!G508=\"\",\"\",Pivot!G508)","v":""},null,{"$f":"IF(Pivot!H508=\"\",\"\",Pivot!H508)","v":""},null,{"$f":"IF(Pivot!J508=\"\",\"\",Pivot!J508)","v":""},{"$f":"IF(Pivot!I508=\"\",\"\",Pivot!I508)","v":""},null,null,null,null,null,null,"","",{"$error":"#VALUE!"},null,"","",""]
[{"$f":"IF(Pivot!G509=\"\",\"\",Pivot!G509)","v":""},null,{"$f":"IF(Pivot!H509=\"\",\"\",Pivot!H509)","v":""},null,{"$f":"IF(Pivot!J509=\"\",\"\",Pivot!J509)","v":""},{"$f":"IF(Pivot!I509=\"\",\"\",Pivot!I509)","v":""},null,null,null,null,null,null,"","",{"$error":"#VALUE!"},null,"","",""]
[{"$f":"IF(Pivot!G510=\"\",\"\",Pivot!G510)","v":""},null,{"$f":"IF(Pivot!H510=\"\",\"\",Pivot!H510)","v":""},null,{"$f":"IF(Pivot!J510=\"\",\"\",Pivot!J510)","v":""},{"$f":"IF(Pivot!I510=\"\",\"\",Pivot!I510)","v":""},null,null,null,null,null,null,"","",{"$error":"#VALUE!"},null,"","",""]
[{"$f":"IF(Pivot!G511=\"\",\"\",Pivot!G511)","v":""},null,{"$f":"IF(Pivot!H511=\"\",\"\",Pivot!H511)","v":""},null,{"$f":"IF(Pivot!J511=\"\",\"\",Pivot!J511)","v":""},{"$f":"IF(Pivot!I511=\"\",\"\",Pivot!I511)","v":""},null,null,null,null,null,null,"","",{"$error":"#VALUE!"},null,"","",""]
[{"$f":"IF(Pivot!G512=\"\",\"\",Pivot!G512)","v":""},null,{"$f":"IF(Pivot!H512=\"\",\"\",Pivot!H512)","v":""},null,{"$f":"IF(Pivot!J512=\"\",\"\",Pivot!J512)","v":""},{"$f":"IF(Pivot!I512=\"\",\"\",Pivot!I512)","v":""},null,null,null,null,null,null,"","",{"$error":"#VALUE!"},null,"","",""]
[{"$f":"IF(Pivot!G513=\"\",\"\",Pivot!G513)","v":""},null,{"$f":"IF(Pivot!H513=\"\",\"\",Pivot!H513)","v":""},null,{"$f":"IF(Pivot!J513=\"\",\"\",Pivot!J513)","v":""},{"$f":"IF(Pivot!I513=\"\",\"\",Pivot!I513)","v":""},null,null,null,null,null,null,"","",{"$error":"#VALUE!"},null,"","",""]
[{"$f":"IF(Pivot!G514=\"\",\"\",Pivot!G514)","v":""},null,{"$f":"IF(Pivot!H514=\"\",\"\",Pivot!H514)","v":""},null,{"$f":"IF(Pivot!J514=\"\",\"\",Pivot!J514)","v":""},{"$f":"IF(Pivot!I514=\"\",\"\",Pivot!I514)","v":""},null,null,null,null,null,null,"","",{"$error":"#VALUE!"},null,"","",""]
[{"$f":"IF(Pivot!G515=\"\",\"\",Pivot!G515)","v":""},null,{"$f":"IF(Pivot!H515=\"\",\"\",Pivot!H515)","v":""},null,{"$f":"IF(Pivot!J515=\"\",\"\",Pivot!J515)","v":""},{"$f":"IF(Pivot!I515=\"\",\"\",Pivot!I515)","v":""},null,null,null,null,null,null,"","",{"$error":"#VALUE!"},null,"","",""]
[{"$f":"IF(Pivot!G516=\"\",\"\",Pivot!G516)","v":""},null,{"$f":"IF(Pivot!H516=\"\",\"\",Pivot!H516)","v":""},null,{"$f":"IF(Pivot!J516=\"\",\"\",Pivot!J516)","v":""},{"$f":"IF(Pivot!I516=\"\",\"\",Pivot!I516)","v":""},null,null,null,null,null,null,"","",{"$f":"N519/M519","v":{"$error":"#VALUE!"}},null,"","",""]
[{"$f":"IF(Pivot!G517=\"\",\"\",Pivot!G517)","v":""},null,{"$f":"IF(Pivot!H517=\"\",\"\",Pivot!H517)","v":""},null,{"$f":"IF(Pivot!J517=\"\",\"\",Pivot!J517)","v":""},{"$f":"IF(Pivot!I517=\"\",\"\",Pivot!I517)","v":""},null,null,null,null,null,null,{"$f":"IF(C520=\"\",\"\",C520*L520)","v":""},{"$f":"IF(F520=\"\",\"\",M520-F520)","v":""},{"$error":"#VALUE!"},null,{"$f":"IF(C520=\"\",\"\",C520*P520)","v":""},{"$f":"IF(F520=\"\",\"\",Q520-F520)","v":""},{"$f":"IF(F520=\"\",\"\",R520/F520)","v":""}]
[{"$f":"IF(Pivot!G518=\"\",\"\",Pivot!G518)","v":""},null,{"$f":"IF(Pivot!H518=\"\",\"\",Pivot!H518)","v":""},null,{"$f":"IF(Pivot!J518=\"\",\"\",Pivot!J518)","v":""},{"$f":"IF(Pivot!I518=\"\",\"\",Pivot!I518)","v":""},null,null,null,null,null,null,"","",{"$error":"#VALUE!"},null,"","",""]
[{"$f":"IF(Pivot!G519=\"\",\"\",Pivot!G519)","v":""},null,{"$f":"IF(Pivot!H519=\"\",\"\",Pivot!H519)","v":""},null,{"$f":"IF(Pivot!J519=\"\",\"\",Pivot!J519)","v":""},{"$f":"IF(Pivot!I519=\"\",\"\",Pivot!I519)","v":""},null,null,null,null,null,null,"","",{"$error":"#VALUE!"},null,"","",""]
[{"$f":"IF(Pivot!G520=\"\",\"\",Pivot!G520)","v":""},null,{"$f":"IF(Pivot!H520=\"\",\"\",Pivot!H520)","v":""},null,{"$f":"IF(Pivot!J520=\"\",\"\",Pivot!J520)","v":""},{"$f":"IF(Pivot!I520=\"\",\"\",Pivot!I520)","v":""},null,null,null,null,null,null,"","",{"$error":"#VALUE!"},null,"","",""]
[{"$f":"IF(Pivot!G521=\"\",\"\",Pivot!G521)","v":""},null,{"$f":"IF(Pivot!H521=\"\",\"\",Pivot!H521)","v":""},null,{"$f":"IF(Pivot!J521=\"\",\"\",Pivot!J521)","v":""},{"$f":"IF(Pivot!I521=\"\",\"\",Pivot!I521)","v":""},null,null,null,null,null,null,"","",{"$error":"#VALUE!"},null,"","",""]
[{"$f":"IF(Pivot!G522=\"\",\"\",Pivot!G522)","v":""},null,{"$f":"IF(Pivot!H522=\"\",\"\",Pivot!H522)","v":""},null,{"$f":"IF(Pivot!J522=\"\",\"\",Pivot!J522)","v":""},{"$f":"IF(Pivot!I522=\"\",\"\",Pivot!I522)","v":""},null,null,null,null,null,null,"","",{"$error":"#VALUE!"},null,"","",""]
[{"$f":"IF(Pivot!G523=\"\",\"\",Pivot!G523)","v":""},null,{"$f":"IF(Pivot!H523=\"\",\"\",Pivot!H523)","v":""},null,{"$f":"IF(Pivot!J523=\"\",\"\",Pivot!J523)","v":""},{"$f":"IF(Pivot!I523=\"\",\"\",Pivot!I523)","v":""},null,null,null,null,null,null,"","",{"$error":"#VALUE!"},null,"","",""]
[{"$f":"IF(Pivot!G524=\"\",\"\",Pivot!G524)","v":""},null,{"$f":"IF(Pivot!H524=\"\",\"\",Pivot!H524)","v":""},null,{"$f":"IF(Pivot!J524=\"\",\"\",Pivot!J524)","v":""},{"$f":"IF(Pivot!I524=\"\",\"\",Pivot!I524)","v":""},null,null,null,null,null,null,"","",{"$error":"#VALUE!"},null,"","",""]
[{"$f":"IF(Pivot!G525=\"\",\"\",Pivot!G525)","v":""},null,{"$f":"IF(Pivot!H525=\"\",\"\",Pivot!H525)","v":""},null,{"$f":"IF(Pivot!J525=\"\",\"\",Pivot!J525)","v":""},{"$f":"IF(Pivot!I525=\"\",\"\",Pivot!I525)","v":""},null,null,null,null,null,null,"","",{"$error":"#VALUE!"},null,"","",""]
[{"$f":"IF(Pivot!G526=\"\",\"\",Pivot!G526)","v":""},null,{"$f":"IF(Pivot!H526=\"\",\"\",Pivot!H526)","v":""},null,{"$f":"IF(Pivot!J526=\"\",\"\",Pivot!J526)","v":""},{"$f":"IF(Pivot!I526=\"\",\"\",Pivot!I526)","v":""},null,null,null,null,null,null,"","",{"$error":"#VALUE!"},null,"","",""]
[{"$f":"IF(Pivot!G527=\"\",\"\",Pivot!G527)","v":""},null,{"$f":"IF(Pivot!H527=\"\",\"\",Pivot!H527)","v":""},null,{"$f":"IF(Pivot!J527=\"\",\"\",Pivot!J527)","v":""},{"$f":"IF(Pivot!I527=\"\",\"\",Pivot!I527)","v":""},null,null,null,null,null,null,"","",{"$error":"#VALUE!"},null,"","",""]
[{"$f":"IF(Pivot!G528=\"\",\"\",Pivot!G528)","v":""},null,{"$f":"IF(Pivot!H528=\"\",\"\",Pivot!H528)","v":""},null,{"$f":"IF(Pivot!J528=\"\",\"\",Pivot!J528)","v":""},{"$f":"IF(Pivot!I528=\"\",\"\",Pivot!I528)","v":""},null,null,null,null,null,null,"","",{"$error":"#VALUE!"},null,"","",""]
[{"$f":"IF(Pivot!G529=\"\",\"\",Pivot!G529)","v":""},null,{"$f":"IF(Pivot!H529=\"\",\"\",Pivot!H529)","v":""},null,{"$f":"IF(Pivot!J529=\"\",\"\",Pivot!J529)","v":""},{"$f":"IF(Pivot!I529=\"\",\"\",Pivot!I529)","v":""},null,null,null,null,null,null,"","",{"$error":"#VALUE!"},null,"","",""]
[{"$f":"IF(Pivot!G530=\"\",\"\",Pivot!G530)","v":""},null,{"$f":"IF(Pivot!H530=\"\",\"\",Pivot!H530)","v":""},null,{"$f":"IF(Pivot!J530=\"\",\"\",Pivot!J530)","v":""},{"$f":"IF(Pivot!I530=\"\",\"\",Pivot!I530)","v":""},null,null,null,null,null,null,"","",{"$error":"#VALUE!"},null,"","",""]
[{"$f":"IF(Pivot!G531=\"\",\"\",Pivot!G531)","v":""},null,{"$f":"IF(Pivot!H531=\"\",\"\",Pivot!H531)","v":""},null,{"$f":"IF(Pivot!J531=\"\",\"\",Pivot!J531)","v":""},{"$f":"IF(Pivot!I531=\"\",\"\",Pivot!I531)","v":""},null,null,null,null,null,null,"","",{"$error":"#VALUE!"},null,"","",""]
[{"$f":"IF(Pivot!G532=\"\",\"\",Pivot!G532)","v":""},null,{"$f":"IF(Pivot!H532=\"\",\"\",Pivot!H532)","v":""},null,{"$f":"IF(Pivot!J532=\"\",\"\",Pivot!J532)","v":""},{"$f":"IF(Pivot!I532=\"\",\"\",Pivot!I532)","v":""},null,null,null,null,null,null,"","",{"$error":"#VALUE!"},null,"","",""]
[{"$f":"IF(Pivot!G533=\"\",\"\",Pivot!G533)","v":""},null,{"$f":"IF(Pivot!H533=\"\",\"\",Pivot!H533)","v":""},null,{"$f":"IF(Pivot!J533=\"\",\"\",Pivot!J533)","v":""},{"$f":"IF(Pivot!I533=\"\",\"\",Pivot!I533)","v":""},null,null,null,null,null,null,"","",{"$error":"#VALUE!"},null,"","",""]
[{"$f":"IF(Pivot!G534=\"\",\"\",Pivot!G534)","v":""},null,{"$f":"IF(Pivot!H534=\"\",\"\",Pivot!H534)","v":""},null,{"$f":"IF(Pivot!J534=\"\",\"\",Pivot!J534)","v":""},{"$f":"IF(Pivot!I534=\"\",\"\",Pivot!I534)","v":""},null,null,null,null,null,null,"","",{"$error":"#VALUE!"},null,"","",""]
[{"$f":"IF(Pivot!G535=\"\",\"\",Pivot!G535)","v":""},null,{"$f":"IF(Pivot!H535=\"\",\"\",Pivot!H535)","v":""},null,{"$f":"IF(Pivot!J535=\"\",\"\",Pivot!J535)","v":""},{"$f":"IF(Pivot!I535=\"\",\"\",Pivot!I535)","v":""},null,null,null,null,null,null,"","",{"$error":"#VALUE!"},null,"","",""]
[{"$f":"IF(Pivot!G536=\"\",\"\",Pivot!G536)","v":""},null,{"$f":"IF(Pivot!H536=\"\",\"\",Pivot!H536)","v":""},null,{"$f":"IF(Pivot!J536=\"\",\"\",Pivot!J536)","v":""},{"$f":"IF(Pivot!I536=\"\",\"\",Pivot!I536)","v":""},null,null,null,null,null,null,"","",{"$error":"#VALUE!"},null,"","",""]
[{"$f":"IF(Pivot!G537=\"\",\"\",Pivot!G537)","v":""},null,{"$f":"IF(Pivot!H537=\"\",\"\",Pivot!H537)","v":""},null,{"$f":"IF(Pivot!J537=\"\",\"\",Pivot!J537)","v":""},{"$f":"IF(Pivot!I537=\"\",\"\",Pivot!I537)","v":""},null,null,null,null,null,null,"","",{"$error":"#VALUE!"},null,"","",""]
[{"$f":"IF(Pivot!G538=\"\",\"\",Pivot!G538)","v":""},null,{"$f":"IF(Pivot!H538=\"\",\"\",Pivot!H538)","v":""},null,{"$f":"IF(Pivot!J538=\"\",\"\",Pivot!J538)","v":""},{"$f":"IF(Pivot!I538=\"\",\"\",Pivot!I538)","v":""},null,null,null,null,null,null,"","",{"$error":"#VALUE!"},null,"","",""]
[{"$f":"IF(Pivot!G539=\"\",\"\",Pivot!G539)","v":""},null,{"$f":"IF(Pivot!H539=\"\",\"\",Pivot!H539)","v":""},null,{"$f":"IF(Pivot!J539=\"\",\"\",Pivot!J539)","v":""},{"$f":"IF(Pivot!I539=\"\",\"\",Pivot!I539)","v":""},null,null,null,null,null,null,"","",{"$error":"#VALUE!"},null,"","",""]
[{"$f":"IF(Pivot!G540=\"\",\"\",Pivot!G540)","v":""},null,{"$f":"IF(Pivot!H540=\"\",\"\",Pivot!H540)","v":""},null,{"$f":"IF(Pivot!J540=\"\",\"\",Pivot!J540)","v":""},{"$f":"IF(Pivot!I540=\"\",\"\",Pivot!I540)","v":""},null,null,null,null,null,null,"","",{"$error":"#VALUE!"},null,"","",""]
[{"$f":"IF(Pivot!G541=\"\",\"\",Pivot!G541)","v":""},null,{"$f":"IF(Pivot!H541=\"\",\"\",Pivot!H541)","v":""},null,{"$f":"IF(Pivot!J541=\"\",\"\",Pivot!J541)","v":""},{"$f":"IF(Pivot!I541=\"\",\"\",Pivot!I541)","v":""},null,null,null,null,null,null,"","",{"$error":"#VALUE!"},null,"","",""]
[{"$f":"IF(Pivot!G542=\"\",\"\",Pivot!G542)","v":""},null,{"$f":"IF(Pivot!H542=\"\",\"\",Pivot!H542)","v":""},null,{"$f":"IF(Pivot!J542=\"\",\"\",Pivot!J542)","v":""},{"$f":"IF(Pivot!I542=\"\",\"\",Pivot!I542)","v":""},null,null,null,null,null,null,"","",{"$error":"#VALUE!"},null,"","",""]
[{"$f":"IF(Pivot!G543=\"\",\"\",Pivot!G543)","v":""},null,{"$f":"IF(Pivot!H543=\"\",\"\",Pivot!H543)","v":""},null,{"$f":"IF(Pivot!J543=\"\",\"\",Pivot!J543)","v":""},{"$f":"IF(Pivot!I543=\"\",\"\",Pivot!I543)","v":""},null,null,null,null,null,null,"","",{"$error":"#VALUE!"},null,"","",""]
[{"$f":"IF(Pivot!G544=\"\",\"\",Pivot!G544)","v":""},null,{"$f":"IF(Pivot!H544=\"\",\"\",Pivot!H544)","v":""},null,{"$f":"IF(Pivot!J544=\"\",\"\",Pivot!J544)","v":""},{"$f":"IF(Pivot!I544=\"\",\"\",Pivot!I544)","v":""},null,null,null,null,null,null,"","",{"$error":"#VALUE!"},null,"","",""]
[{"$f":"IF(Pivot!G545=\"\",\"\",Pivot!G545)","v":""},null,{"$f":"IF(Pivot!H545=\"\",\"\",Pivot!H545)","v":""},null,{"$f":"IF(Pivot!J545=\"\",\"\",Pivot!J545)","v":""},{"$f":"IF(Pivot!I545=\"\",\"\",Pivot!I545)","v":""},null,null,null,null,null,null,"","",{"$error":"#VALUE!"},null,"","",""]
[{"$f":"IF(Pivot!G546=\"\",\"\",Pivot!G546)","v":""},null,{"$f":"IF(Pivot!H546=\"\",\"\",Pivot!H546)","v":""},null,{"$f":"IF(Pivot!J546=\"\",\"\",Pivot!J546)","v":""},{"$f":"IF(Pivot!I546=\"\",\"\",Pivot!I546)","v":""},null,null,null,null,null,null,"","",{"$error":"#VALUE!"},null,"","",""]
[{"$f":"IF(Pivot!G547=\"\",\"\",Pivot!G547)","v":""},null,{"$f":"IF(Pivot!H547=\"\",\"\",Pivot!H547)","v":""},null,{"$f":"IF(Pivot!J547=\"\",\"\",Pivot!J547)","v":""},{"$f":"IF(Pivot!I547=\"\",\"\",Pivot!I547)","v":""},null,null,null,null,null,null,"","",{"$error":"#VALUE!"},null,"","",""]
[{"$f":"IF(Pivot!G548=\"\",\"\",Pivot!G548)","v":""},null,{"$f":"IF(Pivot!H548=\"\",\"\",Pivot!H548)","v":""},null,{"$f":"IF(Pivot!J548=\"\",\"\",Pivot!J548)","v":""},{"$f":"IF(Pivot!I548=\"\",\"\",Pivot!I548)","v":""},null,null,null,null,null,null,"","",{"$error":"#VALUE!"},null,"","",""]
[{"$f":"IF(Pivot!G549=\"\",\"\",Pivot!G549)","v":""},null,{"$f":"IF(Pivot!H549=\"\",\"\",Pivot!H549)","v":""},null,{"$f":"IF(Pivot!J549=\"\",\"\",Pivot!J549)","v":""},{"$f":"IF(Pivot!I549=\"\",\"\",Pivot!I549)","v":""},null,null,null,null,null,null,"","",{"$error":"#VALUE!"},null,"","",""]
[{"$f":"IF(Pivot!G550=\"\",\"\",Pivot!G550)","v":""},null,{"$f":"IF(Pivot!H550=\"\",\"\",Pivot!H550)","v":""},null,{"$f":"IF(Pivot!J550=\"\",\"\",Pivot!J550)","v":""},{"$f":"IF(Pivot!I550=\"\",\"\",Pivot!I550)","v":""},null,null,null,null,null,null,"","",{"$error":"#VALUE!"},null,"","",""]
[{"$f":"IF(Pivot!G551=\"\",\"\",Pivot!G551)","v":""},null,{"$f":"IF(Pivot!H551=\"\",\"\",Pivot!H551)","v":""},null,{"$f":"IF(Pivot!J551=\"\",\"\",Pivot!J551)","v":""},{"$f":"IF(Pivot!I551=\"\",\"\",Pivot!I551)","v":""},null,null,null,null,null,null,"","",{"$error":"#VALUE!"},null,"","",""]
[{"$f":"IF(Pivot!G552=\"\",\"\",Pivot!G552)","v":""},null,{"$f":"IF(Pivot!H552=\"\",\"\",Pivot!H552)","v":""},null,{"$f":"IF(Pivot!J552=\"\",\"\",Pivot!J552)","v":""},{"$f":"IF(Pivot!I552=\"\",\"\",Pivot!I552)","v":""},null,null,null,null,null,null,"","",{"$error":"#VALUE!"},null,"","",""]
[{"$f":"IF(Pivot!G553=\"\",\"\",Pivot!G553)","v":""},null,{"$f":"IF(Pivot!H553=\"\",\"\",Pivot!H553)","v":""},null,{"$f":"IF(Pivot!J553=\"\",\"\",Pivot!J553)","v":""},{"$f":"IF(Pivot!I553=\"\",\"\",Pivot!I553)","v":""},null,null,null,null,null,null,"","",{"$error":"#VALUE!"},null,"","",""]
[{"$f":"IF(Pivot!G554=\"\",\"\",Pivot!G554)","v":""},null,{"$f":"IF(Pivot!H554=\"\",\"\",Pivot!H554)","v":""},null,{"$f":"IF(Pivot!J554=\"\",\"\",Pivot!J554)","v":""},{"$f":"IF(Pivot!I554=\"\",\"\",Pivot!I554)","v":""},null,null,null,null,null,null,"","",{"$error":"#VALUE!"},null,"","",""]
[{"$f":"IF(Pivot!G555=\"\",\"\",Pivot!G555)","v":""},null,{"$f":"IF(Pivot!H555=\"\",\"\",Pivot!H555)","v":""},null,{"$f":"IF(Pivot!J555=\"\",\"\",Pivot!J555)","v":""},{"$f":"IF(Pivot!I555=\"\",\"\",Pivot!I555)","v":""},null,null,null,null,null,null,"","",{"$error":"#VALUE!"},null,"","",""]
[{"$f":"IF(Pivot!G556=\"\",\"\",Pivot!G556)","v":""},null,{"$f":"IF(Pivot!H556=\"\",\"\",Pivot!H556)","v":""},null,{"$f":"IF(Pivot!J556=\"\",\"\",Pivot!J556)","v":""},{"$f":"IF(Pivot!I556=\"\",\"\",Pivot!I556)","v":""},null,null,null,null,null,null,"","",{"$error":"#VALUE!"},null,"","",""]
[{"$f":"IF(Pivot!G557=\"\",\"\",Pivot!G557)","v":""},null,{"$f":"IF(Pivot!H557=\"\",\"\",Pivot!H557)","v":""},null,{"$f":"IF(Pivot!J557=\"\",\"\",Pivot!J557)","v":""},{"$f":"IF(Pivot!I557=\"\",\"\",Pivot!I557)","v":""},null,null,null,null,null,null,"","",{"$error":"#VALUE!"},null,"","",""]
[{"$f":"IF(Pivot!G558=\"\",\"\",Pivot!G558)","v":""},null,{"$f":"IF(Pivot!H558=\"\",\"\",Pivot!H558)","v":""},null,{"$f":"IF(Pivot!J558=\"\",\"\",Pivot!J558)","v":""},{"$f":"IF(Pivot!I558=\"\",\"\",Pivot!I558)","v":""},null,null,null,null,null,null,"","",{"$error":"#VALUE!"},null,"","",""]
[{"$f":"IF(Pivot!G559=\"\",\"\",Pivot!G559)","v":""},null,{"$f":"IF(Pivot!H559=\"\",\"\",Pivot!H559)","v":""},null,{"$f":"IF(Pivot!J559=\"\",\"\",Pivot!J559)","v":""},{"$f":"IF(Pivot!I559=\"\",\"\",Pivot!I559)","v":""},null,null,null,null,null,null,"","",{"$error":"#VALUE!"},null,"","",""]
[{"$f":"IF(Pivot!G560=\"\",\"\",Pivot!G560)","v":""},null,{"$f":"IF(Pivot!H560=\"\",\"\",Pivot!H560)","v":""},null,{"$f":"IF(Pivot!J560=\"\",\"\",Pivot!J560)","v":""},{"$f":"IF(Pivot!I560=\"\",\"\",Pivot!I560)","v":""},null,null,null,null,null,null,"","",{"$error":"#VALUE!"},null,"","",""]
[{"$f":"IF(Pivot!G561=\"\",\"\",Pivot!G561)","v":""},null,{"$f":"IF(Pivot!H561=\"\",\"\",Pivot!H561)","v":""},null,{"$f":"IF(Pivot!J561=\"\",\"\",Pivot!J561)","v":""},{"$f":"IF(Pivot!I561=\"\",\"\",Pivot!I561)","v":""},null,null,null,null,null,null,"","",{"$error":"#VALUE!"},null,"","",""]
[{"$f":"IF(Pivot!G562=\"\",\"\",Pivot!G562)","v":""},null,{"$f":"IF(Pivot!H562=\"\",\"\",Pivot!H562)","v":""},null,{"$f":"IF(Pivot!J562=\"\",\"\",Pivot!J562)","v":""},{"$f":"IF(Pivot!I562=\"\",\"\",Pivot!I562)","v":""},null,null,null,null,null,null,"","",{"$error":"#VALUE!"},null,"","",""]
[{"$f":"IF(Pivot!G563=\"\",\"\",Pivot!G563)","v":""},null,{"$f":"IF(Pivot!H563=\"\",\"\",Pivot!H563)","v":""},null,{"$f":"IF(Pivot!J563=\"\",\"\",Pivot!J563)","v":""},{"$f":"IF(Pivot!I563=\"\",\"\",Pivot!I563)","v":""},null,null,null,null,null,null,"","",{"$error":"#VALUE!"},null,"","",""]
[{"$f":"IF(Pivot!G564=\"\",\"\",Pivot!G564)","v":""},null,{"$f":"IF(Pivot!H564=\"\",\"\",Pivot!H564)","v":""},null,{"$f":"IF(Pivot!J564=\"\",\"\",Pivot!J564)","v":""},{"$f":"IF(Pivot!I564=\"\",\"\",Pivot!I564)","v":""},null,null,null,null,null,null,"","",{"$error":"#VALUE!"},null,"","",""]
[{"$f":"IF(Pivot!G565=\"\",\"\",Pivot!G565)","v":""},null,{"$f":"IF(Pivot!H565=\"\",\"\",Pivot!H565)","v":""},null,{"$f":"IF(Pivot!J565=\"\",\"\",Pivot!J565)","v":""},{"$f":"IF(Pivot!I565=\"\",\"\",Pivot!I565)","v":""},null,null,null,null,null,null,"","",{"$error":"#VALUE!"},null,"","",""]
[{"$f":"IF(Pivot!G566=\"\",\"\",Pivot!G566)","v":""},null,{"$f":"IF(Pivot!H566=\"\",\"\",Pivot!H566)","v":""},null,{"$f":"IF(Pivot!J566=\"\",\"\",Pivot!J566)","v":""},{"$f":"IF(Pivot!I566=\"\",\"\",Pivot!I566)","v":""},null,null,null,null,null,null,"","",{"$error":"#VALUE!"},null,"","",""]
[{"$f":"IF(Pivot!G567=\"\",\"\",Pivot!G567)","v":""},null,{"$f":"IF(Pivot!H567=\"\",\"\",Pivot!H567)","v":""},null,{"$f":"IF(Pivot!J567=\"\",\"\",Pivot!J567)","v":""},{"$f":"IF(Pivot!I567=\"\",\"\",Pivot!I567)","v":""},null,null,null,null,null,null,"","",{"$error":"#VALUE!"},null,"","",""]
[{"$f":"IF(Pivot!G568=\"\",\"\",Pivot!G568)","v":""},null,{"$f":"IF(Pivot!H568=\"\",\"\",Pivot!H568)","v":""},null,{"$f":"IF(Pivot!J568=\"\",\"\",Pivot!J568)","v":""},{"$f":"IF(Pivot!I568=\"\",\"\",Pivot!I568)","v":""},null,null,null,null,null,null,"","",{"$error":"#VALUE!"},null,"","",""]
[{"$f":"IF(Pivot!G569=\"\",\"\",Pivot!G569)","v":""},null,{"$f":"IF(Pivot!H569=\"\",\"\",Pivot!H569)","v":""},null,{"$f":"IF(Pivot!J569=\"\",\"\",Pivot!J569)","v":""},{"$f":"IF(Pivot!I569=\"\",\"\",Pivot!I569)","v":""},null,null,null,null,null,null,"","",{"$error":"#VALUE!"},null,"","",""]
[{"$f":"IF(Pivot!G570=\"\",\"\",Pivot!G570)","v":""},null,{"$f":"IF(Pivot!H570=\"\",\"\",Pivot!H570)","v":""},null,{"$f":"IF(Pivot!J570=\"\",\"\",Pivot!J570)","v":""},{"$f":"IF(Pivot!I570=\"\",\"\",Pivot!I570)","v":""},null,null,null,null,null,null,"","",{"$error":"#VALUE!"},null,"","",""]
[{"$f":"IF(Pivot!G571=\"\",\"\",Pivot!G571)","v":""},null,{"$f":"IF(Pivot!H571=\"\",\"\",Pivot!H571)","v":""},null,{"$f":"IF(Pivot!J571=\"\",\"\",Pivot!J571)","v":""},{"$f":"IF(Pivot!I571=\"\",\"\",Pivot!I571)","v":""},null,null,null,null,null,null,"","",{"$error":"#VALUE!"},null,"","",""]
[{"$f":"IF(Pivot!G572=\"\",\"\",Pivot!G572)","v":""},null,{"$f":"IF(Pivot!H572=\"\",\"\",Pivot!H572)","v":""},null,{"$f":"IF(Pivot!J572=\"\",\"\",Pivot!J572)","v":""},{"$f":"IF(Pivot!I572=\"\",\"\",Pivot!I572)","v":""},null,null,null,null,null,null,"","",{"$error":"#VALUE!"},null,"","",""]
[{"$f":"IF(Pivot!G573=\"\",\"\",Pivot!G573)","v":""},null,{"$f":"IF(Pivot!H573=\"\",\"\",Pivot!H573)","v":""},null,{"$f":"IF(Pivot!J573=\"\",\"\",Pivot!J573)","v":""},{"$f":"IF(Pivot!I573=\"\",\"\",Pivot!I573)","v":""},null,null,null,null,null,null,"","",{"$error":"#VALUE!"},null,"","",""]
[{"$f":"IF(Pivot!G574=\"\",\"\",Pivot!G574)","v":""},null,{"$f":"IF(Pivot!H574=\"\",\"\",Pivot!H574)","v":""},null,{"$f":"IF(Pivot!J574=\"\",\"\",Pivot!J574)","v":""},{"$f":"IF(Pivot!I574=\"\",\"\",Pivot!I574)","v":""},null,null,null,null,null,null,"","",{"$error":"#VALUE!"},null,"","",""]
[{"$f":"IF(Pivot!G575=\"\",\"\",Pivot!G575)","v":""},null,{"$f":"IF(Pivot!H575=\"\",\"\",Pivot!H575)","v":""},null,{"$f":"IF(Pivot!J575=\"\",\"\",Pivot!J575)","v":""},{"$f":"IF(Pivot!I575=\"\",\"\",Pivot!I575)","v":""},null,null,null,null,null,null,"","",{"$error":"#VALUE!"},null,"","",""]
[{"$f":"IF(Pivot!G576=\"\",\"\",Pivot!G576)","v":""},null,{"$f":"IF(Pivot!H576=\"\",\"\",Pivot!H576)","v":""},null,{"$f":"IF(Pivot!J576=\"\",\"\",Pivot!J576)","v":""},{"$f":"IF(Pivot!I576=\"\",\"\",Pivot!I576)","v":""},null,null,null,null,null,null,"","",{"$error":"#VALUE!"},null,"","",""]
[{"$f":"IF(Pivot!G577=\"\",\"\",Pivot!G577)","v":""},null,{"$f":"IF(Pivot!H577=\"\",\"\",Pivot!H577)","v":""},null,{"$f":"IF(Pivot!J577=\"\",\"\",Pivot!J577)","v":""},{"$f":"IF(Pivot!I577=\"\",\"\",Pivot!I577)","v":""},null,null,null,null,null,null,"","",{"$error":"#VALUE!"},null,"","",""]
[{"$f":"IF(Pivot!G578=\"\",\"\",Pivot!G578)","v":""},null,{"$f":"IF(Pivot!H578=\"\",\"\",Pivot!H578)","v":""},null,{"$f":"IF(Pivot!J578=\"\",\"\",Pivot!J578)","v":""},{"$f":"IF(Pivot!I578=\"\",\"\",Pivot!I578)","v":""},null,null,null,null,null,null,"","",{"$error":"#VALUE!"},null,"","",""]
[{"$f":"IF(Pivot!G579=\"\",\"\",Pivot!G579)","v":""},null,{"$f":"IF(Pivot!H579=\"\",\"\",Pivot!H579)","v":""},null,{"$f":"IF(Pivot!J579=\"\",\"\",Pivot!J579)","v":""},{"$f":"IF(Pivot!I579=\"\",\"\",Pivot!I579)","v":""},null,null,null,null,null,null,"","",{"$error":"#VALUE!"},null,"","",""]
[{"$f":"IF(Pivot!G580=\"\",\"\",Pivot!G580)","v":""},null,{"$f":"IF(Pivot!H580=\"\",\"\",Pivot!H580)","v":""},null,{"$f":"IF(Pivot!J580=\"\",\"\",Pivot!J580)","v":""},{"$f":"IF(Pivot!I580=\"\",\"\",Pivot!I580)","v":""},null,null,null,null,null,null,"","",{"$f":"N583/M583","v":{"$error":"#VALUE!"}},null,"","",""]
[{"$f":"IF(Pivot!G581=\"\",\"\",Pivot!G581)","v":""},null,{"$f":"IF(Pivot!H581=\"\",\"\",Pivot!H581)","v":""},null,{"$f":"IF(Pivot!J581=\"\",\"\",Pivot!J581)","v":""},{"$f":"IF(Pivot!I581=\"\",\"\",Pivot!I581)","v":""},null,null,null,null,null,null,{"$f":"IF(C584=\"\",\"\",C584*L584)","v":""},{"$f":"IF(F584=\"\",\"\",M584-F584)","v":""},{"$error":"#VALUE!"},null,{"$f":"IF(C584=\"\",\"\",C584*P584)","v":""},{"$f":"IF(F584=\"\",\"\",Q584-F584)","v":""},{"$f":"IF(F584=\"\",\"\",R584/F584)","v":""}]
[{"$f":"IF(Pivot!G582=\"\",\"\",Pivot!G582)","v":""},null,{"$f":"IF(Pivot!H582=\"\",\"\",Pivot!H582)","v":""},null,{"$f":"IF(Pivot!J582=\"\",\"\",Pivot!J582)","v":""},{"$f":"IF(Pivot!I582=\"\",\"\",Pivot!I582)","v":""},null,null,null,null,null,null,"","",{"$error":"#VALUE!"},null,"","",""]
[{"$f":"IF(Pivot!G583=\"\",\"\",Pivot!G583)","v":""},null,{"$f":"IF(Pivot!H583=\"\",\"\",Pivot!H583)","v":""},null,{"$f":"IF(Pivot!J583=\"\",\"\",Pivot!J583)","v":""},{"$f":"IF(Pivot!I583=\"\",\"\",Pivot!I583)","v":""},null,null,null,null,null,null,"","",{"$error":"#VALUE!"},null,"","",""]
[{"$f":"IF(Pivot!G584=\"\",\"\",Pivot!G584)","v":""},null,{"$f":"IF(Pivot!H584=\"\",\"\",Pivot!H584)","v":""},null,{"$f":"IF(Pivot!J584=\"\",\"\",Pivot!J584)","v":""},{"$f":"IF(Pivot!I584=\"\",\"\",Pivot!I584)","v":""},null,null,null,null,null,null,"","",{"$error":"#VALUE!"},null,"","",""]
[{"$f":"IF(Pivot!G585=\"\",\"\",Pivot!G585)","v":""},null,{"$f":"IF(Pivot!H585=\"\",\"\",Pivot!H585)","v":""},null,{"$f":"IF(Pivot!J585=\"\",\"\",Pivot!J585)","v":""},{"$f":"IF(Pivot!I585=\"\",\"\",Pivot!I585)","v":""},null,null,null,null,null,null,"","",{"$error":"#VALUE!"},null,"","",""]
[{"$f":"IF(Pivot!G586=\"\",\"\",Pivot!G586)","v":""},null,{"$f":"IF(Pivot!H586=\"\",\"\",Pivot!H586)","v":""},null,{"$f":"IF(Pivot!J586=\"\",\"\",Pivot!J586)","v":""},{"$f":"IF(Pivot!I586=\"\",\"\",Pivot!I586)","v":""},null,null,null,null,null,null,"","",{"$error":"#VALUE!"},null,"","",""]
[{"$f":"IF(Pivot!G587=\"\",\"\",Pivot!G587)","v":""},null,{"$f":"IF(Pivot!H587=\"\",\"\",Pivot!H587)","v":""},null,{"$f":"IF(Pivot!J587=\"\",\"\",Pivot!J587)","v":""},{"$f":"IF(Pivot!I587=\"\",\"\",Pivot!I587)","v":""},null,null,null,null,null,null,"","",{"$error":"#VALUE!"},null,"","",""]
[{"$f":"IF(Pivot!G588=\"\",\"\",Pivot!G588)","v":""},null,{"$f":"IF(Pivot!H588=\"\",\"\",Pivot!H588)","v":""},null,{"$f":"IF(Pivot!J588=\"\",\"\",Pivot!J588)","v":""},{"$f":"IF(Pivot!I588=\"\",\"\",Pivot!I588)","v":""},null,null,null,null,null,null,"","",{"$error":"#VALUE!"},null,"","",""]
[{"$f":"IF(Pivot!G589=\"\",\"\",Pivot!G589)","v":""},null,{"$f":"IF(Pivot!H589=\"\",\"\",Pivot!H589)","v":""},null,{"$f":"IF(Pivot!J589=\"\",\"\",Pivot!J589)","v":""},{"$f":"IF(Pivot!I589=\"\",\"\",Pivot!I589)","v":""},null,null,null,null,null,null,"","",{"$error":"#VALUE!"},null,"","",""]
[{"$f":"IF(Pivot!G590=\"\",\"\",Pivot!G590)","v":""},null,{"$f":"IF(Pivot!H590=\"\",\"\",Pivot!H590)","v":""},null,{"$f":"IF(Pivot!J590=\"\",\"\",Pivot!J590)","v":""},{"$f":"IF(Pivot!I590=\"\",\"\",Pivot!I590)","v":""},null,null,null,null,null,null,"","",{"$error":"#VALUE!"},null,"","",""]
[{"$f":"IF(Pivot!G591=\"\",\"\",Pivot!G591)","v":""},null,{"$f":"IF(Pivot!H591=\"\",\"\",Pivot!H591)","v":""},null,{"$f":"IF(Pivot!J591=\"\",\"\",Pivot!J591)","v":""},{"$f":"IF(Pivot!I591=\"\",\"\",Pivot!I591)","v":""},null,null,null,null,null,null,"","",{"$error":"#VALUE!"},null,"","",""]
[{"$f":"IF(Pivot!G592=\"\",\"\",Pivot!G592)","v":""},null,{"$f":"IF(Pivot!H592=\"\",\"\",Pivot!H592)","v":""},null,{"$f":"IF(Pivot!J592=\"\",\"\",Pivot!J592)","v":""},{"$f":"IF(Pivot!I592=\"\",\"\",Pivot!I592)","v":""},null,null,null,null,null,null,"","",{"$error":"#VALUE!"},null,"","",""]
[{"$f":"IF(Pivot!G593=\"\",\"\",Pivot!G593)","v":""},null,{"$f":"IF(Pivot!H593=\"\",\"\",Pivot!H593)","v":""},null,{"$f":"IF(Pivot!J593=\"\",\"\",Pivot!J593)","v":""},{"$f":"IF(Pivot!I593=\"\",\"\",Pivot!I593)","v":""},null,null,null,null,null,null,"","",{"$error":"#VALUE!"},null,"","",""]
[{"$f":"IF(Pivot!G594=\"\",\"\",Pivot!G594)","v":""},null,{"$f":"IF(Pivot!H594=\"\",\"\",Pivot!H594)","v":""},null,{"$f":"IF(Pivot!J594=\"\",\"\",Pivot!J594)","v":""},{"$f":"IF(Pivot!I594=\"\",\"\",Pivot!I594)","v":""},null,null,null,null,null,null,"","",{"$error":"#VALUE!"},null,"","",""]
[{"$f":"IF(Pivot!G595=\"\",\"\",Pivot!G595)","v":""},null,{"$f":"IF(Pivot!H595=\"\",\"\",Pivot!H595)","v":""},null,{"$f":"IF(Pivot!J595=\"\",\"\",Pivot!J595)","v":""},{"$f":"IF(Pivot!I595=\"\",\"\",Pivot!I595)","v":""},null,null,null,null,null,null,"","",{"$error":"#VALUE!"},null,"","",""]
[{"$f":"IF(Pivot!G596=\"\",\"\",Pivot!G596)","v":""},null,{"$f":"IF(Pivot!H596=\"\",\"\",Pivot!H596)","v":""},null,{"$f":"IF(Pivot!J596=\"\",\"\",Pivot!J596)","v":""},{"$f":"IF(Pivot!I596=\"\",\"\",Pivot!I596)","v":""},null,null,null,null,null,null,"","",{"$error":"#VALUE!"},null,"","",""]
[{"$f":"IF(Pivot!G597=\"\",\"\",Pivot!G597)","v":""},null,{"$f":"IF(Pivot!H597=\"\",\"\",Pivot!H597)","v":""},null,{"$f":"IF(Pivot!J597=\"\",\"\",Pivot!J597)","v":""},{"$f":"IF(Pivot!I597=\"\",\"\",Pivot!I597)","v":""},null,null,null,null,null,null,"","",{"$error":"#VALUE!"},null,"","",""]
[{"$f":"IF(Pivot!G598=\"\",\"\",Pivot!G598)","v":""},null,{"$f":"IF(Pivot!H598=\"\",\"\",Pivot!H598)","v":""},null,{"$f":"IF(Pivot!J598=\"\",\"\",Pivot!J598)","v":""},{"$f":"IF(Pivot!I598=\"\",\"\",Pivot!I598)","v":""},null,null,null,null,null,null,"","",{"$error":"#VALUE!"},null,"","",""]
[{"$f":"IF(Pivot!G599=\"\",\"\",Pivot!G599)","v":""},null,{"$f":"IF(Pivot!H599=\"\",\"\",Pivot!H599)","v":""},null,{"$f":"IF(Pivot!J599=\"\",\"\",Pivot!J599)","v":""},{"$f":"IF(Pivot!I599=\"\",\"\",Pivot!I599)","v":""},null,null,null,null,null,null,"","",{"$error":"#VALUE!"},null,"","",""]
[{"$f":"IF(Pivot!G600=\"\",\"\",Pivot!G600)","v":""},null,{"$f":"IF(Pivot!H600=\"\",\"\",Pivot!H600)","v":""},null,{"$f":"IF(Pivot!J600=\"\",\"\",Pivot!J600)","v":""},{"$f":"IF(Pivot!I600=\"\",\"\",Pivot!I600)","v":""},null,null,null,null,null,null,"","",{"$error":"#VALUE!"},null,"","",""]
[{"$f":"IF(Pivot!G601=\"\",\"\",Pivot!G601)","v":""},null,{"$f":"IF(Pivot!H601=\"\",\"\",Pivot!H601)","v":""},null,{"$f":"IF(Pivot!J601=\"\",\"\",Pivot!J601)","v":""},{"$f":"IF(Pivot!I601=\"\",\"\",Pivot!I601)","v":""},null,null,null,null,null,null,"","",{"$error":"#VALUE!"},null,"","",""]
[{"$f":"IF(Pivot!G602=\"\",\"\",Pivot!G602)","v":""},null,{"$f":"IF(Pivot!H602=\"\",\"\",Pivot!H602)","v":""},null,{"$f":"IF(Pivot!J602=\"\",\"\",Pivot!J602)","v":""},{"$f":"IF(Pivot!I602=\"\",\"\",Pivot!I602)","v":""},null,null,null,null,null,null,"","",{"$error":"#VALUE!"},null,"","",""]
[{"$f":"IF(Pivot!G603=\"\",\"\",Pivot!G603)","v":""},null,{"$f":"IF(Pivot!H603=\"\",\"\",Pivot!H603)","v":""},null,{"$f":"IF(Pivot!J603=\"\",\"\",Pivot!J603)","v":""},{"$f":"IF(Pivot!I603=\"\",\"\",Pivot!I603)","v":""},null,null,null,null,null,null,"","",{"$error":"#VALUE!"},null,"","",""]
[{"$f":"IF(Pivot!G604=\"\",\"\",Pivot!G604)","v":""},null,{"$f":"IF(Pivot!H604=\"\",\"\",Pivot!H604)","v":""},null,{"$f":"IF(Pivot!J604=\"\",\"\",Pivot!J604)","v":""},{"$f":"IF(Pivot!I604=\"\",\"\",Pivot!I604)","v":""},null,null,null,null,null,null,"","",{"$error":"#VALUE!"},null,"","",""]
[{"$f":"IF(Pivot!G605=\"\",\"\",Pivot!G605)","v":""},null,{"$f":"IF(Pivot!H605=\"\",\"\",Pivot!H605)","v":""},null,{"$f":"IF(Pivot!J605=\"\",\"\",Pivot!J605)","v":""},{"$f":"IF(Pivot!I605=\"\",\"\",Pivot!I605)","v":""},null,null,null,null,null,null,"","",{"$error":"#VALUE!"},null,"","",""]
[{"$f":"IF(Pivot!G606=\"\",\"\",Pivot!G606)","v":""},null,{"$f":"IF(Pivot!H606=\"\",\"\",Pivot!H606)","v":""},null,{"$f":"IF(Pivot!J606=\"\",\"\",Pivot!J606)","v":""},{"$f":"IF(Pivot!I606=\"\",\"\",Pivot!I606)","v":""},null,null,null,null,null,null,"","",{"$error":"#VALUE!"},null,"","",""]
[{"$f":"IF(Pivot!G607=\"\",\"\",Pivot!G607)","v":""},null,{"$f":"IF(Pivot!H607=\"\",\"\",Pivot!H607)","v":""},null,{"$f":"IF(Pivot!J607=\"\",\"\",Pivot!J607)","v":""},{"$f":"IF(Pivot!I607=\"\",\"\",Pivot!I607)","v":""},null,null,null,null,null,null,"","",{"$error":"#VALUE!"},null,"","",""]
[{"$f":"IF(Pivot!G608=\"\",\"\",Pivot!G608)","v":""},null,{"$f":"IF(Pivot!H608=\"\",\"\",Pivot!H608)","v":""},null,{"$f":"IF(Pivot!J608=\"\",\"\",Pivot!J608)","v":""},{"$f":"IF(Pivot!I608=\"\",\"\",Pivot!I608)","v":""},null,null,null,null,null,null,"","",{"$error":"#VALUE!"},null,"","",""]
[{"$f":"IF(Pivot!G609=\"\",\"\",Pivot!G609)","v":""},null,{"$f":"IF(Pivot!H609=\"\",\"\",Pivot!H609)","v":""},null,{"$f":"IF(Pivot!J609=\"\",\"\",Pivot!J609)","v":""},{"$f":"IF(Pivot!I609=\"\",\"\",Pivot!I609)","v":""},null,null,null,null,null,null,"","",{"$error":"#VALUE!"},null,"","",""]
[{"$f":"IF(Pivot!G610=\"\",\"\",Pivot!G610)","v":""},null,{"$f":"IF(Pivot!H610=\"\",\"\",Pivot!H610)","v":""},null,{"$f":"IF(Pivot!J610=\"\",\"\",Pivot!J610)","v":""},{"$f":"IF(Pivot!I610=\"\",\"\",Pivot!I610)","v":""},null,null,null,null,null,null,"","",{"$error":"#VALUE!"},null,"","",""]
[{"$f":"IF(Pivot!G611=\"\",\"\",Pivot!G611)","v":""},null,{"$f":"IF(Pivot!H611=\"\",\"\",Pivot!H611)","v":""},null,{"$f":"IF(Pivot!J611=\"\",\"\",Pivot!J611)","v":""},{"$f":"IF(Pivot!I611=\"\",\"\",Pivot!I611)","v":""},null,null,null,null,null,null,"","",{"$error":"#VALUE!"},null,"","",""]
[{"$f":"IF(Pivot!G612=\"\",\"\",Pivot!G612)","v":""},null,{"$f":"IF(Pivot!H612=\"\",\"\",Pivot!H612)","v":""},null,{"$f":"IF(Pivot!J612=\"\",\"\",Pivot!J612)","v":""},{"$f":"IF(Pivot!I612=\"\",\"\",Pivot!I612)","v":""},null,null,null,null,null,null,"","",{"$error":"#VALUE!"},null,"","",""]
[{"$f":"IF(Pivot!G613=\"\",\"\",Pivot!G613)","v":""},null,{"$f":"IF(Pivot!H613=\"\",\"\",Pivot!H613)","v":""},null,{"$f":"IF(Pivot!J613=\"\",\"\",Pivot!J613)","v":""},{"$f":"IF(Pivot!I613=\"\",\"\",Pivot!I613)","v":""},null,null,null,null,null,null,"","",{"$error":"#VALUE!"},null,"","",""]
[{"$f":"IF(Pivot!G614=\"\",\"\",Pivot!G614)","v":""},null,{"$f":"IF(Pivot!H614=\"\",\"\",Pivot!H614)","v":""},null,{"$f":"IF(Pivot!J614=\"\",\"\",Pivot!J614)","v":""},{"$f":"IF(Pivot!I614=\"\",\"\",Pivot!I614)","v":""},null,null,null,null,null,null,"","",{"$error":"#VALUE!"},null,"","",""]
[{"$f":"IF(Pivot!G615=\"\",\"\",Pivot!G615)","v":""},null,{"$f":"IF(Pivot!H615=\"\",\"\",Pivot!H615)","v":""},null,{"$f":"IF(Pivot!J615=\"\",\"\",Pivot!J615)","v":""},{"$f":"IF(Pivot!I615=\"\",\"\",Pivot!I615)","v":""},null,null,null,null,null,null,"","",{"$error":"#VALUE!"},null,"","",""]
[{"$f":"IF(Pivot!G616=\"\",\"\",Pivot!G616)","v":""},null,{"$f":"IF(Pivot!H616=\"\",\"\",Pivot!H616)","v":""},null,{"$f":"IF(Pivot!J616=\"\",\"\",Pivot!J616)","v":""},{"$f":"IF(Pivot!I616=\"\",\"\",Pivot!I616)","v":""},null,null,null,null,null,null,"","",{"$error":"#VALUE!"},null,"","",""]
[{"$f":"IF(Pivot!G617=\"\",\"\",Pivot!G617)","v":""},null,{"$f":"IF(Pivot!H617=\"\",\"\",Pivot!H617)","v":""},null,{"$f":"IF(Pivot!J617=\"\",\"\",Pivot!J617)","v":""},{"$f":"IF(Pivot!I617=\"\",\"\",Pivot!I617)","v":""},null,null,null,null,null,null,"","",{"$error":"#VALUE!"},null,"","",""]
[{"$f":"IF(Pivot!G618=\"\",\"\",Pivot!G618)","v":""},null,{"$f":"IF(Pivot!H618=\"\",\"\",Pivot!H618)","v":""},null,{"$f":"IF(Pivot!J618=\"\",\"\",Pivot!J618)","v":""},{"$f":"IF(Pivot!I618=\"\",\"\",Pivot!I618)","v":""},null,null,null,null,null,null,"","",{"$error":"#VALUE!"},null,"","",""]
[{"$f":"IF(Pivot!G619=\"\",\"\",Pivot!G619)","v":""},null,{"$f":"IF(Pivot!H619=\"\",\"\",Pivot!H619)","v":""},null,{"$f":"IF(Pivot!J619=\"\",\"\",Pivot!J619)","v":""},{"$f":"IF(Pivot!I619=\"\",\"\",Pivot!I619)","v":""},null,null,null,null,null,null,"","",{"$error":"#VALUE!"},null,"","",""]
[{"$f":"IF(Pivot!G620=\"\",\"\",Pivot!G620)","v":""},null,{"$f":"IF(Pivot!H620=\"\",\"\",Pivot!H620)","v":""},null,{"$f":"IF(Pivot!J620=\"\",\"\",Pivot!J620)","v":""},{"$f":"IF(Pivot!I620=\"\",\"\",Pivot!I620)","v":""},null,null,null,null,null,null,"","",{"$error":"#VALUE!"},null,"","",""]
[{"$f":"IF(Pivot!G621=\"\",\"\",Pivot!G621)","v":""},null,{"$f":"IF(Pivot!H621=\"\",\"\",Pivot!H621)","v":""},null,{"$f":"IF(Pivot!J621=\"\",\"\",Pivot!J621)","v":""},{"$f":"IF(Pivot!I621=\"\",\"\",Pivot!I621)","v":""},null,null,null,null,null,null,"","",{"$error":"#VALUE!"},null,"","",""]
[{"$f":"IF(Pivot!G622=\"\",\"\",Pivot!G622)","v":""},null,{"$f":"IF(Pivot!H622=\"\",\"\",Pivot!H622)","v":""},null,{"$f":"IF(Pivot!J622=\"\",\"\",Pivot!J622)","v":""},{"$f":"IF(Pivot!I622=\"\",\"\",Pivot!I622)","v":""},null,null,null,null,null,null,"","",{"$error":"#VALUE!"},null,"","",""]
[{"$f":"IF(Pivot!G623=\"\",\"\",Pivot!G623)","v":""},null,{"$f":"IF(Pivot!H623=\"\",\"\",Pivot!H623)","v":""},null,{"$f":"IF(Pivot!J623=\"\",\"\",Pivot!J623)","v":""},{"$f":"IF(Pivot!I623=\"\",\"\",Pivot!I623)","v":""},null,null,null,null,null,null,"","",{"$error":"#VALUE!"},null,"","",""]
[{"$f":"IF(Pivot!G624=\"\",\"\",Pivot!G624)","v":""},null,{"$f":"IF(Pivot!H624=\"\",\"\",Pivot!H624)","v":""},null,{"$f":"IF(Pivot!J624=\"\",\"\",Pivot!J624)","v":""},{"$f":"IF(Pivot!I624=\"\",\"\",Pivot!I624)","v":""},null,null,null,null,null,null,"","",{"$error":"#VALUE!"},null,"","",""]
[{"$f":"IF(Pivot!G625=\"\",\"\",Pivot!G625)","v":""},null,{"$f":"IF(Pivot!H625=\"\",\"\",Pivot!H625)","v":""},null,{"$f":"IF(Pivot!J625=\"\",\"\",Pivot!J625)","v":""},{"$f":"IF(Pivot!I625=\"\",\"\",Pivot!I625)","v":""},null,null,null,null,null,null,"","",{"$error":"#VALUE!"},null,"","",""]
[{"$f":"IF(Pivot!G626=\"\",\"\",Pivot!G626)","v":""},null,{"$f":"IF(Pivot!H626=\"\",\"\",Pivot!H626)","v":""},null,{"$f":"IF(Pivot!J626=\"\",\"\",Pivot!J626)","v":""},{"$f":"IF(Pivot!I626=\"\",\"\",Pivot!I626)","v":""},null,null,null,null,null,null,"","",{"$error":"#VALUE!"},null,"","",""]
[{"$f":"IF(Pivot!G627=\"\",\"\",Pivot!G627)","v":""},null,{"$f":"IF(Pivot!H627=\"\",\"\",Pivot!H627)","v":""},null,{"$f":"IF(Pivot!J627=\"\",\"\",Pivot!J627)","v":""},{"$f":"IF(Pivot!I627=\"\",\"\",Pivot!I627)","v":""},null,null,null,null,null,null,"","",{"$error":"#VALUE!"},null,"","",""]
[{"$f":"IF(Pivot!G628=\"\",\"\",Pivot!G628)","v":""},null,{"$f":"IF(Pivot!H628=\"\",\"\",Pivot!H628)","v":""},null,{"$f":"IF(Pivot!J628=\"\",\"\",Pivot!J628)","v":""},{"$f":"IF(Pivot!I628=\"\",\"\",Pivot!I628)","v":""},null,null,null,null,null,null,"","",{"$error":"#VALUE!"},null,"","",""]
[{"$f":"IF(Pivot!G629=\"\",\"\",Pivot!G629)","v":""},null,{"$f":"IF(Pivot!H629=\"\",\"\",Pivot!H629)","v":""},null,{"$f":"IF(Pivot!J629=\"\",\"\",Pivot!J629)","v":""},{"$f":"IF(Pivot!I629=\"\",\"\",Pivot!I629)","v":""},null,null,null,null,null,null,"","",{"$error":"#VALUE!"},null,"","",""]
[{"$f":"IF(Pivot!G630=\"\",\"\",Pivot!G630)","v":""},null,{"$f":"IF(Pivot!H630=\"\",\"\",Pivot!H630)","v":""},null,{"$f":"IF(Pivot!J630=\"\",\"\",Pivot!J630)","v":""},{"$f":"IF(Pivot!I630=\"\",\"\",Pivot!I630)","v":""},null,null,null,null,null,null,"","",{"$error":"#VALUE!"},null,"","",""]
[{"$f":"IF(Pivot!G631=\"\",\"\",Pivot!G631)","v":""},null,{"$f":"IF(Pivot!H631=\"\",\"\",Pivot!H631)","v":""},null,{"$f":"IF(Pivot!J631=\"\",\"\",Pivot!J631)","v":""},{"$f":"IF(Pivot!I631=\"\",\"\",Pivot!I631)","v":""},null,null,null,null,null,null,"","",{"$error":"#VALUE!"},null,"","",""]
[{"$f":"IF(Pivot!G632=\"\",\"\",Pivot!G632)","v":""},null,{"$f":"IF(Pivot!H632=\"\",\"\",Pivot!H632)","v":""},null,{"$f":"IF(Pivot!J632=\"\",\"\",Pivot!J632)","v":""},{"$f":"IF(Pivot!I632=\"\",\"\",Pivot!I632)","v":""},null,null,null,null,null,null,"","",{"$error":"#VALUE!"},null,"","",""]
[{"$f":"IF(Pivot!G633=\"\",\"\",Pivot!G633)","v":""},null,{"$f":"IF(Pivot!H633=\"\",\"\",Pivot!H633)","v":""},null,{"$f":"IF(Pivot!J633=\"\",\"\",Pivot!J633)","v":""},{"$f":"IF(Pivot!I633=\"\",\"\",Pivot!I633)","v":""},null,null,null,null,null,null,"","",{"$error":"#VALUE!"},null,"","",""]
[{"$f":"IF(Pivot!G634=\"\",\"\",Pivot!G634)","v":""},null,{"$f":"IF(Pivot!H634=\"\",\"\",Pivot!H634)","v":""},null,{"$f":"IF(Pivot!J634=\"\",\"\",Pivot!J634)","v":""},{"$f":"IF(Pivot!I634=\"\",\"\",Pivot!I634)","v":""},null,null,null,null,null,null,"","",{"$error":"#VALUE!"},null,"","",""]
[{"$f":"IF(Pivot!G635=\"\",\"\",Pivot!G635)","v":""},null,{"$f":"IF(Pivot!H635=\"\",\"\",Pivot!H635)","v":""},null,{"$f":"IF(Pivot!J635=\"\",\"\",Pivot!J635)","v":""},{"$f":"IF(Pivot!I635=\"\",\"\",Pivot!I635)","v":""},null,null,null,null,null,null,"","",{"$error":"#VALUE!"},null,"","",""]
[{"$f":"IF(Pivot!G636=\"\",\"\",Pivot!G636)","v":""},null,{"$f":"IF(Pivot!H636=\"\",\"\",Pivot!H636)","v":""},null,{"$f":"IF(Pivot!J636=\"\",\"\",Pivot!J636)","v":""},{"$f":"IF(Pivot!I636=\"\",\"\",Pivot!I636)","v":""},null,null,null,null,null,null,"","",{"$error":"#VALUE!"},null,"","",""]
[{"$f":"IF(Pivot!G637=\"\",\"\",Pivot!G637)","v":""},null,{"$f":"IF(Pivot!H637=\"\",\"\",Pivot!H637)","v":""},null,{"$f":"IF(Pivot!J637=\"\",\"\",Pivot!J637)","v":""},{"$f":"IF(Pivot!I637=\"\",\"\",Pivot!I637)","v":""},null,null,null,null,null,null,"","",{"$error":"#VALUE!"},null,"","",""]
[{"$f":"IF(Pivot!G638=\"\",\"\",Pivot!G638)","v":""},null,{"$f":"IF(Pivot!H638=\"\",\"\",Pivot!H638)","v":""},null,{"$f":"IF(Pivot!J638=\"\",\"\",Pivot!J638)","v":""},{"$f":"IF(Pivot!I638=\"\",\"\",Pivot!I638)","v":""},null,null,null,null,null,null,"","",{"$error":"#VALUE!"},null,"","",""]
[{"$f":"IF(Pivot!G639=\"\",\"\",Pivot!G639)","v":""},null,{"$f":"IF(Pivot!H639=\"\",\"\",Pivot!H639)","v":""},null,{"$f":"IF(Pivot!J639=\"\",\"\",Pivot!J639)","v":""},{"$f":"IF(Pivot!I639=\"\",\"\",Pivot!I639)","v":""},null,null,null,null,null,null,"","",{"$error":"#VALUE!"},null,"","",""]
[{"$f":"IF(Pivot!G640=\"\",\"\",Pivot!G640)","v":""},null,{"$f":"IF(Pivot!H640=\"\",\"\",Pivot!H640)","v":""},null,{"$f":"IF(Pivot!J640=\"\",\"\",Pivot!J640)","v":""},{"$f":"IF(Pivot!I640=\"\",\"\",Pivot!I640)","v":""},null,null,null,null,null,null,"","",{"$error":"#VALUE!"},null,"","",""]
[{"$f":"IF(Pivot!G641=\"\",\"\",Pivot!G641)","v":""},null,{"$f":"IF(Pivot!H641=\"\",\"\",Pivot!H641)","v":""},null,{"$f":"IF(Pivot!J641=\"\",\"\",Pivot!J641)","v":""},{"$f":"IF(Pivot!I641=\"\",\"\",Pivot!I641)","v":""},null,null,null,null,null,null,"","",{"$error":"#VALUE!"},null,"","",""]
[{"$f":"IF(Pivot!G642=\"\",\"\",Pivot!G642)","v":""},null,{"$f":"IF(Pivot!H642=\"\",\"\",Pivot!H642)","v":""},null,{"$f":"IF(Pivot!J642=\"\",\"\",Pivot!J642)","v":""},{"$f":"IF(Pivot!I642=\"\",\"\",Pivot!I642)","v":""},null,null,null,null,null,null,"","",{"$error":"#VALUE!"},null,"","",""]
[{"$f":"IF(Pivot!G643=\"\",\"\",Pivot!G643)","v":""},null,{"$f":"IF(Pivot!H643=\"\",\"\",Pivot!H643)","v":""},null,{"$f":"IF(Pivot!J643=\"\",\"\",Pivot!J643)","v":""},{"$f":"IF(Pivot!I643=\"\",\"\",Pivot!I643)","v":""},null,null,null,null,null,null,"","",{"$error":"#VALUE!"},null,"","",""]
[{"$f":"IF(Pivot!G644=\"\",\"\",Pivot!G644)","v":""},null,{"$f":"IF(Pivot!H644=\"\",\"\",Pivot!H644)","v":""},null,{"$f":"IF(Pivot!J644=\"\",\"\",Pivot!J644)","v":""},{"$f":"IF(Pivot!I644=\"\",\"\",Pivot!I644)","v":""},null,null,null,null,null,null,"","",{"$f":"N647/M647","v":{"$error":"#VALUE!"}},null,"","",""]
[{"$f":"IF(Pivot!G645=\"\",\"\",Pivot!G645)","v":""},null,{"$f":"IF(Pivot!H645=\"\",\"\",Pivot!H645)","v":""},null,{"$f":"IF(Pivot!J645=\"\",\"\",Pivot!J645)","v":""},{"$f":"IF(Pivot!I645=\"\",\"\",Pivot!I645)","v":""},null,null,null,null,null,null,{"$f":"IF(C648=\"\",\"\",C648*L648)","v":""},{"$f":"IF(F648=\"\",\"\",M648-F648)","v":""},{"$error":"#VALUE!"},null,{"$f":"IF(C648=\"\",\"\",C648*P648)","v":""},{"$f":"IF(F648=\"\",\"\",Q648-F648)","v":""},{"$f":"IF(F648=\"\",\"\",R648/F648)","v":""}]
[{"$f":"IF(Pivot!G646=\"\",\"\",Pivot!G646)","v":""},null,{"$f":"IF(Pivot!H646=\"\",\"\",Pivot!H646)","v":""},null,{"$f":"IF(Pivot!J646=\"\",\"\",Pivot!J646)","v":""},{"$f":"IF(Pivot!I646=\"\",\"\",Pivot!I646)","v":""},null,null,null,null,null,null,"","",{"$error":"#VALUE!"},null,"","",""]
[{"$f":"IF(Pivot!G647=\"\",\"\",Pivot!G647)","v":""},null,{"$f":"IF(Pivot!H647=\"\",\"\",Pivot!H647)","v":""},null,{"$f":"IF(Pivot!J647=\"\",\"\",Pivot!J647)","v":""},{"$f":"IF(Pivot!I647=\"\",\"\",Pivot!I647)","v":""},null,null,null,null,null,null,"","",{"$error":"#VALUE!"},null,"","",""]
[{"$f":"IF(Pivot!G648=\"\",\"\",Pivot!G648)","v":""},null,{"$f":"IF(Pivot!H648=\"\",\"\",Pivot!H648)","v":""},null,{"$f":"IF(Pivot!J648=\"\",\"\",Pivot!J648)","v":""},{"$f":"IF(Pivot!I648=\"\",\"\",Pivot!I648)","v":""},null,null,null,null,null,null,"","",{"$error":"#VALUE!"},null,"","",""]
[{"$f":"IF(Pivot!G649=\"\",\"\",Pivot!G649)","v":""},null,{"$f":"IF(Pivot!H649=\"\",\"\",Pivot!H649)","v":""},null,{"$f":"IF(Pivot!J649=\"\",\"\",Pivot!J649)","v":""},{"$f":"IF(Pivot!I649=\"\",\"\",Pivot!I649)","v":""},null,null,null,null,null,null,"","",{"$error":"#VALUE!"},null,"","",""]
[{"$f":"IF(Pivot!G650=\"\",\"\",Pivot!G650)","v":""},null,{"$f":"IF(Pivot!H650=\"\",\"\",Pivot!H650)","v":""},null,{"$f":"IF(Pivot!J650=\"\",\"\",Pivot!J650)","v":""},{"$f":"IF(Pivot!I650=\"\",\"\",Pivot!I650)","v":""},null,null,null,null,null,null,"","",{"$error":"#VALUE!"},null,"","",""]
[{"$f":"IF(Pivot!G651=\"\",\"\",Pivot!G651)","v":""},null,{"$f":"IF(Pivot!H651=\"\",\"\",Pivot!H651)","v":""},null,{"$f":"IF(Pivot!J651=\"\",\"\",Pivot!J651)","v":""},{"$f":"IF(Pivot!I651=\"\",\"\",Pivot!I651)","v":""},null,null,null,null,null,null,"","",{"$error":"#VALUE!"},null,"","",""]
[{"$f":"IF(Pivot!G652=\"\",\"\",Pivot!G652)","v":""},null,{"$f":"IF(Pivot!H652=\"\",\"\",Pivot!H652)","v":""},null,{"$f":"IF(Pivot!J652=\"\",\"\",Pivot!J652)","v":""},{"$f":"IF(Pivot!I652=\"\",\"\",Pivot!I652)","v":""},null,null,null,null,null,null,"","",{"$error":"#VALUE!"},null,"","",""]
[{"$f":"IF(Pivot!G653=\"\",\"\",Pivot!G653)","v":""},null,{"$f":"IF(Pivot!H653=\"\",\"\",Pivot!H653)","v":""},null,{"$f":"IF(Pivot!J653=\"\",\"\",Pivot!J653)","v":""},{"$f":"IF(Pivot!I653=\"\",\"\",Pivot!I653)","v":""},null,null,null,null,null,null,"","",{"$error":"#VALUE!"},null,"","",""]
[{"$f":"IF(Pivot!G654=\"\",\"\",Pivot!G654)","v":""},null,{"$f":"IF(Pivot!H654=\"\",\"\",Pivot!H654)","v":""},null,{"$f":"IF(Pivot!J654=\"\",\"\",Pivot!J654)","v":""},{"$f":"IF(Pivot!I654=\"\",\"\",Pivot!I654)","v":""},null,null,null,null,null,null,"","",{"$error":"#VALUE!"},null,"","",""]
[{"$f":"IF(Pivot!G655=\"\",\"\",Pivot!G655)","v":""},null,{"$f":"IF(Pivot!H655=\"\",\"\",Pivot!H655)","v":""},null,{"$f":"IF(Pivot!J655=\"\",\"\",Pivot!J655)","v":""},{"$f":"IF(Pivot!I655=\"\",\"\",Pivot!I655)","v":""},null,null,null,null,null,null,"","",{"$error":"#VALUE!"},null,"","",""]
[{"$f":"IF(Pivot!G656=\"\",\"\",Pivot!G656)","v":""},null,{"$f":"IF(Pivot!H656=\"\",\"\",Pivot!H656)","v":""},null,{"$f":"IF(Pivot!J656=\"\",\"\",Pivot!J656)","v":""},{"$f":"IF(Pivot!I656=\"\",\"\",Pivot!I656)","v":""},null,null,null,null,null,null,"","",{"$error":"#VALUE!"},null,"","",""]
[{"$f":"IF(Pivot!G657=\"\",\"\",Pivot!G657)","v":""},null,{"$f":"IF(Pivot!H657=\"\",\"\",Pivot!H657)","v":""},null,{"$f":"IF(Pivot!J657=\"\",\"\",Pivot!J657)","v":""},{"$f":"IF(Pivot!I657=\"\",\"\",Pivot!I657)","v":""},null,null,null,null,null,null,"","",{"$error":"#VALUE!"},null,"","",""]
[{"$f":"IF(Pivot!G658=\"\",\"\",Pivot!G658)","v":""},null,{"$f":"IF(Pivot!H658=\"\",\"\",Pivot!H658)","v":""},null,{"$f":"IF(Pivot!J658=\"\",\"\",Pivot!J658)","v":""},{"$f":"IF(Pivot!I658=\"\",\"\",Pivot!I658)","v":""},null,null,null,null,null,null,"","",{"$error":"#VALUE!"},null,"","",""]
[{"$f":"IF(Pivot!G659=\"\",\"\",Pivot!G659)","v":""},null,{"$f":"IF(Pivot!H659=\"\",\"\",Pivot!H659)","v":""},null,{"$f":"IF(Pivot!J659=\"\",\"\",Pivot!J659)","v":""},{"$f":"IF(Pivot!I659=\"\",\"\",Pivot!I659)","v":""},null,null,null,null,null,null,"","",{"$error":"#VALUE!"},null,"","",""]
[{"$f":"IF(Pivot!G660=\"\",\"\",Pivot!G660)","v":""},null,{"$f":"IF(Pivot!H660=\"\",\"\",Pivot!H660)","v":""},null,{"$f":"IF(Pivot!J660=\"\",\"\",Pivot!J660)","v":""},{"$f":"IF(Pivot!I660=\"\",\"\",Pivot!I660)","v":""},null,null,null,null,null,null,"","",{"$error":"#VALUE!"},null,"","",""]
[{"$f":"IF(Pivot!G661=\"\",\"\",Pivot!G661)","v":""},null,{"$f":"IF(Pivot!H661=\"\",\"\",Pivot!H661)","v":""},null,{"$f":"IF(Pivot!J661=\"\",\"\",Pivot!J661)","v":""},{"$f":"IF(Pivot!I661=\"\",\"\",Pivot!I661)","v":""},null,null,null,null,null,null,"","",{"$error":"#VALUE!"},null,"","",""]
[{"$f":"IF(Pivot!G662=\"\",\"\",Pivot!G662)","v":""},null,{"$f":"IF(Pivot!H662=\"\",\"\",Pivot!H662)","v":""},null,{"$f":"IF(Pivot!J662=\"\",\"\",Pivot!J662)","v":""},{"$f":"IF(Pivot!I662=\"\",\"\",Pivot!I662)","v":""},null,null,null,null,null,null,"","",{"$error":"#VALUE!"},null,"","",""]
[{"$f":"IF(Pivot!G663=\"\",\"\",Pivot!G663)","v":""},null,{"$f":"IF(Pivot!H663=\"\",\"\",Pivot!H663)","v":""},null,{"$f":"IF(Pivot!J663=\"\",\"\",Pivot!J663)","v":""},{"$f":"IF(Pivot!I663=\"\",\"\",Pivot!I663)","v":""},null,null,null,null,null,null,"","",{"$error":"#VALUE!"},null,"","",""]
[{"$f":"IF(Pivot!G664=\"\",\"\",Pivot!G664)","v":""},null,{"$f":"IF(Pivot!H664=\"\",\"\",Pivot!H664)","v":""},null,{"$f":"IF(Pivot!J664=\"\",\"\",Pivot!J664)","v":""},{"$f":"IF(Pivot!I664=\"\",\"\",Pivot!I664)","v":""},null,null,null,null,null,null,"","",{"$error":"#VALUE!"},null,"","",""]
[{"$f":"IF(Pivot!G665=\"\",\"\",Pivot!G665)","v":""},null,{"$f":"IF(Pivot!H665=\"\",\"\",Pivot!H665)","v":""},null,{"$f":"IF(Pivot!J665=\"\",\"\",Pivot!J665)","v":""},{"$f":"IF(Pivot!I665=\"\",\"\",Pivot!I665)","v":""},null,null,null,null,null,null,"","",{"$error":"#VALUE!"},null,"","",""]
[{"$f":"IF(Pivot!G666=\"\",\"\",Pivot!G666)","v":""},null,{"$f":"IF(Pivot!H666=\"\",\"\",Pivot!H666)","v":""},null,{"$f":"IF(Pivot!J666=\"\",\"\",Pivot!J666)","v":""},{"$f":"IF(Pivot!I666=\"\",\"\",Pivot!I666)","v":""},null,null,null,null,null,null,"","",{"$error":"#VALUE!"},null,"","",""]
[{"$f":"IF(Pivot!G667=\"\",\"\",Pivot!G667)","v":""},null,{"$f":"IF(Pivot!H667=\"\",\"\",Pivot!H667)","v":""},null,{"$f":"IF(Pivot!J667=\"\",\"\",Pivot!J667)","v":""},{"$f":"IF(Pivot!I667=\"\",\"\",Pivot!I667)","v":""},null,null,null,null,null,null,"","",{"$error":"#VALUE!"},null,"","",""]
[{"$f":"IF(Pivot!G668=\"\",\"\",Pivot!G668)","v":""},null,{"$f":"IF(Pivot!H668=\"\",\"\",Pivot!H668)","v":""},null,{"$f":"IF(Pivot!J668=\"\",\"\",Pivot!J668)","v":""},{"$f":"IF(Pivot!I668=\"\",\"\",Pivot!I668)","v":""},null,null,null,null,null,null,"","",{"$error":"#VALUE!"},null,"","",""]
[{"$f":"IF(Pivot!G669=\"\",\"\",Pivot!G669)","v":""},null,{"$f":"IF(Pivot!H669=\"\",\"\",Pivot!H669)","v":""},null,{"$f":"IF(Pivot!J669=\"\",\"\",Pivot!J669)","v":""},{"$f":"IF(Pivot!I669=\"\",\"\",Pivot!I669)","v":""},null,null,null,null,null,null,"","",{"$error":"#VALUE!"},null,"","",""]
[{"$f":"IF(Pivot!G670=\"\",\"\",Pivot!G670)","v":""},null,{"$f":"IF(Pivot!H670=\"\",\"\",Pivot!H670)","v":""},null,{"$f":"IF(Pivot!J670=\"\",\"\",Pivot!J670)","v":""},{"$f":"IF(Pivot!I670=\"\",\"\",Pivot!I670)","v":""},null,null,null,null,null,null,"","",{"$error":"#VALUE!"},null,"","",""]
[{"$f":"IF(Pivot!G671=\"\",\"\",Pivot!G671)","v":""},null,{"$f":"IF(Pivot!H671=\"\",\"\",Pivot!H671)","v":""},null,{"$f":"IF(Pivot!J671=\"\",\"\",Pivot!J671)","v":""},{"$f":"IF(Pivot!I671=\"\",\"\",Pivot!I671)","v":""},null,null,null,null,null,null,"","",{"$error":"#VALUE!"},null,"","",""]
[{"$f":"IF(Pivot!G672=\"\",\"\",Pivot!G672)","v":""},null,{"$f":"IF(Pivot!H672=\"\",\"\",Pivot!H672)","v":""},null,{"$f":"IF(Pivot!J672=\"\",\"\",Pivot!J672)","v":""},{"$f":"IF(Pivot!I672=\"\",\"\",Pivot!I672)","v":""},null,null,null,null,null,null,"","",{"$error":"#VALUE!"},null,"","",""]
[{"$f":"IF(Pivot!G673=\"\",\"\",Pivot!G673)","v":""},null,{"$f":"IF(Pivot!H673=\"\",\"\",Pivot!H673)","v":""},null,{"$f":"IF(Pivot!J673=\"\",\"\",Pivot!J673)","v":""},{"$f":"IF(Pivot!I673=\"\",\"\",Pivot!I673)","v":""},null,null,null,null,null,null,"","",{"$error":"#VALUE!"},null,"","",""]
[{"$f":"IF(Pivot!G674=\"\",\"\",Pivot!G674)","v":""},null,{"$f":"IF(Pivot!H674=\"\",\"\",Pivot!H674)","v":""},null,{"$f":"IF(Pivot!J674=\"\",\"\",Pivot!J674)","v":""},{"$f":"IF(Pivot!I674=\"\",\"\",Pivot!I674)","v":""},null,null,null,null,null,null,"","",{"$error":"#VALUE!"},null,"","",""]
[{"$f":"IF(Pivot!G675=\"\",\"\",Pivot!G675)","v":""},null,{"$f":"IF(Pivot!H675=\"\",\"\",Pivot!H675)","v":""},null,{"$f":"IF(Pivot!J675=\"\",\"\",Pivot!J675)","v":""},{"$f":"IF(Pivot!I675=\"\",\"\",Pivot!I675)","v":""},null,null,null,null,null,null,"","",{"$error":"#VALUE!"},null,"","",""]
[{"$f":"IF(Pivot!G676=\"\",\"\",Pivot!G676)","v":""},null,{"$f":"IF(Pivot!H676=\"\",\"\",Pivot!H676)","v":""},null,{"$f":"IF(Pivot!J676=\"\",\"\",Pivot!J676)","v":""},{"$f":"IF(Pivot!I676=\"\",\"\",Pivot!I676)","v":""},null,null,null,null,null,null,"","",{"$error":"#VALUE!"},null,"","",""]
[{"$f":"IF(Pivot!G677=\"\",\"\",Pivot!G677)","v":""},null,{"$f":"IF(Pivot!H677=\"\",\"\",Pivot!H677)","v":""},null,{"$f":"IF(Pivot!J677=\"\",\"\",Pivot!J677)","v":""},{"$f":"IF(Pivot!I677=\"\",\"\",Pivot!I677)","v":""},null,null,null,null,null,null,"","",{"$error":"#VALUE!"},null,"","",""]
[{"$f":"IF(Pivot!G678=\"\",\"\",Pivot!G678)","v":""},null,{"$f":"IF(Pivot!H678=\"\",\"\",Pivot!H678)","v":""},null,{"$f":"IF(Pivot!J678=\"\",\"\",Pivot!J678)","v":""},{"$f":"IF(Pivot!I678=\"\",\"\",Pivot!I678)","v":""},null,null,null,null,null,null,"","",{"$error":"#VALUE!"},null,"","",""]
[{"$f":"IF(Pivot!G679=\"\",\"\",Pivot!G679)","v":""},null,{"$f":"IF(Pivot!H679=\"\",\"\",Pivot!H679)","v":""},null,{"$f":"IF(Pivot!J679=\"\",\"\",Pivot!J679)","v":""},{"$f":"IF(Pivot!I679=\"\",\"\",Pivot!I679)","v":""},null,null,null,null,null,null,"","",{"$error":"#VALUE!"},null,"","",""]
[{"$f":"IF(Pivot!G680=\"\",\"\",Pivot!G680)","v":""},null,{"$f":"IF(Pivot!H680=\"\",\"\",Pivot!H680)","v":""},null,{"$f":"IF(Pivot!J680=\"\",\"\",Pivot!J680)","v":""},{"$f":"IF(Pivot!I680=\"\",\"\",Pivot!I680)","v":""},null,null,null,null,null,null,"","",{"$error":"#VALUE!"},null,"","",""]
[{"$f":"IF(Pivot!G681=\"\",\"\",Pivot!G681)","v":""},null,{"$f":"IF(Pivot!H681=\"\",\"\",Pivot!H681)","v":""},null,{"$f":"IF(Pivot!J681=\"\",\"\",Pivot!J681)","v":""},{"$f":"IF(Pivot!I681=\"\",\"\",Pivot!I681)","v":""},null,null,null,null,null,null,"","",{"$error":"#VALUE!"},null,"","",""]
[{"$f":"IF(Pivot!G682=\"\",\"\",Pivot!G682)","v":""},null,{"$f":"IF(Pivot!H682=\"\",\"\",Pivot!H682)","v":""},null,{"$f":"IF(Pivot!J682=\"\",\"\",Pivot!J682)","v":""},{"$f":"IF(Pivot!I682=\"\",\"\",Pivot!I682)","v":""},null,null,null,null,null,null,"","",{"$error":"#VALUE!"},null,"","",""]
[{"$f":"IF(Pivot!G683=\"\",\"\",Pivot!G683)","v":""},null,{"$f":"IF(Pivot!H683=\"\",\"\",Pivot!H683)","v":""},null,{"$f":"IF(Pivot!J683=\"\",\"\",Pivot!J683)","v":""},{"$f":"IF(Pivot!I683=\"\",\"\",Pivot!I683)","v":""},null,null,null,null,null,null,"","",{"$error":"#VALUE!"},null,"","",""]
[{"$f":"IF(Pivot!G684=\"\",\"\",Pivot!G684)","v":""},null,{"$f":"IF(Pivot!H684=\"\",\"\",Pivot!H684)","v":""},null,{"$f":"IF(Pivot!J684=\"\",\"\",Pivot!J684)","v":""},{"$f":"IF(Pivot!I684=\"\",\"\",Pivot!I684)","v":""},null,null,null,null,null,null,"","",{"$error":"#VALUE!"},null,"","",""]
[{"$f":"IF(Pivot!G685=\"\",\"\",Pivot!G685)","v":""},null,{"$f":"IF(Pivot!H685=\"\",\"\",Pivot!H685)","v":""},null,{"$f":"IF(Pivot!J685=\"\",\"\",Pivot!J685)","v":""},{"$f":"IF(Pivot!I685=\"\",\"\",Pivot!I685)","v":""},null,null,null,null,null,null,"","",{"$error":"#VALUE!"},null,"","",""]
[{"$f":"IF(Pivot!G686=\"\",\"\",Pivot!G686)","v":""},null,{"$f":"IF(Pivot!H686=\"\",\"\",Pivot!H686)","v":""},null,{"$f":"IF(Pivot!J686=\"\",\"\",Pivot!J686)","v":""},{"$f":"IF(Pivot!I686=\"\",\"\",Pivot!I686)","v":""},null,null,null,null,null,null,"","",{"$error":"#VALUE!"},null,"","",""]
[{"$f":"IF(Pivot!G687=\"\",\"\",Pivot!G687)","v":""},null,{"$f":"IF(Pivot!H687=\"\",\"\",Pivot!H687)","v":""},null,{"$f":"IF(Pivot!J687=\"\",\"\",Pivot!J687)","v":""},{"$f":"IF(Pivot!I687=\"\",\"\",Pivot!I687)","v":""},null,null,null,null,null,null,"","",{"$error":"#VALUE!"},null,"","",""]
[{"$f":"IF(Pivot!G688=\"\",\"\",Pivot!G688)","v":""},null,{"$f":"IF(Pivot!H688=\"\",\"\",Pivot!H688)","v":""},null,{"$f":"IF(Pivot!J688=\"\",\"\",Pivot!J688)","v":""},{"$f":"IF(Pivot!I688=\"\",\"\",Pivot!I688)","v":""},null,null,null,null,null,null,"","",{"$error":"#VALUE!"},null,"","",""]
[{"$f":"IF(Pivot!G689=\"\",\"\",Pivot!G689)","v":""},null,{"$f":"IF(Pivot!H689=\"\",\"\",Pivot!H689)","v":""},null,{"$f":"IF(Pivot!J689=\"\",\"\",Pivot!J689)","v":""},{"$f":"IF(Pivot!I689=\"\",\"\",Pivot!I689)","v":""},null,null,null,null,null,null,"","",{"$error":"#VALUE!"},null,"","",""]
[{"$f":"IF(Pivot!G690=\"\",\"\",Pivot!G690)","v":""},null,{"$f":"IF(Pivot!H690=\"\",\"\",Pivot!H690)","v":""},null,{"$f":"IF(Pivot!J690=\"\",\"\",Pivot!J690)","v":""},{"$f":"IF(Pivot!I690=\"\",\"\",Pivot!I690)","v":""},null,null,null,null,null,null,"","",{"$error":"#VALUE!"},null,"","",""]
[{"$f":"IF(Pivot!G691=\"\",\"\",Pivot!G691)","v":""},null,{"$f":"IF(Pivot!H691=\"\",\"\",Pivot!H691)","v":""},null,{"$f":"IF(Pivot!J691=\"\",\"\",Pivot!J691)","v":""},{"$f":"IF(Pivot!I691=\"\",\"\",Pivot!I691)","v":""},null,null,null,null,null,null,"","",{"$error":"#VALUE!"},null,"","",""]
[{"$f":"IF(Pivot!G692=\"\",\"\",Pivot!G692)","v":""},null,{"$f":"IF(Pivot!H692=\"\",\"\",Pivot!H692)","v":""},null,{"$f":"IF(Pivot!J692=\"\",\"\",Pivot!J692)","v":""},{"$f":"IF(Pivot!I692=\"\",\"\",Pivot!I692)","v":""},null,null,null,null,null,null,"","",{"$error":"#VALUE!"},null,"","",""]
[{"$f":"IF(Pivot!G693=\"\",\"\",Pivot!G693)","v":""},null,{"$f":"IF(Pivot!H693=\"\",\"\",Pivot!H693)","v":""},null,{"$f":"IF(Pivot!J693=\"\",\"\",Pivot!J693)","v":""},{"$f":"IF(Pivot!I693=\"\",\"\",Pivot!I693)","v":""},null,null,null,null,null,null,"","",{"$error":"#VALUE!"},null,"","",""]
[{"$f":"IF(Pivot!G694=\"\",\"\",Pivot!G694)","v":""},null,{"$f":"IF(Pivot!H694=\"\",\"\",Pivot!H694)","v":""},null,{"$f":"IF(Pivot!J694=\"\",\"\",Pivot!J694)","v":""},{"$f":"IF(Pivot!I694=\"\",\"\",Pivot!I694)","v":""},null,null,null,null,null,null,"","",{"$error":"#VALUE!"},null,"","",""]
[{"$f":"IF(Pivot!G695=\"\",\"\",Pivot!G695)","v":""},null,{"$f":"IF(Pivot!H695=\"\",\"\",Pivot!H695)","v":""},null,{"$f":"IF(Pivot!J695=\"\",\"\",Pivot!J695)","v":""},{"$f":"IF(Pivot!I695=\"\",\"\",Pivot!I695)","v":""},null,null,null,null,null,null,"","",{"$error":"#VALUE!"},null,"","",""]
[{"$f":"IF(Pivot!G696=\"\",\"\",Pivot!G696)","v":""},null,{"$f":"IF(Pivot!H696=\"\",\"\",Pivot!H696)","v":""},null,{"$f":"IF(Pivot!J696=\"\",\"\",Pivot!J696)","v":""},{"$f":"IF(Pivot!I696=\"\",\"\",Pivot!I696)","v":""},null,null,null,null,null,null,"","",{"$error":"#VALUE!"},null,"","",""]
[{"$f":"IF(Pivot!G697=\"\",\"\",Pivot!G697)","v":""},null,{"$f":"IF(Pivot!H697=\"\",\"\",Pivot!H697)","v":""},null,{"$f":"IF(Pivot!J697=\"\",\"\",Pivot!J697)","v":""},{"$f":"IF(Pivot!I697=\"\",\"\",Pivot!I697)","v":""},null,null,null,null,null,null,"","",{"$error":"#VALUE!"},null,"","",""]
[{"$f":"IF(Pivot!G698=\"\",\"\",Pivot!G698)","v":""},null,{"$f":"IF(Pivot!H698=\"\",\"\",Pivot!H698)","v":""},null,{"$f":"IF(Pivot!J698=\"\",\"\",Pivot!J698)","v":""},{"$f":"IF(Pivot!I698=\"\",\"\",Pivot!I698)","v":""},null,null,null,null,null,null,"","",{"$error":"#VALUE!"},null,"","",""]
[{"$f":"IF(Pivot!G699=\"\",\"\",Pivot!G699)","v":""},null,{"$f":"IF(Pivot!H699=\"\",\"\",Pivot!H699)","v":""},null,{"$f":"IF(Pivot!J699=\"\",\"\",Pivot!J699)","v":""},{"$f":"IF(Pivot!I699=\"\",\"\",Pivot!I699)","v":""},null,null,null,null,null,null,"","",{"$error":"#VALUE!"},null,"","",""]
[{"$f":"IF(Pivot!G700=\"\",\"\",Pivot!G700)","v":""},null,{"$f":"IF(Pivot!H700=\"\",\"\",Pivot!H700)","v":""},null,{"$f":"IF(Pivot!J700=\"\",\"\",Pivot!J700)","v":""},{"$f":"IF(Pivot!I700=\"\",\"\",Pivot!I700)","v":""},null,null,null,null,null,null,"","",{"$error":"#VALUE!"},null,"","",""]
[{"$f":"IF(Pivot!G701=\"\",\"\",Pivot!G701)","v":""},null,{"$f":"IF(Pivot!H701=\"\",\"\",Pivot!H701)","v":""},null,{"$f":"IF(Pivot!J701=\"\",\"\",Pivot!J701)","v":""},{"$f":"IF(Pivot!I701=\"\",\"\",Pivot!I701)","v":""},null,null,null,null,null,null,"","",{"$error":"#VALUE!"},null,"","",""]
[{"$f":"IF(Pivot!G702=\"\",\"\",Pivot!G702)","v":""},null,{"$f":"IF(Pivot!H702=\"\",\"\",Pivot!H702)","v":""},null,{"$f":"IF(Pivot!J702=\"\",\"\",Pivot!J702)","v":""},{"$f":"IF(Pivot!I702=\"\",\"\",Pivot!I702)","v":""},null,null,null,null,null,null,"","",{"$error":"#VALUE!"},null,"","",""]
[{"$f":"IF(Pivot!G703=\"\",\"\",Pivot!G703)","v":""},null,{"$f":"IF(Pivot!H703=\"\",\"\",Pivot!H703)","v":""},null,{"$f":"IF(Pivot!J703=\"\",\"\",Pivot!J703)","v":""},{"$f":"IF(Pivot!I703=\"\",\"\",Pivot!I703)","v":""},null,null,null,null,null,null,"","",{"$error":"#VALUE!"},null,"","",""]
[{"$f":"IF(Pivot!G704=\"\",\"\",Pivot!G704)","v":""},null,{"$f":"IF(Pivot!H704=\"\",\"\",Pivot!H704)","v":""},null,{"$f":"IF(Pivot!J704=\"\",\"\",Pivot!J704)","v":""},{"$f":"IF(Pivot!I704=\"\",\"\",Pivot!I704)","v":""},null,null,null,null,null,null,"","",{"$error":"#VALUE!"},null,"","",""]
[{"$f":"IF(Pivot!G705=\"\",\"\",Pivot!G705)","v":""},null,{"$f":"IF(Pivot!H705=\"\",\"\",Pivot!H705)","v":""},null,{"$f":"IF(Pivot!J705=\"\",\"\",Pivot!J705)","v":""},{"$f":"IF(Pivot!I705=\"\",\"\",Pivot!I705)","v":""},null,null,null,null,null,null,"","",{"$error":"#VALUE!"},null,"","",""]
[{"$f":"IF(Pivot!G706=\"\",\"\",Pivot!G706)","v":""},null,{"$f":"IF(Pivot!H706=\"\",\"\",Pivot!H706)","v":""},null,{"$f":"IF(Pivot!J706=\"\",\"\",Pivot!J706)","v":""},{"$f":"IF(Pivot!I706=\"\",\"\",Pivot!I706)","v":""},null,null,null,null,null,null,"","",{"$error":"#VALUE!"},null,"","",""]
[{"$f":"IF(Pivot!G707=\"\",\"\",Pivot!G707)","v":""},null,{"$f":"IF(Pivot!H707=\"\",\"\",Pivot!H707)","v":""},null,{"$f":"IF(Pivot!J707=\"\",\"\",Pivot!J707)","v":""},{"$f":"IF(Pivot!I707=\"\",\"\",Pivot!I707)","v":""},null,null,null,null,null,null,"","",{"$error":"#VALUE!"},null,"","",""]
[{"$f":"IF(Pivot!G708=\"\",\"\",Pivot!G708)","v":""},null,{"$f":"IF(Pivot!H708=\"\",\"\",Pivot!H708)","v":""},null,{"$f":"IF(Pivot!J708=\"\",\"\",Pivot!J708)","v":""},{"$f":"IF(Pivot!I708=\"\",\"\",Pivot!I708)","v":""},null,null,null,null,null,null,"","",{"$f":"N711/M711","v":{"$error":"#VALUE!"}},null,"","",""]
[{"$f":"IF(Pivot!G709=\"\",\"\",Pivot!G709)","v":""},null,{"$f":"IF(Pivot!H709=\"\",\"\",Pivot!H709)","v":""},null,{"$f":"IF(Pivot!J709=\"\",\"\",Pivot!J709)","v":""},{"$f":"IF(Pivot!I709=\"\",\"\",Pivot!I709)","v":""},null,null,null,null,null,null,{"$f":"IF(C712=\"\",\"\",C712*L712)","v":""},{"$f":"IF(F712=\"\",\"\",M712-F712)","v":""},{"$error":"#VALUE!"},null,{"$f":"IF(C712=\"\",\"\",C712*P712)","v":""},{"$f":"IF(F712=\"\",\"\",Q712-F712)","v":""},{"$f":"IF(F712=\"\",\"\",R712/F712)","v":""}]
[{"$f":"IF(Pivot!G710=\"\",\"\",Pivot!G710)","v":""},null,{"$f":"IF(Pivot!H710=\"\",\"\",Pivot!H710)","v":""},null,{"$f":"IF(Pivot!J710=\"\",\"\",Pivot!J710)","v":""},{"$f":"IF(Pivot!I710=\"\",\"\",Pivot!I710)","v":""},null,null,null,null,null,null,"","",{"$error":"#VALUE!"},null,"","",""]
[{"$f":"IF(Pivot!G711=\"\",\"\",Pivot!G711)","v":""},null,{"$f":"IF(Pivot!H711=\"\",\"\",Pivot!H711)","v":""},null,{"$f":"IF(Pivot!J711=\"\",\"\",Pivot!J711)","v":""},{"$f":"IF(Pivot!I711=\"\",\"\",Pivot!I711)","v":""},null,null,null,null,null,null,"","",{"$error":"#VALUE!"},null,"","",""]
[{"$f":"IF(Pivot!G712=\"\",\"\",Pivot!G712)","v":""},null,{"$f":"IF(Pivot!H712=\"\",\"\",Pivot!H712)","v":""},null,{"$f":"IF(Pivot!J712=\"\",\"\",Pivot!J712)","v":""},{"$f":"IF(Pivot!I712=\"\",\"\",Pivot!I712)","v":""},null,null,null,null,null,null,"","",{"$error":"#VALUE!"},null,"","",""]
[{"$f":"IF(Pivot!G713=\"\",\"\",Pivot!G713)","v":""},null,{"$f":"IF(Pivot!H713=\"\",\"\",Pivot!H713)","v":""},null,{"$f":"IF(Pivot!J713=\"\",\"\",Pivot!J713)","v":""},{"$f":"IF(Pivot!I713=\"\",\"\",Pivot!I713)","v":""},null,null,null,null,null,null,"","",{"$error":"#VALUE!"},null,"","",""]
[{"$f":"IF(Pivot!G714=\"\",\"\",Pivot!G714)","v":""},null,{"$f":"IF(Pivot!H714=\"\",\"\",Pivot!H714)","v":""},null,{"$f":"IF(Pivot!J714=\"\",\"\",Pivot!J714)","v":""},{"$f":"IF(Pivot!I714=\"\",\"\",Pivot!I714)","v":""},null,null,null,null,null,null,"","",{"$error":"#VALUE!"},null,"","",""]
[{"$f":"IF(Pivot!G715=\"\",\"\",Pivot!G715)","v":""},null,{"$f":"IF(Pivot!H715=\"\",\"\",Pivot!H715)","v":""},null,{"$f":"IF(Pivot!J715=\"\",\"\",Pivot!J715)","v":""},{"$f":"IF(Pivot!I715=\"\",\"\",Pivot!I715)","v":""},null,null,null,null,null,null,"","",{"$error":"#VALUE!"},null,"","",""]
[{"$f":"IF(Pivot!G716=\"\",\"\",Pivot!G716)","v":""},null,{"$f":"IF(Pivot!H716=\"\",\"\",Pivot!H716)","v":""},null,{"$f":"IF(Pivot!J716=\"\",\"\",Pivot!J716)","v":""},{"$f":"IF(Pivot!I716=\"\",\"\",Pivot!I716)","v":""},null,null,null,null,null,null,"","",{"$error":"#VALUE!"},null,"","",""]
[{"$f":"IF(Pivot!G717=\"\",\"\",Pivot!G717)","v":""},null,{"$f":"IF(Pivot!H717=\"\",\"\",Pivot!H717)","v":""},null,{"$f":"IF(Pivot!J717=\"\",\"\",Pivot!J717)","v":""},{"$f":"IF(Pivot!I717=\"\",\"\",Pivot!I717)","v":""},null,null,null,null,null,null,"","",{"$error":"#VALUE!"},null,"","",""]
[{"$f":"IF(Pivot!G718=\"\",\"\",Pivot!G718)","v":""},null,{"$f":"IF(Pivot!H718=\"\",\"\",Pivot!H718)","v":""},null,{"$f":"IF(Pivot!J718=\"\",\"\",Pivot!J718)","v":""},{"$f":"IF(Pivot!I718=\"\",\"\",Pivot!I718)","v":""},null,null,null,null,null,null,"","",{"$error":"#VALUE!"},null,"","",""]
[{"$f":"IF(Pivot!G719=\"\",\"\",Pivot!G719)","v":""},null,{"$f":"IF(Pivot!H719=\"\",\"\",Pivot!H719)","v":""},null,{"$f":"IF(Pivot!J719=\"\",\"\",Pivot!J719)","v":""},{"$f":"IF(Pivot!I719=\"\",\"\",Pivot!I719)","v":""},null,null,null,null,null,null,"","",{"$error":"#VALUE!"},null,"","",""]
[{"$f":"IF(Pivot!G720=\"\",\"\",Pivot!G720)","v":""},null,{"$f":"IF(Pivot!H720=\"\",\"\",Pivot!H720)","v":""},null,{"$f":"IF(Pivot!J720=\"\",\"\",Pivot!J720)","v":""},{"$f":"IF(Pivot!I720=\"\",\"\",Pivot!I720)","v":""},null,null,null,null,null,null,"","",{"$error":"#VALUE!"},null,"","",""]
[{"$f":"IF(Pivot!G721=\"\",\"\",Pivot!G721)","v":""},null,{"$f":"IF(Pivot!H721=\"\",\"\",Pivot!H721)","v":""},null,{"$f":"IF(Pivot!J721=\"\",\"\",Pivot!J721)","v":""},{"$f":"IF(Pivot!I721=\"\",\"\",Pivot!I721)","v":""},null,null,null,null,null,null,"","",{"$error":"#VALUE!"},null,"","",""]
[{"$f":"IF(Pivot!G722=\"\",\"\",Pivot!G722)","v":""},null,{"$f":"IF(Pivot!H722=\"\",\"\",Pivot!H722)","v":""},null,{"$f":"IF(Pivot!J722=\"\",\"\",Pivot!J722)","v":""},{"$f":"IF(Pivot!I722=\"\",\"\",Pivot!I722)","v":""},null,null,null,null,null,null,"","",{"$error":"#VALUE!"},null,"","",""]
[{"$f":"IF(Pivot!G723=\"\",\"\",Pivot!G723)","v":""},null,{"$f":"IF(Pivot!H723=\"\",\"\",Pivot!H723)","v":""},null,{"$f":"IF(Pivot!J723=\"\",\"\",Pivot!J723)","v":""},{"$f":"IF(Pivot!I723=\"\",\"\",Pivot!I723)","v":""},null,null,null,null,null,null,"","",{"$error":"#VALUE!"},null,"","",""]
[{"$f":"IF(Pivot!G724=\"\",\"\",Pivot!G724)","v":""},null,{"$f":"IF(Pivot!H724=\"\",\"\",Pivot!H724)","v":""},null,{"$f":"IF(Pivot!J724=\"\",\"\",Pivot!J724)","v":""},{"$f":"IF(Pivot!I724=\"\",\"\",Pivot!I724)","v":""},null,null,null,null,null,null,"","",{"$error":"#VALUE!"},null,"","",""]
[{"$f":"IF(Pivot!G725=\"\",\"\",Pivot!G725)","v":""},null,{"$f":"IF(Pivot!H725=\"\",\"\",Pivot!H725)","v":""},null,{"$f":"IF(Pivot!J725=\"\",\"\",Pivot!J725)","v":""},{"$f":"IF(Pivot!I725=\"\",\"\",Pivot!I725)","v":""},null,null,null,null,null,null,"","",{"$error":"#VALUE!"},null,"","",""]
[{"$f":"IF(Pivot!G726=\"\",\"\",Pivot!G726)","v":""},null,{"$f":"IF(Pivot!H726=\"\",\"\",Pivot!H726)","v":""},null,{"$f":"IF(Pivot!J726=\"\",\"\",Pivot!J726)","v":""},{"$f":"IF(Pivot!I726=\"\",\"\",Pivot!I726)","v":""},null,null,null,null,null,null,"","",{"$error":"#VALUE!"},null,"","",""]
[{"$f":"IF(Pivot!G727=\"\",\"\",Pivot!G727)","v":""},null,{"$f":"IF(Pivot!H727=\"\",\"\",Pivot!H727)","v":""},null,{"$f":"IF(Pivot!J727=\"\",\"\",Pivot!J727)","v":""},{"$f":"IF(Pivot!I727=\"\",\"\",Pivot!I727)","v":""},null,null,null,null,null,null,"","",{"$error":"#VALUE!"},null,"","",""]
[{"$f":"IF(Pivot!G728=\"\",\"\",Pivot!G728)","v":""},null,{"$f":"IF(Pivot!H728=\"\",\"\",Pivot!H728)","v":""},null,{"$f":"IF(Pivot!J728=\"\",\"\",Pivot!J728)","v":""},{"$f":"IF(Pivot!I728=\"\",\"\",Pivot!I728)","v":""},null,null,null,null,null,null,"","",{"$error":"#VALUE!"},null,"","",""]
[{"$f":"IF(Pivot!G729=\"\",\"\",Pivot!G729)","v":""},null,{"$f":"IF(Pivot!H729=\"\",\"\",Pivot!H729)","v":""},null,{"$f":"IF(Pivot!J729=\"\",\"\",Pivot!J729)","v":""},{"$f":"IF(Pivot!I729=\"\",\"\",Pivot!I729)","v":""},null,null,null,null,null,null,"","",{"$error":"#VALUE!"},null,"","",""]
[{"$f":"IF(Pivot!G730=\"\",\"\",Pivot!G730)","v":""},null,{"$f":"IF(Pivot!H730=\"\",\"\",Pivot!H730)","v":""},null,{"$f":"IF(Pivot!J730=\"\",\"\",Pivot!J730)","v":""},{"$f":"IF(Pivot!I730=\"\",\"\",Pivot!I730)","v":""},null,null,null,null,null,null,"","",{"$error":"#VALUE!"},null,"","",""]
[{"$f":"IF(Pivot!G731=\"\",\"\",Pivot!G731)","v":""},null,{"$f":"IF(Pivot!H731=\"\",\"\",Pivot!H731)","v":""},null,{"$f":"IF(Pivot!J731=\"\",\"\",Pivot!J731)","v":""},{"$f":"IF(Pivot!I731=\"\",\"\",Pivot!I731)","v":""},null,null,null,null,null,null,"","",{"$error":"#VALUE!"},null,"","",""]
[{"$f":"IF(Pivot!G732=\"\",\"\",Pivot!G732)","v":""},null,{"$f":"IF(Pivot!H732=\"\",\"\",Pivot!H732)","v":""},null,{"$f":"IF(Pivot!J732=\"\",\"\",Pivot!J732)","v":""},{"$f":"IF(Pivot!I732=\"\",\"\",Pivot!I732)","v":""},null,null,null,null,null,null,"","",{"$error":"#VALUE!"},null,"","",""]
[{"$f":"IF(Pivot!G733=\"\",\"\",Pivot!G733)","v":""},null,{"$f":"IF(Pivot!H733=\"\",\"\",Pivot!H733)","v":""},null,{"$f":"IF(Pivot!J733=\"\",\"\",Pivot!J733)","v":""},{"$f":"IF(Pivot!I733=\"\",\"\",Pivot!I733)","v":""},null,null,null,null,null,null,"","",{"$error":"#VALUE!"},null,"","",""]
[{"$f":"IF(Pivot!G734=\"\",\"\",Pivot!G734)","v":""},null,{"$f":"IF(Pivot!H734=\"\",\"\",Pivot!H734)","v":""},null,{"$f":"IF(Pivot!J734=\"\",\"\",Pivot!J734)","v":""},{"$f":"IF(Pivot!I734=\"\",\"\",Pivot!I734)","v":""},null,null,null,null,null,null,"","",{"$error":"#VALUE!"},null,"","",""]
[{"$f":"IF(Pivot!G735=\"\",\"\",Pivot!G735)","v":""},null,{"$f":"IF(Pivot!H735=\"\",\"\",Pivot!H735)","v":""},null,{"$f":"IF(Pivot!J735=\"\",\"\",Pivot!J735)","v":""},{"$f":"IF(Pivot!I735=\"\",\"\",Pivot!I735)","v":""},null,null,null,null,null,null,"","",{"$error":"#VALUE!"},null,"","",""]
[{"$f":"IF(Pivot!G736=\"\",\"\",Pivot!G736)","v":""},null,{"$f":"IF(Pivot!H736=\"\",\"\",Pivot!H736)","v":""},null,{"$f":"IF(Pivot!J736=\"\",\"\",Pivot!J736)","v":""},{"$f":"IF(Pivot!I736=\"\",\"\",Pivot!I736)","v":""},null,null,null,null,null,null,"","",{"$error":"#VALUE!"},null,"","",""]
[{"$f":"IF(Pivot!G737=\"\",\"\",Pivot!G737)","v":""},null,{"$f":"IF(Pivot!H737=\"\",\"\",Pivot!H737)","v":""},null,{"$f":"IF(Pivot!J737=\"\",\"\",Pivot!J737)","v":""},{"$f":"IF(Pivot!I737=\"\",\"\",Pivot!I737)","v":""},null,null,null,null,null,null,"","",{"$error":"#VALUE!"},null,"","",""]
[{"$f":"IF(Pivot!G738=\"\",\"\",Pivot!G738)","v":""},null,{"$f":"IF(Pivot!H738=\"\",\"\",Pivot!H738)","v":""},null,{"$f":"IF(Pivot!J738=\"\",\"\",Pivot!J738)","v":""},{"$f":"IF(Pivot!I738=\"\",\"\",Pivot!I738)","v":""},null,null,null,null,null,null,"","",{"$error":"#VALUE!"},null,"","",""]
[{"$f":"IF(Pivot!G739=\"\",\"\",Pivot!G739)","v":""},null,{"$f":"IF(Pivot!H739=\"\",\"\",Pivot!H739)","v":""},null,{"$f":"IF(Pivot!J739=\"\",\"\",Pivot!J739)","v":""},{"$f":"IF(Pivot!I739=\"\",\"\",Pivot!I739)","v":""},null,null,null,null,null,null,"","",{"$error":"#VALUE!"},null,"","",""]
[{"$f":"IF(Pivot!G740=\"\",\"\",Pivot!G740)","v":""},null,{"$f":"IF(Pivot!H740=\"\",\"\",Pivot!H740)","v":""},null,{"$f":"IF(Pivot!J740=\"\",\"\",Pivot!J740)","v":""},{"$f":"IF(Pivot!I740=\"\",\"\",Pivot!I740)","v":""},null,null,null,null,null,null,"","",{"$error":"#VALUE!"},null,"","",""]
[{"$f":"IF(Pivot!G741=\"\",\"\",Pivot!G741)","v":""},null,{"$f":"IF(Pivot!H741=\"\",\"\",Pivot!H741)","v":""},null,{"$f":"IF(Pivot!J741=\"\",\"\",Pivot!J741)","v":""},{"$f":"IF(Pivot!I741=\"\",\"\",Pivot!I741)","v":""},null,null,null,null,null,null,"","",{"$error":"#VALUE!"},null,"","",""]
[{"$f":"IF(Pivot!G742=\"\",\"\",Pivot!G742)","v":""},null,{"$f":"IF(Pivot!H742=\"\",\"\",Pivot!H742)","v":""},null,{"$f":"IF(Pivot!J742=\"\",\"\",Pivot!J742)","v":""},{"$f":"IF(Pivot!I742=\"\",\"\",Pivot!I742)","v":""},null,null,null,null,null,null,"","",{"$error":"#VALUE!"},null,"","",""]
[{"$f":"IF(Pivot!G743=\"\",\"\",Pivot!G743)","v":""},null,{"$f":"IF(Pivot!H743=\"\",\"\",Pivot!H743)","v":""},null,{"$f":"IF(Pivot!J743=\"\",\"\",Pivot!J743)","v":""},{"$f":"IF(Pivot!I743=\"\",\"\",Pivot!I743)","v":""},null,null,null,null,null,null,"","",{"$error":"#VALUE!"},null,"","",""]
[{"$f":"IF(Pivot!G744=\"\",\"\",Pivot!G744)","v":""},null,{"$f":"IF(Pivot!H744=\"\",\"\",Pivot!H744)","v":""},null,{"$f":"IF(Pivot!J744=\"\",\"\",Pivot!J744)","v":""},{"$f":"IF(Pivot!I744=\"\",\"\",Pivot!I744)","v":""},null,null,null,null,null,null,"","",{"$error":"#VALUE!"},null,"","",""]
[{"$f":"IF(Pivot!G745=\"\",\"\",Pivot!G745)","v":""},null,{"$f":"IF(Pivot!H745=\"\",\"\",Pivot!H745)","v":""},null,{"$f":"IF(Pivot!J745=\"\",\"\",Pivot!J745)","v":""},{"$f":"IF(Pivot!I745=\"\",\"\",Pivot!I745)","v":""},null,null,null,null,null,null,"","",{"$error":"#VALUE!"},null,"","",""]
[{"$f":"IF(Pivot!G746=\"\",\"\",Pivot!G746)","v":""},null,{"$f":"IF(Pivot!H746=\"\",\"\",Pivot!H746)","v":""},null,{"$f":"IF(Pivot!J746=\"\",\"\",Pivot!J746)","v":""},{"$f":"IF(Pivot!I746=\"\",\"\",Pivot!I746)","v":""},null,null,null,null,null,null,"","",{"$error":"#VALUE!"},null,"","",""]
[{"$f":"IF(Pivot!G747=\"\",\"\",Pivot!G747)","v":""},null,{"$f":"IF(Pivot!H747=\"\",\"\",Pivot!H747)","v":""},null,{"$f":"IF(Pivot!J747=\"\",\"\",Pivot!J747)","v":""},{"$f":"IF(Pivot!I747=\"\",\"\",Pivot!I747)","v":""},null,null,null,null,null,null,"","",{"$error":"#VALUE!"},null,"","",""]
[{"$f":"IF(Pivot!G748=\"\",\"\",Pivot!G748)","v":""},null,{"$f":"IF(Pivot!H748=\"\",\"\",Pivot!H748)","v":""},null,{"$f":"IF(Pivot!J748=\"\",\"\",Pivot!J748)","v":""},{"$f":"IF(Pivot!I748=\"\",\"\",Pivot!I748)","v":""},null,null,null,null,null,null,"","",{"$error":"#VALUE!"},null,"","",""]
[{"$f":"IF(Pivot!G749=\"\",\"\",Pivot!G749)","v":""},null,{"$f":"IF(Pivot!H749=\"\",\"\",Pivot!H749)","v":""},null,{"$f":"IF(Pivot!J749=\"\",\"\",Pivot!J749)","v":""},{"$f":"IF(Pivot!I749=\"\",\"\",Pivot!I749)","v":""},null,null,null,null,null,null,"","",{"$error":"#VALUE!"},null,"","",""]
[{"$f":"IF(Pivot!G750=\"\",\"\",Pivot!G750)","v":""},null,{"$f":"IF(Pivot!H750=\"\",\"\",Pivot!H750)","v":""},null,{"$f":"IF(Pivot!J750=\"\",\"\",Pivot!J750)","v":""},{"$f":"IF(Pivot!I750=\"\",\"\",Pivot!I750)","v":""},null,null,null,null,null,null,"","",{"$error":"#VALUE!"},null,"","",""]
[{"$f":"IF(Pivot!G751=\"\",\"\",Pivot!G751)","v":""},null,{"$f":"IF(Pivot!H751=\"\",\"\",Pivot!H751)","v":""},null,{"$f":"IF(Pivot!J751=\"\",\"\",Pivot!J751)","v":""},{"$f":"IF(Pivot!I751=\"\",\"\",Pivot!I751)","v":""},null,null,null,null,null,null,"","",{"$error":"#VALUE!"},null,"","",""]
[{"$f":"IF(Pivot!G752=\"\",\"\",Pivot!G752)","v":""},null,{"$f":"IF(Pivot!H752=\"\",\"\",Pivot!H752)","v":""},null,{"$f":"IF(Pivot!J752=\"\",\"\",Pivot!J752)","v":""},{"$f":"IF(Pivot!I752=\"\",\"\",Pivot!I752)","v":""},null,null,null,null,null,null,"","",{"$error":"#VALUE!"},null,"","",""]
[{"$f":"IF(Pivot!G753=\"\",\"\",Pivot!G753)","v":""},null,{"$f":"IF(Pivot!H753=\"\",\"\",Pivot!H753)","v":""},null,{"$f":"IF(Pivot!J753=\"\",\"\",Pivot!J753)","v":""},{"$f":"IF(Pivot!I753=\"\",\"\",Pivot!I753)","v":""},null,null,null,null,null,null,"","",{"$error":"#VALUE!"},null,"","",""]
[{"$f":"IF(Pivot!G754=\"\",\"\",Pivot!G754)","v":""},null,{"$f":"IF(Pivot!H754=\"\",\"\",Pivot!H754)","v":""},null,{"$f":"IF(Pivot!J754=\"\",\"\",Pivot!J754)","v":""},{"$f":"IF(Pivot!I754=\"\",\"\",Pivot!I754)","v":""},null,null,null,null,null,null,"","",{"$error":"#VALUE!"},null,"","",""]
[{"$f":"IF(Pivot!G755=\"\",\"\",Pivot!G755)","v":""},null,{"$f":"IF(Pivot!H755=\"\",\"\",Pivot!H755)","v":""},null,{"$f":"IF(Pivot!J755=\"\",\"\",Pivot!J755)","v":""},{"$f":"IF(Pivot!I755=\"\",\"\",Pivot!I755)","v":""},null,null,null,null,null,null,"","",{"$error":"#VALUE!"},null,"","",""]
[{"$f":"IF(Pivot!G756=\"\",\"\",Pivot!G756)","v":""},null,{"$f":"IF(Pivot!H756=\"\",\"\",Pivot!H756)","v":""},null,{"$f":"IF(Pivot!J756=\"\",\"\",Pivot!J756)","v":""},{"$f":"IF(Pivot!I756=\"\",\"\",Pivot!I756)","v":""},null,null,null,null,null,null,"","",{"$error":"#VALUE!"},null,"","",""]
[{"$f":"IF(Pivot!G757=\"\",\"\",Pivot!G757)","v":""},null,{"$f":"IF(Pivot!H757=\"\",\"\",Pivot!H757)","v":""},null,{"$f":"IF(Pivot!J757=\"\",\"\",Pivot!J757)","v":""},{"$f":"IF(Pivot!I757=\"\",\"\",Pivot!I757)","v":""},null,null,null,null,null,null,"","",{"$error":"#VALUE!"},null,"","",""]
[{"$f":"IF(Pivot!G758=\"\",\"\",Pivot!G758)","v":""},null,{"$f":"IF(Pivot!H758=\"\",\"\",Pivot!H758)","v":""},null,{"$f":"IF(Pivot!J758=\"\",\"\",Pivot!J758)","v":""},{"$f":"IF(Pivot!I758=\"\",\"\",Pivot!I758)","v":""},null,null,null,null,null,null,"","",{"$error":"#VALUE!"},null,"","",""]
[{"$f":"IF(Pivot!G759=\"\",\"\",Pivot!G759)","v":""},null,{"$f":"IF(Pivot!H759=\"\",\"\",Pivot!H759)","v":""},null,{"$f":"IF(Pivot!J759=\"\",\"\",Pivot!J759)","v":""},{"$f":"IF(Pivot!I759=\"\",\"\",Pivot!I759)","v":""},null,null,null,null,null,null,"","",{"$error":"#VALUE!"},null,"","",""]
[{"$f":"IF(Pivot!G760=\"\",\"\",Pivot!G760)","v":""},null,{"$f":"IF(Pivot!H760=\"\",\"\",Pivot!H760)","v":""},null,{"$f":"IF(Pivot!J760=\"\",\"\",Pivot!J760)","v":""},{"$f":"IF(Pivot!I760=\"\",\"\",Pivot!I760)","v":""},null,null,null,null,null,null,"","",{"$error":"#VALUE!"},null,"","",""]
[{"$f":"IF(Pivot!G761=\"\",\"\",Pivot!G761)","v":""},null,{"$f":"IF(Pivot!H761=\"\",\"\",Pivot!H761)","v":""},null,{"$f":"IF(Pivot!J761=\"\",\"\",Pivot!J761)","v":""},{"$f":"IF(Pivot!I761=\"\",\"\",Pivot!I761)","v":""},null,null,null,null,null,null,"","",{"$error":"#VALUE!"},null,"","",""]
[{"$f":"IF(Pivot!G762=\"\",\"\",Pivot!G762)","v":""},null,{"$f":"IF(Pivot!H762=\"\",\"\",Pivot!H762)","v":""},null,{"$f":"IF(Pivot!J762=\"\",\"\",Pivot!J762)","v":""},{"$f":"IF(Pivot!I762=\"\",\"\",Pivot!I762)","v":""},null,null,null,null,null,null,"","",{"$error":"#VALUE!"},null,"","",""]
[{"$f":"IF(Pivot!G763=\"\",\"\",Pivot!G763)","v":""},null,{"$f":"IF(Pivot!H763=\"\",\"\",Pivot!H763)","v":""},null,{"$f":"IF(Pivot!J763=\"\",\"\",Pivot!J763)","v":""},{"$f":"IF(Pivot!I763=\"\",\"\",Pivot!I763)","v":""},null,null,null,null,null,null,"","",{"$error":"#VALUE!"},null,"","",""]
[{"$f":"IF(Pivot!G764=\"\",\"\",Pivot!G764)","v":""},null,{"$f":"IF(Pivot!H764=\"\",\"\",Pivot!H764)","v":""},null,{"$f":"IF(Pivot!J764=\"\",\"\",Pivot!J764)","v":""},{"$f":"IF(Pivot!I764=\"\",\"\",Pivot!I764)","v":""},null,null,null,null,null,null,"","",{"$error":"#VALUE!"},null,"","",""]
[{"$f":"IF(Pivot!G765=\"\",\"\",Pivot!G765)","v":""},null,{"$f":"IF(Pivot!H765=\"\",\"\",Pivot!H765)","v":""},null,{"$f":"IF(Pivot!J765=\"\",\"\",Pivot!J765)","v":""},{"$f":"IF(Pivot!I765=\"\",\"\",Pivot!I765)","v":""},null,null,null,null,null,null,"","",{"$error":"#VALUE!"},null,"","",""]
[{"$f":"IF(Pivot!G766=\"\",\"\",Pivot!G766)","v":""},null,{"$f":"IF(Pivot!H766=\"\",\"\",Pivot!H766)","v":""},null,{"$f":"IF(Pivot!J766=\"\",\"\",Pivot!J766)","v":""},{"$f":"IF(Pivot!I766=\"\",\"\",Pivot!I766)","v":""},null,null,null,null,null,null,"","",{"$error":"#VALUE!"},null,"","",""]
[{"$f":"IF(Pivot!G767=\"\",\"\",Pivot!G767)","v":""},null,{"$f":"IF(Pivot!H767=\"\",\"\",Pivot!H767)","v":""},null,{"$f":"IF(Pivot!J767=\"\",\"\",Pivot!J767)","v":""},{"$f":"IF(Pivot!I767=\"\",\"\",Pivot!I767)","v":""},null,null,null,null,null,null,"","",{"$error":"#VALUE!"},null,"","",""]
[{"$f":"IF(Pivot!G768=\"\",\"\",Pivot!G768)","v":""},null,{"$f":"IF(Pivot!H768=\"\",\"\",Pivot!H768)","v":""},null,{"$f":"IF(Pivot!J768=\"\",\"\",Pivot!J768)","v":""},{"$f":"IF(Pivot!I768=\"\",\"\",Pivot!I768)","v":""},null,null,null,null,null,null,"","",{"$error":"#VALUE!"},null,"","",""]
[{"$f":"IF(Pivot!G769=\"\",\"\",Pivot!G769)","v":""},null,{"$f":"IF(Pivot!H769=\"\",\"\",Pivot!H769)","v":""},null,{"$f":"IF(Pivot!J769=\"\",\"\",Pivot!J769)","v":""},{"$f":"IF(Pivot!I769=\"\",\"\",Pivot!I769)","v":""},null,null,null,null,null,null,"","",{"$error":"#VALUE!"},null,"","",""]
[{"$f":"IF(Pivot!G770=\"\",\"\",Pivot!G770)","v":""},null,{"$f":"IF(Pivot!H770=\"\",\"\",Pivot!H770)","v":""},null,{"$f":"IF(Pivot!J770=\"\",\"\",Pivot!J770)","v":""},{"$f":"IF(Pivot!I770=\"\",\"\",Pivot!I770)","v":""},null,null,null,null,null,null,"","",{"$error":"#VALUE!"},null,"","",""]
[{"$f":"IF(Pivot!G771=\"\",\"\",Pivot!G771)","v":""},null,{"$f":"IF(Pivot!H771=\"\",\"\",Pivot!H771)","v":""},null,{"$f":"IF(Pivot!J771=\"\",\"\",Pivot!J771)","v":""},{"$f":"IF(Pivot!I771=\"\",\"\",Pivot!I771)","v":""},null,null,null,null,null,null,"","",{"$error":"#VALUE!"},null,"","",""]
[{"$f":"IF(Pivot!G772=\"\",\"\",Pivot!G772)","v":""},null,{"$f":"IF(Pivot!H772=\"\",\"\",Pivot!H772)","v":""},null,{"$f":"IF(Pivot!J772=\"\",\"\",Pivot!J772)","v":""},{"$f":"IF(Pivot!I772=\"\",\"\",Pivot!I772)","v":""},null,null,null,null,null,null,"","",{"$f":"N775/M775","v":{"$error":"#VALUE!"}},null,"","",""]
[{"$f":"IF(Pivot!G773=\"\",\"\",Pivot!G773)","v":""},null,{"$f":"IF(Pivot!H773=\"\",\"\",Pivot!H773)","v":""},null,{"$f":"IF(Pivot!J773=\"\",\"\",Pivot!J773)","v":""},{"$f":"IF(Pivot!I773=\"\",\"\",Pivot!I773)","v":""},null,null,null,null,null,null,{"$f":"IF(C776=\"\",\"\",C776*L776)","v":""},{"$f":"IF(F776=\"\",\"\",M776-F776)","v":""},{"$error":"#VALUE!"},null,{"$f":"IF(C776=\"\",\"\",C776*P776)","v":""},{"$f":"IF(F776=\"\",\"\",Q776-F776)","v":""},{"$f":"IF(F776=\"\",\"\",R776/F776)","v":""}]
[{"$f":"IF(Pivot!G774=\"\",\"\",Pivot!G774)","v":""},null,{"$f":"IF(Pivot!H774=\"\",\"\",Pivot!H774)","v":""},null,{"$f":"IF(Pivot!J774=\"\",\"\",Pivot!J774)","v":""},{"$f":"IF(Pivot!I774=\"\",\"\",Pivot!I774)","v":""},null,null,null,null,null,null,"","",{"$error":"#VALUE!"},null,"","",""]
[{"$f":"IF(Pivot!G775=\"\",\"\",Pivot!G775)","v":""},null,{"$f":"IF(Pivot!H775=\"\",\"\",Pivot!H775)","v":""},null,{"$f":"IF(Pivot!J775=\"\",\"\",Pivot!J775)","v":""},{"$f":"IF(Pivot!I775=\"\",\"\",Pivot!I775)","v":""},null,null,null,null,null,null,"","",{"$error":"#VALUE!"},null,"","",""]
[{"$f":"IF(Pivot!G776=\"\",\"\",Pivot!G776)","v":""},null,{"$f":"IF(Pivot!H776=\"\",\"\",Pivot!H776)","v":""},null,{"$f":"IF(Pivot!J776=\"\",\"\",Pivot!J776)","v":""},{"$f":"IF(Pivot!I776=\"\",\"\",Pivot!I776)","v":""},null,null,null,null,null,null,"","",{"$error":"#VALUE!"},null,"","",""]
[{"$f":"IF(Pivot!G777=\"\",\"\",Pivot!G777)","v":""},null,{"$f":"IF(Pivot!H777=\"\",\"\",Pivot!H777)","v":""},null,{"$f":"IF(Pivot!J777=\"\",\"\",Pivot!J777)","v":""},{"$f":"IF(Pivot!I777=\"\",\"\",Pivot!I777)","v":""},null,null,null,null,null,null,"","",{"$error":"#VALUE!"},null,"","",""]
[{"$f":"IF(Pivot!G778=\"\",\"\",Pivot!G778)","v":""},null,{"$f":"IF(Pivot!H778=\"\",\"\",Pivot!H778)","v":""},null,{"$f":"IF(Pivot!J778=\"\",\"\",Pivot!J778)","v":""},{"$f":"IF(Pivot!I778=\"\",\"\",Pivot!I778)","v":""},null,null,null,null,null,null,"","",{"$error":"#VALUE!"},null,"","",""]
[{"$f":"IF(Pivot!G779=\"\",\"\",Pivot!G779)","v":""},null,{"$f":"IF(Pivot!H779=\"\",\"\",Pivot!H779)","v":""},null,{"$f":"IF(Pivot!J779=\"\",\"\",Pivot!J779)","v":""},{"$f":"IF(Pivot!I779=\"\",\"\",Pivot!I779)","v":""},null,null,null,null,null,null,"","",{"$error":"#VALUE!"},null,"","",""]
[{"$f":"IF(Pivot!G780=\"\",\"\",Pivot!G780)","v":""},null,{"$f":"IF(Pivot!H780=\"\",\"\",Pivot!H780)","v":""},null,{"$f":"IF(Pivot!J780=\"\",\"\",Pivot!J780)","v":""},{"$f":"IF(Pivot!I780=\"\",\"\",Pivot!I780)","v":""},null,null,null,null,null,null,"","",{"$error":"#VALUE!"},null,"","",""]
[{"$f":"IF(Pivot!G781=\"\",\"\",Pivot!G781)","v":""},null,{"$f":"IF(Pivot!H781=\"\",\"\",Pivot!H781)","v":""},null,{"$f":"IF(Pivot!J781=\"\",\"\",Pivot!J781)","v":""},{"$f":"IF(Pivot!I781=\"\",\"\",Pivot!I781)","v":""},null,null,null,null,null,null,"","",{"$error":"#VALUE!"},null,"","",""]
[{"$f":"IF(Pivot!G782=\"\",\"\",Pivot!G782)","v":""},null,{"$f":"IF(Pivot!H782=\"\",\"\",Pivot!H782)","v":""},null,{"$f":"IF(Pivot!J782=\"\",\"\",Pivot!J782)","v":""},{"$f":"IF(Pivot!I782=\"\",\"\",Pivot!I782)","v":""},null,null,null,null,null,null,"","",{"$error":"#VALUE!"},null,"","",""]
[{"$f":"IF(Pivot!G783=\"\",\"\",Pivot!G783)","v":""},null,{"$f":"IF(Pivot!H783=\"\",\"\",Pivot!H783)","v":""},null,{"$f":"IF(Pivot!J783=\"\",\"\",Pivot!J783)","v":""},{"$f":"IF(Pivot!I783=\"\",\"\",Pivot!I783)","v":""},null,null,null,null,null,null,"","",{"$error":"#VALUE!"},null,"","",""]
[{"$f":"IF(Pivot!G784=\"\",\"\",Pivot!G784)","v":""},null,{"$f":"IF(Pivot!H784=\"\",\"\",Pivot!H784)","v":""},null,{"$f":"IF(Pivot!J784=\"\",\"\",Pivot!J784)","v":""},{"$f":"IF(Pivot!I784=\"\",\"\",Pivot!I784)","v":""},null,null,null,null,null,null,"","",{"$error":"#VALUE!"},null,"","",""]
[{"$f":"IF(Pivot!G785=\"\",\"\",Pivot!G785)","v":""},null,{"$f":"IF(Pivot!H785=\"\",\"\",Pivot!H785)","v":""},null,{"$f":"IF(Pivot!J785=\"\",\"\",Pivot!J785)","v":""},{"$f":"IF(Pivot!I785=\"\",\"\",Pivot!I785)","v":""},null,null,null,null,null,null,"","",{"$error":"#VALUE!"},null,"","",""]
[{"$f":"IF(Pivot!G786=\"\",\"\",Pivot!G786)","v":""},null,{"$f":"IF(Pivot!H786=\"\",\"\",Pivot!H786)","v":""},null,{"$f":"IF(Pivot!J786=\"\",\"\",Pivot!J786)","v":""},{"$f":"IF(Pivot!I786=\"\",\"\",Pivot!I786)","v":""},null,null,null,null,null,null,"","",{"$error":"#VALUE!"},null,"","",""]
[{"$f":"IF(Pivot!G787=\"\",\"\",Pivot!G787)","v":""},null,{"$f":"IF(Pivot!H787=\"\",\"\",Pivot!H787)","v":""},null,{"$f":"IF(Pivot!J787=\"\",\"\",Pivot!J787)","v":""},{"$f":"IF(Pivot!I787=\"\",\"\",Pivot!I787)","v":""},null,null,null,null,null,null,"","",{"$error":"#VALUE!"},null,"","",""]
[{"$f":"IF(Pivot!G788=\"\",\"\",Pivot!G788)","v":""},null,{"$f":"IF(Pivot!H788=\"\",\"\",Pivot!H788)","v":""},null,{"$f":"IF(Pivot!J788=\"\",\"\",Pivot!J788)","v":""},{"$f":"IF(Pivot!I788=\"\",\"\",Pivot!I788)","v":""},null,null,null,null,null,null,"","",{"$error":"#VALUE!"},null,"","",""]
[{"$f":"IF(Pivot!G789=\"\",\"\",Pivot!G789)","v":""},null,{"$f":"IF(Pivot!H789=\"\",\"\",Pivot!H789)","v":""},null,{"$f":"IF(Pivot!J789=\"\",\"\",Pivot!J789)","v":""},{"$f":"IF(Pivot!I789=\"\",\"\",Pivot!I789)","v":""},null,null,null,null,null,null,"","",{"$error":"#VALUE!"},null,"","",""]
[{"$f":"IF(Pivot!G790=\"\",\"\",Pivot!G790)","v":""},null,{"$f":"IF(Pivot!H790=\"\",\"\",Pivot!H790)","v":""},null,{"$f":"IF(Pivot!J790=\"\",\"\",Pivot!J790)","v":""},{"$f":"IF(Pivot!I790=\"\",\"\",Pivot!I790)","v":""},null,null,null,null,null,null,"","",{"$error":"#VALUE!"},null,"","",""]
[{"$f":"IF(Pivot!G791=\"\",\"\",Pivot!G791)","v":""},null,{"$f":"IF(Pivot!H791=\"\",\"\",Pivot!H791)","v":""},null,{"$f":"IF(Pivot!J791=\"\",\"\",Pivot!J791)","v":""},{"$f":"IF(Pivot!I791=\"\",\"\",Pivot!I791)","v":""},null,null,null,null,null,null,"","",{"$error":"#VALUE!"},null,"","",""]
[{"$f":"IF(Pivot!G792=\"\",\"\",Pivot!G792)","v":""},null,{"$f":"IF(Pivot!H792=\"\",\"\",Pivot!H792)","v":""},null,{"$f":"IF(Pivot!J792=\"\",\"\",Pivot!J792)","v":""},{"$f":"IF(Pivot!I792=\"\",\"\",Pivot!I792)","v":""},null,null,null,null,null,null,"","",{"$error":"#VALUE!"},null,"","",""]
[{"$f":"IF(Pivot!G793=\"\",\"\",Pivot!G793)","v":""},null,{"$f":"IF(Pivot!H793=\"\",\"\",Pivot!H793)","v":""},null,{"$f":"IF(Pivot!J793=\"\",\"\",Pivot!J793)","v":""},{"$f":"IF(Pivot!I793=\"\",\"\",Pivot!I793)","v":""},null,null,null,null,null,null,"","",{"$error":"#VALUE!"},null,"","",""]
[{"$f":"IF(Pivot!G794=\"\",\"\",Pivot!G794)","v":""},null,{"$f":"IF(Pivot!H794=\"\",\"\",Pivot!H794)","v":""},null,{"$f":"IF(Pivot!J794=\"\",\"\",Pivot!J794)","v":""},{"$f":"IF(Pivot!I794=\"\",\"\",Pivot!I794)","v":""},null,null,null,null,null,null,"","",{"$error":"#VALUE!"},null,"","",""]
[{"$f":"IF(Pivot!G795=\"\",\"\",Pivot!G795)","v":""},null,{"$f":"IF(Pivot!H795=\"\",\"\",Pivot!H795)","v":""},null,{"$f":"IF(Pivot!J795=\"\",\"\",Pivot!J795)","v":""},{"$f":"IF(Pivot!I795=\"\",\"\",Pivot!I795)","v":""},null,null,null,null,null,null,"","",{"$error":"#VALUE!"},null,"","",""]
[{"$f":"IF(Pivot!G796=\"\",\"\",Pivot!G796)","v":""},null,{"$f":"IF(Pivot!H796=\"\",\"\",Pivot!H796)","v":""},null,{"$f":"IF(Pivot!J796=\"\",\"\",Pivot!J796)","v":""},{"$f":"IF(Pivot!I796=\"\",\"\",Pivot!I796)","v":""},null,null,null,null,null,null,"","",{"$error":"#VALUE!"},null,"","",""]
[{"$f":"IF(Pivot!G797=\"\",\"\",Pivot!G797)","v":""},null,{"$f":"IF(Pivot!H797=\"\",\"\",Pivot!H797)","v":""},null,{"$f":"IF(Pivot!J797=\"\",\"\",Pivot!J797)","v":""},{"$f":"IF(Pivot!I797=\"\",\"\",Pivot!I797)","v":""},null,null,null,null,null,null,"","",{"$error":"#VALUE!"},null,"","",""]
[{"$f":"IF(Pivot!G798=\"\",\"\",Pivot!G798)","v":""},null,{"$f":"IF(Pivot!H798=\"\",\"\",Pivot!H798)","v":""},null,{"$f":"IF(Pivot!J798=\"\",\"\",Pivot!J798)","v":""},{"$f":"IF(Pivot!I798=\"\",\"\",Pivot!I798)","v":""},null,null,null,null,null,null,"","",{"$error":"#VALUE!"},null,"","",""]
[{"$f":"IF(Pivot!G799=\"\",\"\",Pivot!G799)","v":""},null,{"$f":"IF(Pivot!H799=\"\",\"\",Pivot!H799)","v":""},null,{"$f":"IF(Pivot!J799=\"\",\"\",Pivot!J799)","v":""},{"$f":"IF(Pivot!I799=\"\",\"\",Pivot!I799)","v":""},null,null,null,null,null,null,"","",{"$error":"#VALUE!"},null,"","",""]
[{"$f":"IF(Pivot!G800=\"\",\"\",Pivot!G800)","v":""},null,{"$f":"IF(Pivot!H800=\"\",\"\",Pivot!H800)","v":""},null,{"$f":"IF(Pivot!J800=\"\",\"\",Pivot!J800)","v":""},{"$f":"IF(Pivot!I800=\"\",\"\",Pivot!I800)","v":""},null,null,null,null,null,null,"","",{"$error":"#VALUE!"},null,"","",""]
[{"$f":"IF(Pivot!G801=\"\",\"\",Pivot!G801)","v":""},null,{"$f":"IF(Pivot!H801=\"\",\"\",Pivot!H801)","v":""},null,{"$f":"IF(Pivot!J801=\"\",\"\",Pivot!J801)","v":""},{"$f":"IF(Pivot!I801=\"\",\"\",Pivot!I801)","v":""},null,null,null,null,null,null,"","",{"$error":"#VALUE!"},null,"","",""]
[{"$f":"IF(Pivot!G802=\"\",\"\",Pivot!G802)","v":""},null,{"$f":"IF(Pivot!H802=\"\",\"\",Pivot!H802)","v":""},null,{"$f":"IF(Pivot!J802=\"\",\"\",Pivot!J802)","v":""},{"$f":"IF(Pivot!I802=\"\",\"\",Pivot!I802)","v":""},null,null,null,null,null,null,"","",{"$error":"#VALUE!"},null,"","",""]
[{"$f":"IF(Pivot!G803=\"\",\"\",Pivot!G803)","v":""},null,{"$f":"IF(Pivot!H803=\"\",\"\",Pivot!H803)","v":""},null,{"$f":"IF(Pivot!J803=\"\",\"\",Pivot!J803)","v":""},{"$f":"IF(Pivot!I803=\"\",\"\",Pivot!I803)","v":""},null,null,null,null,null,null,"","",{"$error":"#VALUE!"},null,"","",""]
[{"$f":"IF(Pivot!G804=\"\",\"\",Pivot!G804)","v":""},null,{"$f":"IF(Pivot!H804=\"\",\"\",Pivot!H804)","v":""},null,{"$f":"IF(Pivot!J804=\"\",\"\",Pivot!J804)","v":""},{"$f":"IF(Pivot!I804=\"\",\"\",Pivot!I804)","v":""},null,null,null,null,null,null,"","",{"$error":"#VALUE!"},null,"","",""]
[{"$f":"IF(Pivot!G805=\"\",\"\",Pivot!G805)","v":""},null,{"$f":"IF(Pivot!H805=\"\",\"\",Pivot!H805)","v":""},null,{"$f":"IF(Pivot!J805=\"\",\"\",Pivot!J805)","v":""},{"$f":"IF(Pivot!I805=\"\",\"\",Pivot!I805)","v":""},null,null,null,null,null,null,"","",{"$error":"#VALUE!"},null,"","",""]
[{"$f":"IF(Pivot!G806=\"\",\"\",Pivot!G806)","v":""},null,{"$f":"IF(Pivot!H806=\"\",\"\",Pivot!H806)","v":""},null,{"$f":"IF(Pivot!J806=\"\",\"\",Pivot!J806)","v":""},{"$f":"IF(Pivot!I806=\"\",\"\",Pivot!I806)","v":""},null,null,null,null,null,null,"","",{"$error":"#VALUE!"},null,"","",""]
[{"$f":"IF(Pivot!G807=\"\",\"\",Pivot!G807)","v":""},null,{"$f":"IF(Pivot!H807=\"\",\"\",Pivot!H807)","v":""},null,{"$f":"IF(Pivot!J807=\"\",\"\",Pivot!J807)","v":""},{"$f":"IF(Pivot!I807=\"\",\"\",Pivot!I807)","v":""},null,null,null,null,null,null,"","",{"$error":"#VALUE!"},null,"","",""]
[{"$f":"IF(Pivot!G808=\"\",\"\",Pivot!G808)","v":""},null,{"$f":"IF(Pivot!H808=\"\",\"\",Pivot!H808)","v":""},null,{"$f":"IF(Pivot!J808=\"\",\"\",Pivot!J808)","v":""},{"$f":"IF(Pivot!I808=\"\",\"\",Pivot!I808)","v":""},null,null,null,null,null,null,"","",{"$error":"#VALUE!"},null,"","",""]
[{"$f":"IF(Pivot!G809=\"\",\"\",Pivot!G809)","v":""},null,{"$f":"IF(Pivot!H809=\"\",\"\",Pivot!H809)","v":""},null,{"$f":"IF(Pivot!J809=\"\",\"\",Pivot!J809)","v":""},{"$f":"IF(Pivot!I809=\"\",\"\",Pivot!I809)","v":""},null,null,null,null,null,null,"","",{"$error":"#VALUE!"},null,"","",""]
[{"$f":"IF(Pivot!G810=\"\",\"\",Pivot!G810)","v":""},null,{"$f":"IF(Pivot!H810=\"\",\"\",Pivot!H810)","v":""},null,{"$f":"IF(Pivot!J810=\"\",\"\",Pivot!J810)","v":""},{"$f":"IF(Pivot!I810=\"\",\"\",Pivot!I810)","v":""},null,null,null,null,null,null,"","",{"$error":"#VALUE!"},null,"","",""]
[{"$f":"IF(Pivot!G811=\"\",\"\",Pivot!G811)","v":""},null,{"$f":"IF(Pivot!H811=\"\",\"\",Pivot!H811)","v":""},null,{"$f":"IF(Pivot!J811=\"\",\"\",Pivot!J811)","v":""},{"$f":"IF(Pivot!I811=\"\",\"\",Pivot!I811)","v":""},null,null,null,null,null,null,"","",{"$error":"#VALUE!"},null,"","",""]
[{"$f":"IF(Pivot!G812=\"\",\"\",Pivot!G812)","v":""},null,{"$f":"IF(Pivot!H812=\"\",\"\",Pivot!H812)","v":""},null,{"$f":"IF(Pivot!J812=\"\",\"\",Pivot!J812)","v":""},{"$f":"IF(Pivot!I812=\"\",\"\",Pivot!I812)","v":""},null,null,null,null,null,null,"","",{"$error":"#VALUE!"},null,"","",""]
[{"$f":"IF(Pivot!G813=\"\",\"\",Pivot!G813)","v":""},null,{"$f":"IF(Pivot!H813=\"\",\"\",Pivot!H813)","v":""},null,{"$f":"IF(Pivot!J813=\"\",\"\",Pivot!J813)","v":""},{"$f":"IF(Pivot!I813=\"\",\"\",Pivot!I813)","v":""},null,null,null,null,null,null,"","",{"$error":"#VALUE!"},null,"","",""]
[{"$f":"IF(Pivot!G814=\"\",\"\",Pivot!G814)","v":""},null,{"$f":"IF(Pivot!H814=\"\",\"\",Pivot!H814)","v":""},null,{"$f":"IF(Pivot!J814=\"\",\"\",Pivot!J814)","v":""},{"$f":"IF(Pivot!I814=\"\",\"\",Pivot!I814)","v":""},null,null,null,null,null,null,"","",{"$error":"#VALUE!"},null,"","",""]
[{"$f":"IF(Pivot!G815=\"\",\"\",Pivot!G815)","v":""},null,{"$f":"IF(Pivot!H815=\"\",\"\",Pivot!H815)","v":""},null,{"$f":"IF(Pivot!J815=\"\",\"\",Pivot!J815)","v":""},{"$f":"IF(Pivot!I815=\"\",\"\",Pivot!I815)","v":""},null,null,null,null,null,null,"","",{"$error":"#VALUE!"},null,"","",""]
[{"$f":"IF(Pivot!G816=\"\",\"\",Pivot!G816)","v":""},null,{"$f":"IF(Pivot!H816=\"\",\"\",Pivot!H816)","v":""},null,{"$f":"IF(Pivot!J816=\"\",\"\",Pivot!J816)","v":""},{"$f":"IF(Pivot!I816=\"\",\"\",Pivot!I816)","v":""},null,null,null,null,null,null,"","",{"$error":"#VALUE!"},null,"","",""]
[{"$f":"IF(Pivot!G817=\"\",\"\",Pivot!G817)","v":""},null,{"$f":"IF(Pivot!H817=\"\",\"\",Pivot!H817)","v":""},null,{"$f":"IF(Pivot!J817=\"\",\"\",Pivot!J817)","v":""},{"$f":"IF(Pivot!I817=\"\",\"\",Pivot!I817)","v":""},null,null,null,null,null,null,"","",{"$error":"#VALUE!"},null,"","",""]
[{"$f":"IF(Pivot!G818=\"\",\"\",Pivot!G818)","v":""},null,{"$f":"IF(Pivot!H818=\"\",\"\",Pivot!H818)","v":""},null,{"$f":"IF(Pivot!J818=\"\",\"\",Pivot!J818)","v":""},{"$f":"IF(Pivot!I818=\"\",\"\",Pivot!I818)","v":""},null,null,null,null,null,null,"","",{"$error":"#VALUE!"},null,"","",""]
[{"$f":"IF(Pivot!G819=\"\",\"\",Pivot!G819)","v":""},null,{"$f":"IF(Pivot!H819=\"\",\"\",Pivot!H819)","v":""},null,{"$f":"IF(Pivot!J819=\"\",\"\",Pivot!J819)","v":""},{"$f":"IF(Pivot!I819=\"\",\"\",Pivot!I819)","v":""},null,null,null,null,null,null,"","",{"$error":"#VALUE!"},null,"","",""]
[{"$f":"IF(Pivot!G820=\"\",\"\",Pivot!G820)","v":""},null,{"$f":"IF(Pivot!H820=\"\",\"\",Pivot!H820)","v":""},null,{"$f":"IF(Pivot!J820=\"\",\"\",Pivot!J820)","v":""},{"$f":"IF(Pivot!I820=\"\",\"\",Pivot!I820)","v":""},null,null,null,null,null,null,"","",{"$error":"#VALUE!"},null,"","",""]
[{"$f":"IF(Pivot!G821=\"\",\"\",Pivot!G821)","v":""},null,{"$f":"IF(Pivot!H821=\"\",\"\",Pivot!H821)","v":""},null,{"$f":"IF(Pivot!J821=\"\",\"\",Pivot!J821)","v":""},{"$f":"IF(Pivot!I821=\"\",\"\",Pivot!I821)","v":""},null,null,null,null,null,null,"","",{"$error":"#VALUE!"},null,"","",""]
[{"$f":"IF(Pivot!G822=\"\",\"\",Pivot!G822)","v":""},null,{"$f":"IF(Pivot!H822=\"\",\"\",Pivot!H822)","v":""},null,{"$f":"IF(Pivot!J822=\"\",\"\",Pivot!J822)","v":""},{"$f":"IF(Pivot!I822=\"\",\"\",Pivot!I822)","v":""},null,null,null,null,null,null,"","",{"$error":"#VALUE!"},null,"","",""]
[{"$f":"IF(Pivot!G823=\"\",\"\",Pivot!G823)","v":""},null,{"$f":"IF(Pivot!H823=\"\",\"\",Pivot!H823)","v":""},null,{"$f":"IF(Pivot!J823=\"\",\"\",Pivot!J823)","v":""},{"$f":"IF(Pivot!I823=\"\",\"\",Pivot!I823)","v":""},null,null,null,null,null,null,"","",{"$error":"#VALUE!"},null,"","",""]
[{"$f":"IF(Pivot!G824=\"\",\"\",Pivot!G824)","v":""},null,{"$f":"IF(Pivot!H824=\"\",\"\",Pivot!H824)","v":""},null,{"$f":"IF(Pivot!J824=\"\",\"\",Pivot!J824)","v":""},{"$f":"IF(Pivot!I824=\"\",\"\",Pivot!I824)","v":""},null,null,null,null,null,null,"","",{"$error":"#VALUE!"},null,"","",""]
[{"$f":"IF(Pivot!G825=\"\",\"\",Pivot!G825)","v":""},null,{"$f":"IF(Pivot!H825=\"\",\"\",Pivot!H825)","v":""},null,{"$f":"IF(Pivot!J825=\"\",\"\",Pivot!J825)","v":""},{"$f":"IF(Pivot!I825=\"\",\"\",Pivot!I825)","v":""},null,null,null,null,null,null,"","",{"$error":"#VALUE!"},null,"","",""]
[{"$f":"IF(Pivot!G826=\"\",\"\",Pivot!G826)","v":""},null,{"$f":"IF(Pivot!H826=\"\",\"\",Pivot!H826)","v":""},null,{"$f":"IF(Pivot!J826=\"\",\"\",Pivot!J826)","v":""},{"$f":"IF(Pivot!I826=\"\",\"\",Pivot!I826)","v":""},null,null,null,null,null,null,"","",{"$error":"#VALUE!"},null,"","",""]
[{"$f":"IF(Pivot!G827=\"\",\"\",Pivot!G827)","v":""},null,{"$f":"IF(Pivot!H827=\"\",\"\",Pivot!H827)","v":""},null,{"$f":"IF(Pivot!J827=\"\",\"\",Pivot!J827)","v":""},{"$f":"IF(Pivot!I827=\"\",\"\",Pivot!I827)","v":""},null,null,null,null,null,null,"","",{"$error":"#VALUE!"},null,"","",""]
[{"$f":"IF(Pivot!G828=\"\",\"\",Pivot!G828)","v":""},null,{"$f":"IF(Pivot!H828=\"\",\"\",Pivot!H828)","v":""},null,{"$f":"IF(Pivot!J828=\"\",\"\",Pivot!J828)","v":""},{"$f":"IF(Pivot!I828=\"\",\"\",Pivot!I828)","v":""},null,null,null,null,null,null,"","",{"$error":"#VALUE!"},null,"","",""]
[{"$f":"IF(Pivot!G829=\"\",\"\",Pivot!G829)","v":""},null,{"$f":"IF(Pivot!H829=\"\",\"\",Pivot!H829)","v":""},null,{"$f":"IF(Pivot!J829=\"\",\"\",Pivot!J829)","v":""},{"$f":"IF(Pivot!I829=\"\",\"\",Pivot!I829)","v":""},null,null,null,null,null,null,"","",{"$error":"#VALUE!"},null,"","",""]
[{"$f":"IF(Pivot!G830=\"\",\"\",Pivot!G830)","v":""},null,{"$f":"IF(Pivot!H830=\"\",\"\",Pivot!H830)","v":""},null,{"$f":"IF(Pivot!J830=\"\",\"\",Pivot!J830)","v":""},{"$f":"IF(Pivot!I830=\"\",\"\",Pivot!I830)","v":""},null,null,null,null,null,null,"","",{"$error":"#VALUE!"},null,"","",""]
[{"$f":"IF(Pivot!G831=\"\",\"\",Pivot!G831)","v":""},null,{"$f":"IF(Pivot!H831=\"\",\"\",Pivot!H831)","v":""},null,{"$f":"IF(Pivot!J831=\"\",\"\",Pivot!J831)","v":""},{"$f":"IF(Pivot!I831=\"\",\"\",Pivot!I831)","v":""},null,null,null,null,null,null,"","",{"$error":"#VALUE!"},null,"","",""]
[{"$f":"IF(Pivot!G832=\"\",\"\",Pivot!G832)","v":""},null,{"$f":"IF(Pivot!H832=\"\",\"\",Pivot!H832)","v":""},null,{"$f":"IF(Pivot!J832=\"\",\"\",Pivot!J832)","v":""},{"$f":"IF(Pivot!I832=\"\",\"\",Pivot!I832)","v":""},null,null,null,null,null,null,"","",{"$error":"#VALUE!"},null,"","",""]
[{"$f":"IF(Pivot!G833=\"\",\"\",Pivot!G833)","v":""},null,{"$f":"IF(Pivot!H833=\"\",\"\",Pivot!H833)","v":""},null,{"$f":"IF(Pivot!J833=\"\",\"\",Pivot!J833)","v":""},{"$f":"IF(Pivot!I833=\"\",\"\",Pivot!I833)","v":""},null,null,null,null,null,null,"","",{"$error":"#VALUE!"},null,"","",""]
[{"$f":"IF(Pivot!G834=\"\",\"\",Pivot!G834)","v":""},null,{"$f":"IF(Pivot!H834=\"\",\"\",Pivot!H834)","v":""},null,{"$f":"IF(Pivot!J834=\"\",\"\",Pivot!J834)","v":""},{"$f":"IF(Pivot!I834=\"\",\"\",Pivot!I834)","v":""},null,null,null,null,null,null,"","",{"$error":"#VALUE!"},null,"","",""]
[{"$f":"IF(Pivot!G835=\"\",\"\",Pivot!G835)","v":""},null,{"$f":"IF(Pivot!H835=\"\",\"\",Pivot!H835)","v":""},null,{"$f":"IF(Pivot!J835=\"\",\"\",Pivot!J835)","v":""},{"$f":"IF(Pivot!I835=\"\",\"\",Pivot!I835)","v":""},null,null,null,null,null,null,"","",{"$error":"#VALUE!"},null,"","",""]
[{"$f":"IF(Pivot!G836=\"\",\"\",Pivot!G836)","v":""},null,{"$f":"IF(Pivot!H836=\"\",\"\",Pivot!H836)","v":""},null,{"$f":"IF(Pivot!J836=\"\",\"\",Pivot!J836)","v":""},{"$f":"IF(Pivot!I836=\"\",\"\",Pivot!I836)","v":""},null,null,null,null,null,null,"","",{"$f":"N839/M839","v":{"$error":"#VALUE!"}},null,"","",""]
[{"$f":"IF(Pivot!G837=\"\",\"\",Pivot!G837)","v":""},null,{"$f":"IF(Pivot!H837=\"\",\"\",Pivot!H837)","v":""},null,{"$f":"IF(Pivot!J837=\"\",\"\",Pivot!J837)","v":""},{"$f":"IF(Pivot!I837=\"\",\"\",Pivot!I837)","v":""},null,null,null,null,null,null,{"$f":"IF(C840=\"\",\"\",C840*L840)","v":""},{"$f":"IF(F840=\"\",\"\",M840-F840)","v":""},{"$error":"#VALUE!"},null,{"$f":"IF(C840=\"\",\"\",C840*P840)","v":""},{"$f":"IF(F840=\"\",\"\",Q840-F840)","v":""},{"$f":"IF(F840=\"\",\"\",R840/F840)","v":""}]
[{"$f":"IF(Pivot!G838=\"\",\"\",Pivot!G838)","v":""},null,{"$f":"IF(Pivot!H838=\"\",\"\",Pivot!H838)","v":""},null,{"$f":"IF(Pivot!J838=\"\",\"\",Pivot!J838)","v":""},{"$f":"IF(Pivot!I838=\"\",\"\",Pivot!I838)","v":""},null,null,null,null,null,null,"","",{"$error":"#VALUE!"},null,"","",""]
[{"$f":"IF(Pivot!G839=\"\",\"\",Pivot!G839)","v":""},null,{"$f":"IF(Pivot!H839=\"\",\"\",Pivot!H839)","v":""},null,{"$f":"IF(Pivot!J839=\"\",\"\",Pivot!J839)","v":""},{"$f":"IF(Pivot!I839=\"\",\"\",Pivot!I839)","v":""},null,null,null,null,null,null,"","",{"$error":"#VALUE!"},null,"","",""]
[{"$f":"IF(Pivot!G840=\"\",\"\",Pivot!G840)","v":""},null,{"$f":"IF(Pivot!H840=\"\",\"\",Pivot!H840)","v":""},null,{"$f":"IF(Pivot!J840=\"\",\"\",Pivot!J840)","v":""},{"$f":"IF(Pivot!I840=\"\",\"\",Pivot!I840)","v":""},null,null,null,null,null,null,"","",{"$error":"#VALUE!"},null,"","",""]
[{"$f":"IF(Pivot!G841=\"\",\"\",Pivot!G841)","v":""},null,{"$f":"IF(Pivot!H841=\"\",\"\",Pivot!H841)","v":""},null,{"$f":"IF(Pivot!J841=\"\",\"\",Pivot!J841)","v":""},{"$f":"IF(Pivot!I841=\"\",\"\",Pivot!I841)","v":""},null,null,null,null,null,null,"","",{"$error":"#VALUE!"},null,"","",""]
[{"$f":"IF(Pivot!G842=\"\",\"\",Pivot!G842)","v":""},null,{"$f":"IF(Pivot!H842=\"\",\"\",Pivot!H842)","v":""},null,{"$f":"IF(Pivot!J842=\"\",\"\",Pivot!J842)","v":""},{"$f":"IF(Pivot!I842=\"\",\"\",Pivot!I842)","v":""},null,null,null,null,null,null,"","",{"$error":"#VALUE!"},null,"","",""]
[{"$f":"IF(Pivot!G843=\"\",\"\",Pivot!G843)","v":""},null,{"$f":"IF(Pivot!H843=\"\",\"\",Pivot!H843)","v":""},null,{"$f":"IF(Pivot!J843=\"\",\"\",Pivot!J843)","v":""},{"$f":"IF(Pivot!I843=\"\",\"\",Pivot!I843)","v":""},null,null,null,null,null,null,"","",{"$error":"#VALUE!"},null,"","",""]
[{"$f":"IF(Pivot!G844=\"\",\"\",Pivot!G844)","v":""},null,{"$f":"IF(Pivot!H844=\"\",\"\",Pivot!H844)","v":""},null,{"$f":"IF(Pivot!J844=\"\",\"\",Pivot!J844)","v":""},{"$f":"IF(Pivot!I844=\"\",\"\",Pivot!I844)","v":""},null,null,null,null,null,null,"","",{"$error":"#VALUE!"},null,"","",""]
[{"$f":"IF(Pivot!G845=\"\",\"\",Pivot!G845)","v":""},null,{"$f":"IF(Pivot!H845=\"\",\"\",Pivot!H845)","v":""},null,{"$f":"IF(Pivot!J845=\"\",\"\",Pivot!J845)","v":""},{"$f":"IF(Pivot!I845=\"\",\"\",Pivot!I845)","v":""},null,null,null,null,null,null,"","",{"$error":"#VALUE!"},null,"","",""]
[{"$f":"IF(Pivot!G846=\"\",\"\",Pivot!G846)","v":""},null,{"$f":"IF(Pivot!H846=\"\",\"\",Pivot!H846)","v":""},null,{"$f":"IF(Pivot!J846=\"\",\"\",Pivot!J846)","v":""},{"$f":"IF(Pivot!I846=\"\",\"\",Pivot!I846)","v":""},null,null,null,null,null,null,"","",{"$error":"#VALUE!"},null,"","",""]
[{"$f":"IF(Pivot!G847=\"\",\"\",Pivot!G847)","v":""},null,{"$f":"IF(Pivot!H847=\"\",\"\",Pivot!H847)","v":""},null,{"$f":"IF(Pivot!J847=\"\",\"\",Pivot!J847)","v":""},{"$f":"IF(Pivot!I847=\"\",\"\",Pivot!I847)","v":""},null,null,null,null,null,null,"","",{"$error":"#VALUE!"},null,"","",""]
[{"$f":"IF(Pivot!G848=\"\",\"\",Pivot!G848)","v":""},null,{"$f":"IF(Pivot!H848=\"\",\"\",Pivot!H848)","v":""},null,{"$f":"IF(Pivot!J848=\"\",\"\",Pivot!J848)","v":""},{"$f":"IF(Pivot!I848=\"\",\"\",Pivot!I848)","v":""},null,null,null,null,null,null,"","",{"$error":"#VALUE!"},null,"","",""]
[{"$f":"IF(Pivot!G849=\"\",\"\",Pivot!G849)","v":""},null,{"$f":"IF(Pivot!H849=\"\",\"\",Pivot!H849)","v":""},null,{"$f":"IF(Pivot!J849=\"\",\"\",Pivot!J849)","v":""},{"$f":"IF(Pivot!I849=\"\",\"\",Pivot!I849)","v":""},null,null,null,null,null,null,"","",{"$error":"#VALUE!"},null,"","",""]
[{"$f":"IF(Pivot!G850=\"\",\"\",Pivot!G850)","v":""},null,{"$f":"IF(Pivot!H850=\"\",\"\",Pivot!H850)","v":""},null,{"$f":"IF(Pivot!J850=\"\",\"\",Pivot!J850)","v":""},{"$f":"IF(Pivot!I850=\"\",\"\",Pivot!I850)","v":""},null,null,null,null,null,null,"","",{"$error":"#VALUE!"},null,"","",""]
[{"$f":"IF(Pivot!G851=\"\",\"\",Pivot!G851)","v":""},null,{"$f":"IF(Pivot!H851=\"\",\"\",Pivot!H851)","v":""},null,{"$f":"IF(Pivot!J851=\"\",\"\",Pivot!J851)","v":""},{"$f":"IF(Pivot!I851=\"\",\"\",Pivot!I851)","v":""},null,null,null,null,null,null,"","",{"$error":"#VALUE!"},null,"","",""]
[{"$f":"IF(Pivot!G852=\"\",\"\",Pivot!G852)","v":""},null,{"$f":"IF(Pivot!H852=\"\",\"\",Pivot!H852)","v":""},null,{"$f":"IF(Pivot!J852=\"\",\"\",Pivot!J852)","v":""},{"$f":"IF(Pivot!I852=\"\",\"\",Pivot!I852)","v":""},null,null,null,null,null,null,"","",{"$error":"#VALUE!"},null,"","",""]
[{"$f":"IF(Pivot!G853=\"\",\"\",Pivot!G853)","v":""},null,{"$f":"IF(Pivot!H853=\"\",\"\",Pivot!H853)","v":""},null,{"$f":"IF(Pivot!J853=\"\",\"\",Pivot!J853)","v":""},{"$f":"IF(Pivot!I853=\"\",\"\",Pivot!I853)","v":""},null,null,null,null,null,null,"","",{"$error":"#VALUE!"},null,"","",""]
[{"$f":"IF(Pivot!G854=\"\",\"\",Pivot!G854)","v":""},null,{"$f":"IF(Pivot!H854=\"\",\"\",Pivot!H854)","v":""},null,{"$f":"IF(Pivot!J854=\"\",\"\",Pivot!J854)","v":""},{"$f":"IF(Pivot!I854=\"\",\"\",Pivot!I854)","v":""},null,null,null,null,null,null,"","",{"$error":"#VALUE!"},null,"","",""]
[{"$f":"IF(Pivot!G855=\"\",\"\",Pivot!G855)","v":""},null,{"$f":"IF(Pivot!H855=\"\",\"\",Pivot!H855)","v":""},null,{"$f":"IF(Pivot!J855=\"\",\"\",Pivot!J855)","v":""},{"$f":"IF(Pivot!I855=\"\",\"\",Pivot!I855)","v":""},null,null,null,null,null,null,"","",{"$error":"#VALUE!"},null,"","",""]
[{"$f":"IF(Pivot!G856=\"\",\"\",Pivot!G856)","v":""},null,{"$f":"IF(Pivot!H856=\"\",\"\",Pivot!H856)","v":""},null,{"$f":"IF(Pivot!J856=\"\",\"\",Pivot!J856)","v":""},{"$f":"IF(Pivot!I856=\"\",\"\",Pivot!I856)","v":""},null,null,null,null,null,null,"","",{"$error":"#VALUE!"},null,"","",""]
[{"$f":"IF(Pivot!G857=\"\",\"\",Pivot!G857)","v":""},null,{"$f":"IF(Pivot!H857=\"\",\"\",Pivot!H857)","v":""},null,{"$f":"IF(Pivot!J857=\"\",\"\",Pivot!J857)","v":""},{"$f":"IF(Pivot!I857=\"\",\"\",Pivot!I857)","v":""},null,null,null,null,null,null,"","",{"$error":"#VALUE!"},null,"","",""]
[{"$f":"IF(Pivot!G858=\"\",\"\",Pivot!G858)","v":""},null,{"$f":"IF(Pivot!H858=\"\",\"\",Pivot!H858)","v":""},null,{"$f":"IF(Pivot!J858=\"\",\"\",Pivot!J858)","v":""},{"$f":"IF(Pivot!I858=\"\",\"\",Pivot!I858)","v":""},null,null,null,null,null,null,"","",{"$error":"#VALUE!"},null,"","",""]
[{"$f":"IF(Pivot!G859=\"\",\"\",Pivot!G859)","v":""},null,{"$f":"IF(Pivot!H859=\"\",\"\",Pivot!H859)","v":""},null,{"$f":"IF(Pivot!J859=\"\",\"\",Pivot!J859)","v":""},{"$f":"IF(Pivot!I859=\"\",\"\",Pivot!I859)","v":""},null,null,null,null,null,null,"","",{"$error":"#VALUE!"},null,"","",""]
[{"$f":"IF(Pivot!G860=\"\",\"\",Pivot!G860)","v":""},null,{"$f":"IF(Pivot!H860=\"\",\"\",Pivot!H860)","v":""},null,{"$f":"IF(Pivot!J860=\"\",\"\",Pivot!J860)","v":""},{"$f":"IF(Pivot!I860=\"\",\"\",Pivot!I860)","v":""},null,null,null,null,null,null,"","",{"$error":"#VALUE!"},null,"","",""]
[{"$f":"IF(Pivot!G861=\"\",\"\",Pivot!G861)","v":""},null,{"$f":"IF(Pivot!H861=\"\",\"\",Pivot!H861)","v":""},null,{"$f":"IF(Pivot!J861=\"\",\"\",Pivot!J861)","v":""},{"$f":"IF(Pivot!I861=\"\",\"\",Pivot!I861)","v":""},null,null,null,null,null,null,"","",{"$error":"#VALUE!"},null,"","",""]
[{"$f":"IF(Pivot!G862=\"\",\"\",Pivot!G862)","v":""},null,{"$f":"IF(Pivot!H862=\"\",\"\",Pivot!H862)","v":""},null,{"$f":"IF(Pivot!J862=\"\",\"\",Pivot!J862)","v":""},{"$f":"IF(Pivot!I862=\"\",\"\",Pivot!I862)","v":""},null,null,null,null,null,null,"","",{"$error":"#VALUE!"},null,"","",""]
[{"$f":"IF(Pivot!G863=\"\",\"\",Pivot!G863)","v":""},null,{"$f":"IF(Pivot!H863=\"\",\"\",Pivot!H863)","v":""},null,{"$f":"IF(Pivot!J863=\"\",\"\",Pivot!J863)","v":""},{"$f":"IF(Pivot!I863=\"\",\"\",Pivot!I863)","v":""},null,null,null,null,null,null,"","",{"$error":"#VALUE!"},null,"","",""]
[{"$f":"IF(Pivot!G864=\"\",\"\",Pivot!G864)","v":""},null,{"$f":"IF(Pivot!H864=\"\",\"\",Pivot!H864)","v":""},null,{"$f":"IF(Pivot!J864=\"\",\"\",Pivot!J864)","v":""},{"$f":"IF(Pivot!I864=\"\",\"\",Pivot!I864)","v":""},null,null,null,null,null,null,"","",{"$error":"#VALUE!"},null,"","",""]
[{"$f":"IF(Pivot!G865=\"\",\"\",Pivot!G865)","v":""},null,{"$f":"IF(Pivot!H865=\"\",\"\",Pivot!H865)","v":""},null,{"$f":"IF(Pivot!J865=\"\",\"\",Pivot!J865)","v":""},{"$f":"IF(Pivot!I865=\"\",\"\",Pivot!I865)","v":""},null,null,null,null,null,null,"","",{"$error":"#VALUE!"},null,"","",""]
[{"$f":"IF(Pivot!G866=\"\",\"\",Pivot!G866)","v":""},null,{"$f":"IF(Pivot!H866=\"\",\"\",Pivot!H866)","v":""},null,{"$f":"IF(Pivot!J866=\"\",\"\",Pivot!J866)","v":""},{"$f":"IF(Pivot!I866=\"\",\"\",Pivot!I866)","v":""},null,null,null,null,null,null,"","",{"$error":"#VALUE!"},null,"","",""]
[{"$f":"IF(Pivot!G867=\"\",\"\",Pivot!G867)","v":""},null,{"$f":"IF(Pivot!H867=\"\",\"\",Pivot!H867)","v":""},null,{"$f":"IF(Pivot!J867=\"\",\"\",Pivot!J867)","v":""},{"$f":"IF(Pivot!I867=\"\",\"\",Pivot!I867)","v":""},null,null,null,null,null,null,"","",{"$error":"#VALUE!"},null,"","",""]
[{"$f":"IF(Pivot!G868=\"\",\"\",Pivot!G868)","v":""},null,{"$f":"IF(Pivot!H868=\"\",\"\",Pivot!H868)","v":""},null,{"$f":"IF(Pivot!J868=\"\",\"\",Pivot!J868)","v":""},{"$f":"IF(Pivot!I868=\"\",\"\",Pivot!I868)","v":""},null,null,null,null,null,null,"","",{"$error":"#VALUE!"},null,"","",""]
[{"$f":"IF(Pivot!G869=\"\",\"\",Pivot!G869)","v":""},null,{"$f":"IF(Pivot!H869=\"\",\"\",Pivot!H869)","v":""},null,{"$f":"IF(Pivot!J869=\"\",\"\",Pivot!J869)","v":""},{"$f":"IF(Pivot!I869=\"\",\"\",Pivot!I869)","v":""},null,null,null,null,null,null,"","",{"$error":"#VALUE!"},null,"","",""]
[{"$f":"IF(Pivot!G870=\"\",\"\",Pivot!G870)","v":""},null,{"$f":"IF(Pivot!H870=\"\",\"\",Pivot!H870)","v":""},null,{"$f":"IF(Pivot!J870=\"\",\"\",Pivot!J870)","v":""},{"$f":"IF(Pivot!I870=\"\",\"\",Pivot!I870)","v":""},null,null,null,null,null,null,"","",{"$error":"#VALUE!"},null,"","",""]
[{"$f":"IF(Pivot!G871=\"\",\"\",Pivot!G871)","v":""},null,{"$f":"IF(Pivot!H871=\"\",\"\",Pivot!H871)","v":""},null,{"$f":"IF(Pivot!J871=\"\",\"\",Pivot!J871)","v":""},{"$f":"IF(Pivot!I871=\"\",\"\",Pivot!I871)","v":""},null,null,null,null,null,null,"","",{"$error":"#VALUE!"},null,"","",""]
[{"$f":"IF(Pivot!G872=\"\",\"\",Pivot!G872)","v":""},null,{"$f":"IF(Pivot!H872=\"\",\"\",Pivot!H872)","v":""},null,{"$f":"IF(Pivot!J872=\"\",\"\",Pivot!J872)","v":""},{"$f":"IF(Pivot!I872=\"\",\"\",Pivot!I872)","v":""},null,null,null,null,null,null,"","",{"$error":"#VALUE!"},null,"","",""]
[{"$f":"IF(Pivot!G873=\"\",\"\",Pivot!G873)","v":""},null,{"$f":"IF(Pivot!H873=\"\",\"\",Pivot!H873)","v":""},null,{"$f":"IF(Pivot!J873=\"\",\"\",Pivot!J873)","v":""},{"$f":"IF(Pivot!I873=\"\",\"\",Pivot!I873)","v":""},null,null,null,null,null,null,"","",{"$error":"#VALUE!"},null,"","",""]
[{"$f":"IF(Pivot!G874=\"\",\"\",Pivot!G874)","v":""},null,{"$f":"IF(Pivot!H874=\"\",\"\",Pivot!H874)","v":""},null,{"$f":"IF(Pivot!J874=\"\",\"\",Pivot!J874)","v":""},{"$f":"IF(Pivot!I874=\"\",\"\",Pivot!I874)","v":""},null,null,null,null,null,null,"","",{"$error":"#VALUE!"},null,"","",""]
[{"$f":"IF(Pivot!G875=\"\",\"\",Pivot!G875)","v":""},null,{"$f":"IF(Pivot!H875=\"\",\"\",Pivot!H875)","v":""},null,{"$f":"IF(Pivot!J875=\"\",\"\",Pivot!J875)","v":""},{"$f":"IF(Pivot!I875=\"\",\"\",Pivot!I875)","v":""},null,null,null,null,null,null,"","",{"$error":"#VALUE!"},null,"","",""]
[{"$f":"IF(Pivot!G876=\"\",\"\",Pivot!G876)","v":""},null,{"$f":"IF(Pivot!H876=\"\",\"\",Pivot!H876)","v":""},null,{"$f":"IF(Pivot!J876=\"\",\"\",Pivot!J876)","v":""},{"$f":"IF(Pivot!I876=\"\",\"\",Pivot!I876)","v":""},null,null,null,null,null,null,"","",{"$error":"#VALUE!"},null,"","",""]
[{"$f":"IF(Pivot!G877=\"\",\"\",Pivot!G877)","v":""},null,{"$f":"IF(Pivot!H877=\"\",\"\",Pivot!H877)","v":""},null,{"$f":"IF(Pivot!J877=\"\",\"\",Pivot!J877)","v":""},{"$f":"IF(Pivot!I877=\"\",\"\",Pivot!I877)","v":""},null,null,null,null,null,null,"","",{"$error":"#VALUE!"},null,"","",""]
[{"$f":"IF(Pivot!G878=\"\",\"\",Pivot!G878)","v":""},null,{"$f":"IF(Pivot!H878=\"\",\"\",Pivot!H878)","v":""},null,{"$f":"IF(Pivot!J878=\"\",\"\",Pivot!J878)","v":""},{"$f":"IF(Pivot!I878=\"\",\"\",Pivot!I878)","v":""},null,null,null,null,null,null,"","",{"$error":"#VALUE!"},null,"","",""]
[{"$f":"IF(Pivot!G879=\"\",\"\",Pivot!G879)","v":""},null,{"$f":"IF(Pivot!H879=\"\",\"\",Pivot!H879)","v":""},null,{"$f":"IF(Pivot!J879=\"\",\"\",Pivot!J879)","v":""},{"$f":"IF(Pivot!I879=\"\",\"\",Pivot!I879)","v":""},null,null,null,null,null,null,"","",{"$error":"#VALUE!"},null,"","",""]
[{"$f":"IF(Pivot!G880=\"\",\"\",Pivot!G880)","v":""},null,{"$f":"IF(Pivot!H880=\"\",\"\",Pivot!H880)","v":""},null,{"$f":"IF(Pivot!J880=\"\",\"\",Pivot!J880)","v":""},{"$f":"IF(Pivot!I880=\"\",\"\",Pivot!I880)","v":""},null,null,null,null,null,null,"","",{"$error":"#VALUE!"},null,"","",""]
[{"$f":"IF(Pivot!G881=\"\",\"\",Pivot!G881)","v":""},null,{"$f":"IF(Pivot!H881=\"\",\"\",Pivot!H881)","v":""},null,{"$f":"IF(Pivot!J881=\"\",\"\",Pivot!J881)","v":""},{"$f":"IF(Pivot!I881=\"\",\"\",Pivot!I881)","v":""},null,null,null,null,null,null,"","",{"$error":"#VALUE!"},null,"","",""]
[{"$f":"IF(Pivot!G882=\"\",\"\",Pivot!G882)","v":""},null,{"$f":"IF(Pivot!H882=\"\",\"\",Pivot!H882)","v":""},null,{"$f":"IF(Pivot!J882=\"\",\"\",Pivot!J882)","v":""},{"$f":"IF(Pivot!I882=\"\",\"\",Pivot!I882)","v":""},null,null,null,null,null,null,"","",{"$error":"#VALUE!"},null,"","",""]
[{"$f":"IF(Pivot!G883=\"\",\"\",Pivot!G883)","v":""},null,{"$f":"IF(Pivot!H883=\"\",\"\",Pivot!H883)","v":""},null,{"$f":"IF(Pivot!J883=\"\",\"\",Pivot!J883)","v":""},{"$f":"IF(Pivot!I883=\"\",\"\",Pivot!I883)","v":""},null,null,null,null,null,null,"","",{"$error":"#VALUE!"},null,"","",""]
[{"$f":"IF(Pivot!G884=\"\",\"\",Pivot!G884)","v":""},null,{"$f":"IF(Pivot!H884=\"\",\"\",Pivot!H884)","v":""},null,{"$f":"IF(Pivot!J884=\"\",\"\",Pivot!J884)","v":""},{"$f":"IF(Pivot!I884=\"\",\"\",Pivot!I884)","v":""},null,null,null,null,null,null,"","",{"$error":"#VALUE!"},null,"","",""]
[{"$f":"IF(Pivot!G885=\"\",\"\",Pivot!G885)","v":""},null,{"$f":"IF(Pivot!H885=\"\",\"\",Pivot!H885)","v":""},null,{"$f":"IF(Pivot!J885=\"\",\"\",Pivot!J885)","v":""},{"$f":"IF(Pivot!I885=\"\",\"\",Pivot!I885)","v":""},null,null,null,null,null,null,"","",{"$error":"#VALUE!"},null,"","",""]
[{"$f":"IF(Pivot!G886=\"\",\"\",Pivot!G886)","v":""},null,{"$f":"IF(Pivot!H886=\"\",\"\",Pivot!H886)","v":""},null,{"$f":"IF(Pivot!J886=\"\",\"\",Pivot!J886)","v":""},{"$f":"IF(Pivot!I886=\"\",\"\",Pivot!I886)","v":""},null,null,null,null,null,null,"","",{"$error":"#VALUE!"},null,"","",""]
[{"$f":"IF(Pivot!G887=\"\",\"\",Pivot!G887)","v":""},null,{"$f":"IF(Pivot!H887=\"\",\"\",Pivot!H887)","v":""},null,{"$f":"IF(Pivot!J887=\"\",\"\",Pivot!J887)","v":""},{"$f":"IF(Pivot!I887=\"\",\"\",Pivot!I887)","v":""},null,null,null,null,null,null,"","",{"$error":"#VALUE!"},null,"","",""]
[{"$f":"IF(Pivot!G888=\"\",\"\",Pivot!G888)","v":""},null,{"$f":"IF(Pivot!H888=\"\",\"\",Pivot!H888)","v":""},null,{"$f":"IF(Pivot!J888=\"\",\"\",Pivot!J888)","v":""},{"$f":"IF(Pivot!I888=\"\",\"\",Pivot!I888)","v":""},null,null,null,null,null,null,"","",{"$error":"#VALUE!"},null,"","",""]
[{"$f":"IF(Pivot!G889=\"\",\"\",Pivot!G889)","v":""},null,{"$f":"IF(Pivot!H889=\"\",\"\",Pivot!H889)","v":""},null,{"$f":"IF(Pivot!J889=\"\",\"\",Pivot!J889)","v":""},{"$f":"IF(Pivot!I889=\"\",\"\",Pivot!I889)","v":""},null,null,null,null,null,null,"","",{"$error":"#VALUE!"},null,"","",""]
[{"$f":"IF(Pivot!G890=\"\",\"\",Pivot!G890)","v":""},null,{"$f":"IF(Pivot!H890=\"\",\"\",Pivot!H890)","v":""},null,{"$f":"IF(Pivot!J890=\"\",\"\",Pivot!J890)","v":""},{"$f":"IF(Pivot!I890=\"\",\"\",Pivot!I890)","v":""},null,null,null,null,null,null,"","",{"$error":"#VALUE!"},null,"","",""]
[{"$f":"IF(Pivot!G891=\"\",\"\",Pivot!G891)","v":""},null,{"$f":"IF(Pivot!H891=\"\",\"\",Pivot!H891)","v":""},null,{"$f":"IF(Pivot!J891=\"\",\"\",Pivot!J891)","v":""},{"$f":"IF(Pivot!I891=\"\",\"\",Pivot!I891)","v":""},null,null,null,null,null,null,"","",{"$error":"#VALUE!"},null,"","",""]
[{"$f":"IF(Pivot!G892=\"\",\"\",Pivot!G892)","v":""},null,{"$f":"IF(Pivot!H892=\"\",\"\",Pivot!H892)","v":""},null,{"$f":"IF(Pivot!J892=\"\",\"\",Pivot!J892)","v":""},{"$f":"IF(Pivot!I892=\"\",\"\",Pivot!I892)","v":""},null,null,null,null,null,null,"","",{"$error":"#VALUE!"},null,"","",""]
[{"$f":"IF(Pivot!G893=\"\",\"\",Pivot!G893)","v":""},null,{"$f":"IF(Pivot!H893=\"\",\"\",Pivot!H893)","v":""},null,{"$f":"IF(Pivot!J893=\"\",\"\",Pivot!J893)","v":""},{"$f":"IF(Pivot!I893=\"\",\"\",Pivot!I893)","v":""},null,null,null,null,null,null,"","",{"$error":"#VALUE!"},null,"","",""]
[{"$f":"IF(Pivot!G894=\"\",\"\",Pivot!G894)","v":""},null,{"$f":"IF(Pivot!H894=\"\",\"\",Pivot!H894)","v":""},null,{"$f":"IF(Pivot!J894=\"\",\"\",Pivot!J894)","v":""},{"$f":"IF(Pivot!I894=\"\",\"\",Pivot!I894)","v":""},null,null,null,null,null,null,"","",{"$error":"#VALUE!"},null,"","",""]
[{"$f":"IF(Pivot!G895=\"\",\"\",Pivot!G895)","v":""},null,{"$f":"IF(Pivot!H895=\"\",\"\",Pivot!H895)","v":""},null,{"$f":"IF(Pivot!J895=\"\",\"\",Pivot!J895)","v":""},{"$f":"IF(Pivot!I895=\"\",\"\",Pivot!I895)","v":""},null,null,null,null,null,null,"","",{"$error":"#VALUE!"},null,"","",""]
[{"$f":"IF(Pivot!G896=\"\",\"\",Pivot!G896)","v":""},null,{"$f":"IF(Pivot!H896=\"\",\"\",Pivot!H896)","v":""},null,{"$f":"IF(Pivot!J896=\"\",\"\",Pivot!J896)","v":""},{"$f":"IF(Pivot!I896=\"\",\"\",Pivot!I896)","v":""},null,null,null,null,null,null,"","",{"$error":"#VALUE!"},null,"","",""]
[{"$f":"IF(Pivot!G897=\"\",\"\",Pivot!G897)","v":""},null,{"$f":"IF(Pivot!H897=\"\",\"\",Pivot!H897)","v":""},null,{"$f":"IF(Pivot!J897=\"\",\"\",Pivot!J897)","v":""},{"$f":"IF(Pivot!I897=\"\",\"\",Pivot!I897)","v":""},null,null,null,null,null,null,"","",{"$error":"#VALUE!"},null,"","",""]
[{"$f":"IF(Pivot!G898=\"\",\"\",Pivot!G898)","v":""},null,{"$f":"IF(Pivot!H898=\"\",\"\",Pivot!H898)","v":""},null,{"$f":"IF(Pivot!J898=\"\",\"\",Pivot!J898)","v":""},{"$f":"IF(Pivot!I898=\"\",\"\",Pivot!I898)","v":""},null,null,null,null,null,null,"","",{"$error":"#VALUE!"},null,"","",""]
[{"$f":"IF(Pivot!G899=\"\",\"\",Pivot!G899)","v":""},null,{"$f":"IF(Pivot!H899=\"\",\"\",Pivot!H899)","v":""},null,{"$f":"IF(Pivot!J899=\"\",\"\",Pivot!J899)","v":""},{"$f":"IF(Pivot!I899=\"\",\"\",Pivot!I899)","v":""},null,null,null,null,null,null,"","",{"$error":"#VALUE!"},null,"","",""]
[{"$f":"IF(Pivot!G900=\"\",\"\",Pivot!G900)","v":""},null,{"$f":"IF(Pivot!H900=\"\",\"\",Pivot!H900)","v":""},null,{"$f":"IF(Pivot!J900=\"\",\"\",Pivot!J900)","v":""},{"$f":"IF(Pivot!I900=\"\",\"\",Pivot!I900)","v":""},null,null,null,null,null,null,"","",{"$f":"N903/M903","v":{"$error":"#VALUE!"}},null,"","",""]
[{"$f":"IF(Pivot!G901=\"\",\"\",Pivot!G901)","v":""},null,{"$f":"IF(Pivot!H901=\"\",\"\",Pivot!H901)","v":""},null,{"$f":"IF(Pivot!J901=\"\",\"\",Pivot!J901)","v":""},{"$f":"IF(Pivot!I901=\"\",\"\",Pivot!I901)","v":""},null,null,null,null,null,null,{"$f":"IF(C904=\"\",\"\",C904*L904)","v":""},{"$f":"IF(F904=\"\",\"\",M904-F904)","v":""},{"$error":"#VALUE!"},null,{"$f":"IF(C904=\"\",\"\",C904*P904)","v":""},{"$f":"IF(F904=\"\",\"\",Q904-F904)","v":""},{"$f":"IF(F904=\"\",\"\",R904/F904)","v":""}]
[{"$f":"IF(Pivot!G902=\"\",\"\",Pivot!G902)","v":""},null,{"$f":"IF(Pivot!H902=\"\",\"\",Pivot!H902)","v":""},null,{"$f":"IF(Pivot!J902=\"\",\"\",Pivot!J902)","v":""},{"$f":"IF(Pivot!I902=\"\",\"\",Pivot!I902)","v":""},null,null,null,null,null,null,"","",{"$error":"#VALUE!"},null,"","",""]
[{"$f":"IF(Pivot!G903=\"\",\"\",Pivot!G903)","v":""},null,{"$f":"IF(Pivot!H903=\"\",\"\",Pivot!H903)","v":""},null,{"$f":"IF(Pivot!J903=\"\",\"\",Pivot!J903)","v":""},{"$f":"IF(Pivot!I903=\"\",\"\",Pivot!I903)","v":""},null,null,null,null,null,null,"","",{"$error":"#VALUE!"},null,"","",""]
[{"$f":"IF(Pivot!G904=\"\",\"\",Pivot!G904)","v":""},null,{"$f":"IF(Pivot!H904=\"\",\"\",Pivot!H904)","v":""},null,{"$f":"IF(Pivot!J904=\"\",\"\",Pivot!J904)","v":""},{"$f":"IF(Pivot!I904=\"\",\"\",Pivot!I904)","v":""},null,null,null,null,null,null,"","",{"$error":"#VALUE!"},null,"","",""]
[{"$f":"IF(Pivot!G905=\"\",\"\",Pivot!G905)","v":""},null,{"$f":"IF(Pivot!H905=\"\",\"\",Pivot!H905)","v":""},null,{"$f":"IF(Pivot!J905=\"\",\"\",Pivot!J905)","v":""},{"$f":"IF(Pivot!I905=\"\",\"\",Pivot!I905)","v":""},null,null,null,null,null,null,"","",{"$error":"#VALUE!"},null,"","",""]
[{"$f":"IF(Pivot!G906=\"\",\"\",Pivot!G906)","v":""},null,{"$f":"IF(Pivot!H906=\"\",\"\",Pivot!H906)","v":""},null,{"$f":"IF(Pivot!J906=\"\",\"\",Pivot!J906)","v":""},{"$f":"IF(Pivot!I906=\"\",\"\",Pivot!I906)","v":""},null,null,null,null,null,null,"","",{"$error":"#VALUE!"},null,"","",""]
[{"$f":"IF(Pivot!G907=\"\",\"\",Pivot!G907)","v":""},null,{"$f":"IF(Pivot!H907=\"\",\"\",Pivot!H907)","v":""},null,{"$f":"IF(Pivot!J907=\"\",\"\",Pivot!J907)","v":""},{"$f":"IF(Pivot!I907=\"\",\"\",Pivot!I907)","v":""},null,null,null,null,null,null,"","",{"$error":"#VALUE!"},null,"","",""]
[{"$f":"IF(Pivot!G908=\"\",\"\",Pivot!G908)","v":""},null,{"$f":"IF(Pivot!H908=\"\",\"\",Pivot!H908)","v":""},null,{"$f":"IF(Pivot!J908=\"\",\"\",Pivot!J908)","v":""},{"$f":"IF(Pivot!I908=\"\",\"\",Pivot!I908)","v":""},null,null,null,null,null,null,"","",{"$error":"#VALUE!"},null,"","",""]
[{"$f":"IF(Pivot!G909=\"\",\"\",Pivot!G909)","v":""},null,{"$f":"IF(Pivot!H909=\"\",\"\",Pivot!H909)","v":""},null,{"$f":"IF(Pivot!J909=\"\",\"\",Pivot!J909)","v":""},{"$f":"IF(Pivot!I909=\"\",\"\",Pivot!I909)","v":""},null,null,null,null,null,null,"","",{"$error":"#VALUE!"},null,"","",""]
[{"$f":"IF(Pivot!G910=\"\",\"\",Pivot!G910)","v":""},null,{"$f":"IF(Pivot!H910=\"\",\"\",Pivot!H910)","v":""},null,{"$f":"IF(Pivot!J910=\"\",\"\",Pivot!J910)","v":""},{"$f":"IF(Pivot!I910=\"\",\"\",Pivot!I910)","v":""},null,null,null,null,null,null,"","",{"$error":"#VALUE!"},null,"","",""]
[{"$f":"IF(Pivot!G911=\"\",\"\",Pivot!G911)","v":""},null,{"$f":"IF(Pivot!H911=\"\",\"\",Pivot!H911)","v":""},null,{"$f":"IF(Pivot!J911=\"\",\"\",Pivot!J911)","v":""},{"$f":"IF(Pivot!I911=\"\",\"\",Pivot!I911)","v":""},null,null,null,null,null,null,"","",{"$error":"#VALUE!"},null,"","",""]
[{"$f":"IF(Pivot!G912=\"\",\"\",Pivot!G912)","v":""},null,{"$f":"IF(Pivot!H912=\"\",\"\",Pivot!H912)","v":""},null,{"$f":"IF(Pivot!J912=\"\",\"\",Pivot!J912)","v":""},{"$f":"IF(Pivot!I912=\"\",\"\",Pivot!I912)","v":""},null,null,null,null,null,null,"","",{"$error":"#VALUE!"},null,"","",""]
[{"$f":"IF(Pivot!G913=\"\",\"\",Pivot!G913)","v":""},null,{"$f":"IF(Pivot!H913=\"\",\"\",Pivot!H913)","v":""},null,{"$f":"IF(Pivot!J913=\"\",\"\",Pivot!J913)","v":""},{"$f":"IF(Pivot!I913=\"\",\"\",Pivot!I913)","v":""},null,null,null,null,null,null,"","",{"$error":"#VALUE!"},null,"","",""]
[{"$f":"IF(Pivot!G914=\"\",\"\",Pivot!G914)","v":""},null,{"$f":"IF(Pivot!H914=\"\",\"\",Pivot!H914)","v":""},null,{"$f":"IF(Pivot!J914=\"\",\"\",Pivot!J914)","v":""},{"$f":"IF(Pivot!I914=\"\",\"\",Pivot!I914)","v":""},null,null,null,null,null,null,"","",{"$error":"#VALUE!"},null,"","",""]
[{"$f":"IF(Pivot!G915=\"\",\"\",Pivot!G915)","v":""},null,{"$f":"IF(Pivot!H915=\"\",\"\",Pivot!H915)","v":""},null,{"$f":"IF(Pivot!J915=\"\",\"\",Pivot!J915)","v":""},{"$f":"IF(Pivot!I915=\"\",\"\",Pivot!I915)","v":""},null,null,null,null,null,null,"","",{"$error":"#VALUE!"},null,"","",""]
[{"$f":"IF(Pivot!G916=\"\",\"\",Pivot!G916)","v":""},null,{"$f":"IF(Pivot!H916=\"\",\"\",Pivot!H916)","v":""},null,{"$f":"IF(Pivot!J916=\"\",\"\",Pivot!J916)","v":""},{"$f":"IF(Pivot!I916=\"\",\"\",Pivot!I916)","v":""},null,null,null,null,null,null,"","",{"$error":"#VALUE!"},null,"","",""]
[{"$f":"IF(Pivot!G917=\"\",\"\",Pivot!G917)","v":""},null,{"$f":"IF(Pivot!H917=\"\",\"\",Pivot!H917)","v":""},null,{"$f":"IF(Pivot!J917=\"\",\"\",Pivot!J917)","v":""},{"$f":"IF(Pivot!I917=\"\",\"\",Pivot!I917)","v":""},null,null,null,null,null,null,"","",{"$error":"#VALUE!"},null,"","",""]
[{"$f":"IF(Pivot!G918=\"\",\"\",Pivot!G918)","v":""},null,{"$f":"IF(Pivot!H918=\"\",\"\",Pivot!H918)","v":""},null,{"$f":"IF(Pivot!J918=\"\",\"\",Pivot!J918)","v":""},{"$f":"IF(Pivot!I918=\"\",\"\",Pivot!I918)","v":""},null,null,null,null,null,null,"","",{"$error":"#VALUE!"},null,"","",""]
[{"$f":"IF(Pivot!G919=\"\",\"\",Pivot!G919)","v":""},null,{"$f":"IF(Pivot!H919=\"\",\"\",Pivot!H919)","v":""},null,{"$f":"IF(Pivot!J919=\"\",\"\",Pivot!J919)","v":""},{"$f":"IF(Pivot!I919=\"\",\"\",Pivot!I919)","v":""},null,null,null,null,null,null,"","",{"$error":"#VALUE!"},null,"","",""]
[{"$f":"IF(Pivot!G920=\"\",\"\",Pivot!G920)","v":""},null,{"$f":"IF(Pivot!H920=\"\",\"\",Pivot!H920)","v":""},null,{"$f":"IF(Pivot!J920=\"\",\"\",Pivot!J920)","v":""},{"$f":"IF(Pivot!I920=\"\",\"\",Pivot!I920)","v":""},null,null,null,null,null,null,"","",{"$error":"#VALUE!"},null,"","",""]
[{"$f":"IF(Pivot!G921=\"\",\"\",Pivot!G921)","v":""},null,{"$f":"IF(Pivot!H921=\"\",\"\",Pivot!H921)","v":""},null,{"$f":"IF(Pivot!J921=\"\",\"\",Pivot!J921)","v":""},{"$f":"IF(Pivot!I921=\"\",\"\",Pivot!I921)","v":""},null,null,null,null,null,null,"","",{"$error":"#VALUE!"},null,"","",""]
[{"$f":"IF(Pivot!G922=\"\",\"\",Pivot!G922)","v":""},null,{"$f":"IF(Pivot!H922=\"\",\"\",Pivot!H922)","v":""},null,{"$f":"IF(Pivot!J922=\"\",\"\",Pivot!J922)","v":""},{"$f":"IF(Pivot!I922=\"\",\"\",Pivot!I922)","v":""},null,null,null,null,null,null,"","",{"$error":"#VALUE!"},null,"","",""]
[{"$f":"IF(Pivot!G923=\"\",\"\",Pivot!G923)","v":""},null,{"$f":"IF(Pivot!H923=\"\",\"\",Pivot!H923)","v":""},null,{"$f":"IF(Pivot!J923=\"\",\"\",Pivot!J923)","v":""},{"$f":"IF(Pivot!I923=\"\",\"\",Pivot!I923)","v":""},null,null,null,null,null,null,"","",{"$error":"#VALUE!"},null,"","",""]
[{"$f":"IF(Pivot!G924=\"\",\"\",Pivot!G924)","v":""},null,{"$f":"IF(Pivot!H924=\"\",\"\",Pivot!H924)","v":""},null,{"$f":"IF(Pivot!J924=\"\",\"\",Pivot!J924)","v":""},{"$f":"IF(Pivot!I924=\"\",\"\",Pivot!I924)","v":""},null,null,null,null,null,null,"","",{"$error":"#VALUE!"},null,"","",""]
[{"$f":"IF(Pivot!G925=\"\",\"\",Pivot!G925)","v":""},null,{"$f":"IF(Pivot!H925=\"\",\"\",Pivot!H925)","v":""},null,{"$f":"IF(Pivot!J925=\"\",\"\",Pivot!J925)","v":""},{"$f":"IF(Pivot!I925=\"\",\"\",Pivot!I925)","v":""},null,null,null,null,null,null,"","",{"$error":"#VALUE!"},null,"","",""]
[{"$f":"IF(Pivot!G926=\"\",\"\",Pivot!G926)","v":""},null,{"$f":"IF(Pivot!H926=\"\",\"\",Pivot!H926)","v":""},null,{"$f":"IF(Pivot!J926=\"\",\"\",Pivot!J926)","v":""},{"$f":"IF(Pivot!I926=\"\",\"\",Pivot!I926)","v":""},null,null,null,null,null,null,"","",{"$error":"#VALUE!"},null,"","",""]
[{"$f":"IF(Pivot!G927=\"\",\"\",Pivot!G927)","v":""},null,{"$f":"IF(Pivot!H927=\"\",\"\",Pivot!H927)","v":""},null,{"$f":"IF(Pivot!J927=\"\",\"\",Pivot!J927)","v":""},{"$f":"IF(Pivot!I927=\"\",\"\",Pivot!I927)","v":""},null,null,null,null,null,null,"","",{"$error":"#VALUE!"},null,"","",""]
[{"$f":"IF(Pivot!G928=\"\",\"\",Pivot!G928)","v":""},null,{"$f":"IF(Pivot!H928=\"\",\"\",Pivot!H928)","v":""},null,{"$f":"IF(Pivot!J928=\"\",\"\",Pivot!J928)","v":""},{"$f":"IF(Pivot!I928=\"\",\"\",Pivot!I928)","v":""},null,null,null,null,null,null,"","",{"$error":"#VALUE!"},null,"","",""]
[{"$f":"IF(Pivot!G929=\"\",\"\",Pivot!G929)","v":""},null,{"$f":"IF(Pivot!H929=\"\",\"\",Pivot!H929)","v":""},null,{"$f":"IF(Pivot!J929=\"\",\"\",Pivot!J929)","v":""},{"$f":"IF(Pivot!I929=\"\",\"\",Pivot!I929)","v":""},null,null,null,null,null,null,"","",{"$error":"#VALUE!"},null,"","",""]
[{"$f":"IF(Pivot!G930=\"\",\"\",Pivot!G930)","v":""},null,{"$f":"IF(Pivot!H930=\"\",\"\",Pivot!H930)","v":""},null,{"$f":"IF(Pivot!J930=\"\",\"\",Pivot!J930)","v":""},{"$f":"IF(Pivot!I930=\"\",\"\",Pivot!I930)","v":""},null,null,null,null,null,null,"","",{"$error":"#VALUE!"},null,"","",""]
[{"$f":"IF(Pivot!G931=\"\",\"\",Pivot!G931)","v":""},null,{"$f":"IF(Pivot!H931=\"\",\"\",Pivot!H931)","v":""},null,{"$f":"IF(Pivot!J931=\"\",\"\",Pivot!J931)","v":""},{"$f":"IF(Pivot!I931=\"\",\"\",Pivot!I931)","v":""},null,null,null,null,null,null,"","",{"$error":"#VALUE!"},null,"","",""]
[{"$f":"IF(Pivot!G932=\"\",\"\",Pivot!G932)","v":""},null,{"$f":"IF(Pivot!H932=\"\",\"\",Pivot!H932)","v":""},null,{"$f":"IF(Pivot!J932=\"\",\"\",Pivot!J932)","v":""},{"$f":"IF(Pivot!I932=\"\",\"\",Pivot!I932)","v":""},null,null,null,null,null,null,"","",{"$error":"#VALUE!"},null,"","",""]
[{"$f":"IF(Pivot!G933=\"\",\"\",Pivot!G933)","v":""},null,{"$f":"IF(Pivot!H933=\"\",\"\",Pivot!H933)","v":""},null,{"$f":"IF(Pivot!J933=\"\",\"\",Pivot!J933)","v":""},{"$f":"IF(Pivot!I933=\"\",\"\",Pivot!I933)","v":""},null,null,null,null,null,null,"","",{"$error":"#VALUE!"},null,"","",""]
[{"$f":"IF(Pivot!G934=\"\",\"\",Pivot!G934)","v":""},null,{"$f":"IF(Pivot!H934=\"\",\"\",Pivot!H934)","v":""},null,{"$f":"IF(Pivot!J934=\"\",\"\",Pivot!J934)","v":""},{"$f":"IF(Pivot!I934=\"\",\"\",Pivot!I934)","v":""},null,null,null,null,null,null,"","",{"$error":"#VALUE!"},null,"","",""]
[{"$f":"IF(Pivot!G935=\"\",\"\",Pivot!G935)","v":""},null,{"$f":"IF(Pivot!H935=\"\",\"\",Pivot!H935)","v":""},null,{"$f":"IF(Pivot!J935=\"\",\"\",Pivot!J935)","v":""},{"$f":"IF(Pivot!I935=\"\",\"\",Pivot!I935)","v":""},null,null,null,null,null,null,"","",{"$error":"#VALUE!"},null,"","",""]
[{"$f":"IF(Pivot!G936=\"\",\"\",Pivot!G936)","v":""},null,{"$f":"IF(Pivot!H936=\"\",\"\",Pivot!H936)","v":""},null,{"$f":"IF(Pivot!J936=\"\",\"\",Pivot!J936)","v":""},{"$f":"IF(Pivot!I936=\"\",\"\",Pivot!I936)","v":""},null,null,null,null,null,null,"","",{"$error":"#VALUE!"},null,"","",""]
[{"$f":"IF(Pivot!G937=\"\",\"\",Pivot!G937)","v":""},null,{"$f":"IF(Pivot!H937=\"\",\"\",Pivot!H937)","v":""},null,{"$f":"IF(Pivot!J937=\"\",\"\",Pivot!J937)","v":""},{"$f":"IF(Pivot!I937=\"\",\"\",Pivot!I937)","v":""},null,null,null,null,null,null,"","",{"$error":"#VALUE!"},null,"","",""]
[{"$f":"IF(Pivot!G938=\"\",\"\",Pivot!G938)","v":""},null,{"$f":"IF(Pivot!H938=\"\",\"\",Pivot!H938)","v":""},null,{"$f":"IF(Pivot!J938=\"\",\"\",Pivot!J938)","v":""},{"$f":"IF(Pivot!I938=\"\",\"\",Pivot!I938)","v":""},null,null,null,null,null,null,"","",{"$error":"#VALUE!"},null,"","",""]
[{"$f":"IF(Pivot!G939=\"\",\"\",Pivot!G939)","v":""},null,{"$f":"IF(Pivot!H939=\"\",\"\",Pivot!H939)","v":""},null,{"$f":"IF(Pivot!J939=\"\",\"\",Pivot!J939)","v":""},{"$f":"IF(Pivot!I939=\"\",\"\",Pivot!I939)","v":""},null,null,null,null,null,null,"","",{"$error":"#VALUE!"},null,"","",""]
[{"$f":"IF(Pivot!G940=\"\",\"\",Pivot!G940)","v":""},null,{"$f":"IF(Pivot!H940=\"\",\"\",Pivot!H940)","v":""},null,{"$f":"IF(Pivot!J940=\"\",\"\",Pivot!J940)","v":""},{"$f":"IF(Pivot!I940=\"\",\"\",Pivot!I940)","v":""},null,null,null,null,null,null,"","",{"$error":"#VALUE!"},null,"","",""]
[{"$f":"IF(Pivot!G941=\"\",\"\",Pivot!G941)","v":""},null,{"$f":"IF(Pivot!H941=\"\",\"\",Pivot!H941)","v":""},null,{"$f":"IF(Pivot!J941=\"\",\"\",Pivot!J941)","v":""},{"$f":"IF(Pivot!I941=\"\",\"\",Pivot!I941)","v":""},null,null,null,null,null,null,"","",{"$error":"#VALUE!"},null,"","",""]
[{"$f":"IF(Pivot!G942=\"\",\"\",Pivot!G942)","v":""},null,{"$f":"IF(Pivot!H942=\"\",\"\",Pivot!H942)","v":""},null,{"$f":"IF(Pivot!J942=\"\",\"\",Pivot!J942)","v":""},{"$f":"IF(Pivot!I942=\"\",\"\",Pivot!I942)","v":""},null,null,null,null,null,null,"","",{"$error":"#VALUE!"},null,"","",""]
[{"$f":"IF(Pivot!G943=\"\",\"\",Pivot!G943)","v":""},null,{"$f":"IF(Pivot!H943=\"\",\"\",Pivot!H943)","v":""},null,{"$f":"IF(Pivot!J943=\"\",\"\",Pivot!J943)","v":""},{"$f":"IF(Pivot!I943=\"\",\"\",Pivot!I943)","v":""},null,null,null,null,null,null,"","",{"$error":"#VALUE!"},null,"","",""]
[{"$f":"IF(Pivot!G944=\"\",\"\",Pivot!G944)","v":""},null,{"$f":"IF(Pivot!H944=\"\",\"\",Pivot!H944)","v":""},null,{"$f":"IF(Pivot!J944=\"\",\"\",Pivot!J944)","v":""},{"$f":"IF(Pivot!I944=\"\",\"\",Pivot!I944)","v":""},null,null,null,null,null,null,"","",{"$error":"#VALUE!"},null,"","",""]
[{"$f":"IF(Pivot!G945=\"\",\"\",Pivot!G945)","v":""},null,{"$f":"IF(Pivot!H945=\"\",\"\",Pivot!H945)","v":""},null,{"$f":"IF(Pivot!J945=\"\",\"\",Pivot!J945)","v":""},{"$f":"IF(Pivot!I945=\"\",\"\",Pivot!I945)","v":""},null,null,null,null,null,null,"","",{"$error":"#VALUE!"},null,"","",""]
[{"$f":"IF(Pivot!G946=\"\",\"\",Pivot!G946)","v":""},null,{"$f":"IF(Pivot!H946=\"\",\"\",Pivot!H946)","v":""},null,{"$f":"IF(Pivot!J946=\"\",\"\",Pivot!J946)","v":""},{"$f":"IF(Pivot!I946=\"\",\"\",Pivot!I946)","v":""},null,null,null,null,null,null,"","",{"$error":"#VALUE!"},null,"","",""]
[{"$f":"IF(Pivot!G947=\"\",\"\",Pivot!G947)","v":""},null,{"$f":"IF(Pivot!H947=\"\",\"\",Pivot!H947)","v":""},null,{"$f":"IF(Pivot!J947=\"\",\"\",Pivot!J947)","v":""},{"$f":"IF(Pivot!I947=\"\",\"\",Pivot!I947)","v":""},null,null,null,null,null,null,"","",{"$error":"#VALUE!"},null,"","",""]
[{"$f":"IF(Pivot!G948=\"\",\"\",Pivot!G948)","v":""},null,{"$f":"IF(Pivot!H948=\"\",\"\",Pivot!H948)","v":""},null,{"$f":"IF(Pivot!J948=\"\",\"\",Pivot!J948)","v":""},{"$f":"IF(Pivot!I948=\"\",\"\",Pivot!I948)","v":""},null,null,null,null,null,null,"","",{"$error":"#VALUE!"},null,"","",""]
[{"$f":"IF(Pivot!G949=\"\",\"\",Pivot!G949)","v":""},null,{"$f":"IF(Pivot!H949=\"\",\"\",Pivot!H949)","v":""},null,{"$f":"IF(Pivot!J949=\"\",\"\",Pivot!J949)","v":""},{"$f":"IF(Pivot!I949=\"\",\"\",Pivot!I949)","v":""},null,null,null,null,null,null,"","",{"$error":"#VALUE!"},null,"","",""]
[{"$f":"IF(Pivot!G950=\"\",\"\",Pivot!G950)","v":""},null,{"$f":"IF(Pivot!H950=\"\",\"\",Pivot!H950)","v":""},null,{"$f":"IF(Pivot!J950=\"\",\"\",Pivot!J950)","v":""},{"$f":"IF(Pivot!I950=\"\",\"\",Pivot!I950)","v":""},null,null,null,null,null,null,"","",{"$error":"#VALUE!"},null,"","",""]
[{"$f":"IF(Pivot!G951=\"\",\"\",Pivot!G951)","v":""},null,{"$f":"IF(Pivot!H951=\"\",\"\",Pivot!H951)","v":""},null,{"$f":"IF(Pivot!J951=\"\",\"\",Pivot!J951)","v":""},{"$f":"IF(Pivot!I951=\"\",\"\",Pivot!I951)","v":""},null,null,null,null,null,null,"","",{"$error":"#VALUE!"},null,"","",""]
[{"$f":"IF(Pivot!G952=\"\",\"\",Pivot!G952)","v":""},null,{"$f":"IF(Pivot!H952=\"\",\"\",Pivot!H952)","v":""},null,{"$f":"IF(Pivot!J952=\"\",\"\",Pivot!J952)","v":""},{"$f":"IF(Pivot!I952=\"\",\"\",Pivot!I952)","v":""},null,null,null,null,null,null,"","",{"$error":"#VALUE!"},null,"","",""]
[{"$f":"IF(Pivot!G953=\"\",\"\",Pivot!G953)","v":""},null,{"$f":"IF(Pivot!H953=\"\",\"\",Pivot!H953)","v":""},null,{"$f":"IF(Pivot!J953=\"\",\"\",Pivot!J953)","v":""},{"$f":"IF(Pivot!I953=\"\",\"\",Pivot!I953)","v":""},null,null,null,null,null,null,"","",{"$error":"#VALUE!"},null,"","",""]
[{"$f":"IF(Pivot!G954=\"\",\"\",Pivot!G954)","v":""},null,{"$f":"IF(Pivot!H954=\"\",\"\",Pivot!H954)","v":""},null,{"$f":"IF(Pivot!J954=\"\",\"\",Pivot!J954)","v":""},{"$f":"IF(Pivot!I954=\"\",\"\",Pivot!I954)","v":""},null,null,null,null,null,null,"","",{"$error":"#VALUE!"},null,"","",""]
[{"$f":"IF(Pivot!G955=\"\",\"\",Pivot!G955)","v":""},null,{"$f":"IF(Pivot!H955=\"\",\"\",Pivot!H955)","v":""},null,{"$f":"IF(Pivot!J955=\"\",\"\",Pivot!J955)","v":""},{"$f":"IF(Pivot!I955=\"\",\"\",Pivot!I955)","v":""},null,null,null,null,null,null,"","",{"$error":"#VALUE!"},null,"","",""]
[{"$f":"IF(Pivot!G956=\"\",\"\",Pivot!G956)","v":""},null,{"$f":"IF(Pivot!H956=\"\",\"\",Pivot!H956)","v":""},null,{"$f":"IF(Pivot!J956=\"\",\"\",Pivot!J956)","v":""},{"$f":"IF(Pivot!I956=\"\",\"\",Pivot!I956)","v":""},null,null,null,null,null,null,"","",{"$error":"#VALUE!"},null,"","",""]
[{"$f":"IF(Pivot!G957=\"\",\"\",Pivot!G957)","v":""},null,{"$f":"IF(Pivot!H957=\"\",\"\",Pivot!H957)","v":""},null,{"$f":"IF(Pivot!J957=\"\",\"\",Pivot!J957)","v":""},{"$f":"IF(Pivot!I957=\"\",\"\",Pivot!I957)","v":""},null,null,null,null,null,null,"","",{"$error":"#VALUE!"},null,"","",""]
[{"$f":"IF(Pivot!G958=\"\",\"\",Pivot!G958)","v":""},null,{"$f":"IF(Pivot!H958=\"\",\"\",Pivot!H958)","v":""},null,{"$f":"IF(Pivot!J958=\"\",\"\",Pivot!J958)","v":""},{"$f":"IF(Pivot!I958=\"\",\"\",Pivot!I958)","v":""},null,null,null,null,null,null,"","",{"$error":"#VALUE!"},null,"","",""]
[{"$f":"IF(Pivot!G959=\"\",\"\",Pivot!G959)","v":""},null,{"$f":"IF(Pivot!H959=\"\",\"\",Pivot!H959)","v":""},null,{"$f":"IF(Pivot!J959=\"\",\"\",Pivot!J959)","v":""},{"$f":"IF(Pivot!I959=\"\",\"\",Pivot!I959)","v":""},null,null,null,null,null,null,"","",{"$error":"#VALUE!"},null,"","",""]
[{"$f":"IF(Pivot!G960=\"\",\"\",Pivot!G960)","v":""},null,{"$f":"IF(Pivot!H960=\"\",\"\",Pivot!H960)","v":""},null,{"$f":"IF(Pivot!J960=\"\",\"\",Pivot!J960)","v":""},{"$f":"IF(Pivot!I960=\"\",\"\",Pivot!I960)","v":""},null,null,null,null,null,null,"","",{"$error":"#VALUE!"},null,"","",""]
[{"$f":"IF(Pivot!G961=\"\",\"\",Pivot!G961)","v":""},null,{"$f":"IF(Pivot!H961=\"\",\"\",Pivot!H961)","v":""},null,{"$f":"IF(Pivot!J961=\"\",\"\",Pivot!J961)","v":""},{"$f":"IF(Pivot!I961=\"\",\"\",Pivot!I961)","v":""},null,null,null,null,null,null,"","",{"$error":"#VALUE!"},null,"","",""]
[{"$f":"IF(Pivot!G962=\"\",\"\",Pivot!G962)","v":""},null,{"$f":"IF(Pivot!H962=\"\",\"\",Pivot!H962)","v":""},null,{"$f":"IF(Pivot!J962=\"\",\"\",Pivot!J962)","v":""},{"$f":"IF(Pivot!I962=\"\",\"\",Pivot!I962)","v":""},null,null,null,null,null,null,"","",{"$error":"#VALUE!"},null,"","",""]
[{"$f":"IF(Pivot!G963=\"\",\"\",Pivot!G963)","v":""},null,{"$f":"IF(Pivot!H963=\"\",\"\",Pivot!H963)","v":""},null,{"$f":"IF(Pivot!J963=\"\",\"\",Pivot!J963)","v":""},{"$f":"IF(Pivot!I963=\"\",\"\",Pivot!I963)","v":""},null,null,null,null,null,null,"","",{"$error":"#VALUE!"},null,"","",""]
[{"$f":"IF(Pivot!G964=\"\",\"\",Pivot!G964)","v":""},null,{"$f":"IF(Pivot!H964=\"\",\"\",Pivot!H964)","v":""},null,{"$f":"IF(Pivot!J964=\"\",\"\",Pivot!J964)","v":""},{"$f":"IF(Pivot!I964=\"\",\"\",Pivot!I964)","v":""},null,null,null,null,null,null,"","",{"$f":"N967/M967","v":{"$error":"#VALUE!"}},null,"","",""]
[{"$f":"IF(Pivot!G965=\"\",\"\",Pivot!G965)","v":""},null,{"$f":"IF(Pivot!H965=\"\",\"\",Pivot!H965)","v":""},null,{"$f":"IF(Pivot!J965=\"\",\"\",Pivot!J965)","v":""},{"$f":"IF(Pivot!I965=\"\",\"\",Pivot!I965)","v":""},null,null,null,null,null,null,{"$f":"IF(C968=\"\",\"\",C968*L968)","v":""},{"$f":"IF(F968=\"\",\"\",M968-F968)","v":""},{"$error":"#VALUE!"},null,{"$f":"IF(C968=\"\",\"\",C968*P968)","v":""},{"$f":"IF(F968=\"\",\"\",Q968-F968)","v":""},{"$f":"IF(F968=\"\",\"\",R968/F968)","v":""}]
[{"$f":"IF(Pivot!G966=\"\",\"\",Pivot!G966)","v":""},null,{"$f":"IF(Pivot!H966=\"\",\"\",Pivot!H966)","v":""},null,{"$f":"IF(Pivot!J966=\"\",\"\",Pivot!J966)","v":""},{"$f":"IF(Pivot!I966=\"\",\"\",Pivot!I966)","v":""},null,null,null,null,null,null,"","",{"$error":"#VALUE!"},null,"","",""]
[{"$f":"IF(Pivot!G967=\"\",\"\",Pivot!G967)","v":""},null,{"$f":"IF(Pivot!H967=\"\",\"\",Pivot!H967)","v":""},null,{"$f":"IF(Pivot!J967=\"\",\"\",Pivot!J967)","v":""},{"$f":"IF(Pivot!I967=\"\",\"\",Pivot!I967)","v":""},null,null,null,null,null,null,"","",{"$error":"#VALUE!"},null,"","",""]
[{"$f":"IF(Pivot!G968=\"\",\"\",Pivot!G968)","v":""},null,{"$f":"IF(Pivot!H968=\"\",\"\",Pivot!H968)","v":""},null,{"$f":"IF(Pivot!J968=\"\",\"\",Pivot!J968)","v":""},{"$f":"IF(Pivot!I968=\"\",\"\",Pivot!I968)","v":""},null,null,null,null,null,null,"","",{"$error":"#VALUE!"},null,"","",""]
[{"$f":"IF(Pivot!G969=\"\",\"\",Pivot!G969)","v":""},null,{"$f":"IF(Pivot!H969=\"\",\"\",Pivot!H969)","v":""},null,{"$f":"IF(Pivot!J969=\"\",\"\",Pivot!J969)","v":""},{"$f":"IF(Pivot!I969=\"\",\"\",Pivot!I969)","v":""},null,null,null,null,null,null,"","",{"$error":"#VALUE!"},null,"","",""]
[{"$f":"IF(Pivot!G970=\"\",\"\",Pivot!G970)","v":""},null,{"$f":"IF(Pivot!H970=\"\",\"\",Pivot!H970)","v":""},null,{"$f":"IF(Pivot!J970=\"\",\"\",Pivot!J970)","v":""},{"$f":"IF(Pivot!I970=\"\",\"\",Pivot!I970)","v":""},null,null,null,null,null,null,"","",{"$error":"#VALUE!"},null,"","",""]
[{"$f":"IF(Pivot!G971=\"\",\"\",Pivot!G971)","v":""},null,{"$f":"IF(Pivot!H971=\"\",\"\",Pivot!H971)","v":""},null,{"$f":"IF(Pivot!J971=\"\",\"\",Pivot!J971)","v":""},{"$f":"IF(Pivot!I971=\"\",\"\",Pivot!I971)","v":""},null,null,null,null,null,null,"","",{"$error":"#VALUE!"},null,"","",""]
[{"$f":"IF(Pivot!G972=\"\",\"\",Pivot!G972)","v":""},null,{"$f":"IF(Pivot!H972=\"\",\"\",Pivot!H972)","v":""},null,{"$f":"IF(Pivot!J972=\"\",\"\",Pivot!J972)","v":""},{"$f":"IF(Pivot!I972=\"\",\"\",Pivot!I972)","v":""},null,null,null,null,null,null,"","",{"$error":"#VALUE!"},null,"","",""]
[{"$f":"IF(Pivot!G973=\"\",\"\",Pivot!G973)","v":""},null,{"$f":"IF(Pivot!H973=\"\",\"\",Pivot!H973)","v":""},null,{"$f":"IF(Pivot!J973=\"\",\"\",Pivot!J973)","v":""},{"$f":"IF(Pivot!I973=\"\",\"\",Pivot!I973)","v":""},null,null,null,null,null,null,"","",{"$error":"#VALUE!"},null,"","",""]
[{"$f":"IF(Pivot!G974=\"\",\"\",Pivot!G974)","v":""},null,{"$f":"IF(Pivot!H974=\"\",\"\",Pivot!H974)","v":""},null,{"$f":"IF(Pivot!J974=\"\",\"\",Pivot!J974)","v":""},{"$f":"IF(Pivot!I974=\"\",\"\",Pivot!I974)","v":""},null,null,null,null,null,null,"","",{"$error":"#VALUE!"},null,"","",""]
[{"$f":"IF(Pivot!G975=\"\",\"\",Pivot!G975)","v":""},null,{"$f":"IF(Pivot!H975=\"\",\"\",Pivot!H975)","v":""},null,{"$f":"IF(Pivot!J975=\"\",\"\",Pivot!J975)","v":""},{"$f":"IF(Pivot!I975=\"\",\"\",Pivot!I975)","v":""},null,null,null,null,null,null,"","",{"$error":"#VALUE!"},null,"","",""]
[{"$f":"IF(Pivot!G976=\"\",\"\",Pivot!G976)","v":""},null,{"$f":"IF(Pivot!H976=\"\",\"\",Pivot!H976)","v":""},null,{"$f":"IF(Pivot!J976=\"\",\"\",Pivot!J976)","v":""},{"$f":"IF(Pivot!I976=\"\",\"\",Pivot!I976)","v":""},null,null,null,null,null,null,"","",{"$error":"#VALUE!"},null,"","",""]
[{"$f":"IF(Pivot!G977=\"\",\"\",Pivot!G977)","v":""},null,{"$f":"IF(Pivot!H977=\"\",\"\",Pivot!H977)","v":""},null,{"$f":"IF(Pivot!J977=\"\",\"\",Pivot!J977)","v":""},{"$f":"IF(Pivot!I977=\"\",\"\",Pivot!I977)","v":""},null,null,null,null,null,null,"","",{"$error":"#VALUE!"},null,"","",""]
[{"$f":"IF(Pivot!G978=\"\",\"\",Pivot!G978)","v":""},null,{"$f":"IF(Pivot!H978=\"\",\"\",Pivot!H978)","v":""},null,{"$f":"IF(Pivot!J978=\"\",\"\",Pivot!J978)","v":""},{"$f":"IF(Pivot!I978=\"\",\"\",Pivot!I978)","v":""},null,null,null,null,null,null,"","",{"$error":"#VALUE!"},null,"","",""]
[{"$f":"IF(Pivot!G979=\"\",\"\",Pivot!G979)","v":""},null,{"$f":"IF(Pivot!H979=\"\",\"\",Pivot!H979)","v":""},null,{"$f":"IF(Pivot!J979=\"\",\"\",Pivot!J979)","v":""},{"$f":"IF(Pivot!I979=\"\",\"\",Pivot!I979)","v":""},null,null,null,null,null,null,"","",{"$error":"#VALUE!"},null,"","",""]
[{"$f":"IF(Pivot!G980=\"\",\"\",Pivot!G980)","v":""},null,{"$f":"IF(Pivot!H980=\"\",\"\",Pivot!H980)","v":""},null,{"$f":"IF(Pivot!J980=\"\",\"\",Pivot!J980)","v":""},{"$f":"IF(Pivot!I980=\"\",\"\",Pivot!I980)","v":""},null,null,null,null,null,null,"","",{"$error":"#VALUE!"},null,"","",""]
[{"$f":"IF(Pivot!G981=\"\",\"\",Pivot!G981)","v":""},null,{"$f":"IF(Pivot!H981=\"\",\"\",Pivot!H981)","v":""},null,{"$f":"IF(Pivot!J981=\"\",\"\",Pivot!J981)","v":""},{"$f":"IF(Pivot!I981=\"\",\"\",Pivot!I981)","v":""},null,null,null,null,null,null,"","",{"$error":"#VALUE!"},null,"","",""]
[{"$f":"IF(Pivot!G982=\"\",\"\",Pivot!G982)","v":""},null,{"$f":"IF(Pivot!H982=\"\",\"\",Pivot!H982)","v":""},null,{"$f":"IF(Pivot!J982=\"\",\"\",Pivot!J982)","v":""},{"$f":"IF(Pivot!I982=\"\",\"\",Pivot!I982)","v":""},null,null,null,null,null,null,"","",{"$error":"#VALUE!"},null,"","",""]
[{"$f":"IF(Pivot!G983=\"\",\"\",Pivot!G983)","v":""},null,{"$f":"IF(Pivot!H983=\"\",\"\",Pivot!H983)","v":""},null,{"$f":"IF(Pivot!J983=\"\",\"\",Pivot!J983)","v":""},{"$f":"IF(Pivot!I983=\"\",\"\",Pivot!I983)","v":""},null,null,null,null,null,null,"","",{"$error":"#VALUE!"},null,"","",""]
[{"$f":"IF(Pivot!G984=\"\",\"\",Pivot!G984)","v":""},null,{"$f":"IF(Pivot!H984=\"\",\"\",Pivot!H984)","v":""},null,{"$f":"IF(Pivot!J984=\"\",\"\",Pivot!J984)","v":""},{"$f":"IF(Pivot!I984=\"\",\"\",Pivot!I984)","v":""},null,null,null,null,null,null,"","",{"$error":"#VALUE!"},null,"","",""]
[{"$f":"IF(Pivot!G985=\"\",\"\",Pivot!G985)","v":""},null,{"$f":"IF(Pivot!H985=\"\",\"\",Pivot!H985)","v":""},null,{"$f":"IF(Pivot!J985=\"\",\"\",Pivot!J985)","v":""},{"$f":"IF(Pivot!I985=\"\",\"\",Pivot!I985)","v":""},null,null,null,null,null,null,"","",{"$error":"#VALUE!"},null,"","",""]
[{"$f":"IF(Pivot!G986=\"\",\"\",Pivot!G986)","v":""},null,{"$f":"IF(Pivot!H986=\"\",\"\",Pivot!H986)","v":""},null,{"$f":"IF(Pivot!J986=\"\",\"\",Pivot!J986)","v":""},{"$f":"IF(Pivot!I986=\"\",\"\",Pivot!I986)","v":""},null,null,null,null,null,null,"","",{"$error":"#VALUE!"},null,"","",""]
[{"$f":"IF(Pivot!G987=\"\",\"\",Pivot!G987)","v":""},null,{"$f":"IF(Pivot!H987=\"\",\"\",Pivot!H987)","v":""},null,{"$f":"IF(Pivot!J987=\"\",\"\",Pivot!J987)","v":""},{"$f":"IF(Pivot!I987=\"\",\"\",Pivot!I987)","v":""},null,null,null,null,null,null,"","",{"$error":"#VALUE!"},null,"","",""]
[{"$f":"IF(Pivot!G988=\"\",\"\",Pivot!G988)","v":""},null,{"$f":"IF(Pivot!H988=\"\",\"\",Pivot!H988)","v":""},null,{"$f":"IF(Pivot!J988=\"\",\"\",Pivot!J988)","v":""},{"$f":"IF(Pivot!I988=\"\",\"\",Pivot!I988)","v":""},null,null,null,null,null,null,"","",{"$error":"#VALUE!"},null,"","",""]
[{"$f":"IF(Pivot!G989=\"\",\"\",Pivot!G989)","v":""},null,{"$f":"IF(Pivot!H989=\"\",\"\",Pivot!H989)","v":""},null,{"$f":"IF(Pivot!J989=\"\",\"\",Pivot!J989)","v":""},{"$f":"IF(Pivot!I989=\"\",\"\",Pivot!I989)","v":""},null,null,null,null,null,null,"","",{"$error":"#VALUE!"},null,"","",""]
[{"$f":"IF(Pivot!G990=\"\",\"\",Pivot!G990)","v":""},null,{"$f":"IF(Pivot!H990=\"\",\"\",Pivot!H990)","v":""},null,{"$f":"IF(Pivot!J990=\"\",\"\",Pivot!J990)","v":""},{"$f":"IF(Pivot!I990=\"\",\"\",Pivot!I990)","v":""},null,null,null,null,null,null,"","",{"$error":"#VALUE!"},null,"","",""]
[{"$f":"IF(Pivot!G991=\"\",\"\",Pivot!G991)","v":""},null,{"$f":"IF(Pivot!H991=\"\",\"\",Pivot!H991)","v":""},null,{"$f":"IF(Pivot!J991=\"\",\"\",Pivot!J991)","v":""},{"$f":"IF(Pivot!I991=\"\",\"\",Pivot!I991)","v":""},null,null,null,null,null,null,"","",{"$error":"#VALUE!"},null,"","",""]
[{"$f":"IF(Pivot!G992=\"\",\"\",Pivot!G992)","v":""},null,{"$f":"IF(Pivot!H992=\"\",\"\",Pivot!H992)","v":""},null,{"$f":"IF(Pivot!J992=\"\",\"\",Pivot!J992)","v":""},{"$f":"IF(Pivot!I992=\"\",\"\",Pivot!I992)","v":""},null,null,null,null,null,null,"","",{"$error":"#VALUE!"},null,"","",""]
[{"$f":"IF(Pivot!G993=\"\",\"\",Pivot!G993)","v":""},null,{"$f":"IF(Pivot!H993=\"\",\"\",Pivot!H993)","v":""},null,{"$f":"IF(Pivot!J993=\"\",\"\",Pivot!J993)","v":""},{"$f":"IF(Pivot!I993=\"\",\"\",Pivot!I993)","v":""},null,null,null,null,null,null,"","",{"$error":"#VALUE!"},null,"","",""]
[{"$f":"IF(Pivot!G994=\"\",\"\",Pivot!G994)","v":""},null,{"$f":"IF(Pivot!H994=\"\",\"\",Pivot!H994)","v":""},null,{"$f":"IF(Pivot!J994=\"\",\"\",Pivot!J994)","v":""},{"$f":"IF(Pivot!I994=\"\",\"\",Pivot!I994)","v":""},null,null,null,null,null,null,"","",{"$error":"#VALUE!"},null,"","",""]
[{"$f":"IF(Pivot!G995=\"\",\"\",Pivot!G995)","v":""},null,{"$f":"IF(Pivot!H995=\"\",\"\",Pivot!H995)","v":""},null,{"$f":"IF(Pivot!J995=\"\",\"\",Pivot!J995)","v":""},{"$f":"IF(Pivot!I995=\"\",\"\",Pivot!I995)","v":""},null,null,null,null,null,null,"","",{"$error":"#VALUE!"},null,"","",""]
[{"$f":"IF(Pivot!G996=\"\",\"\",Pivot!G996)","v":""},null,{"$f":"IF(Pivot!H996=\"\",\"\",Pivot!H996)","v":""},null,{"$f":"IF(Pivot!J996=\"\",\"\",Pivot!J996)","v":""},{"$f":"IF(Pivot!I996=\"\",\"\",Pivot!I996)","v":""},null,null,null,null,null,null,"","",{"$error":"#VALUE!"},null,"","",""]
[{"$f":"IF(Pivot!G997=\"\",\"\",Pivot!G997)","v":""},null,{"$f":"IF(Pivot!H997=\"\",\"\",Pivot!H997)","v":""},null,{"$f":"IF(Pivot!J997=\"\",\"\",Pivot!J997)","v":""},{"$f":"IF(Pivot!I997=\"\",\"\",Pivot!I997)","v":""},null,null,null,null,null,null,"","",{"$error":"#VALUE!"},null,"","",""]
[{"$f":"IF(Pivot!G998=\"\",\"\",Pivot!G998)","v":""},null,{"$f":"IF(Pivot!H998=\"\",\"\",Pivot!H998)","v":""},null,{"$f":"IF(Pivot!J998=\"\",\"\",Pivot!J998)","v":""},{"$f":"IF(Pivot!I998=\"\",\"\",Pivot!I998)","v":""},null,null,null,null,null,null,"","",{"$error":"#VALUE!"},null,"","",""]
[{"$f":"IF(Pivot!G999=\"\",\"\",Pivot!G999)","v":""},null,{"$f":"IF(Pivot!H999=\"\",\"\",Pivot!H999)","v":""},null,{"$f":"IF(Pivot!J999=\"\",\"\",Pivot!J999)","v":""},{"$f":"IF(Pivot!I999=\"\",\"\",Pivot!I999)","v":""},null,null,null,null,null,null,"","",{"$error":"#VALUE!"},null,"","",""]
[{"$f":"IF(Pivot!G1000=\"\",\"\",Pivot!G1000)","v":""},null,{"$f":"IF(Pivot!H1000=\"\",\"\",Pivot!H1000)","v":""},null,{"$f":"IF(Pivot!J1000=\"\",\"\",Pivot!J1000)","v":""},{"$f":"IF(Pivot!I1000=\"\",\"\",Pivot!I1000)","v":""},null,null,null,null,null,null,"","",{"$error":"#VALUE!"},null,"","",""]
[{"$f":"IF(Pivot!G1001=\"\",\"\",Pivot!G1001)","v":""},null,{"$f":"IF(Pivot!H1001=\"\",\"\",Pivot!H1001)","v":""},null,{"$f":"IF(Pivot!J1001=\"\",\"\",Pivot!J1001)","v":""},{"$f":"IF(Pivot!I1001=\"\",\"\",Pivot!I1001)","v":""},null,null,null,null,null,null,"","",{"$error":"#VALUE!"},null,"","",""]
[{"$f":"IF(Pivot!G1002=\"\",\"\",Pivot!G1002)","v":""},null,{"$f":"IF(Pivot!H1002=\"\",\"\",Pivot!H1002)","v":""},null,{"$f":"IF(Pivot!J1002=\"\",\"\",Pivot!J1002)","v":""},{"$f":"IF(Pivot!I1002=\"\",\"\",Pivot!I1002)","v":""},null,null,null,null,null,null,"","",{"$error":"#VALUE!"},null,"","",""]
[{"$f":"IF(Pivot!G1003=\"\",\"\",Pivot!G1003)","v":""},null,{"$f":"IF(Pivot!H1003=\"\",\"\",Pivot!H1003)","v":""},null,{"$f":"IF(Pivot!J1003=\"\",\"\",Pivot!J1003)","v":""},{"$f":"IF(Pivot!I1003=\"\",\"\",Pivot!I1003)","v":""},null,null,null,null,null,null,"","",{"$error":"#VALUE!"},null,"","",""]
[{"$f":"IF(Pivot!G1004=\"\",\"\",Pivot!G1004)","v":""},null,{"$f":"IF(Pivot!H1004=\"\",\"\",Pivot!H1004)","v":""},null,{"$f":"IF(Pivot!J1004=\"\",\"\",Pivot!J1004)","v":""},{"$f":"IF(Pivot!I1004=\"\",\"\",Pivot!I1004)","v":""},null,null,null,null,null,null,"","",{"$error":"#VALUE!"},null,"","",""]
[{"$f":"IF(Pivot!G1005=\"\",\"\",Pivot!G1005)","v":""},null,{"$f":"IF(Pivot!H1005=\"\",\"\",Pivot!H1005)","v":""},null,{"$f":"IF(Pivot!J1005=\"\",\"\",Pivot!J1005)","v":""},{"$f":"IF(Pivot!I1005=\"\",\"\",Pivot!I1005)","v":""},null,null,null,null,null,null,"","",{"$error":"#VALUE!"},null,"","",""]
[{"$f":"IF(Pivot!G1006=\"\",\"\",Pivot!G1006)","v":""},null,{"$f":"IF(Pivot!H1006=\"\",\"\",Pivot!H1006)","v":""},null,{"$f":"IF(Pivot!J1006=\"\",\"\",Pivot!J1006)","v":""},{"$f":"IF(Pivot!I1006=\"\",\"\",Pivot!I1006)","v":""},null,null,null,null,null,null,"","",{"$error":"#VALUE!"},null,"","",""]
[{"$f":"IF(Pivot!G1007=\"\",\"\",Pivot!G1007)","v":""},null,{"$f":"IF(Pivot!H1007=\"\",\"\",Pivot!H1007)","v":""},null,{"$f":"IF(Pivot!J1007=\"\",\"\",Pivot!J1007)","v":""},{"$f":"IF(Pivot!I1007=\"\",\"\",Pivot!I1007)","v":""},null,null,null,null,null,null,"","",{"$error":"#VALUE!"},null,"","",""]
[{"$f":"IF(Pivot!G1008=\"\",\"\",Pivot!G1008)","v":""},null,{"$f":"IF(Pivot!H1008=\"\",\"\",Pivot!H1008)","v":""},null,{"$f":"IF(Pivot!J1008=\"\",\"\",Pivot!J1008)","v":""},{"$f":"IF(Pivot!I1008=\"\",\"\",Pivot!I1008)","v":""},null,null,null,null,null,null,"","",{"$error":"#VALUE!"},null,"","",""]
[{"$f":"IF(Pivot!G1009=\"\",\"\",Pivot!G1009)","v":""},null,{"$f":"IF(Pivot!H1009=\"\",\"\",Pivot!H1009)","v":""},null,{"$f":"IF(Pivot!J1009=\"\",\"\",Pivot!J1009)","v":""},{"$f":"IF(Pivot!I1009=\"\",\"\",Pivot!I1009)","v":""},null,null,null,null,null,null,"","",{"$error":"#VALUE!"},null,"","",""]
[{"$f":"IF(Pivot!G1010=\"\",\"\",Pivot!G1010)","v":""},null,{"$f":"IF(Pivot!H1010=\"\",\"\",Pivot!H1010)","v":""},null,{"$f":"IF(Pivot!J1010=\"\",\"\",Pivot!J1010)","v":""},{"$f":"IF(Pivot!I1010=\"\",\"\",Pivot!I1010)","v":""},null,null,null,null,null,null,"","",{"$error":"#VALUE!"},null,"","",""]
[{"$f":"IF(Pivot!G1011=\"\",\"\",Pivot!G1011)","v":""},null,{"$f":"IF(Pivot!H1011=\"\",\"\",Pivot!H1011)","v":""},null,{"$f":"IF(Pivot!J1011=\"\",\"\",Pivot!J1011)","v":""},{"$f":"IF(Pivot!I1011=\"\",\"\",Pivot!I1011)","v":""},null,null,null,null,null,null,"","",{"$error":"#VALUE!"},null,"","",""]
[{"$f":"IF(Pivot!G1012=\"\",\"\",Pivot!G1012)","v":""},null,{"$f":"IF(Pivot!H1012=\"\",\"\",Pivot!H1012)","v":""},null,{"$f":"IF(Pivot!J1012=\"\",\"\",Pivot!J1012)","v":""},{"$f":"IF(Pivot!I1012=\"\",\"\",Pivot!I1012)","v":""},null,null,null,null,null,null,"","",{"$error":"#VALUE!"},null,"","",""]
[{"$f":"IF(Pivot!G1013=\"\",\"\",Pivot!G1013)","v":""},null,{"$f":"IF(Pivot!H1013=\"\",\"\",Pivot!H1013)","v":""},null,{"$f":"IF(Pivot!J1013=\"\",\"\",Pivot!J1013)","v":""},{"$f":"IF(Pivot!I1013=\"\",\"\",Pivot!I1013)","v":""},null,null,null,null,null,null,"","",{"$error":"#VALUE!"},null,"","",""]
[{"$f":"IF(Pivot!G1014=\"\",\"\",Pivot!G1014)","v":""},null,{"$f":"IF(Pivot!H1014=\"\",\"\",Pivot!H1014)","v":""},null,{"$f":"IF(Pivot!J1014=\"\",\"\",Pivot!J1014)","v":""},{"$f":"IF(Pivot!I1014=\"\",\"\",Pivot!I1014)","v":""},null,null,null,null,null,null,"","",{"$error":"#VALUE!"},null,"","",""]
[{"$f":"IF(Pivot!G1015=\"\",\"\",Pivot!G1015)","v":""},null,{"$f":"IF(Pivot!H1015=\"\",\"\",Pivot!H1015)","v":""},null,{"$f":"IF(Pivot!J1015=\"\",\"\",Pivot!J1015)","v":""},{"$f":"IF(Pivot!I1015=\"\",\"\",Pivot!I1015)","v":""},null,null,null,null,null,null,"","",{"$error":"#VALUE!"},null,"","",""]
[{"$f":"IF(Pivot!G1016=\"\",\"\",Pivot!G1016)","v":""},null,{"$f":"IF(Pivot!H1016=\"\",\"\",Pivot!H1016)","v":""},null,{"$f":"IF(Pivot!J1016=\"\",\"\",Pivot!J1016)","v":""},{"$f":"IF(Pivot!I1016=\"\",\"\",Pivot!I1016)","v":""},null,null,null,null,null,null,"","",{"$error":"#VALUE!"},null,"","",""]
[{"$f":"IF(Pivot!G1017=\"\",\"\",Pivot!G1017)","v":""},null,{"$f":"IF(Pivot!H1017=\"\",\"\",Pivot!H1017)","v":""},null,{"$f":"IF(Pivot!J1017=\"\",\"\",Pivot!J1017)","v":""},{"$f":"IF(Pivot!I1017=\"\",\"\",Pivot!I1017)","v":""},null,null,null,null,null,null,"","",{"$error":"#VALUE!"},null,"","",""]
[{"$f":"IF(Pivot!G1018=\"\",\"\",Pivot!G1018)","v":""},null,{"$f":"IF(Pivot!H1018=\"\",\"\",Pivot!H1018)","v":""},null,{"$f":"IF(Pivot!J1018=\"\",\"\",Pivot!J1018)","v":""},{"$f":"IF(Pivot!I1018=\"\",\"\",Pivot!I1018)","v":""},null,null,null,null,null,null,"","",{"$error":"#VALUE!"},null,"","",""]
[{"$f":"IF(Pivot!G1019=\"\",\"\",Pivot!G1019)","v":""},null,{"$f":"IF(Pivot!H1019=\"\",\"\",Pivot!H1019)","v":""},null,{"$f":"IF(Pivot!J1019=\"\",\"\",Pivot!J1019)","v":""},{"$f":"IF(Pivot!I1019=\"\",\"\",Pivot!I1019)","v":""},null,null,null,null,null,null,"","",{"$error":"#VALUE!"},null,"","",""]
[{"$f":"IF(Pivot!G1020=\"\",\"\",Pivot!G1020)","v":""},null,{"$f":"IF(Pivot!H1020=\"\",\"\",Pivot!H1020)","v":""},null,{"$f":"IF(Pivot!J1020=\"\",\"\",Pivot!J1020)","v":""},{"$f":"IF(Pivot!I1020=\"\",\"\",Pivot!I1020)","v":""},null,null,null,null,null,null,"","",{"$error":"#VALUE!"},null,"","",""]
[{"$f":"IF(Pivot!G1021=\"\",\"\",Pivot!G1021)","v":""},null,{"$f":"IF(Pivot!H1021=\"\",\"\",Pivot!H1021)","v":""},null,{"$f":"IF(Pivot!J1021=\"\",\"\",Pivot!J1021)","v":""},{"$f":"IF(Pivot!I1021=\"\",\"\",Pivot!I1021)","v":""},null,null,null,null,null,null,"","",{"$error":"#VALUE!"},null,"","",""]
[{"$f":"IF(Pivot!G1022=\"\",\"\",Pivot!G1022)","v":""},null,{"$f":"IF(Pivot!H1022=\"\",\"\",Pivot!H1022)","v":""},null,{"$f":"IF(Pivot!J1022=\"\",\"\",Pivot!J1022)","v":""},{"$f":"IF(Pivot!I1022=\"\",\"\",Pivot!I1022)","v":""},null,null,null,null,null,null,"","",{"$error":"#VALUE!"},null,"","",""]
[{"$f":"IF(Pivot!G1023=\"\",\"\",Pivot!G1023)","v":""},null,{"$f":"IF(Pivot!H1023=\"\",\"\",Pivot!H1023)","v":""},null,{"$f":"IF(Pivot!J1023=\"\",\"\",Pivot!J1023)","v":""},{"$f":"IF(Pivot!I1023=\"\",\"\",Pivot!I1023)","v":""},null,null,null,null,null,null,"","",{"$error":"#VALUE!"},null,"","",""]
[{"$f":"IF(Pivot!G1024=\"\",\"\",Pivot!G1024)","v":""},null,{"$f":"IF(Pivot!H1024=\"\",\"\",Pivot!H1024)","v":""},null,{"$f":"IF(Pivot!J1024=\"\",\"\",Pivot!J1024)","v":""},{"$f":"IF(Pivot!I1024=\"\",\"\",Pivot!I1024)","v":""},null,null,null,null,null,null,"","",{"$error":"#VALUE!"},null,"","",""]
[{"$f":"IF(Pivot!G1025=\"\",\"\",Pivot!G1025)","v":""},null,{"$f":"IF(Pivot!H1025=\"\",\"\",Pivot!H1025)","v":""},null,{"$f":"IF(Pivot!J1025=\"\",\"\",Pivot!J1025)","v":""},{"$f":"IF(Pivot!I1025=\"\",\"\",Pivot!I1025)","v":""},null,null,null,null,null,null,"","",{"$error":"#VALUE!"},null,"","",""]
[{"$f":"IF(Pivot!G1026=\"\",\"\",Pivot!G1026)","v":""},null,{"$f":"IF(Pivot!H1026=\"\",\"\",Pivot!H1026)","v":""},null,{"$f":"IF(Pivot!J1026=\"\",\"\",Pivot!J1026)","v":""},{"$f":"IF(Pivot!I1026=\"\",\"\",Pivot!I1026)","v":""},null,null,null,null,null,null,"","",{"$error":"#VALUE!"},null,"","",""]
[{"$f":"IF(Pivot!G1027=\"\",\"\",Pivot!G1027)","v":""},null,{"$f":"IF(Pivot!H1027=\"\",\"\",Pivot!H1027)","v":""},null,{"$f":"IF(Pivot!J1027=\"\",\"\",Pivot!J1027)","v":""},{"$f":"IF(Pivot!I1027=\"\",\"\",Pivot!I1027)","v":""},null,null,null,null,null,null,"","",{"$error":"#VALUE!"},null,"","",""]
[{"$f":"IF(Pivot!G1028=\"\",\"\",Pivot!G1028)","v":""},null,{"$f":"IF(Pivot!H1028=\"\",\"\",Pivot!H1028)","v":""},null,{"$f":"IF(Pivot!J1028=\"\",\"\",Pivot!J1028)","v":""},{"$f":"IF(Pivot!I1028=\"\",\"\",Pivot!I1028)","v":""},null,null,null,null,null,null,"","",{"$f":"N1031/M1031","v":{"$error":"#VALUE!"}},null,"","",""]
[{"$f":"IF(Pivot!G1029=\"\",\"\",Pivot!G1029)","v":""},null,{"$f":"IF(Pivot!H1029=\"\",\"\",Pivot!H1029)","v":""},null,{"$f":"IF(Pivot!J1029=\"\",\"\",Pivot!J1029)","v":""},{"$f":"IF(Pivot!I1029=\"\",\"\",Pivot!I1029)","v":""},null,null,null,null,null,null,{"$f":"IF(C1032=\"\",\"\",C1032*L1032)","v":""},{"$f":"IF(F1032=\"\",\"\",M1032-F1032)","v":""},{"$error":"#VALUE!"},null,{"$f":"IF(C1032=\"\",\"\",C1032*P1032)","v":""},{"$f":"IF(F1032=\"\",\"\",Q1032-F1032)","v":""},{"$f":"IF(F1032=\"\",\"\",R1032/F1032)","v":""}]
[{"$f":"IF(Pivot!G1030=\"\",\"\",Pivot!G1030)","v":""},null,{"$f":"IF(Pivot!H1030=\"\",\"\",Pivot!H1030)","v":""},null,{"$f":"IF(Pivot!J1030=\"\",\"\",Pivot!J1030)","v":""},{"$f":"IF(Pivot!I1030=\"\",\"\",Pivot!I1030)","v":""},null,null,null,null,null,null,"","",{"$error":"#VALUE!"},null,"","",""]
[{"$f":"IF(Pivot!G1031=\"\",\"\",Pivot!G1031)","v":""},null,{"$f":"IF(Pivot!H1031=\"\",\"\",Pivot!H1031)","v":""},null,{"$f":"IF(Pivot!J1031=\"\",\"\",Pivot!J1031)","v":""},{"$f":"IF(Pivot!I1031=\"\",\"\",Pivot!I1031)","v":""},null,null,null,null,null,null,"","",{"$error":"#VALUE!"},null,"","",""]
[{"$f":"IF(Pivot!G1032=\"\",\"\",Pivot!G1032)","v":""},null,{"$f":"IF(Pivot!H1032=\"\",\"\",Pivot!H1032)","v":""},null,{"$f":"IF(Pivot!J1032=\"\",\"\",Pivot!J1032)","v":""},{"$f":"IF(Pivot!I1032=\"\",\"\",Pivot!I1032)","v":""},null,null,null,null,null,null,"","",{"$error":"#VALUE!"},null,"","",""]
[{"$f":"IF(Pivot!G1033=\"\",\"\",Pivot!G1033)","v":""},null,{"$f":"IF(Pivot!H1033=\"\",\"\",Pivot!H1033)","v":""},null,{"$f":"IF(Pivot!J1033=\"\",\"\",Pivot!J1033)","v":""},{"$f":"IF(Pivot!I1033=\"\",\"\",Pivot!I1033)","v":""},null,null,null,null,null,null,"","",{"$error":"#VALUE!"},null,"","",""]
[{"$f":"IF(Pivot!G1034=\"\",\"\",Pivot!G1034)","v":""},null,{"$f":"IF(Pivot!H1034=\"\",\"\",Pivot!H1034)","v":""},null,{"$f":"IF(Pivot!J1034=\"\",\"\",Pivot!J1034)","v":""},{"$f":"IF(Pivot!I1034=\"\",\"\",Pivot!I1034)","v":""},null,null,null,null,null,null,"","",{"$error":"#VALUE!"},null,"","",""]
[{"$f":"IF(Pivot!G1035=\"\",\"\",Pivot!G1035)","v":""},null,{"$f":"IF(Pivot!H1035=\"\",\"\",Pivot!H1035)","v":""},null,{"$f":"IF(Pivot!J1035=\"\",\"\",Pivot!J1035)","v":""},{"$f":"IF(Pivot!I1035=\"\",\"\",Pivot!I1035)","v":""},null,null,null,null,null,null,"","",{"$error":"#VALUE!"},null,"","",""]
[{"$f":"IF(Pivot!G1036=\"\",\"\",Pivot!G1036)","v":""},null,{"$f":"IF(Pivot!H1036=\"\",\"\",Pivot!H1036)","v":""},null,{"$f":"IF(Pivot!J1036=\"\",\"\",Pivot!J1036)","v":""},{"$f":"IF(Pivot!I1036=\"\",\"\",Pivot!I1036)","v":""},null,null,null,null,null,null,"","",{"$error":"#VALUE!"},null,"","",""]
[{"$f":"IF(Pivot!G1037=\"\",\"\",Pivot!G1037)","v":""},null,{"$f":"IF(Pivot!H1037=\"\",\"\",Pivot!H1037)","v":""},null,{"$f":"IF(Pivot!J1037=\"\",\"\",Pivot!J1037)","v":""},{"$f":"IF(Pivot!I1037=\"\",\"\",Pivot!I1037)","v":""},null,null,null,null,null,null,"","",{"$error":"#VALUE!"},null,"","",""]
[{"$f":"IF(Pivot!G1038=\"\",\"\",Pivot!G1038)","v":""},null,{"$f":"IF(Pivot!H1038=\"\",\"\",Pivot!H1038)","v":""},null,{"$f":"IF(Pivot!J1038=\"\",\"\",Pivot!J1038)","v":""},{"$f":"IF(Pivot!I1038=\"\",\"\",Pivot!I1038)","v":""},null,null,null,null,null,null,"","",{"$error":"#VALUE!"},null,"","",""]
[{"$f":"IF(Pivot!G1039=\"\",\"\",Pivot!G1039)","v":""},null,{"$f":"IF(Pivot!H1039=\"\",\"\",Pivot!H1039)","v":""},null,{"$f":"IF(Pivot!J1039=\"\",\"\",Pivot!J1039)","v":""},{"$f":"IF(Pivot!I1039=\"\",\"\",Pivot!I1039)","v":""},null,null,null,null,null,null,"","",{"$error":"#VALUE!"},null,"","",""]
[{"$f":"IF(Pivot!G1040=\"\",\"\",Pivot!G1040)","v":""},null,{"$f":"IF(Pivot!H1040=\"\",\"\",Pivot!H1040)","v":""},null,{"$f":"IF(Pivot!J1040=\"\",\"\",Pivot!J1040)","v":""},{"$f":"IF(Pivot!I1040=\"\",\"\",Pivot!I1040)","v":""},null,null,null,null,null,null,"","",{"$error":"#VALUE!"},null,"","",""]
[{"$f":"IF(Pivot!G1041=\"\",\"\",Pivot!G1041)","v":""},null,{"$f":"IF(Pivot!H1041=\"\",\"\",Pivot!H1041)","v":""},null,{"$f":"IF(Pivot!J1041=\"\",\"\",Pivot!J1041)","v":""},{"$f":"IF(Pivot!I1041=\"\",\"\",Pivot!I1041)","v":""},null,null,null,null,null,null,"","",{"$error":"#VALUE!"},null,"","",""]
[{"$f":"IF(Pivot!G1042=\"\",\"\",Pivot!G1042)","v":""},null,{"$f":"IF(Pivot!H1042=\"\",\"\",Pivot!H1042)","v":""},null,{"$f":"IF(Pivot!J1042=\"\",\"\",Pivot!J1042)","v":""},{"$f":"IF(Pivot!I1042=\"\",\"\",Pivot!I1042)","v":""},null,null,null,null,null,null,"","",{"$error":"#VALUE!"},null,"","",""]
[{"$f":"IF(Pivot!G1043=\"\",\"\",Pivot!G1043)","v":""},null,{"$f":"IF(Pivot!H1043=\"\",\"\",Pivot!H1043)","v":""},null,{"$f":"IF(Pivot!J1043=\"\",\"\",Pivot!J1043)","v":""},{"$f":"IF(Pivot!I1043=\"\",\"\",Pivot!I1043)","v":""},null,null,null,null,null,null,"","",{"$error":"#VALUE!"},null,"","",""]
[{"$f":"IF(Pivot!G1044=\"\",\"\",Pivot!G1044)","v":""},null,{"$f":"IF(Pivot!H1044=\"\",\"\",Pivot!H1044)","v":""},null,{"$f":"IF(Pivot!J1044=\"\",\"\",Pivot!J1044)","v":""},{"$f":"IF(Pivot!I1044=\"\",\"\",Pivot!I1044)","v":""},null,null,null,null,null,null,"","",{"$error":"#VALUE!"},null,"","",""]
[{"$f":"IF(Pivot!G1045=\"\",\"\",Pivot!G1045)","v":""},null,{"$f":"IF(Pivot!H1045=\"\",\"\",Pivot!H1045)","v":""},null,{"$f":"IF(Pivot!J1045=\"\",\"\",Pivot!J1045)","v":""},{"$f":"IF(Pivot!I1045=\"\",\"\",Pivot!I1045)","v":""},null,null,null,null,null,null,"","",{"$error":"#VALUE!"},null,"","",""]
[{"$f":"IF(Pivot!G1046=\"\",\"\",Pivot!G1046)","v":""},null,{"$f":"IF(Pivot!H1046=\"\",\"\",Pivot!H1046)","v":""},null,{"$f":"IF(Pivot!J1046=\"\",\"\",Pivot!J1046)","v":""},{"$f":"IF(Pivot!I1046=\"\",\"\",Pivot!I1046)","v":""},null,null,null,null,null,null,"","",{"$error":"#VALUE!"},null,"","",""]
[{"$f":"IF(Pivot!G1047=\"\",\"\",Pivot!G1047)","v":""},null,{"$f":"IF(Pivot!H1047=\"\",\"\",Pivot!H1047)","v":""},null,{"$f":"IF(Pivot!J1047=\"\",\"\",Pivot!J1047)","v":""},{"$f":"IF(Pivot!I1047=\"\",\"\",Pivot!I1047)","v":""},null,null,null,null,null,null,"","",{"$error":"#VALUE!"},null,"","",""]
[{"$f":"IF(Pivot!G1048=\"\",\"\",Pivot!G1048)","v":""},null,{"$f":"IF(Pivot!H1048=\"\",\"\",Pivot!H1048)","v":""},null,{"$f":"IF(Pivot!J1048=\"\",\"\",Pivot!J1048)","v":""},{"$f":"IF(Pivot!I1048=\"\",\"\",Pivot!I1048)","v":""},null,null,null,null,null,null,"","",{"$error":"#VALUE!"},null,"","",""]
[{"$f":"IF(Pivot!G1049=\"\",\"\",Pivot!G1049)","v":""},null,{"$f":"IF(Pivot!H1049=\"\",\"\",Pivot!H1049)","v":""},null,{"$f":"IF(Pivot!J1049=\"\",\"\",Pivot!J1049)","v":""},{"$f":"IF(Pivot!I1049=\"\",\"\",Pivot!I1049)","v":""},null,null,null,null,null,null,"","",{"$error":"#VALUE!"},null,"","",""]
[{"$f":"IF(Pivot!G1050=\"\",\"\",Pivot!G1050)","v":""},null,{"$f":"IF(Pivot!H1050=\"\",\"\",Pivot!H1050)","v":""},null,{"$f":"IF(Pivot!J1050=\"\",\"\",Pivot!J1050)","v":""},{"$f":"IF(Pivot!I1050=\"\",\"\",Pivot!I1050)","v":""},null,null,null,null,null,null,"","",{"$error":"#VALUE!"},null,"","",""]
[{"$f":"IF(Pivot!G1051=\"\",\"\",Pivot!G1051)","v":""},null,{"$f":"IF(Pivot!H1051=\"\",\"\",Pivot!H1051)","v":""},null,{"$f":"IF(Pivot!J1051=\"\",\"\",Pivot!J1051)","v":""},{"$f":"IF(Pivot!I1051=\"\",\"\",Pivot!I1051)","v":""},null,null,null,null,null,null,"","",{"$error":"#VALUE!"},null,"","",""]
[{"$f":"IF(Pivot!G1052=\"\",\"\",Pivot!G1052)","v":""},null,{"$f":"IF(Pivot!H1052=\"\",\"\",Pivot!H1052)","v":""},null,{"$f":"IF(Pivot!J1052=\"\",\"\",Pivot!J1052)","v":""},{"$f":"IF(Pivot!I1052=\"\",\"\",Pivot!I1052)","v":""},null,null,null,null,null,null,"","",{"$error":"#VALUE!"},null,"","",""]
[{"$f":"IF(Pivot!G1053=\"\",\"\",Pivot!G1053)","v":""},null,{"$f":"IF(Pivot!H1053=\"\",\"\",Pivot!H1053)","v":""},null,{"$f":"IF(Pivot!J1053=\"\",\"\",Pivot!J1053)","v":""},{"$f":"IF(Pivot!I1053=\"\",\"\",Pivot!I1053)","v":""},null,null,null,null,null,null,"","",{"$error":"#VALUE!"},null,"","",""]
[{"$f":"IF(Pivot!G1054=\"\",\"\",Pivot!G1054)","v":""},null,{"$f":"IF(Pivot!H1054=\"\",\"\",Pivot!H1054)","v":""},null,{"$f":"IF(Pivot!J1054=\"\",\"\",Pivot!J1054)","v":""},{"$f":"IF(Pivot!I1054=\"\",\"\",Pivot!I1054)","v":""},null,null,null,null,null,null,"","",{"$error":"#VALUE!"},null,"","",""]
[{"$f":"IF(Pivot!G1055=\"\",\"\",Pivot!G1055)","v":""},null,{"$f":"IF(Pivot!H1055=\"\",\"\",Pivot!H1055)","v":""},null,{"$f":"IF(Pivot!J1055=\"\",\"\",Pivot!J1055)","v":""},{"$f":"IF(Pivot!I1055=\"\",\"\",Pivot!I1055)","v":""},null,null,null,null,null,null,"","",{"$error":"#VALUE!"},null,"","",""]
[{"$f":"IF(Pivot!G1056=\"\",\"\",Pivot!G1056)","v":""},null,{"$f":"IF(Pivot!H1056=\"\",\"\",Pivot!H1056)","v":""},null,{"$f":"IF(Pivot!J1056=\"\",\"\",Pivot!J1056)","v":""},{"$f":"IF(Pivot!I1056=\"\",\"\",Pivot!I1056)","v":""},null,null,null,null,null,null,"","",{"$error":"#VALUE!"},null,"","",""]
[{"$f":"IF(Pivot!G1057=\"\",\"\",Pivot!G1057)","v":""},null,{"$f":"IF(Pivot!H1057=\"\",\"\",Pivot!H1057)","v":""},null,{"$f":"IF(Pivot!J1057=\"\",\"\",Pivot!J1057)","v":""},{"$f":"IF(Pivot!I1057=\"\",\"\",Pivot!I1057)","v":""},null,null,null,null,null,null,"","",{"$error":"#VALUE!"},null,"","",""]
[{"$f":"IF(Pivot!G1058=\"\",\"\",Pivot!G1058)","v":""},null,{"$f":"IF(Pivot!H1058=\"\",\"\",Pivot!H1058)","v":""},null,{"$f":"IF(Pivot!J1058=\"\",\"\",Pivot!J1058)","v":""},{"$f":"IF(Pivot!I1058=\"\",\"\",Pivot!I1058)","v":""},null,null,null,null,null,null,"","",{"$error":"#VALUE!"},null,"","",""]
[{"$f":"IF(Pivot!G1059=\"\",\"\",Pivot!G1059)","v":""},null,{"$f":"IF(Pivot!H1059=\"\",\"\",Pivot!H1059)","v":""},null,{"$f":"IF(Pivot!J1059=\"\",\"\",Pivot!J1059)","v":""},{"$f":"IF(Pivot!I1059=\"\",\"\",Pivot!I1059)","v":""},null,null,null,null,null,null,"","",{"$error":"#VALUE!"},null,"","",""]
[{"$f":"IF(Pivot!G1060=\"\",\"\",Pivot!G1060)","v":""},null,{"$f":"IF(Pivot!H1060=\"\",\"\",Pivot!H1060)","v":""},null,{"$f":"IF(Pivot!J1060=\"\",\"\",Pivot!J1060)","v":""},{"$f":"IF(Pivot!I1060=\"\",\"\",Pivot!I1060)","v":""},null,null,null,null,null,null,"","",{"$error":"#VALUE!"},null,"","",""]
[{"$f":"IF(Pivot!G1061=\"\",\"\",Pivot!G1061)","v":""},null,{"$f":"IF(Pivot!H1061=\"\",\"\",Pivot!H1061)","v":""},null,{"$f":"IF(Pivot!J1061=\"\",\"\",Pivot!J1061)","v":""},{"$f":"IF(Pivot!I1061=\"\",\"\",Pivot!I1061)","v":""},null,null,null,null,null,null,"","",{"$error":"#VALUE!"},null,"","",""]
[{"$f":"IF(Pivot!G1062=\"\",\"\",Pivot!G1062)","v":""},null,{"$f":"IF(Pivot!H1062=\"\",\"\",Pivot!H1062)","v":""},null,{"$f":"IF(Pivot!J1062=\"\",\"\",Pivot!J1062)","v":""},{"$f":"IF(Pivot!I1062=\"\",\"\",Pivot!I1062)","v":""},null,null,null,null,null,null,"","",{"$error":"#VALUE!"},null,"","",""]
[{"$f":"IF(Pivot!G1063=\"\",\"\",Pivot!G1063)","v":""},null,{"$f":"IF(Pivot!H1063=\"\",\"\",Pivot!H1063)","v":""},null,{"$f":"IF(Pivot!J1063=\"\",\"\",Pivot!J1063)","v":""},{"$f":"IF(Pivot!I1063=\"\",\"\",Pivot!I1063)","v":""},null,null,null,null,null,null,"","",{"$error":"#VALUE!"},null,"","",""]
[{"$f":"IF(Pivot!G1064=\"\",\"\",Pivot!G1064)","v":""},null,{"$f":"IF(Pivot!H1064=\"\",\"\",Pivot!H1064)","v":""},null,{"$f":"IF(Pivot!J1064=\"\",\"\",Pivot!J1064)","v":""},{"$f":"IF(Pivot!I1064=\"\",\"\",Pivot!I1064)","v":""},null,null,null,null,null,null,"","",{"$error":"#VALUE!"},null,"","",""]
[{"$f":"IF(Pivot!G1065=\"\",\"\",Pivot!G1065)","v":""},null,{"$f":"IF(Pivot!H1065=\"\",\"\",Pivot!H1065)","v":""},null,{"$f":"IF(Pivot!J1065=\"\",\"\",Pivot!J1065)","v":""},{"$f":"IF(Pivot!I1065=\"\",\"\",Pivot!I1065)","v":""},null,null,null,null,null,null,"","",{"$error":"#VALUE!"},null,"","",""]
[{"$f":"IF(Pivot!G1066=\"\",\"\",Pivot!G1066)","v":""},null,{"$f":"IF(Pivot!H1066=\"\",\"\",Pivot!H1066)","v":""},null,{"$f":"IF(Pivot!J1066=\"\",\"\",Pivot!J1066)","v":""},{"$f":"IF(Pivot!I1066=\"\",\"\",Pivot!I1066)","v":""},null,null,null,null,null,null,"","",{"$error":"#VALUE!"},null,"","",""]
[{"$f":"IF(Pivot!G1067=\"\",\"\",Pivot!G1067)","v":""},null,{"$f":"IF(Pivot!H1067=\"\",\"\",Pivot!H1067)","v":""},null,{"$f":"IF(Pivot!J1067=\"\",\"\",Pivot!J1067)","v":""},{"$f":"IF(Pivot!I1067=\"\",\"\",Pivot!I1067)","v":""},null,null,null,null,null,null,"","",{"$error":"#VALUE!"},null,"","",""]
[{"$f":"IF(Pivot!G1068=\"\",\"\",Pivot!G1068)","v":""},null,{"$f":"IF(Pivot!H1068=\"\",\"\",Pivot!H1068)","v":""},null,{"$f":"IF(Pivot!J1068=\"\",\"\",Pivot!J1068)","v":""},{"$f":"IF(Pivot!I1068=\"\",\"\",Pivot!I1068)","v":""},null,null,null,null,null,null,"","",{"$error":"#VALUE!"},null,"","",""]
[{"$f":"IF(Pivot!G1069=\"\",\"\",Pivot!G1069)","v":""},null,{"$f":"IF(Pivot!H1069=\"\",\"\",Pivot!H1069)","v":""},null,{"$f":"IF(Pivot!J1069=\"\",\"\",Pivot!J1069)","v":""},{"$f":"IF(Pivot!I1069=\"\",\"\",Pivot!I1069)","v":""},null,null,null,null,null,null,"","",{"$error":"#VALUE!"},null,"","",""]
[{"$f":"IF(Pivot!G1070=\"\",\"\",Pivot!G1070)","v":""},null,{"$f":"IF(Pivot!H1070=\"\",\"\",Pivot!H1070)","v":""},null,{"$f":"IF(Pivot!J1070=\"\",\"\",Pivot!J1070)","v":""},{"$f":"IF(Pivot!I1070=\"\",\"\",Pivot!I1070)","v":""},null,null,null,null,null,null,"","",{"$error":"#VALUE!"},null,"","",""]
[{"$f":"IF(Pivot!G1071=\"\",\"\",Pivot!G1071)","v":""},null,{"$f":"IF(Pivot!H1071=\"\",\"\",Pivot!H1071)","v":""},null,{"$f":"IF(Pivot!J1071=\"\",\"\",Pivot!J1071)","v":""},{"$f":"IF(Pivot!I1071=\"\",\"\",Pivot!I1071)","v":""},null,null,null,null,null,null,"","",{"$error":"#VALUE!"},null,"","",""]
[{"$f":"IF(Pivot!G1072=\"\",\"\",Pivot!G1072)","v":""},null,{"$f":"IF(Pivot!H1072=\"\",\"\",Pivot!H1072)","v":""},null,{"$f":"IF(Pivot!J1072=\"\",\"\",Pivot!J1072)","v":""},{"$f":"IF(Pivot!I1072=\"\",\"\",Pivot!I1072)","v":""},null,null,null,null,null,null,"","",{"$error":"#VALUE!"},null,"","",""]
[{"$f":"IF(Pivot!G1073=\"\",\"\",Pivot!G1073)","v":""},null,{"$f":"IF(Pivot!H1073=\"\",\"\",Pivot!H1073)","v":""},null,{"$f":"IF(Pivot!J1073=\"\",\"\",Pivot!J1073)","v":""},{"$f":"IF(Pivot!I1073=\"\",\"\",Pivot!I1073)","v":""},null,null,null,null,null,null,"","",{"$error":"#VALUE!"},null,"","",""]
[{"$f":"IF(Pivot!G1074=\"\",\"\",Pivot!G1074)","v":""},null,{"$f":"IF(Pivot!H1074=\"\",\"\",Pivot!H1074)","v":""},null,{"$f":"IF(Pivot!J1074=\"\",\"\",Pivot!J1074)","v":""},{"$f":"IF(Pivot!I1074=\"\",\"\",Pivot!I1074)","v":""},null,null,null,null,null,null,"","",{"$error":"#VALUE!"},null,"","",""]
[{"$f":"IF(Pivot!G1075=\"\",\"\",Pivot!G1075)","v":""},null,{"$f":"IF(Pivot!H1075=\"\",\"\",Pivot!H1075)","v":""},null,{"$f":"IF(Pivot!J1075=\"\",\"\",Pivot!J1075)","v":""},{"$f":"IF(Pivot!I1075=\"\",\"\",Pivot!I1075)","v":""},null,null,null,null,null,null,"","",{"$error":"#VALUE!"},null,"","",""]
[{"$f":"IF(Pivot!G1076=\"\",\"\",Pivot!G1076)","v":""},null,{"$f":"IF(Pivot!H1076=\"\",\"\",Pivot!H1076)","v":""},null,{"$f":"IF(Pivot!J1076=\"\",\"\",Pivot!J1076)","v":""},{"$f":"IF(Pivot!I1076=\"\",\"\",Pivot!I1076)","v":""},null,null,null,null,null,null,"","",{"$error":"#VALUE!"},null,"","",""]
[{"$f":"IF(Pivot!G1077=\"\",\"\",Pivot!G1077)","v":""},null,{"$f":"IF(Pivot!H1077=\"\",\"\",Pivot!H1077)","v":""},null,{"$f":"IF(Pivot!J1077=\"\",\"\",Pivot!J1077)","v":""},{"$f":"IF(Pivot!I1077=\"\",\"\",Pivot!I1077)","v":""},null,null,null,null,null,null,"","",{"$error":"#VALUE!"},null,"","",""]
[{"$f":"IF(Pivot!G1078=\"\",\"\",Pivot!G1078)","v":""},null,{"$f":"IF(Pivot!H1078=\"\",\"\",Pivot!H1078)","v":""},null,{"$f":"IF(Pivot!J1078=\"\",\"\",Pivot!J1078)","v":""},{"$f":"IF(Pivot!I1078=\"\",\"\",Pivot!I1078)","v":""},null,null,null,null,null,null,"","",{"$error":"#VALUE!"},null,"","",""]
[{"$f":"IF(Pivot!G1079=\"\",\"\",Pivot!G1079)","v":""},null,{"$f":"IF(Pivot!H1079=\"\",\"\",Pivot!H1079)","v":""},null,{"$f":"IF(Pivot!J1079=\"\",\"\",Pivot!J1079)","v":""},{"$f":"IF(Pivot!I1079=\"\",\"\",Pivot!I1079)","v":""},null,null,null,null,null,null,"","",{"$error":"#VALUE!"},null,"","",""]
[{"$f":"IF(Pivot!G1080=\"\",\"\",Pivot!G1080)","v":""},null,{"$f":"IF(Pivot!H1080=\"\",\"\",Pivot!H1080)","v":""},null,{"$f":"IF(Pivot!J1080=\"\",\"\",Pivot!J1080)","v":""},{"$f":"IF(Pivot!I1080=\"\",\"\",Pivot!I1080)","v":""},null,null,null,null,null,null,"","",{"$error":"#VALUE!"},null,"","",""]
[{"$f":"IF(Pivot!G1081=\"\",\"\",Pivot!G1081)","v":""},null,{"$f":"IF(Pivot!H1081=\"\",\"\",Pivot!H1081)","v":""},null,{"$f":"IF(Pivot!J1081=\"\",\"\",Pivot!J1081)","v":""},{"$f":"IF(Pivot!I1081=\"\",\"\",Pivot!I1081)","v":""},null,null,null,null,null,null,"","",{"$error":"#VALUE!"},null,"","",""]
[{"$f":"IF(Pivot!G1082=\"\",\"\",Pivot!G1082)","v":""},null,{"$f":"IF(Pivot!H1082=\"\",\"\",Pivot!H1082)","v":""},null,{"$f":"IF(Pivot!J1082=\"\",\"\",Pivot!J1082)","v":""},{"$f":"IF(Pivot!I1082=\"\",\"\",Pivot!I1082)","v":""},null,null,null,null,null,null,"","",{"$error":"#VALUE!"},null,"","",""]
[{"$f":"IF(Pivot!G1083=\"\",\"\",Pivot!G1083)","v":""},null,{"$f":"IF(Pivot!H1083=\"\",\"\",Pivot!H1083)","v":""},null,{"$f":"IF(Pivot!J1083=\"\",\"\",Pivot!J1083)","v":""},{"$f":"IF(Pivot!I1083=\"\",\"\",Pivot!I1083)","v":""},null,null,null,null,null,null,"","",{"$error":"#VALUE!"},null,"","",""]
[{"$f":"IF(Pivot!G1084=\"\",\"\",Pivot!G1084)","v":""},null,{"$f":"IF(Pivot!H1084=\"\",\"\",Pivot!H1084)","v":""},null,{"$f":"IF(Pivot!J1084=\"\",\"\",Pivot!J1084)","v":""},{"$f":"IF(Pivot!I1084=\"\",\"\",Pivot!I1084)","v":""},null,null,null,null,null,null,"","",{"$error":"#VALUE!"},null,"","",""]
[{"$f":"IF(Pivot!G1085=\"\",\"\",Pivot!G1085)","v":""},null,{"$f":"IF(Pivot!H1085=\"\",\"\",Pivot!H1085)","v":""},null,{"$f":"IF(Pivot!J1085=\"\",\"\",Pivot!J1085)","v":""},{"$f":"IF(Pivot!I1085=\"\",\"\",Pivot!I1085)","v":""},null,null,null,null,null,null,"","",{"$error":"#VALUE!"},null,"","",""]
[{"$f":"IF(Pivot!G1086=\"\",\"\",Pivot!G1086)","v":""},null,{"$f":"IF(Pivot!H1086=\"\",\"\",Pivot!H1086)","v":""},null,{"$f":"IF(Pivot!J1086=\"\",\"\",Pivot!J1086)","v":""},{"$f":"IF(Pivot!I1086=\"\",\"\",Pivot!I1086)","v":""},null,null,null,null,null,null,"","",{"$error":"#VALUE!"},null,"","",""]
[{"$f":"IF(Pivot!G1087=\"\",\"\",Pivot!G1087)","v":""},null,{"$f":"IF(Pivot!H1087=\"\",\"\",Pivot!H1087)","v":""},null,{"$f":"IF(Pivot!J1087=\"\",\"\",Pivot!J1087)","v":""},{"$f":"IF(Pivot!I1087=\"\",\"\",Pivot!I1087)","v":""},null,null,null,null,null,null,"","",{"$error":"#VALUE!"},null,"","",""]
[{"$f":"IF(Pivot!G1088=\"\",\"\",Pivot!G1088)","v":""},null,{"$f":"IF(Pivot!H1088=\"\",\"\",Pivot!H1088)","v":""},null,{"$f":"IF(Pivot!J1088=\"\",\"\",Pivot!J1088)","v":""},{"$f":"IF(Pivot!I1088=\"\",\"\",Pivot!I1088)","v":""},null,null,null,null,null,null,"","",{"$error":"#VALUE!"},null,"","",""]
[{"$f":"IF(Pivot!G1089=\"\",\"\",Pivot!G1089)","v":""},null,{"$f":"IF(Pivot!H1089=\"\",\"\",Pivot!H1089)","v":""},null,{"$f":"IF(Pivot!J1089=\"\",\"\",Pivot!J1089)","v":""},{"$f":"IF(Pivot!I1089=\"\",\"\",Pivot!I1089)","v":""},null,null,null,null,null,null,"","",{"$error":"#VALUE!"},null,"","",""]
[{"$f":"IF(Pivot!G1090=\"\",\"\",Pivot!G1090)","v":""},null,{"$f":"IF(Pivot!H1090=\"\",\"\",Pivot!H1090)","v":""},null,{"$f":"IF(Pivot!J1090=\"\",\"\",Pivot!J1090)","v":""},{"$f":"IF(Pivot!I1090=\"\",\"\",Pivot!I1090)","v":""},null,null,null,null,null,null,"","",{"$error":"#VALUE!"},null,"","",""]
[{"$f":"IF(Pivot!G1091=\"\",\"\",Pivot!G1091)","v":""},null,{"$f":"IF(Pivot!H1091=\"\",\"\",Pivot!H1091)","v":""},null,{"$f":"IF(Pivot!J1091=\"\",\"\",Pivot!J1091)","v":""},{"$f":"IF(Pivot!I1091=\"\",\"\",Pivot!I1091)","v":""},null,null,null,null,null,null,"","",{"$error":"#VALUE!"},null,"","",""]
[{"$f":"IF(Pivot!G1092=\"\",\"\",Pivot!G1092)","v":""},null,{"$f":"IF(Pivot!H1092=\"\",\"\",Pivot!H1092)","v":""},null,{"$f":"IF(Pivot!J1092=\"\",\"\",Pivot!J1092)","v":""},{"$f":"IF(Pivot!I1092=\"\",\"\",Pivot!I1092)","v":""},null,null,null,null,null,null,"","",{"$f":"N1095/M1095","v":{"$error":"#VALUE!"}},null,"","",""]
[{"$f":"IF(Pivot!G1093=\"\",\"\",Pivot!G1093)","v":""},null,{"$f":"IF(Pivot!H1093=\"\",\"\",Pivot!H1093)","v":""},null,{"$f":"IF(Pivot!J1093=\"\",\"\",Pivot!J1093)","v":""},{"$f":"IF(Pivot!I1093=\"\",\"\",Pivot!I1093)","v":""},null,null,null,null,null,null,{"$f":"IF(C1096=\"\",\"\",C1096*L1096)","v":""},{"$f":"IF(F1096=\"\",\"\",M1096-F1096)","v":""},{"$error":"#VALUE!"},null,{"$f":"IF(C1096=\"\",\"\",C1096*P1096)","v":""},{"$f":"IF(F1096=\"\",\"\",Q1096-F1096)","v":""},{"$f":"IF(F1096=\"\",\"\",R1096/F1096)","v":""}]
[{"$f":"IF(Pivot!G1094=\"\",\"\",Pivot!G1094)","v":""},null,{"$f":"IF(Pivot!H1094=\"\",\"\",Pivot!H1094)","v":""},null,{"$f":"IF(Pivot!J1094=\"\",\"\",Pivot!J1094)","v":""},{"$f":"IF(Pivot!I1094=\"\",\"\",Pivot!I1094)","v":""},null,null,null,null,null,null,"","",{"$error":"#VALUE!"},null,"","",""]
[{"$f":"IF(Pivot!G1095=\"\",\"\",Pivot!G1095)","v":""},null,{"$f":"IF(Pivot!H1095=\"\",\"\",Pivot!H1095)","v":""},null,{"$f":"IF(Pivot!J1095=\"\",\"\",Pivot!J1095)","v":""},{"$f":"IF(Pivot!I1095=\"\",\"\",Pivot!I1095)","v":""},null,null,null,null,null,null,"","",{"$error":"#VALUE!"},null,"","",""]
[{"$f":"IF(Pivot!G1096=\"\",\"\",Pivot!G1096)","v":""},null,{"$f":"IF(Pivot!H1096=\"\",\"\",Pivot!H1096)","v":""},null,{"$f":"IF(Pivot!J1096=\"\",\"\",Pivot!J1096)","v":""},{"$f":"IF(Pivot!I1096=\"\",\"\",Pivot!I1096)","v":""},null,null,null,null,null,null,"","",{"$error":"#VALUE!"},null,"","",""]
[{"$f":"IF(Pivot!G1097=\"\",\"\",Pivot!G1097)","v":""},null,{"$f":"IF(Pivot!H1097=\"\",\"\",Pivot!H1097)","v":""},null,{"$f":"IF(Pivot!J1097=\"\",\"\",Pivot!J1097)","v":""},{"$f":"IF(Pivot!I1097=\"\",\"\",Pivot!I1097)","v":""},null,null,null,null,null,null,"","",{"$error":"#VALUE!"},null,"","",""]
[{"$f":"IF(Pivot!G1098=\"\",\"\",Pivot!G1098)","v":""},null,{"$f":"IF(Pivot!H1098=\"\",\"\",Pivot!H1098)","v":""},null,{"$f":"IF(Pivot!J1098=\"\",\"\",Pivot!J1098)","v":""},{"$f":"IF(Pivot!I1098=\"\",\"\",Pivot!I1098)","v":""},null,null,null,null,null,null,"","",{"$error":"#VALUE!"},null,"","",""]
[{"$f":"IF(Pivot!G1099=\"\",\"\",Pivot!G1099)","v":""},null,{"$f":"IF(Pivot!H1099=\"\",\"\",Pivot!H1099)","v":""},null,{"$f":"IF(Pivot!J1099=\"\",\"\",Pivot!J1099)","v":""},{"$f":"IF(Pivot!I1099=\"\",\"\",Pivot!I1099)","v":""},null,null,null,null,null,null,"","",{"$error":"#VALUE!"},null,"","",""]
[{"$f":"IF(Pivot!G1100=\"\",\"\",Pivot!G1100)","v":""},null,{"$f":"IF(Pivot!H1100=\"\",\"\",Pivot!H1100)","v":""},null,{"$f":"IF(Pivot!J1100=\"\",\"\",Pivot!J1100)","v":""},{"$f":"IF(Pivot!I1100=\"\",\"\",Pivot!I1100)","v":""},null,null,null,null,null,null,"","",{"$error":"#VALUE!"},null,"","",""]
[{"$f":"IF(Pivot!G1101=\"\",\"\",Pivot!G1101)","v":""},null,{"$f":"IF(Pivot!H1101=\"\",\"\",Pivot!H1101)","v":""},null,{"$f":"IF(Pivot!J1101=\"\",\"\",Pivot!J1101)","v":""},{"$f":"IF(Pivot!I1101=\"\",\"\",Pivot!I1101)","v":""},null,null,null,null,null,null,"","",{"$error":"#VALUE!"},null,"","",""]
[{"$f":"IF(Pivot!G1102=\"\",\"\",Pivot!G1102)","v":""},null,{"$f":"IF(Pivot!H1102=\"\",\"\",Pivot!H1102)","v":""},null,{"$f":"IF(Pivot!J1102=\"\",\"\",Pivot!J1102)","v":""},{"$f":"IF(Pivot!I1102=\"\",\"\",Pivot!I1102)","v":""},null,null,null,null,null,null,"","",{"$error":"#VALUE!"},null,"","",""]
[{"$f":"IF(Pivot!G1103=\"\",\"\",Pivot!G1103)","v":""},null,{"$f":"IF(Pivot!H1103=\"\",\"\",Pivot!H1103)","v":""},null,{"$f":"IF(Pivot!J1103=\"\",\"\",Pivot!J1103)","v":""},{"$f":"IF(Pivot!I1103=\"\",\"\",Pivot!I1103)","v":""},null,null,null,null,null,null,"","",{"$error":"#VALUE!"},null,"","",""]
[{"$f":"IF(Pivot!G1104=\"\",\"\",Pivot!G1104)","v":""},null,{"$f":"IF(Pivot!H1104=\"\",\"\",Pivot!H1104)","v":""},null,{"$f":"IF(Pivot!J1104=\"\",\"\",Pivot!J1104)","v":""},{"$f":"IF(Pivot!I1104=\"\",\"\",Pivot!I1104)","v":""},null,null,null,null,null,null,"","",{"$error":"#VALUE!"},null,"","",""]
[{"$f":"IF(Pivot!G1105=\"\",\"\",Pivot!G1105)","v":""},null,{"$f":"IF(Pivot!H1105=\"\",\"\",Pivot!H1105)","v":""},null,{"$f":"IF(Pivot!J1105=\"\",\"\",Pivot!J1105)","v":""},{"$f":"IF(Pivot!I1105=\"\",\"\",Pivot!I1105)","v":""},null,null,null,null,null,null,"","",{"$error":"#VALUE!"},null,"","",""]
[{"$f":"IF(Pivot!G1106=\"\",\"\",Pivot!G1106)","v":""},null,{"$f":"IF(Pivot!H1106=\"\",\"\",Pivot!H1106)","v":""},null,{"$f":"IF(Pivot!J1106=\"\",\"\",Pivot!J1106)","v":""},{"$f":"IF(Pivot!I1106=\"\",\"\",Pivot!I1106)","v":""},null,null,null,null,null,null,"","",{"$error":"#VALUE!"},null,"","",""]
[{"$f":"IF(Pivot!G1107=\"\",\"\",Pivot!G1107)","v":""},null,{"$f":"IF(Pivot!H1107=\"\",\"\",Pivot!H1107)","v":""},null,{"$f":"IF(Pivot!J1107=\"\",\"\",Pivot!J1107)","v":""},{"$f":"IF(Pivot!I1107=\"\",\"\",Pivot!I1107)","v":""},null,null,null,null,null,null,"","",{"$error":"#VALUE!"},null,"","",""]
[{"$f":"IF(Pivot!G1108=\"\",\"\",Pivot!G1108)","v":""},null,{"$f":"IF(Pivot!H1108=\"\",\"\",Pivot!H1108)","v":""},null,{"$f":"IF(Pivot!J1108=\"\",\"\",Pivot!J1108)","v":""},{"$f":"IF(Pivot!I1108=\"\",\"\",Pivot!I1108)","v":""},null,null,null,null,null,null,"","",{"$error":"#VALUE!"},null,"","",""]
[{"$f":"IF(Pivot!G1109=\"\",\"\",Pivot!G1109)","v":""},null,{"$f":"IF(Pivot!H1109=\"\",\"\",Pivot!H1109)","v":""},null,{"$f":"IF(Pivot!J1109=\"\",\"\",Pivot!J1109)","v":""},{"$f":"IF(Pivot!I1109=\"\",\"\",Pivot!I1109)","v":""},null,null,null,null,null,null,"","",{"$error":"#VALUE!"},null,"","",""]
[{"$f":"IF(Pivot!G1110=\"\",\"\",Pivot!G1110)","v":""},null,{"$f":"IF(Pivot!H1110=\"\",\"\",Pivot!H1110)","v":""},null,{"$f":"IF(Pivot!J1110=\"\",\"\",Pivot!J1110)","v":""},{"$f":"IF(Pivot!I1110=\"\",\"\",Pivot!I1110)","v":""},null,null,null,null,null,null,"","",{"$error":"#VALUE!"},null,"","",""]
[{"$f":"IF(Pivot!G1111=\"\",\"\",Pivot!G1111)","v":""},null,{"$f":"IF(Pivot!H1111=\"\",\"\",Pivot!H1111)","v":""},null,{"$f":"IF(Pivot!J1111=\"\",\"\",Pivot!J1111)","v":""},{"$f":"IF(Pivot!I1111=\"\",\"\",Pivot!I1111)","v":""},null,null,null,null,null,null,"","",{"$error":"#VALUE!"},null,"","",""]
[{"$f":"IF(Pivot!G1112=\"\",\"\",Pivot!G1112)","v":""},null,{"$f":"IF(Pivot!H1112=\"\",\"\",Pivot!H1112)","v":""},null,{"$f":"IF(Pivot!J1112=\"\",\"\",Pivot!J1112)","v":""},{"$f":"IF(Pivot!I1112=\"\",\"\",Pivot!I1112)","v":""},null,null,null,null,null,null,"","",{"$error":"#VALUE!"},null,"","",""]
[{"$f":"IF(Pivot!G1113=\"\",\"\",Pivot!G1113)","v":""},null,{"$f":"IF(Pivot!H1113=\"\",\"\",Pivot!H1113)","v":""},null,{"$f":"IF(Pivot!J1113=\"\",\"\",Pivot!J1113)","v":""},{"$f":"IF(Pivot!I1113=\"\",\"\",Pivot!I1113)","v":""},null,null,null,null,null,null,"","",{"$error":"#VALUE!"},null,"","",""]
[{"$f":"IF(Pivot!G1114=\"\",\"\",Pivot!G1114)","v":""},null,{"$f":"IF(Pivot!H1114=\"\",\"\",Pivot!H1114)","v":""},null,{"$f":"IF(Pivot!J1114=\"\",\"\",Pivot!J1114)","v":""},{"$f":"IF(Pivot!I1114=\"\",\"\",Pivot!I1114)","v":""},null,null,null,null,null,null,"","",{"$error":"#VALUE!"},null,"","",""]
[{"$f":"IF(Pivot!G1115=\"\",\"\",Pivot!G1115)","v":""},null,{"$f":"IF(Pivot!H1115=\"\",\"\",Pivot!H1115)","v":""},null,{"$f":"IF(Pivot!J1115=\"\",\"\",Pivot!J1115)","v":""},{"$f":"IF(Pivot!I1115=\"\",\"\",Pivot!I1115)","v":""},null,null,null,null,null,null,"","",{"$error":"#VALUE!"},null,"","",""]
[{"$f":"IF(Pivot!G1116=\"\",\"\",Pivot!G1116)","v":""},null,{"$f":"IF(Pivot!H1116=\"\",\"\",Pivot!H1116)","v":""},null,{"$f":"IF(Pivot!J1116=\"\",\"\",Pivot!J1116)","v":""},{"$f":"IF(Pivot!I1116=\"\",\"\",Pivot!I1116)","v":""},null,null,null,null,null,null,"","",{"$error":"#VALUE!"},null,"","",""]
[{"$f":"IF(Pivot!G1117=\"\",\"\",Pivot!G1117)","v":""},null,{"$f":"IF(Pivot!H1117=\"\",\"\",Pivot!H1117)","v":""},null,{"$f":"IF(Pivot!J1117=\"\",\"\",Pivot!J1117)","v":""},{"$f":"IF(Pivot!I1117=\"\",\"\",Pivot!I1117)","v":""},null,null,null,null,null,null,"","",{"$error":"#VALUE!"},null,"","",""]
[{"$f":"IF(Pivot!G1118=\"\",\"\",Pivot!G1118)","v":""},null,{"$f":"IF(Pivot!H1118=\"\",\"\",Pivot!H1118)","v":""},null,{"$f":"IF(Pivot!J1118=\"\",\"\",Pivot!J1118)","v":""},{"$f":"IF(Pivot!I1118=\"\",\"\",Pivot!I1118)","v":""},null,null,null,null,null,null,"","",{"$error":"#VALUE!"},null,"","",""]
[{"$f":"IF(Pivot!G1119=\"\",\"\",Pivot!G1119)","v":""},null,{"$f":"IF(Pivot!H1119=\"\",\"\",Pivot!H1119)","v":""},null,{"$f":"IF(Pivot!J1119=\"\",\"\",Pivot!J1119)","v":""},{"$f":"IF(Pivot!I1119=\"\",\"\",Pivot!I1119)","v":""},null,null,null,null,null,null,"","",{"$error":"#VALUE!"},null,"","",""]
[{"$f":"IF(Pivot!G1120=\"\",\"\",Pivot!G1120)","v":""},null,{"$f":"IF(Pivot!H1120=\"\",\"\",Pivot!H1120)","v":""},null,{"$f":"IF(Pivot!J1120=\"\",\"\",Pivot!J1120)","v":""},{"$f":"IF(Pivot!I1120=\"\",\"\",Pivot!I1120)","v":""},null,null,null,null,null,null,"","",{"$error":"#VALUE!"},null,"","",""]
[{"$f":"IF(Pivot!G1121=\"\",\"\",Pivot!G1121)","v":""},null,{"$f":"IF(Pivot!H1121=\"\",\"\",Pivot!H1121)","v":""},null,{"$f":"IF(Pivot!J1121=\"\",\"\",Pivot!J1121)","v":""},{"$f":"IF(Pivot!I1121=\"\",\"\",Pivot!I1121)","v":""},null,null,null,null,null,null,"","",{"$error":"#VALUE!"},null,"","",""]
[{"$f":"IF(Pivot!G1122=\"\",\"\",Pivot!G1122)","v":""},null,{"$f":"IF(Pivot!H1122=\"\",\"\",Pivot!H1122)","v":""},null,{"$f":"IF(Pivot!J1122=\"\",\"\",Pivot!J1122)","v":""},{"$f":"IF(Pivot!I1122=\"\",\"\",Pivot!I1122)","v":""},null,null,null,null,null,null,"","",{"$error":"#VALUE!"},null,"","",""]
[{"$f":"IF(Pivot!G1123=\"\",\"\",Pivot!G1123)","v":""},null,{"$f":"IF(Pivot!H1123=\"\",\"\",Pivot!H1123)","v":""},null,{"$f":"IF(Pivot!J1123=\"\",\"\",Pivot!J1123)","v":""},{"$f":"IF(Pivot!I1123=\"\",\"\",Pivot!I1123)","v":""},null,null,null,null,null,null,"","",{"$error":"#VALUE!"},null,"","",""]
[{"$f":"IF(Pivot!G1124=\"\",\"\",Pivot!G1124)","v":""},null,{"$f":"IF(Pivot!H1124=\"\",\"\",Pivot!H1124)","v":""},null,{"$f":"IF(Pivot!J1124=\"\",\"\",Pivot!J1124)","v":""},{"$f":"IF(Pivot!I1124=\"\",\"\",Pivot!I1124)","v":""},null,null,null,null,null,null,"","",{"$error":"#VALUE!"},null,"","",""]
[{"$f":"IF(Pivot!G1125=\"\",\"\",Pivot!G1125)","v":""},null,{"$f":"IF(Pivot!H1125=\"\",\"\",Pivot!H1125)","v":""},null,{"$f":"IF(Pivot!J1125=\"\",\"\",Pivot!J1125)","v":""},{"$f":"IF(Pivot!I1125=\"\",\"\",Pivot!I1125)","v":""},null,null,null,null,null,null,"","",{"$error":"#VALUE!"},null,"","",""]
[{"$f":"IF(Pivot!G1126=\"\",\"\",Pivot!G1126)","v":""},null,{"$f":"IF(Pivot!H1126=\"\",\"\",Pivot!H1126)","v":""},null,{"$f":"IF(Pivot!J1126=\"\",\"\",Pivot!J1126)","v":""},{"$f":"IF(Pivot!I1126=\"\",\"\",Pivot!I1126)","v":""},null,null,null,null,null,null,"","",{"$error":"#VALUE!"},null,"","",""]
[{"$f":"IF(Pivot!G1127=\"\",\"\",Pivot!G1127)","v":""},null,{"$f":"IF(Pivot!H1127=\"\",\"\",Pivot!H1127)","v":""},null,{"$f":"IF(Pivot!J1127=\"\",\"\",Pivot!J1127)","v":""},{"$f":"IF(Pivot!I1127=\"\",\"\",Pivot!I1127)","v":""},null,null,null,null,null,null,"","",{"$error":"#VALUE!"},null,"","",""]
[{"$f":"IF(Pivot!G1128=\"\",\"\",Pivot!G1128)","v":""},null,{"$f":"IF(Pivot!H1128=\"\",\"\",Pivot!H1128)","v":""},null,{"$f":"IF(Pivot!J1128=\"\",\"\",Pivot!J1128)","v":""},{"$f":"IF(Pivot!I1128=\"\",\"\",Pivot!I1128)","v":""},null,null,null,null,null,null,"","",{"$error":"#VALUE!"},null,"","",""]
[{"$f":"IF(Pivot!G1129=\"\",\"\",Pivot!G1129)","v":""},null,{"$f":"IF(Pivot!H1129=\"\",\"\",Pivot!H1129)","v":""},null,{"$f":"IF(Pivot!J1129=\"\",\"\",Pivot!J1129)","v":""},{"$f":"IF(Pivot!I1129=\"\",\"\",Pivot!I1129)","v":""},null,null,null,null,null,null,"","",{"$error":"#VALUE!"},null,"","",""]
[{"$f":"IF(Pivot!G1130=\"\",\"\",Pivot!G1130)","v":""},null,{"$f":"IF(Pivot!H1130=\"\",\"\",Pivot!H1130)","v":""},null,{"$f":"IF(Pivot!J1130=\"\",\"\",Pivot!J1130)","v":""},{"$f":"IF(Pivot!I1130=\"\",\"\",Pivot!I1130)","v":""},null,null,null,null,null,null,"","",{"$error":"#VALUE!"},null,"","",""]
[{"$f":"IF(Pivot!G1131=\"\",\"\",Pivot!G1131)","v":""},null,{"$f":"IF(Pivot!H1131=\"\",\"\",Pivot!H1131)","v":""},null,{"$f":"IF(Pivot!J1131=\"\",\"\",Pivot!J1131)","v":""},{"$f":"IF(Pivot!I1131=\"\",\"\",Pivot!I1131)","v":""},null,null,null,null,null,null,"","",{"$error":"#VALUE!"},null,"","",""]
[{"$f":"IF(Pivot!G1132=\"\",\"\",Pivot!G1132)","v":""},null,{"$f":"IF(Pivot!H1132=\"\",\"\",Pivot!H1132)","v":""},null,{"$f":"IF(Pivot!J1132=\"\",\"\",Pivot!J1132)","v":""},{"$f":"IF(Pivot!I1132=\"\",\"\",Pivot!I1132)","v":""},null,null,null,null,null,null,"","",{"$error":"#VALUE!"},null,"","",""]
[{"$f":"IF(Pivot!G1133=\"\",\"\",Pivot!G1133)","v":""},null,{"$f":"IF(Pivot!H1133=\"\",\"\",Pivot!H1133)","v":""},null,{"$f":"IF(Pivot!J1133=\"\",\"\",Pivot!J1133)","v":""},{"$f":"IF(Pivot!I1133=\"\",\"\",Pivot!I1133)","v":""},null,null,null,null,null,null,"","",{"$error":"#VALUE!"},null,"","",""]
[{"$f":"IF(Pivot!G1134=\"\",\"\",Pivot!G1134)","v":""},null,{"$f":"IF(Pivot!H1134=\"\",\"\",Pivot!H1134)","v":""},null,{"$f":"IF(Pivot!J1134=\"\",\"\",Pivot!J1134)","v":""},{"$f":"IF(Pivot!I1134=\"\",\"\",Pivot!I1134)","v":""},null,null,null,null,null,null,"","",{"$error":"#VALUE!"},null,"","",""]
[{"$f":"IF(Pivot!G1135=\"\",\"\",Pivot!G1135)","v":""},null,{"$f":"IF(Pivot!H1135=\"\",\"\",Pivot!H1135)","v":""},null,{"$f":"IF(Pivot!J1135=\"\",\"\",Pivot!J1135)","v":""},{"$f":"IF(Pivot!I1135=\"\",\"\",Pivot!I1135)","v":""},null,null,null,null,null,null,"","",{"$error":"#VALUE!"},null,"","",""]
[{"$f":"IF(Pivot!G1136=\"\",\"\",Pivot!G1136)","v":""},null,{"$f":"IF(Pivot!H1136=\"\",\"\",Pivot!H1136)","v":""},null,{"$f":"IF(Pivot!J1136=\"\",\"\",Pivot!J1136)","v":""},{"$f":"IF(Pivot!I1136=\"\",\"\",Pivot!I1136)","v":""},null,null,null,null,null,null,"","",{"$error":"#VALUE!"},null,"","",""]
[{"$f":"IF(Pivot!G1137=\"\",\"\",Pivot!G1137)","v":""},null,{"$f":"IF(Pivot!H1137=\"\",\"\",Pivot!H1137)","v":""},null,{"$f":"IF(Pivot!J1137=\"\",\"\",Pivot!J1137)","v":""},{"$f":"IF(Pivot!I1137=\"\",\"\",Pivot!I1137)","v":""},null,null,null,null,null,null,"","",{"$error":"#VALUE!"},null,"","",""]
[{"$f":"IF(Pivot!G1138=\"\",\"\",Pivot!G1138)","v":""},null,{"$f":"IF(Pivot!H1138=\"\",\"\",Pivot!H1138)","v":""},null,{"$f":"IF(Pivot!J1138=\"\",\"\",Pivot!J1138)","v":""},{"$f":"IF(Pivot!I1138=\"\",\"\",Pivot!I1138)","v":""},null,null,null,null,null,null,"","",{"$error":"#VALUE!"},null,"","",""]
[{"$f":"IF(Pivot!G1139=\"\",\"\",Pivot!G1139)","v":""},null,{"$f":"IF(Pivot!H1139=\"\",\"\",Pivot!H1139)","v":""},null,{"$f":"IF(Pivot!J1139=\"\",\"\",Pivot!J1139)","v":""},{"$f":"IF(Pivot!I1139=\"\",\"\",Pivot!I1139)","v":""},null,null,null,null,null,null,"","",{"$error":"#VALUE!"},null,"","",""]
[{"$f":"IF(Pivot!G1140=\"\",\"\",Pivot!G1140)","v":""},null,{"$f":"IF(Pivot!H1140=\"\",\"\",Pivot!H1140)","v":""},null,{"$f":"IF(Pivot!J1140=\"\",\"\",Pivot!J1140)","v":""},{"$f":"IF(Pivot!I1140=\"\",\"\",Pivot!I1140)","v":""},null,null,null,null,null,null,"","",{"$error":"#VALUE!"},null,"","",""]
[{"$f":"IF(Pivot!G1141=\"\",\"\",Pivot!G1141)","v":""},null,{"$f":"IF(Pivot!H1141=\"\",\"\",Pivot!H1141)","v":""},null,{"$f":"IF(Pivot!J1141=\"\",\"\",Pivot!J1141)","v":""},{"$f":"IF(Pivot!I1141=\"\",\"\",Pivot!I1141)","v":""},null,null,null,null,null,null,"","",{"$error":"#VALUE!"},null,"","",""]
[{"$f":"IF(Pivot!G1142=\"\",\"\",Pivot!G1142)","v":""},null,{"$f":"IF(Pivot!H1142=\"\",\"\",Pivot!H1142)","v":""},null,{"$f":"IF(Pivot!J1142=\"\",\"\",Pivot!J1142)","v":""},{"$f":"IF(Pivot!I1142=\"\",\"\",Pivot!I1142)","v":""},null,null,null,null,null,null,"","",{"$error":"#VALUE!"},null,"","",""]
[{"$f":"IF(Pivot!G1143=\"\",\"\",Pivot!G1143)","v":""},null,{"$f":"IF(Pivot!H1143=\"\",\"\",Pivot!H1143)","v":""},null,{"$f":"IF(Pivot!J1143=\"\",\"\",Pivot!J1143)","v":""},{"$f":"IF(Pivot!I1143=\"\",\"\",Pivot!I1143)","v":""},null,null,null,null,null,null,"","",{"$error":"#VALUE!"},null,"","",""]
[{"$f":"IF(Pivot!G1144=\"\",\"\",Pivot!G1144)","v":""},null,{"$f":"IF(Pivot!H1144=\"\",\"\",Pivot!H1144)","v":""},null,{"$f":"IF(Pivot!J1144=\"\",\"\",Pivot!J1144)","v":""},{"$f":"IF(Pivot!I1144=\"\",\"\",Pivot!I1144)","v":""},null,null,null,null,null,null,"","",{"$error":"#VALUE!"},null,"","",""]
[{"$f":"IF(Pivot!G1145=\"\",\"\",Pivot!G1145)","v":""},null,{"$f":"IF(Pivot!H1145=\"\",\"\",Pivot!H1145)","v":""},null,{"$f":"IF(Pivot!J1145=\"\",\"\",Pivot!J1145)","v":""},{"$f":"IF(Pivot!I1145=\"\",\"\",Pivot!I1145)","v":""},null,null,null,null,null,null,"","",{"$error":"#VALUE!"},null,"","",""]
[{"$f":"IF(Pivot!G1146=\"\",\"\",Pivot!G1146)","v":""},null,{"$f":"IF(Pivot!H1146=\"\",\"\",Pivot!H1146)","v":""},null,{"$f":"IF(Pivot!J1146=\"\",\"\",Pivot!J1146)","v":""},{"$f":"IF(Pivot!I1146=\"\",\"\",Pivot!I1146)","v":""},null,null,null,null,null,null,"","",{"$error":"#VALUE!"},null,"","",""]
[{"$f":"IF(Pivot!G1147=\"\",\"\",Pivot!G1147)","v":""},null,{"$f":"IF(Pivot!H1147=\"\",\"\",Pivot!H1147)","v":""},null,{"$f":"IF(Pivot!J1147=\"\",\"\",Pivot!J1147)","v":""},{"$f":"IF(Pivot!I1147=\"\",\"\",Pivot!I1147)","v":""},null,null,null,null,null,null,"","",{"$error":"#VALUE!"},null,"","",""]
[{"$f":"IF(Pivot!G1148=\"\",\"\",Pivot!G1148)","v":""},null,{"$f":"IF(Pivot!H1148=\"\",\"\",Pivot!H1148)","v":""},null,{"$f":"IF(Pivot!J1148=\"\",\"\",Pivot!J1148)","v":""},{"$f":"IF(Pivot!I1148=\"\",\"\",Pivot!I1148)","v":""},null,null,null,null,null,null,"","",{"$error":"#VALUE!"},null,"","",""]
[{"$f":"IF(Pivot!G1149=\"\",\"\",Pivot!G1149)","v":""},null,{"$f":"IF(Pivot!H1149=\"\",\"\",Pivot!H1149)","v":""},null,{"$f":"IF(Pivot!J1149=\"\",\"\",Pivot!J1149)","v":""},{"$f":"IF(Pivot!I1149=\"\",\"\",Pivot!I1149)","v":""},null,null,null,null,null,null,"","",{"$error":"#VALUE!"},null,"","",""]
[{"$f":"IF(Pivot!G1150=\"\",\"\",Pivot!G1150)","v":""},null,{"$f":"IF(Pivot!H1150=\"\",\"\",Pivot!H1150)","v":""},null,{"$f":"IF(Pivot!J1150=\"\",\"\",Pivot!J1150)","v":""},{"$f":"IF(Pivot!I1150=\"\",\"\",Pivot!I1150)","v":""},null,null,null,null,null,null,"","",{"$error":"#VALUE!"},null,"","",""]
[{"$f":"IF(Pivot!G1151=\"\",\"\",Pivot!G1151)","v":""},null,{"$f":"IF(Pivot!H1151=\"\",\"\",Pivot!H1151)","v":""},null,{"$f":"IF(Pivot!J1151=\"\",\"\",Pivot!J1151)","v":""},{"$f":"IF(Pivot!I1151=\"\",\"\",Pivot!I1151)","v":""},null,null,null,null,null,null,"","",{"$error":"#VALUE!"},null,"","",""]
[{"$f":"IF(Pivot!G1152=\"\",\"\",Pivot!G1152)","v":""},null,{"$f":"IF(Pivot!H1152=\"\",\"\",Pivot!H1152)","v":""},null,{"$f":"IF(Pivot!J1152=\"\",\"\",Pivot!J1152)","v":""},{"$f":"IF(Pivot!I1152=\"\",\"\",Pivot!I1152)","v":""},null,null,null,null,null,null,"","",{"$error":"#VALUE!"},null,"","",""]
[{"$f":"IF(Pivot!G1153=\"\",\"\",Pivot!G1153)","v":""},null,{"$f":"IF(Pivot!H1153=\"\",\"\",Pivot!H1153)","v":""},null,{"$f":"IF(Pivot!J1153=\"\",\"\",Pivot!J1153)","v":""},{"$f":"IF(Pivot!I1153=\"\",\"\",Pivot!I1153)","v":""},null,null,null,null,null,null,"","",{"$error":"#VALUE!"},null,"","",""]
[{"$f":"IF(Pivot!G1154=\"\",\"\",Pivot!G1154)","v":""},null,{"$f":"IF(Pivot!H1154=\"\",\"\",Pivot!H1154)","v":""},null,{"$f":"IF(Pivot!J1154=\"\",\"\",Pivot!J1154)","v":""},{"$f":"IF(Pivot!I1154=\"\",\"\",Pivot!I1154)","v":""},null,null,null,null,null,null,"","",{"$error":"#VALUE!"},null,"","",""]
[{"$f":"IF(Pivot!G1155=\"\",\"\",Pivot!G1155)","v":""},null,{"$f":"IF(Pivot!H1155=\"\",\"\",Pivot!H1155)","v":""},null,{"$f":"IF(Pivot!J1155=\"\",\"\",Pivot!J1155)","v":""},{"$f":"IF(Pivot!I1155=\"\",\"\",Pivot!I1155)","v":""},null,null,null,null,null,null,"","",{"$error":"#VALUE!"},null,"","",""]
[{"$f":"IF(Pivot!G1156=\"\",\"\",Pivot!G1156)","v":""},null,{"$f":"IF(Pivot!H1156=\"\",\"\",Pivot!H1156)","v":""},null,{"$f":"IF(Pivot!J1156=\"\",\"\",Pivot!J1156)","v":""},{"$f":"IF(Pivot!I1156=\"\",\"\",Pivot!I1156)","v":""},null,null,null,null,null,null,"","",{"$f":"N1159/M1159","v":{"$error":"#VALUE!"}},null,"","",""]
[{"$f":"IF(Pivot!G1157=\"\",\"\",Pivot!G1157)","v":""},null,{"$f":"IF(Pivot!H1157=\"\",\"\",Pivot!H1157)","v":""},null,{"$f":"IF(Pivot!J1157=\"\",\"\",Pivot!J1157)","v":""},{"$f":"IF(Pivot!I1157=\"\",\"\",Pivot!I1157)","v":""},null,null,null,null,null,null,{"$f":"IF(C1160=\"\",\"\",C1160*L1160)","v":""},{"$f":"IF(F1160=\"\",\"\",M1160-F1160)","v":""},{"$error":"#VALUE!"},null,{"$f":"IF(C1160=\"\",\"\",C1160*P1160)","v":""},{"$f":"IF(F1160=\"\",\"\",Q1160-F1160)","v":""},{"$f":"IF(F1160=\"\",\"\",R1160/F1160)","v":""}]
[{"$f":"IF(Pivot!G1158=\"\",\"\",Pivot!G1158)","v":""},null,{"$f":"IF(Pivot!H1158=\"\",\"\",Pivot!H1158)","v":""},null,{"$f":"IF(Pivot!J1158=\"\",\"\",Pivot!J1158)","v":""},{"$f":"IF(Pivot!I1158=\"\",\"\",Pivot!I1158)","v":""},null,null,null,null,null,null,"","",{"$error":"#VALUE!"},null,"","",""]
[{"$f":"IF(Pivot!G1159=\"\",\"\",Pivot!G1159)","v":""},null,{"$f":"IF(Pivot!H1159=\"\",\"\",Pivot!H1159)","v":""},null,{"$f":"IF(Pivot!J1159=\"\",\"\",Pivot!J1159)","v":""},{"$f":"IF(Pivot!I1159=\"\",\"\",Pivot!I1159)","v":""},null,null,null,null,null,null,"","",{"$error":"#VALUE!"},null,"","",""]
[{"$f":"IF(Pivot!G1160=\"\",\"\",Pivot!G1160)","v":""},null,{"$f":"IF(Pivot!H1160=\"\",\"\",Pivot!H1160)","v":""},null,{"$f":"IF(Pivot!J1160=\"\",\"\",Pivot!J1160)","v":""},{"$f":"IF(Pivot!I1160=\"\",\"\",Pivot!I1160)","v":""},null,null,null,null,null,null,"","",{"$error":"#VALUE!"},null,"","",""]
[{"$f":"IF(Pivot!G1161=\"\",\"\",Pivot!G1161)","v":""},null,{"$f":"IF(Pivot!H1161=\"\",\"\",Pivot!H1161)","v":""},null,{"$f":"IF(Pivot!J1161=\"\",\"\",Pivot!J1161)","v":""},{"$f":"IF(Pivot!I1161=\"\",\"\",Pivot!I1161)","v":""},null,null,null,null,null,null,"","",{"$error":"#VALUE!"},null,"","",""]
[{"$f":"IF(Pivot!G1162=\"\",\"\",Pivot!G1162)","v":""},null,{"$f":"IF(Pivot!H1162=\"\",\"\",Pivot!H1162)","v":""},null,{"$f":"IF(Pivot!J1162=\"\",\"\",Pivot!J1162)","v":""},{"$f":"IF(Pivot!I1162=\"\",\"\",Pivot!I1162)","v":""},null,null,null,null,null,null,"","",{"$error":"#VALUE!"},null,"","",""]
[{"$f":"IF(Pivot!G1163=\"\",\"\",Pivot!G1163)","v":""},null,{"$f":"IF(Pivot!H1163=\"\",\"\",Pivot!H1163)","v":""},null,{"$f":"IF(Pivot!J1163=\"\",\"\",Pivot!J1163)","v":""},{"$f":"IF(Pivot!I1163=\"\",\"\",Pivot!I1163)","v":""},null,null,null,null,null,null,"","",{"$error":"#VALUE!"},null,"","",""]
[{"$f":"IF(Pivot!G1164=\"\",\"\",Pivot!G1164)","v":""},null,{"$f":"IF(Pivot!H1164=\"\",\"\",Pivot!H1164)","v":""},null,{"$f":"IF(Pivot!J1164=\"\",\"\",Pivot!J1164)","v":""},{"$f":"IF(Pivot!I1164=\"\",\"\",Pivot!I1164)","v":""},null,null,null,null,null,null,"","",{"$error":"#VALUE!"},null,"","",""]
[{"$f":"IF(Pivot!G1165=\"\",\"\",Pivot!G1165)","v":""},null,{"$f":"IF(Pivot!H1165=\"\",\"\",Pivot!H1165)","v":""},null,{"$f":"IF(Pivot!J1165=\"\",\"\",Pivot!J1165)","v":""},{"$f":"IF(Pivot!I1165=\"\",\"\",Pivot!I1165)","v":""},null,null,null,null,null,null,"","",{"$error":"#VALUE!"},null,"","",""]
[{"$f":"IF(Pivot!G1166=\"\",\"\",Pivot!G1166)","v":""},null,{"$f":"IF(Pivot!H1166=\"\",\"\",Pivot!H1166)","v":""},null,{"$f":"IF(Pivot!J1166=\"\",\"\",Pivot!J1166)","v":""},{"$f":"IF(Pivot!I1166=\"\",\"\",Pivot!I1166)","v":""},null,null,null,null,null,null,"","",{"$error":"#VALUE!"},null,"","",""]
[{"$f":"IF(Pivot!G1167=\"\",\"\",Pivot!G1167)","v":""},null,{"$f":"IF(Pivot!H1167=\"\",\"\",Pivot!H1167)","v":""},null,{"$f":"IF(Pivot!J1167=\"\",\"\",Pivot!J1167)","v":""},{"$f":"IF(Pivot!I1167=\"\",\"\",Pivot!I1167)","v":""},null,null,null,null,null,null,"","",{"$error":"#VALUE!"},null,"","",""]
[{"$f":"IF(Pivot!G1168=\"\",\"\",Pivot!G1168)","v":""},null,{"$f":"IF(Pivot!H1168=\"\",\"\",Pivot!H1168)","v":""},null,{"$f":"IF(Pivot!J1168=\"\",\"\",Pivot!J1168)","v":""},{"$f":"IF(Pivot!I1168=\"\",\"\",Pivot!I1168)","v":""},null,null,null,null,null,null,"","",{"$error":"#VALUE!"},null,"","",""]
[{"$f":"IF(Pivot!G1169=\"\",\"\",Pivot!G1169)","v":""},null,{"$f":"IF(Pivot!H1169=\"\",\"\",Pivot!H1169)","v":""},null,{"$f":"IF(Pivot!J1169=\"\",\"\",Pivot!J1169)","v":""},{"$f":"IF(Pivot!I1169=\"\",\"\",Pivot!I1169)","v":""},null,null,null,null,null,null,"","",{"$error":"#VALUE!"},null,"","",""]
[{"$f":"IF(Pivot!G1170=\"\",\"\",Pivot!G1170)","v":""},null,{"$f":"IF(Pivot!H1170=\"\",\"\",Pivot!H1170)","v":""},null,{"$f":"IF(Pivot!J1170=\"\",\"\",Pivot!J1170)","v":""},{"$f":"IF(Pivot!I1170=\"\",\"\",Pivot!I1170)","v":""},null,null,null,null,null,null,"","",{"$error":"#VALUE!"},null,"","",""]
[{"$f":"IF(Pivot!G1171=\"\",\"\",Pivot!G1171)","v":""},null,{"$f":"IF(Pivot!H1171=\"\",\"\",Pivot!H1171)","v":""},null,{"$f":"IF(Pivot!J1171=\"\",\"\",Pivot!J1171)","v":""},{"$f":"IF(Pivot!I1171=\"\",\"\",Pivot!I1171)","v":""},null,null,null,null,null,null,"","",{"$error":"#VALUE!"},null,"","",""]
[{"$f":"IF(Pivot!G1172=\"\",\"\",Pivot!G1172)","v":""},null,{"$f":"IF(Pivot!H1172=\"\",\"\",Pivot!H1172)","v":""},null,{"$f":"IF(Pivot!J1172=\"\",\"\",Pivot!J1172)","v":""},{"$f":"IF(Pivot!I1172=\"\",\"\",Pivot!I1172)","v":""},null,null,null,null,null,null,"","",{"$error":"#VALUE!"},null,"","",""]
[{"$f":"IF(Pivot!G1173=\"\",\"\",Pivot!G1173)","v":""},null,{"$f":"IF(Pivot!H1173=\"\",\"\",Pivot!H1173)","v":""},null,{"$f":"IF(Pivot!J1173=\"\",\"\",Pivot!J1173)","v":""},{"$f":"IF(Pivot!I1173=\"\",\"\",Pivot!I1173)","v":""},null,null,null,null,null,null,"","",{"$error":"#VALUE!"},null,"","",""]
[{"$f":"IF(Pivot!G1174=\"\",\"\",Pivot!G1174)","v":""},null,{"$f":"IF(Pivot!H1174=\"\",\"\",Pivot!H1174)","v":""},null,{"$f":"IF(Pivot!J1174=\"\",\"\",Pivot!J1174)","v":""},{"$f":"IF(Pivot!I1174=\"\",\"\",Pivot!I1174)","v":""},null,null,null,null,null,null,"","",{"$error":"#VALUE!"},null,"","",""]
[{"$f":"IF(Pivot!G1175=\"\",\"\",Pivot!G1175)","v":""},null,{"$f":"IF(Pivot!H1175=\"\",\"\",Pivot!H1175)","v":""},null,{"$f":"IF(Pivot!J1175=\"\",\"\",Pivot!J1175)","v":""},{"$f":"IF(Pivot!I1175=\"\",\"\",Pivot!I1175)","v":""},null,null,null,null,null,null,"","",{"$error":"#VALUE!"},null,"","",""]
[{"$f":"IF(Pivot!G1176=\"\",\"\",Pivot!G1176)","v":""},null,{"$f":"IF(Pivot!H1176=\"\",\"\",Pivot!H1176)","v":""},null,{"$f":"IF(Pivot!J1176=\"\",\"\",Pivot!J1176)","v":""},{"$f":"IF(Pivot!I1176=\"\",\"\",Pivot!I1176)","v":""},null,null,null,null,null,null,"","",{"$error":"#VALUE!"},null,"","",""]
[{"$f":"IF(Pivot!G1177=\"\",\"\",Pivot!G1177)","v":""},null,{"$f":"IF(Pivot!H1177=\"\",\"\",Pivot!H1177)","v":""},null,{"$f":"IF(Pivot!J1177=\"\",\"\",Pivot!J1177)","v":""},{"$f":"IF(Pivot!I1177=\"\",\"\",Pivot!I1177)","v":""},null,null,null,null,null,null,"","",{"$error":"#VALUE!"},null,"","",""]
[{"$f":"IF(Pivot!G1178=\"\",\"\",Pivot!G1178)","v":""},null,{"$f":"IF(Pivot!H1178=\"\",\"\",Pivot!H1178)","v":""},null,{"$f":"IF(Pivot!J1178=\"\",\"\",Pivot!J1178)","v":""},{"$f":"IF(Pivot!I1178=\"\",\"\",Pivot!I1178)","v":""},null,null,null,null,null,null,"","",{"$error":"#VALUE!"},null,"","",""]
[{"$f":"IF(Pivot!G1179=\"\",\"\",Pivot!G1179)","v":""},null,{"$f":"IF(Pivot!H1179=\"\",\"\",Pivot!H1179)","v":""},null,{"$f":"IF(Pivot!J1179=\"\",\"\",Pivot!J1179)","v":""},{"$f":"IF(Pivot!I1179=\"\",\"\",Pivot!I1179)","v":""},null,null,null,null,null,null,"","",{"$error":"#VALUE!"},null,"","",""]
[{"$f":"IF(Pivot!G1180=\"\",\"\",Pivot!G1180)","v":""},null,{"$f":"IF(Pivot!H1180=\"\",\"\",Pivot!H1180)","v":""},null,{"$f":"IF(Pivot!J1180=\"\",\"\",Pivot!J1180)","v":""},{"$f":"IF(Pivot!I1180=\"\",\"\",Pivot!I1180)","v":""},null,null,null,null,null,null,"","",{"$error":"#VALUE!"},null,"","",""]
[{"$f":"IF(Pivot!G1181=\"\",\"\",Pivot!G1181)","v":""},null,{"$f":"IF(Pivot!H1181=\"\",\"\",Pivot!H1181)","v":""},null,{"$f":"IF(Pivot!J1181=\"\",\"\",Pivot!J1181)","v":""},{"$f":"IF(Pivot!I1181=\"\",\"\",Pivot!I1181)","v":""},null,null,null,null,null,null,"","",{"$error":"#VALUE!"},null,"","",""]
[{"$f":"IF(Pivot!G1182=\"\",\"\",Pivot!G1182)","v":""},null,{"$f":"IF(Pivot!H1182=\"\",\"\",Pivot!H1182)","v":""},null,{"$f":"IF(Pivot!J1182=\"\",\"\",Pivot!J1182)","v":""},{"$f":"IF(Pivot!I1182=\"\",\"\",Pivot!I1182)","v":""},null,null,null,null,null,null,"","",{"$error":"#VALUE!"},null,"","",""]
[{"$f":"IF(Pivot!G1183=\"\",\"\",Pivot!G1183)","v":""},null,{"$f":"IF(Pivot!H1183=\"\",\"\",Pivot!H1183)","v":""},null,{"$f":"IF(Pivot!J1183=\"\",\"\",Pivot!J1183)","v":""},{"$f":"IF(Pivot!I1183=\"\",\"\",Pivot!I1183)","v":""},null,null,null,null,null,null,"","",{"$error":"#VALUE!"},null,"","",""]
[{"$f":"IF(Pivot!G1184=\"\",\"\",Pivot!G1184)","v":""},null,{"$f":"IF(Pivot!H1184=\"\",\"\",Pivot!H1184)","v":""},null,{"$f":"IF(Pivot!J1184=\"\",\"\",Pivot!J1184)","v":""},{"$f":"IF(Pivot!I1184=\"\",\"\",Pivot!I1184)","v":""},null,null,null,null,null,null,"","",{"$error":"#VALUE!"},null,"","",""]
[{"$f":"IF(Pivot!G1185=\"\",\"\",Pivot!G1185)","v":""},null,{"$f":"IF(Pivot!H1185=\"\",\"\",Pivot!H1185)","v":""},null,{"$f":"IF(Pivot!J1185=\"\",\"\",Pivot!J1185)","v":""},{"$f":"IF(Pivot!I1185=\"\",\"\",Pivot!I1185)","v":""},null,null,null,null,null,null,"","",{"$error":"#VALUE!"},null,"","",""]
[{"$f":"IF(Pivot!G1186=\"\",\"\",Pivot!G1186)","v":""},null,{"$f":"IF(Pivot!H1186=\"\",\"\",Pivot!H1186)","v":""},null,{"$f":"IF(Pivot!J1186=\"\",\"\",Pivot!J1186)","v":""},{"$f":"IF(Pivot!I1186=\"\",\"\",Pivot!I1186)","v":""},null,null,null,null,null,null,"","",{"$error":"#VALUE!"},null,"","",""]
[{"$f":"IF(Pivot!G1187=\"\",\"\",Pivot!G1187)","v":""},null,{"$f":"IF(Pivot!H1187=\"\",\"\",Pivot!H1187)","v":""},null,{"$f":"IF(Pivot!J1187=\"\",\"\",Pivot!J1187)","v":""},{"$f":"IF(Pivot!I1187=\"\",\"\",Pivot!I1187)","v":""},null,null,null,null,null,null,"","",{"$error":"#VALUE!"},null,"","",""]
[{"$f":"IF(Pivot!G1188=\"\",\"\",Pivot!G1188)","v":""},null,{"$f":"IF(Pivot!H1188=\"\",\"\",Pivot!H1188)","v":""},null,{"$f":"IF(Pivot!J1188=\"\",\"\",Pivot!J1188)","v":""},{"$f":"IF(Pivot!I1188=\"\",\"\",Pivot!I1188)","v":""},null,null,null,null,null,null,"","",{"$error":"#VALUE!"},null,"","",""]
[{"$f":"IF(Pivot!G1189=\"\",\"\",Pivot!G1189)","v":""},null,{"$f":"IF(Pivot!H1189=\"\",\"\",Pivot!H1189)","v":""},null,{"$f":"IF(Pivot!J1189=\"\",\"\",Pivot!J1189)","v":""},{"$f":"IF(Pivot!I1189=\"\",\"\",Pivot!I1189)","v":""},null,null,null,null,null,null,"","",{"$error":"#VALUE!"},null,"","",""]
[{"$f":"IF(Pivot!G1190=\"\",\"\",Pivot!G1190)","v":""},null,{"$f":"IF(Pivot!H1190=\"\",\"\",Pivot!H1190)","v":""},null,{"$f":"IF(Pivot!J1190=\"\",\"\",Pivot!J1190)","v":""},{"$f":"IF(Pivot!I1190=\"\",\"\",Pivot!I1190)","v":""},null,null,null,null,null,null,"","",{"$error":"#VALUE!"},null,"","",""]
[{"$f":"IF(Pivot!G1191=\"\",\"\",Pivot!G1191)","v":""},null,{"$f":"IF(Pivot!H1191=\"\",\"\",Pivot!H1191)","v":""},null,{"$f":"IF(Pivot!J1191=\"\",\"\",Pivot!J1191)","v":""},{"$f":"IF(Pivot!I1191=\"\",\"\",Pivot!I1191)","v":""},null,null,null,null,null,null,"","",{"$error":"#VALUE!"},null,"","",""]
[{"$f":"IF(Pivot!G1192=\"\",\"\",Pivot!G1192)","v":""},null,{"$f":"IF(Pivot!H1192=\"\",\"\",Pivot!H1192)","v":""},null,{"$f":"IF(Pivot!J1192=\"\",\"\",Pivot!J1192)","v":""},{"$f":"IF(Pivot!I1192=\"\",\"\",Pivot!I1192)","v":""},null,null,null,null,null,null,"","",{"$error":"#VALUE!"},null,"","",""]
[{"$f":"IF(Pivot!G1193=\"\",\"\",Pivot!G1193)","v":""},null,{"$f":"IF(Pivot!H1193=\"\",\"\",Pivot!H1193)","v":""},null,{"$f":"IF(Pivot!J1193=\"\",\"\",Pivot!J1193)","v":""},{"$f":"IF(Pivot!I1193=\"\",\"\",Pivot!I1193)","v":""},null,null,null,null,null,null,"","",{"$error":"#VALUE!"},null,"","",""]
[{"$f":"IF(Pivot!G1194=\"\",\"\",Pivot!G1194)","v":""},null,{"$f":"IF(Pivot!H1194=\"\",\"\",Pivot!H1194)","v":""},null,{"$f":"IF(Pivot!J1194=\"\",\"\",Pivot!J1194)","v":""},{"$f":"IF(Pivot!I1194=\"\",\"\",Pivot!I1194)","v":""},null,null,null,null,null,null,"","",{"$error":"#VALUE!"},null,"","",""]
[{"$f":"IF(Pivot!G1195=\"\",\"\",Pivot!G1195)","v":""},null,{"$f":"IF(Pivot!H1195=\"\",\"\",Pivot!H1195)","v":""},null,{"$f":"IF(Pivot!J1195=\"\",\"\",Pivot!J1195)","v":""},{"$f":"IF(Pivot!I1195=\"\",\"\",Pivot!I1195)","v":""},null,null,null,null,null,null,"","",{"$error":"#VALUE!"},null,"","",""]
[{"$f":"IF(Pivot!G1196=\"\",\"\",Pivot!G1196)","v":""},null,{"$f":"IF(Pivot!H1196=\"\",\"\",Pivot!H1196)","v":""},null,{"$f":"IF(Pivot!J1196=\"\",\"\",Pivot!J1196)","v":""},{"$f":"IF(Pivot!I1196=\"\",\"\",Pivot!I1196)","v":""},null,null,null,null,null,null,"","",{"$error":"#VALUE!"},null,"","",""]
[{"$f":"IF(Pivot!G1197=\"\",\"\",Pivot!G1197)","v":""},null,{"$f":"IF(Pivot!H1197=\"\",\"\",Pivot!H1197)","v":""},null,{"$f":"IF(Pivot!J1197=\"\",\"\",Pivot!J1197)","v":""},{"$f":"IF(Pivot!I1197=\"\",\"\",Pivot!I1197)","v":""},null,null,null,null,null,null,"","",{"$error":"#VALUE!"},null,"","",""]
[{"$f":"IF(Pivot!G1198=\"\",\"\",Pivot!G1198)","v":""},null,{"$f":"IF(Pivot!H1198=\"\",\"\",Pivot!H1198)","v":""},null,{"$f":"IF(Pivot!J1198=\"\",\"\",Pivot!J1198)","v":""},{"$f":"IF(Pivot!I1198=\"\",\"\",Pivot!I1198)","v":""},null,null,null,null,null,null,"","",{"$error":"#VALUE!"},null,"","",""]
[{"$f":"IF(Pivot!G1199=\"\",\"\",Pivot!G1199)","v":""},null,{"$f":"IF(Pivot!H1199=\"\",\"\",Pivot!H1199)","v":""},null,{"$f":"IF(Pivot!J1199=\"\",\"\",Pivot!J1199)","v":""},{"$f":"IF(Pivot!I1199=\"\",\"\",Pivot!I1199)","v":""},null,null,null,null,null,null,"","",{"$error":"#VALUE!"},null,"","",""]
[{"$f":"IF(Pivot!G1200=\"\",\"\",Pivot!G1200)","v":""},null,{"$f":"IF(Pivot!H1200=\"\",\"\",Pivot!H1200)","v":""},null,{"$f":"IF(Pivot!J1200=\"\",\"\",Pivot!J1200)","v":""},{"$f":"IF(Pivot!I1200=\"\",\"\",Pivot!I1200)","v":""},null,null,null,null,null,null,"","",{"$error":"#VALUE!"},null,"","",""]
[{"$f":"IF(Pivot!G1201=\"\",\"\",Pivot!G1201)","v":""},null,{"$f":"IF(Pivot!H1201=\"\",\"\",Pivot!H1201)","v":""},null,{"$f":"IF(Pivot!J1201=\"\",\"\",Pivot!J1201)","v":""},{"$f":"IF(Pivot!I1201=\"\",\"\",Pivot!I1201)","v":""},null,null,null,null,null,null,"","",{"$error":"#VALUE!"},null,"","",""]
[{"$f":"IF(Pivot!G1202=\"\",\"\",Pivot!G1202)","v":""},null,{"$f":"IF(Pivot!H1202=\"\",\"\",Pivot!H1202)","v":""},null,{"$f":"IF(Pivot!J1202=\"\",\"\",Pivot!J1202)","v":""},{"$f":"IF(Pivot!I1202=\"\",\"\",Pivot!I1202)","v":""},null,null,null,null,null,null,"","",{"$error":"#VALUE!"},null,"","",""]
[{"$f":"IF(Pivot!G1203=\"\",\"\",Pivot!G1203)","v":""},null,{"$f":"IF(Pivot!H1203=\"\",\"\",Pivot!H1203)","v":""},null,{"$f":"IF(Pivot!J1203=\"\",\"\",Pivot!J1203)","v":""},{"$f":"IF(Pivot!I1203=\"\",\"\",Pivot!I1203)","v":""},null,null,null,null,null,null,"","",{"$error":"#VALUE!"},null,"","",""]
[{"$f":"IF(Pivot!G1204=\"\",\"\",Pivot!G1204)","v":""},null,{"$f":"IF(Pivot!H1204=\"\",\"\",Pivot!H1204)","v":""},null,{"$f":"IF(Pivot!J1204=\"\",\"\",Pivot!J1204)","v":""},{"$f":"IF(Pivot!I1204=\"\",\"\",Pivot!I1204)","v":""},null,null,null,null,null,null,"","",{"$error":"#VALUE!"},null,"","",""]
[{"$f":"IF(Pivot!G1205=\"\",\"\",Pivot!G1205)","v":""},null,{"$f":"IF(Pivot!H1205=\"\",\"\",Pivot!H1205)","v":""},null,{"$f":"IF(Pivot!J1205=\"\",\"\",Pivot!J1205)","v":""},{"$f":"IF(Pivot!I1205=\"\",\"\",Pivot!I1205)","v":""},null,null,null,null,null,null,"","",{"$error":"#VALUE!"},null,"","",""]
[{"$f":"IF(Pivot!G1206=\"\",\"\",Pivot!G1206)","v":""},null,{"$f":"IF(Pivot!H1206=\"\",\"\",Pivot!H1206)","v":""},null,{"$f":"IF(Pivot!J1206=\"\",\"\",Pivot!J1206)","v":""},{"$f":"IF(Pivot!I1206=\"\",\"\",Pivot!I1206)","v":""},null,null,null,null,null,null,"","",{"$error":"#VALUE!"},null,"","",""]
[{"$f":"IF(Pivot!G1207=\"\",\"\",Pivot!G1207)","v":""},null,{"$f":"IF(Pivot!H1207=\"\",\"\",Pivot!H1207)","v":""},null,{"$f":"IF(Pivot!J1207=\"\",\"\",Pivot!J1207)","v":""},{"$f":"IF(Pivot!I1207=\"\",\"\",Pivot!I1207)","v":""},null,null,null,null,null,null,"","",{"$error":"#VALUE!"},null,"","",""]
[{"$f":"IF(Pivot!G1208=\"\",\"\",Pivot!G1208)","v":""},null,{"$f":"IF(Pivot!H1208=\"\",\"\",Pivot!H1208)","v":""},null,{"$f":"IF(Pivot!J1208=\"\",\"\",Pivot!J1208)","v":""},{"$f":"IF(Pivot!I1208=\"\",\"\",Pivot!I1208)","v":""},null,null,null,null,null,null,"","",{"$error":"#VALUE!"},null,"","",""]
[{"$f":"IF(Pivot!G1209=\"\",\"\",Pivot!G1209)","v":""},null,{"$f":"IF(Pivot!H1209=\"\",\"\",Pivot!H1209)","v":""},null,{"$f":"IF(Pivot!J1209=\"\",\"\",Pivot!J1209)","v":""},{"$f":"IF(Pivot!I1209=\"\",\"\",Pivot!I1209)","v":""},null,null,null,null,null,null,"","",{"$error":"#VALUE!"},null,"","",""]
[{"$f":"IF(Pivot!G1210=\"\",\"\",Pivot!G1210)","v":""},null,{"$f":"IF(Pivot!H1210=\"\",\"\",Pivot!H1210)","v":""},null,{"$f":"IF(Pivot!J1210=\"\",\"\",Pivot!J1210)","v":""},{"$f":"IF(Pivot!I1210=\"\",\"\",Pivot!I1210)","v":""},null,null,null,null,null,null,"","",{"$error":"#VALUE!"},null,"","",""]
[{"$f":"IF(Pivot!G1211=\"\",\"\",Pivot!G1211)","v":""},null,{"$f":"IF(Pivot!H1211=\"\",\"\",Pivot!H1211)","v":""},null,{"$f":"IF(Pivot!J1211=\"\",\"\",Pivot!J1211)","v":""},{"$f":"IF(Pivot!I1211=\"\",\"\",Pivot!I1211)","v":""},null,null,null,null,null,null,"","",{"$error":"#VALUE!"},null,"","",""]
[{"$f":"IF(Pivot!G1212=\"\",\"\",Pivot!G1212)","v":""},null,{"$f":"IF(Pivot!H1212=\"\",\"\",Pivot!H1212)","v":""},null,{"$f":"IF(Pivot!J1212=\"\",\"\",Pivot!J1212)","v":""},{"$f":"IF(Pivot!I1212=\"\",\"\",Pivot!I1212)","v":""},null,null,null,null,null,null,"","",{"$error":"#VALUE!"},null,"","",""]
[{"$f":"IF(Pivot!G1213=\"\",\"\",Pivot!G1213)","v":""},null,{"$f":"IF(Pivot!H1213=\"\",\"\",Pivot!H1213)","v":""},null,{"$f":"IF(Pivot!J1213=\"\",\"\",Pivot!J1213)","v":""},{"$f":"IF(Pivot!I1213=\"\",\"\",Pivot!I1213)","v":""},null,null,null,null,null,null,"","",{"$error":"#VALUE!"},null,"","",""]
[{"$f":"IF(Pivot!G1214=\"\",\"\",Pivot!G1214)","v":""},null,{"$f":"IF(Pivot!H1214=\"\",\"\",Pivot!H1214)","v":""},null,{"$f":"IF(Pivot!J1214=\"\",\"\",Pivot!J1214)","v":""},{"$f":"IF(Pivot!I1214=\"\",\"\",Pivot!I1214)","v":""},null,null,null,null,null,null,"","",{"$error":"#VALUE!"},null,"","",""]
[{"$f":"IF(Pivot!G1215=\"\",\"\",Pivot!G1215)","v":""},null,{"$f":"IF(Pivot!H1215=\"\",\"\",Pivot!H1215)","v":""},null,{"$f":"IF(Pivot!J1215=\"\",\"\",Pivot!J1215)","v":""},{"$f":"IF(Pivot!I1215=\"\",\"\",Pivot!I1215)","v":""},null,null,null,null,null,null,"","",{"$error":"#VALUE!"},null,"","",""]
[{"$f":"IF(Pivot!G1216=\"\",\"\",Pivot!G1216)","v":""},null,{"$f":"IF(Pivot!H1216=\"\",\"\",Pivot!H1216)","v":""},null,{"$f":"IF(Pivot!J1216=\"\",\"\",Pivot!J1216)","v":""},{"$f":"IF(Pivot!I1216=\"\",\"\",Pivot!I1216)","v":""},null,null,null,null,null,null,"","",{"$error":"#VALUE!"},null,"","",""]
[{"$f":"IF(Pivot!G1217=\"\",\"\",Pivot!G1217)","v":""},null,{"$f":"IF(Pivot!H1217=\"\",\"\",Pivot!H1217)","v":""},null,{"$f":"IF(Pivot!J1217=\"\",\"\",Pivot!J1217)","v":""},{"$f":"IF(Pivot!I1217=\"\",\"\",Pivot!I1217)","v":""},null,null,null,null,null,null,"","",{"$error":"#VALUE!"},null,"","",""]
[{"$f":"IF(Pivot!G1218=\"\",\"\",Pivot!G1218)","v":""},null,{"$f":"IF(Pivot!H1218=\"\",\"\",Pivot!H1218)","v":""},null,{"$f":"IF(Pivot!J1218=\"\",\"\",Pivot!J1218)","v":""},{"$f":"IF(Pivot!I1218=\"\",\"\",Pivot!I1218)","v":""},null,null,null,null,null,null,"","",{"$error":"#VALUE!"},null,"","",""]
[{"$f":"IF(Pivot!G1219=\"\",\"\",Pivot!G1219)","v":""},null,{"$f":"IF(Pivot!H1219=\"\",\"\",Pivot!H1219)","v":""},null,{"$f":"IF(Pivot!J1219=\"\",\"\",Pivot!J1219)","v":""},{"$f":"IF(Pivot!I1219=\"\",\"\",Pivot!I1219)","v":""},null,null,null,null,null,null,"","",{"$error":"#VALUE!"},null,"","",""]
[{"$f":"IF(Pivot!G1220=\"\",\"\",Pivot!G1220)","v":""},null,{"$f":"IF(Pivot!H1220=\"\",\"\",Pivot!H1220)","v":""},null,{"$f":"IF(Pivot!J1220=\"\",\"\",Pivot!J1220)","v":""},{"$f":"IF(Pivot!I1220=\"\",\"\",Pivot!I1220)","v":""},null,null,null,null,null,null,"","",{"$f":"N1223/M1223","v":{"$error":"#VALUE!"}},null,"","",""]
[{"$f":"IF(Pivot!G1221=\"\",\"\",Pivot!G1221)","v":""},null,{"$f":"IF(Pivot!H1221=\"\",\"\",Pivot!H1221)","v":""},null,{"$f":"IF(Pivot!J1221=\"\",\"\",Pivot!J1221)","v":""},{"$f":"IF(Pivot!I1221=\"\",\"\",Pivot!I1221)","v":""},null,null,null,null,null,null,{"$f":"IF(C1224=\"\",\"\",C1224*L1224)","v":""},{"$f":"IF(F1224=\"\",\"\",M1224-F1224)","v":""},{"$error":"#VALUE!"},null,{"$f":"IF(C1224=\"\",\"\",C1224*P1224)","v":""},{"$f":"IF(F1224=\"\",\"\",Q1224-F1224)","v":""},{"$f":"IF(F1224=\"\",\"\",R1224/F1224)","v":""}]
[{"$f":"IF(Pivot!G1222=\"\",\"\",Pivot!G1222)","v":""},null,{"$f":"IF(Pivot!H1222=\"\",\"\",Pivot!H1222)","v":""},null,{"$f":"IF(Pivot!J1222=\"\",\"\",Pivot!J1222)","v":""},{"$f":"IF(Pivot!I1222=\"\",\"\",Pivot!I1222)","v":""},null,null,null,null,null,null,"","",{"$error":"#VALUE!"},null,"","",""]
[{"$f":"IF(Pivot!G1223=\"\",\"\",Pivot!G1223)","v":""},null,{"$f":"IF(Pivot!H1223=\"\",\"\",Pivot!H1223)","v":""},null,{"$f":"IF(Pivot!J1223=\"\",\"\",Pivot!J1223)","v":""},{"$f":"IF(Pivot!I1223=\"\",\"\",Pivot!I1223)","v":""},null,null,null,null,null,null,"","",{"$error":"#VALUE!"},null,"","",""]
[{"$f":"IF(Pivot!G1224=\"\",\"\",Pivot!G1224)","v":""},null,{"$f":"IF(Pivot!H1224=\"\",\"\",Pivot!H1224)","v":""},null,{"$f":"IF(Pivot!J1224=\"\",\"\",Pivot!J1224)","v":""},{"$f":"IF(Pivot!I1224=\"\",\"\",Pivot!I1224)","v":""},null,null,null,null,null,null,"","",{"$error":"#VALUE!"},null,"","",""]
[{"$f":"IF(Pivot!G1225=\"\",\"\",Pivot!G1225)","v":""},null,{"$f":"IF(Pivot!H1225=\"\",\"\",Pivot!H1225)","v":""},null,{"$f":"IF(Pivot!J1225=\"\",\"\",Pivot!J1225)","v":""},{"$f":"IF(Pivot!I1225=\"\",\"\",Pivot!I1225)","v":""},null,null,null,null,null,null,"","",{"$error":"#VALUE!"},null,"","",""]
[{"$f":"IF(Pivot!G1226=\"\",\"\",Pivot!G1226)","v":""},null,{"$f":"IF(Pivot!H1226=\"\",\"\",Pivot!H1226)","v":""},null,{"$f":"IF(Pivot!J1226=\"\",\"\",Pivot!J1226)","v":""},{"$f":"IF(Pivot!I1226=\"\",\"\",Pivot!I1226)","v":""},null,null,null,null,null,null,"","",{"$error":"#VALUE!"},null,"","",""]
[{"$f":"IF(Pivot!G1227=\"\",\"\",Pivot!G1227)","v":""},null,{"$f":"IF(Pivot!H1227=\"\",\"\",Pivot!H1227)","v":""},null,{"$f":"IF(Pivot!J1227=\"\",\"\",Pivot!J1227)","v":""},{"$f":"IF(Pivot!I1227=\"\",\"\",Pivot!I1227)","v":""},null,null,null,null,null,null,"","",{"$error":"#VALUE!"},null,"","",""]
[{"$f":"IF(Pivot!G1228=\"\",\"\",Pivot!G1228)","v":""},null,{"$f":"IF(Pivot!H1228=\"\",\"\",Pivot!H1228)","v":""},null,{"$f":"IF(Pivot!J1228=\"\",\"\",Pivot!J1228)","v":""},{"$f":"IF(Pivot!I1228=\"\",\"\",Pivot!I1228)","v":""},null,null,null,null,null,null,"","",{"$error":"#VALUE!"},null,"","",""]
[{"$f":"IF(Pivot!G1229=\"\",\"\",Pivot!G1229)","v":""},null,{"$f":"IF(Pivot!H1229=\"\",\"\",Pivot!H1229)","v":""},null,{"$f":"IF(Pivot!J1229=\"\",\"\",Pivot!J1229)","v":""},{"$f":"IF(Pivot!I1229=\"\",\"\",Pivot!I1229)","v":""},null,null,null,null,null,null,"","",{"$error":"#VALUE!"},null,"","",""]
[{"$f":"IF(Pivot!G1230=\"\",\"\",Pivot!G1230)","v":""},null,{"$f":"IF(Pivot!H1230=\"\",\"\",Pivot!H1230)","v":""},null,{"$f":"IF(Pivot!J1230=\"\",\"\",Pivot!J1230)","v":""},{"$f":"IF(Pivot!I1230=\"\",\"\",Pivot!I1230)","v":""},null,null,null,null,null,null,"","",{"$error":"#VALUE!"},null,"","",""]
[{"$f":"IF(Pivot!G1231=\"\",\"\",Pivot!G1231)","v":""},null,{"$f":"IF(Pivot!H1231=\"\",\"\",Pivot!H1231)","v":""},null,{"$f":"IF(Pivot!J1231=\"\",\"\",Pivot!J1231)","v":""},{"$f":"IF(Pivot!I1231=\"\",\"\",Pivot!I1231)","v":""},null,null,null,null,null,null,"","",{"$error":"#VALUE!"},null,"","",""]
[{"$f":"IF(Pivot!G1232=\"\",\"\",Pivot!G1232)","v":""},null,{"$f":"IF(Pivot!H1232=\"\",\"\",Pivot!H1232)","v":""},null,{"$f":"IF(Pivot!J1232=\"\",\"\",Pivot!J1232)","v":""},{"$f":"IF(Pivot!I1232=\"\",\"\",Pivot!I1232)","v":""},null,null,null,null,null,null,"","",{"$error":"#VALUE!"},null,"","",""]
[{"$f":"IF(Pivot!G1233=\"\",\"\",Pivot!G1233)","v":""},null,{"$f":"IF(Pivot!H1233=\"\",\"\",Pivot!H1233)","v":""},null,{"$f":"IF(Pivot!J1233=\"\",\"\",Pivot!J1233)","v":""},{"$f":"IF(Pivot!I1233=\"\",\"\",Pivot!I1233)","v":""},null,null,null,null,null,null,"","",{"$error":"#VALUE!"},null,"","",""]
[{"$f":"IF(Pivot!G1234=\"\",\"\",Pivot!G1234)","v":""},null,{"$f":"IF(Pivot!H1234=\"\",\"\",Pivot!H1234)","v":""},null,{"$f":"IF(Pivot!J1234=\"\",\"\",Pivot!J1234)","v":""},{"$f":"IF(Pivot!I1234=\"\",\"\",Pivot!I1234)","v":""},null,null,null,null,null,null,"","",{"$error":"#VALUE!"},null,"","",""]
[{"$f":"IF(Pivot!G1235=\"\",\"\",Pivot!G1235)","v":""},null,{"$f":"IF(Pivot!H1235=\"\",\"\",Pivot!H1235)","v":""},null,{"$f":"IF(Pivot!J1235=\"\",\"\",Pivot!J1235)","v":""},{"$f":"IF(Pivot!I1235=\"\",\"\",Pivot!I1235)","v":""},null,null,null,null,null,null,"","",{"$error":"#VALUE!"},null,"","",""]
[{"$f":"IF(Pivot!G1236=\"\",\"\",Pivot!G1236)","v":""},null,{"$f":"IF(Pivot!H1236=\"\",\"\",Pivot!H1236)","v":""},null,{"$f":"IF(Pivot!J1236=\"\",\"\",Pivot!J1236)","v":""},{"$f":"IF(Pivot!I1236=\"\",\"\",Pivot!I1236)","v":""},null,null,null,null,null,null,"","",{"$error":"#VALUE!"},null,"","",""]
[{"$f":"IF(Pivot!G1237=\"\",\"\",Pivot!G1237)","v":""},null,{"$f":"IF(Pivot!H1237=\"\",\"\",Pivot!H1237)","v":""},null,{"$f":"IF(Pivot!J1237=\"\",\"\",Pivot!J1237)","v":""},{"$f":"IF(Pivot!I1237=\"\",\"\",Pivot!I1237)","v":""},null,null,null,null,null,null,"","",{"$error":"#VALUE!"},null,"","",""]
[{"$f":"IF(Pivot!G1238=\"\",\"\",Pivot!G1238)","v":""},null,{"$f":"IF(Pivot!H1238=\"\",\"\",Pivot!H1238)","v":""},null,{"$f":"IF(Pivot!J1238=\"\",\"\",Pivot!J1238)","v":""},{"$f":"IF(Pivot!I1238=\"\",\"\",Pivot!I1238)","v":""},null,null,null,null,null,null,"","",{"$error":"#VALUE!"},null,"","",""]
[{"$f":"IF(Pivot!G1239=\"\",\"\",Pivot!G1239)","v":""},null,{"$f":"IF(Pivot!H1239=\"\",\"\",Pivot!H1239)","v":""},null,{"$f":"IF(Pivot!J1239=\"\",\"\",Pivot!J1239)","v":""},{"$f":"IF(Pivot!I1239=\"\",\"\",Pivot!I1239)","v":""},null,null,null,null,null,null,"","",{"$error":"#VALUE!"},null,"","",""]
[{"$f":"IF(Pivot!G1240=\"\",\"\",Pivot!G1240)","v":""},null,{"$f":"IF(Pivot!H1240=\"\",\"\",Pivot!H1240)","v":""},null,{"$f":"IF(Pivot!J1240=\"\",\"\",Pivot!J1240)","v":""},{"$f":"IF(Pivot!I1240=\"\",\"\",Pivot!I1240)","v":""},null,null,null,null,null,null,"","",{"$error":"#VALUE!"},null,"","",""]
[{"$f":"IF(Pivot!G1241=\"\",\"\",Pivot!G1241)","v":""},null,{"$f":"IF(Pivot!H1241=\"\",\"\",Pivot!H1241)","v":""},null,{"$f":"IF(Pivot!J1241=\"\",\"\",Pivot!J1241)","v":""},{"$f":"IF(Pivot!I1241=\"\",\"\",Pivot!I1241)","v":""},null,null,null,null,null,null,"","",{"$error":"#VALUE!"},null,"","",""]
[{"$f":"IF(Pivot!G1242=\"\",\"\",Pivot!G1242)","v":""},null,{"$f":"IF(Pivot!H1242=\"\",\"\",Pivot!H1242)","v":""},null,{"$f":"IF(Pivot!J1242=\"\",\"\",Pivot!J1242)","v":""},{"$f":"IF(Pivot!I1242=\"\",\"\",Pivot!I1242)","v":""},null,null,null,null,null,null,"","",{"$error":"#VALUE!"},null,"","",""]
[{"$f":"IF(Pivot!G1243=\"\",\"\",Pivot!G1243)","v":""},null,{"$f":"IF(Pivot!H1243=\"\",\"\",Pivot!H1243)","v":""},null,{"$f":"IF(Pivot!J1243=\"\",\"\",Pivot!J1243)","v":""},{"$f":"IF(Pivot!I1243=\"\",\"\",Pivot!I1243)","v":""},null,null,null,null,null,null,"","",{"$error":"#VALUE!"},null,"","",""]
[{"$f":"IF(Pivot!G1244=\"\",\"\",Pivot!G1244)","v":""},null,{"$f":"IF(Pivot!H1244=\"\",\"\",Pivot!H1244)","v":""},null,{"$f":"IF(Pivot!J1244=\"\",\"\",Pivot!J1244)","v":""},{"$f":"IF(Pivot!I1244=\"\",\"\",Pivot!I1244)","v":""},null,null,null,null,null,null,"","",{"$error":"#VALUE!"},null,"","",""]
[{"$f":"IF(Pivot!G1245=\"\",\"\",Pivot!G1245)","v":""},null,{"$f":"IF(Pivot!H1245=\"\",\"\",Pivot!H1245)","v":""},null,{"$f":"IF(Pivot!J1245=\"\",\"\",Pivot!J1245)","v":""},{"$f":"IF(Pivot!I1245=\"\",\"\",Pivot!I1245)","v":""},null,null,null,null,null,null,"","",{"$error":"#VALUE!"},null,"","",""]
[{"$f":"IF(Pivot!G1246=\"\",\"\",Pivot!G1246)","v":""},null,{"$f":"IF(Pivot!H1246=\"\",\"\",Pivot!H1246)","v":""},null,{"$f":"IF(Pivot!J1246=\"\",\"\",Pivot!J1246)","v":""},{"$f":"IF(Pivot!I1246=\"\",\"\",Pivot!I1246)","v":""},null,null,null,null,null,null,"","",{"$error":"#VALUE!"},null,"","",""]
[{"$f":"IF(Pivot!G1247=\"\",\"\",Pivot!G1247)","v":""},null,{"$f":"IF(Pivot!H1247=\"\",\"\",Pivot!H1247)","v":""},null,{"$f":"IF(Pivot!J1247=\"\",\"\",Pivot!J1247)","v":""},{"$f":"IF(Pivot!I1247=\"\",\"\",Pivot!I1247)","v":""},null,null,null,null,null,null,"","",{"$error":"#VALUE!"},null,"","",""]
[{"$f":"IF(Pivot!G1248=\"\",\"\",Pivot!G1248)","v":""},null,{"$f":"IF(Pivot!H1248=\"\",\"\",Pivot!H1248)","v":""},null,{"$f":"IF(Pivot!J1248=\"\",\"\",Pivot!J1248)","v":""},{"$f":"IF(Pivot!I1248=\"\",\"\",Pivot!I1248)","v":""},null,null,null,null,null,null,"","",{"$error":"#VALUE!"},null,"","",""]
[{"$f":"IF(Pivot!G1249=\"\",\"\",Pivot!G1249)","v":""},null,{"$f":"IF(Pivot!H1249=\"\",\"\",Pivot!H1249)","v":""},null,{"$f":"IF(Pivot!J1249=\"\",\"\",Pivot!J1249)","v":""},{"$f":"IF(Pivot!I1249=\"\",\"\",Pivot!I1249)","v":""},null,null,null,null,null,null,"","",{"$error":"#VALUE!"},null,"","",""]
[{"$f":"IF(Pivot!G1250=\"\",\"\",Pivot!G1250)","v":""},null,{"$f":"IF(Pivot!H1250=\"\",\"\",Pivot!H1250)","v":""},null,{"$f":"IF(Pivot!J1250=\"\",\"\",Pivot!J1250)","v":""},{"$f":"IF(Pivot!I1250=\"\",\"\",Pivot!I1250)","v":""},null,null,null,null,null,null,"","",{"$error":"#VALUE!"},null,"","",""]
[{"$f":"IF(Pivot!G1251=\"\",\"\",Pivot!G1251)","v":""},null,{"$f":"IF(Pivot!H1251=\"\",\"\",Pivot!H1251)","v":""},null,{"$f":"IF(Pivot!J1251=\"\",\"\",Pivot!J1251)","v":""},{"$f":"IF(Pivot!I1251=\"\",\"\",Pivot!I1251)","v":""},null,null,null,null,null,null,"","",{"$error":"#VALUE!"},null,"","",""]
[{"$f":"IF(Pivot!G1252=\"\",\"\",Pivot!G1252)","v":""},null,{"$f":"IF(Pivot!H1252=\"\",\"\",Pivot!H1252)","v":""},null,{"$f":"IF(Pivot!J1252=\"\",\"\",Pivot!J1252)","v":""},{"$f":"IF(Pivot!I1252=\"\",\"\",Pivot!I1252)","v":""},null,null,null,null,null,null,"","",{"$error":"#VALUE!"},null,"","",""]
[{"$f":"IF(Pivot!G1253=\"\",\"\",Pivot!G1253)","v":""},null,{"$f":"IF(Pivot!H1253=\"\",\"\",Pivot!H1253)","v":""},null,{"$f":"IF(Pivot!J1253=\"\",\"\",Pivot!J1253)","v":""},{"$f":"IF(Pivot!I1253=\"\",\"\",Pivot!I1253)","v":""},null,null,null,null,null,null,"","",{"$error":"#VALUE!"},null,"","",""]
[{"$f":"IF(Pivot!G1254=\"\",\"\",Pivot!G1254)","v":""},null,{"$f":"IF(Pivot!H1254=\"\",\"\",Pivot!H1254)","v":""},null,{"$f":"IF(Pivot!J1254=\"\",\"\",Pivot!J1254)","v":""},{"$f":"IF(Pivot!I1254=\"\",\"\",Pivot!I1254)","v":""},null,null,null,null,null,null,"","",{"$error":"#VALUE!"},null,"","",""]
[{"$f":"IF(Pivot!G1255=\"\",\"\",Pivot!G1255)","v":""},null,{"$f":"IF(Pivot!H1255=\"\",\"\",Pivot!H1255)","v":""},null,{"$f":"IF(Pivot!J1255=\"\",\"\",Pivot!J1255)","v":""},{"$f":"IF(Pivot!I1255=\"\",\"\",Pivot!I1255)","v":""},null,null,null,null,null,null,"","",{"$error":"#VALUE!"},null,"","",""]
[{"$f":"IF(Pivot!G1256=\"\",\"\",Pivot!G1256)","v":""},null,{"$f":"IF(Pivot!H1256=\"\",\"\",Pivot!H1256)","v":""},null,{"$f":"IF(Pivot!J1256=\"\",\"\",Pivot!J1256)","v":""},{"$f":"IF(Pivot!I1256=\"\",\"\",Pivot!I1256)","v":""},null,null,null,null,null,null,"","",{"$error":"#VALUE!"},null,"","",""]
[{"$f":"IF(Pivot!G1257=\"\",\"\",Pivot!G1257)","v":""},null,{"$f":"IF(Pivot!H1257=\"\",\"\",Pivot!H1257)","v":""},null,{"$f":"IF(Pivot!J1257=\"\",\"\",Pivot!J1257)","v":""},{"$f":"IF(Pivot!I1257=\"\",\"\",Pivot!I1257)","v":""},null,null,null,null,null,null,"","",{"$error":"#VALUE!"},null,"","",""]
[{"$f":"IF(Pivot!G1258=\"\",\"\",Pivot!G1258)","v":""},null,{"$f":"IF(Pivot!H1258=\"\",\"\",Pivot!H1258)","v":""},null,{"$f":"IF(Pivot!J1258=\"\",\"\",Pivot!J1258)","v":""},{"$f":"IF(Pivot!I1258=\"\",\"\",Pivot!I1258)","v":""},null,null,null,null,null,null,"","",{"$error":"#VALUE!"},null,"","",""]
[{"$f":"IF(Pivot!G1259=\"\",\"\",Pivot!G1259)","v":""},null,{"$f":"IF(Pivot!H1259=\"\",\"\",Pivot!H1259)","v":""},null,{"$f":"IF(Pivot!J1259=\"\",\"\",Pivot!J1259)","v":""},{"$f":"IF(Pivot!I1259=\"\",\"\",Pivot!I1259)","v":""},null,null,null,null,null,null,"","",{"$error":"#VALUE!"},null,"","",""]
[{"$f":"IF(Pivot!G1260=\"\",\"\",Pivot!G1260)","v":""},null,{"$f":"IF(Pivot!H1260=\"\",\"\",Pivot!H1260)","v":""},null,{"$f":"IF(Pivot!J1260=\"\",\"\",Pivot!J1260)","v":""},{"$f":"IF(Pivot!I1260=\"\",\"\",Pivot!I1260)","v":""},null,null,null,null,null,null,"","",{"$error":"#VALUE!"},null,"","",""]
[{"$f":"IF(Pivot!G1261=\"\",\"\",Pivot!G1261)","v":""},null,{"$f":"IF(Pivot!H1261=\"\",\"\",Pivot!H1261)","v":""},null,{"$f":"IF(Pivot!J1261=\"\",\"\",Pivot!J1261)","v":""},{"$f":"IF(Pivot!I1261=\"\",\"\",Pivot!I1261)","v":""},null,null,null,null,null,null,"","",{"$error":"#VALUE!"},null,"","",""]
[{"$f":"IF(Pivot!G1262=\"\",\"\",Pivot!G1262)","v":""},null,{"$f":"IF(Pivot!H1262=\"\",\"\",Pivot!H1262)","v":""},null,{"$f":"IF(Pivot!J1262=\"\",\"\",Pivot!J1262)","v":""},{"$f":"IF(Pivot!I1262=\"\",\"\",Pivot!I1262)","v":""},null,null,null,null,null,null,"","",{"$error":"#VALUE!"},null,"","",""]
[{"$f":"IF(Pivot!G1263=\"\",\"\",Pivot!G1263)","v":""},null,{"$f":"IF(Pivot!H1263=\"\",\"\",Pivot!H1263)","v":""},null,{"$f":"IF(Pivot!J1263=\"\",\"\",Pivot!J1263)","v":""},{"$f":"IF(Pivot!I1263=\"\",\"\",Pivot!I1263)","v":""},null,null,null,null,null,null,"","",{"$error":"#VALUE!"},null,"","",""]
[{"$f":"IF(Pivot!G1264=\"\",\"\",Pivot!G1264)","v":""},null,{"$f":"IF(Pivot!H1264=\"\",\"\",Pivot!H1264)","v":""},null,{"$f":"IF(Pivot!J1264=\"\",\"\",Pivot!J1264)","v":""},{"$f":"IF(Pivot!I1264=\"\",\"\",Pivot!I1264)","v":""},null,null,null,null,null,null,"","",{"$error":"#VALUE!"},null,"","",""]
[{"$f":"IF(Pivot!G1265=\"\",\"\",Pivot!G1265)","v":""},null,{"$f":"IF(Pivot!H1265=\"\",\"\",Pivot!H1265)","v":""},null,{"$f":"IF(Pivot!J1265=\"\",\"\",Pivot!J1265)","v":""},{"$f":"IF(Pivot!I1265=\"\",\"\",Pivot!I1265)","v":""},null,null,null,null,null,null,"","",{"$error":"#VALUE!"},null,"","",""]
[{"$f":"IF(Pivot!G1266=\"\",\"\",Pivot!G1266)","v":""},null,{"$f":"IF(Pivot!H1266=\"\",\"\",Pivot!H1266)","v":""},null,{"$f":"IF(Pivot!J1266=\"\",\"\",Pivot!J1266)","v":""},{"$f":"IF(Pivot!I1266=\"\",\"\",Pivot!I1266)","v":""},null,null,null,null,null,null,"","",{"$error":"#VALUE!"},null,"","",""]
[{"$f":"IF(Pivot!G1267=\"\",\"\",Pivot!G1267)","v":""},null,{"$f":"IF(Pivot!H1267=\"\",\"\",Pivot!H1267)","v":""},null,{"$f":"IF(Pivot!J1267=\"\",\"\",Pivot!J1267)","v":""},{"$f":"IF(Pivot!I1267=\"\",\"\",Pivot!I1267)","v":""},null,null,null,null,null,null,"","",{"$error":"#VALUE!"},null,"","",""]
[{"$f":"IF(Pivot!G1268=\"\",\"\",Pivot!G1268)","v":""},null,{"$f":"IF(Pivot!H1268=\"\",\"\",Pivot!H1268)","v":""},null,{"$f":"IF(Pivot!J1268=\"\",\"\",Pivot!J1268)","v":""},{"$f":"IF(Pivot!I1268=\"\",\"\",Pivot!I1268)","v":""},null,null,null,null,null,null,"","",{"$error":"#VALUE!"},null,"","",""]
[{"$f":"IF(Pivot!G1269=\"\",\"\",Pivot!G1269)","v":""},null,{"$f":"IF(Pivot!H1269=\"\",\"\",Pivot!H1269)","v":""},null,{"$f":"IF(Pivot!J1269=\"\",\"\",Pivot!J1269)","v":""},{"$f":"IF(Pivot!I1269=\"\",\"\",Pivot!I1269)","v":""},null,null,null,null,null,null,"","",{"$error":"#VALUE!"},null,"","",""]
[{"$f":"IF(Pivot!G1270=\"\",\"\",Pivot!G1270)","v":""},null,{"$f":"IF(Pivot!H1270=\"\",\"\",Pivot!H1270)","v":""},null,{"$f":"IF(Pivot!J1270=\"\",\"\",Pivot!J1270)","v":""},{"$f":"IF(Pivot!I1270=\"\",\"\",Pivot!I1270)","v":""},null,null,null,null,null,null,"","",{"$error":"#VALUE!"},null,"","",""]
[{"$f":"IF(Pivot!G1271=\"\",\"\",Pivot!G1271)","v":""},null,{"$f":"IF(Pivot!H1271=\"\",\"\",Pivot!H1271)","v":""},null,{"$f":"IF(Pivot!J1271=\"\",\"\",Pivot!J1271)","v":""},{"$f":"IF(Pivot!I1271=\"\",\"\",Pivot!I1271)","v":""},null,null,null,null,null,null,"","",{"$error":"#VALUE!"},null,"","",""]
[{"$f":"IF(Pivot!G1272=\"\",\"\",Pivot!G1272)","v":""},null,{"$f":"IF(Pivot!H1272=\"\",\"\",Pivot!H1272)","v":""},null,{"$f":"IF(Pivot!J1272=\"\",\"\",Pivot!J1272)","v":""},{"$f":"IF(Pivot!I1272=\"\",\"\",Pivot!I1272)","v":""},null,null,null,null,null,null,"","",{"$error":"#VALUE!"},null,"","",""]
[{"$f":"IF(Pivot!G1273=\"\",\"\",Pivot!G1273)","v":""},null,{"$f":"IF(Pivot!H1273=\"\",\"\",Pivot!H1273)","v":""},null,{"$f":"IF(Pivot!J1273=\"\",\"\",Pivot!J1273)","v":""},{"$f":"IF(Pivot!I1273=\"\",\"\",Pivot!I1273)","v":""},null,null,null,null,null,null,"","",{"$error":"#VALUE!"},null,"","",""]
[{"$f":"IF(Pivot!G1274=\"\",\"\",Pivot!G1274)","v":""},null,{"$f":"IF(Pivot!H1274=\"\",\"\",Pivot!H1274)","v":""},null,{"$f":"IF(Pivot!J1274=\"\",\"\",Pivot!J1274)","v":""},{"$f":"IF(Pivot!I1274=\"\",\"\",Pivot!I1274)","v":""},null,null,null,null,null,null,"","",{"$error":"#VALUE!"},null,"","",""]
[{"$f":"IF(Pivot!G1275=\"\",\"\",Pivot!G1275)","v":""},null,{"$f":"IF(Pivot!H1275=\"\",\"\",Pivot!H1275)","v":""},null,{"$f":"IF(Pivot!J1275=\"\",\"\",Pivot!J1275)","v":""},{"$f":"IF(Pivot!I1275=\"\",\"\",Pivot!I1275)","v":""},null,null,null,null,null,null,"","",{"$error":"#VALUE!"},null,"","",""]
[{"$f":"IF(Pivot!G1276=\"\",\"\",Pivot!G1276)","v":""},null,{"$f":"IF(Pivot!H1276=\"\",\"\",Pivot!H1276)","v":""},null,{"$f":"IF(Pivot!J1276=\"\",\"\",Pivot!J1276)","v":""},{"$f":"IF(Pivot!I1276=\"\",\"\",Pivot!I1276)","v":""},null,null,null,null,null,null,"","",{"$error":"#VALUE!"},null,"","",""]
[{"$f":"IF(Pivot!G1277=\"\",\"\",Pivot!G1277)","v":""},null,{"$f":"IF(Pivot!H1277=\"\",\"\",Pivot!H1277)","v":""},null,{"$f":"IF(Pivot!J1277=\"\",\"\",Pivot!J1277)","v":""},{"$f":"IF(Pivot!I1277=\"\",\"\",Pivot!I1277)","v":""},null,null,null,null,null,null,"","",{"$error":"#VALUE!"},null,"","",""]
[{"$f":"IF(Pivot!G1278=\"\",\"\",Pivot!G1278)","v":""},null,{"$f":"IF(Pivot!H1278=\"\",\"\",Pivot!H1278)","v":""},null,{"$f":"IF(Pivot!J1278=\"\",\"\",Pivot!J1278)","v":""},{"$f":"IF(Pivot!I1278=\"\",\"\",Pivot!I1278)","v":""},null,null,null,null,null,null,"","",{"$error":"#VALUE!"},null,"","",""]
[{"$f":"IF(Pivot!G1279=\"\",\"\",Pivot!G1279)","v":""},null,{"$f":"IF(Pivot!H1279=\"\",\"\",Pivot!H1279)","v":""},null,{"$f":"IF(Pivot!J1279=\"\",\"\",Pivot!J1279)","v":""},{"$f":"IF(Pivot!I1279=\"\",\"\",Pivot!I1279)","v":""},null,null,null,null,null,null,"","",{"$error":"#VALUE!"},null,"","",""]
[{"$f":"IF(Pivot!G1280=\"\",\"\",Pivot!G1280)","v":""},null,{"$f":"IF(Pivot!H1280=\"\",\"\",Pivot!H1280)","v":""},null,{"$f":"IF(Pivot!J1280=\"\",\"\",Pivot!J1280)","v":""},{"$f":"IF(Pivot!I1280=\"\",\"\",Pivot!I1280)","v":""},null,null,null,null,null,null,"","",{"$error":"#VALUE!"},null,"","",""]
[{"$f":"IF(Pivot!G1281=\"\",\"\",Pivot!G1281)","v":""},null,{"$f":"IF(Pivot!H1281=\"\",\"\",Pivot!H1281)","v":""},null,{"$f":"IF(Pivot!J1281=\"\",\"\",Pivot!J1281)","v":""},{"$f":"IF(Pivot!I1281=\"\",\"\",Pivot!I1281)","v":""},null,null,null,null,null,null,"","",{"$error":"#VALUE!"},null,"","",""]
[{"$f":"IF(Pivot!G1282=\"\",\"\",Pivot!G1282)","v":""},null,{"$f":"IF(Pivot!H1282=\"\",\"\",Pivot!H1282)","v":""},null,{"$f":"IF(Pivot!J1282=\"\",\"\",Pivot!J1282)","v":""},{"$f":"IF(Pivot!I1282=\"\",\"\",Pivot!I1282)","v":""},null,null,null,null,null,null,"","",{"$error":"#VALUE!"},null,"","",""]
[{"$f":"IF(Pivot!G1283=\"\",\"\",Pivot!G1283)","v":""},null,{"$f":"IF(Pivot!H1283=\"\",\"\",Pivot!H1283)","v":""},null,{"$f":"IF(Pivot!J1283=\"\",\"\",Pivot!J1283)","v":""},{"$f":"IF(Pivot!I1283=\"\",\"\",Pivot!I1283)","v":""},null,null,null,null,null,null,"","",{"$error":"#VALUE!"},null,"","",""]
[{"$f":"IF(Pivot!G1284=\"\",\"\",Pivot!G1284)","v":""},null,{"$f":"IF(Pivot!H1284=\"\",\"\",Pivot!H1284)","v":""},null,{"$f":"IF(Pivot!J1284=\"\",\"\",Pivot!J1284)","v":""},{"$f":"IF(Pivot!I1284=\"\",\"\",Pivot!I1284)","v":""},null,null,null,null,null,null,"","",{"$f":"N1287/M1287","v":{"$error":"#VALUE!"}},null,"","",""]
[{"$f":"IF(Pivot!G1285=\"\",\"\",Pivot!G1285)","v":""},null,{"$f":"IF(Pivot!H1285=\"\",\"\",Pivot!H1285)","v":""},null,{"$f":"IF(Pivot!J1285=\"\",\"\",Pivot!J1285)","v":""},{"$f":"IF(Pivot!I1285=\"\",\"\",Pivot!I1285)","v":""},null,null,null,null,null,null,{"$f":"IF(C1288=\"\",\"\",C1288*L1288)","v":""},{"$f":"IF(F1288=\"\",\"\",M1288-F1288)","v":""},{"$error":"#VALUE!"},null,{"$f":"IF(C1288=\"\",\"\",C1288*P1288)","v":""},{"$f":"IF(F1288=\"\",\"\",Q1288-F1288)","v":""},{"$f":"IF(F1288=\"\",\"\",R1288/F1288)","v":""}]
[{"$f":"IF(Pivot!G1286=\"\",\"\",Pivot!G1286)","v":""},null,{"$f":"IF(Pivot!H1286=\"\",\"\",Pivot!H1286)","v":""},null,{"$f":"IF(Pivot!J1286=\"\",\"\",Pivot!J1286)","v":""},{"$f":"IF(Pivot!I1286=\"\",\"\",Pivot!I1286)","v":""},null,null,null,null,null,null,"","",{"$error":"#VALUE!"},null,"","",""]
[{"$f":"IF(Pivot!G1287=\"\",\"\",Pivot!G1287)","v":""},null,{"$f":"IF(Pivot!H1287=\"\",\"\",Pivot!H1287)","v":""},null,{"$f":"IF(Pivot!J1287=\"\",\"\",Pivot!J1287)","v":""},{"$f":"IF(Pivot!I1287=\"\",\"\",Pivot!I1287)","v":""},null,null,null,null,null,null,"","",{"$error":"#VALUE!"},null,"","",""]
[{"$f":"IF(Pivot!G1288=\"\",\"\",Pivot!G1288)","v":""},null,{"$f":"IF(Pivot!H1288=\"\",\"\",Pivot!H1288)","v":""},null,{"$f":"IF(Pivot!J1288=\"\",\"\",Pivot!J1288)","v":""},{"$f":"IF(Pivot!I1288=\"\",\"\",Pivot!I1288)","v":""},null,null,null,null,null,null,"","",{"$error":"#VALUE!"},null,"","",""]
[{"$f":"IF(Pivot!G1289=\"\",\"\",Pivot!G1289)","v":""},null,{"$f":"IF(Pivot!H1289=\"\",\"\",Pivot!H1289)","v":""},null,{"$f":"IF(Pivot!J1289=\"\",\"\",Pivot!J1289)","v":""},{"$f":"IF(Pivot!I1289=\"\",\"\",Pivot!I1289)","v":""},null,null,null,null,null,null,"","",{"$error":"#VALUE!"},null,"","",""]
[{"$f":"IF(Pivot!G1290=\"\",\"\",Pivot!G1290)","v":""},null,{"$f":"IF(Pivot!H1290=\"\",\"\",Pivot!H1290)","v":""},null,{"$f":"IF(Pivot!J1290=\"\",\"\",Pivot!J1290)","v":""},{"$f":"IF(Pivot!I1290=\"\",\"\",Pivot!I1290)","v":""},null,null,null,null,null,null,"","",{"$error":"#VALUE!"},null,"","",""]
[{"$f":"IF(Pivot!G1291=\"\",\"\",Pivot!G1291)","v":""},null,{"$f":"IF(Pivot!H1291=\"\",\"\",Pivot!H1291)","v":""},null,{"$f":"IF(Pivot!J1291=\"\",\"\",Pivot!J1291)","v":""},{"$f":"IF(Pivot!I1291=\"\",\"\",Pivot!I1291)","v":""},null,null,null,null,null,null,"","",{"$error":"#VALUE!"},null,"","",""]
[{"$f":"IF(Pivot!G1292=\"\",\"\",Pivot!G1292)","v":""},null,{"$f":"IF(Pivot!H1292=\"\",\"\",Pivot!H1292)","v":""},null,{"$f":"IF(Pivot!J1292=\"\",\"\",Pivot!J1292)","v":""},{"$f":"IF(Pivot!I1292=\"\",\"\",Pivot!I1292)","v":""},null,null,null,null,null,null,"","",{"$error":"#VALUE!"},null,"","",""]
[{"$f":"IF(Pivot!G1293=\"\",\"\",Pivot!G1293)","v":""},null,{"$f":"IF(Pivot!H1293=\"\",\"\",Pivot!H1293)","v":""},null,{"$f":"IF(Pivot!J1293=\"\",\"\",Pivot!J1293)","v":""},{"$f":"IF(Pivot!I1293=\"\",\"\",Pivot!I1293)","v":""},null,null,null,null,null,null,"","",{"$error":"#VALUE!"},null,"","",""]
[{"$f":"IF(Pivot!G1294=\"\",\"\",Pivot!G1294)","v":""},null,{"$f":"IF(Pivot!H1294=\"\",\"\",Pivot!H1294)","v":""},null,{"$f":"IF(Pivot!J1294=\"\",\"\",Pivot!J1294)","v":""},{"$f":"IF(Pivot!I1294=\"\",\"\",Pivot!I1294)","v":""},null,null,null,null,null,null,"","",{"$error":"#VALUE!"},null,"","",""]
[{"$f":"IF(Pivot!G1295=\"\",\"\",Pivot!G1295)","v":""},null,{"$f":"IF(Pivot!H1295=\"\",\"\",Pivot!H1295)","v":""},null,{"$f":"IF(Pivot!J1295=\"\",\"\",Pivot!J1295)","v":""},{"$f":"IF(Pivot!I1295=\"\",\"\",Pivot!I1295)","v":""},null,null,null,null,null,null,"","",{"$error":"#VALUE!"},null,"","",""]
[{"$f":"IF(Pivot!G1296=\"\",\"\",Pivot!G1296)","v":""},null,{"$f":"IF(Pivot!H1296=\"\",\"\",Pivot!H1296)","v":""},null,{"$f":"IF(Pivot!J1296=\"\",\"\",Pivot!J1296)","v":""},{"$f":"IF(Pivot!I1296=\"\",\"\",Pivot!I1296)","v":""},null,null,null,null,null,null,"","",{"$error":"#VALUE!"},null,"","",""]
[{"$f":"IF(Pivot!G1297=\"\",\"\",Pivot!G1297)","v":""},null,{"$f":"IF(Pivot!H1297=\"\",\"\",Pivot!H1297)","v":""},null,{"$f":"IF(Pivot!J1297=\"\",\"\",Pivot!J1297)","v":""},{"$f":"IF(Pivot!I1297=\"\",\"\",Pivot!I1297)","v":""},null,null,null,null,null,null,"","",{"$error":"#VALUE!"},null,"","",""]
[{"$f":"IF(Pivot!G1298=\"\",\"\",Pivot!G1298)","v":""},null,{"$f":"IF(Pivot!H1298=\"\",\"\",Pivot!H1298)","v":""},null,{"$f":"IF(Pivot!J1298=\"\",\"\",Pivot!J1298)","v":""},{"$f":"IF(Pivot!I1298=\"\",\"\",Pivot!I1298)","v":""},null,null,null,null,null,null,"","",{"$error":"#VALUE!"},null,"","",""]
[{"$f":"IF(Pivot!G1299=\"\",\"\",Pivot!G1299)","v":""},null,{"$f":"IF(Pivot!H1299=\"\",\"\",Pivot!H1299)","v":""},null,{"$f":"IF(Pivot!J1299=\"\",\"\",Pivot!J1299)","v":""},{"$f":"IF(Pivot!I1299=\"\",\"\",Pivot!I1299)","v":""},null,null,null,null,null,null,"","",{"$error":"#VALUE!"},null,"","",""]
[{"$f":"IF(Pivot!G1300=\"\",\"\",Pivot!G1300)","v":""},null,{"$f":"IF(Pivot!H1300=\"\",\"\",Pivot!H1300)","v":""},null,{"$f":"IF(Pivot!J1300=\"\",\"\",Pivot!J1300)","v":""},{"$f":"IF(Pivot!I1300=\"\",\"\",Pivot!I1300)","v":""},null,null,null,null,null,null,"","",{"$error":"#VALUE!"},null,"","",""]
[{"$f":"IF(Pivot!G1301=\"\",\"\",Pivot!G1301)","v":""},null,{"$f":"IF(Pivot!H1301=\"\",\"\",Pivot!H1301)","v":""},null,{"$f":"IF(Pivot!J1301=\"\",\"\",Pivot!J1301)","v":""},{"$f":"IF(Pivot!I1301=\"\",\"\",Pivot!I1301)","v":""},null,null,null,null,null,null,"","",{"$error":"#VALUE!"},null,"","",""]
[{"$f":"IF(Pivot!G1302=\"\",\"\",Pivot!G1302)","v":""},null,{"$f":"IF(Pivot!H1302=\"\",\"\",Pivot!H1302)","v":""},null,{"$f":"IF(Pivot!J1302=\"\",\"\",Pivot!J1302)","v":""},{"$f":"IF(Pivot!I1302=\"\",\"\",Pivot!I1302)","v":""},null,null,null,null,null,null,"","",{"$error":"#VALUE!"},null,"","",""]
[{"$f":"IF(Pivot!G1303=\"\",\"\",Pivot!G1303)","v":""},null,{"$f":"IF(Pivot!H1303=\"\",\"\",Pivot!H1303)","v":""},null,{"$f":"IF(Pivot!J1303=\"\",\"\",Pivot!J1303)","v":""},{"$f":"IF(Pivot!I1303=\"\",\"\",Pivot!I1303)","v":""},null,null,null,null,null,null,"","",{"$error":"#VALUE!"},null,"","",""]
[{"$f":"IF(Pivot!G1304=\"\",\"\",Pivot!G1304)","v":""},null,{"$f":"IF(Pivot!H1304=\"\",\"\",Pivot!H1304)","v":""},null,{"$f":"IF(Pivot!J1304=\"\",\"\",Pivot!J1304)","v":""},{"$f":"IF(Pivot!I1304=\"\",\"\",Pivot!I1304)","v":""},null,null,null,null,null,null,"","",{"$error":"#VALUE!"},null,"","",""]
[{"$f":"IF(Pivot!G1305=\"\",\"\",Pivot!G1305)","v":""},null,{"$f":"IF(Pivot!H1305=\"\",\"\",Pivot!H1305)","v":""},null,{"$f":"IF(Pivot!J1305=\"\",\"\",Pivot!J1305)","v":""},{"$f":"IF(Pivot!I1305=\"\",\"\",Pivot!I1305)","v":""},null,null,null,null,null,null,"","",{"$error":"#VALUE!"},null,"","",""]
[{"$f":"IF(Pivot!G1306=\"\",\"\",Pivot!G1306)","v":""},null,{"$f":"IF(Pivot!H1306=\"\",\"\",Pivot!H1306)","v":""},null,{"$f":"IF(Pivot!J1306=\"\",\"\",Pivot!J1306)","v":""},{"$f":"IF(Pivot!I1306=\"\",\"\",Pivot!I1306)","v":""},null,null,null,null,null,null,"","",{"$error":"#VALUE!"},null,"","",""]
[{"$f":"IF(Pivot!G1307=\"\",\"\",Pivot!G1307)","v":""},null,{"$f":"IF(Pivot!H1307=\"\",\"\",Pivot!H1307)","v":""},null,{"$f":"IF(Pivot!J1307=\"\",\"\",Pivot!J1307)","v":""},{"$f":"IF(Pivot!I1307=\"\",\"\",Pivot!I1307)","v":""},null,null,null,null,null,null,"","",{"$error":"#VALUE!"},null,"","",""]
[{"$f":"IF(Pivot!G1308=\"\",\"\",Pivot!G1308)","v":""},null,{"$f":"IF(Pivot!H1308=\"\",\"\",Pivot!H1308)","v":""},null,{"$f":"IF(Pivot!J1308=\"\",\"\",Pivot!J1308)","v":""},{"$f":"IF(Pivot!I1308=\"\",\"\",Pivot!I1308)","v":""},null,null,null,null,null,null,"","",{"$error":"#VALUE!"},null,"","",""]
[{"$f":"IF(Pivot!G1309=\"\",\"\",Pivot!G1309)","v":""},null,{"$f":"IF(Pivot!H1309=\"\",\"\",Pivot!H1309)","v":""},null,{"$f":"IF(Pivot!J1309=\"\",\"\",Pivot!J1309)","v":""},{"$f":"IF(Pivot!I1309=\"\",\"\",Pivot!I1309)","v":""},null,null,null,null,null,null,"","",{"$error":"#VALUE!"},null,"","",""]
[{"$f":"IF(Pivot!G1310=\"\",\"\",Pivot!G1310)","v":""},null,{"$f":"IF(Pivot!H1310=\"\",\"\",Pivot!H1310)","v":""},null,{"$f":"IF(Pivot!J1310=\"\",\"\",Pivot!J1310)","v":""},{"$f":"IF(Pivot!I1310=\"\",\"\",Pivot!I1310)","v":""},null,null,null,null,null,null,"","",{"$error":"#VALUE!"},null,"","",""]
[{"$f":"IF(Pivot!G1311=\"\",\"\",Pivot!G1311)","v":""},null,{"$f":"IF(Pivot!H1311=\"\",\"\",Pivot!H1311)","v":""},null,{"$f":"IF(Pivot!J1311=\"\",\"\",Pivot!J1311)","v":""},{"$f":"IF(Pivot!I1311=\"\",\"\",Pivot!I1311)","v":""},null,null,null,null,null,null,"","",{"$error":"#VALUE!"},null,"","",""]
[{"$f":"IF(Pivot!G1312=\"\",\"\",Pivot!G1312)","v":""},null,{"$f":"IF(Pivot!H1312=\"\",\"\",Pivot!H1312)","v":""},null,{"$f":"IF(Pivot!J1312=\"\",\"\",Pivot!J1312)","v":""},{"$f":"IF(Pivot!I1312=\"\",\"\",Pivot!I1312)","v":""},null,null,null,null,null,null,"","",{"$error":"#VALUE!"},null,"","",""]
[{"$f":"IF(Pivot!G1313=\"\",\"\",Pivot!G1313)","v":""},null,{"$f":"IF(Pivot!H1313=\"\",\"\",Pivot!H1313)","v":""},null,{"$f":"IF(Pivot!J1313=\"\",\"\",Pivot!J1313)","v":""},{"$f":"IF(Pivot!I1313=\"\",\"\",Pivot!I1313)","v":""},null,null,null,null,null,null,"","",{"$error":"#VALUE!"},null,"","",""]
[{"$f":"IF(Pivot!G1314=\"\",\"\",Pivot!G1314)","v":""},null,{"$f":"IF(Pivot!H1314=\"\",\"\",Pivot!H1314)","v":""},null,{"$f":"IF(Pivot!J1314=\"\",\"\",Pivot!J1314)","v":""},{"$f":"IF(Pivot!I1314=\"\",\"\",Pivot!I1314)","v":""},null,null,null,null,null,null,"","",{"$error":"#VALUE!"},null,"","",""]
[{"$f":"IF(Pivot!G1315=\"\",\"\",Pivot!G1315)","v":""},null,{"$f":"IF(Pivot!H1315=\"\",\"\",Pivot!H1315)","v":""},null,{"$f":"IF(Pivot!J1315=\"\",\"\",Pivot!J1315)","v":""},{"$f":"IF(Pivot!I1315=\"\",\"\",Pivot!I1315)","v":""},null,null,null,null,null,null,"","",{"$error":"#VALUE!"},null,"","",""]
[{"$f":"IF(Pivot!G1316=\"\",\"\",Pivot!G1316)","v":""},null,{"$f":"IF(Pivot!H1316=\"\",\"\",Pivot!H1316)","v":""},null,{"$f":"IF(Pivot!J1316=\"\",\"\",Pivot!J1316)","v":""},{"$f":"IF(Pivot!I1316=\"\",\"\",Pivot!I1316)","v":""},null,null,null,null,null,null,"","",{"$error":"#VALUE!"},null,"","",""]
[{"$f":"IF(Pivot!G1317=\"\",\"\",Pivot!G1317)","v":""},null,{"$f":"IF(Pivot!H1317=\"\",\"\",Pivot!H1317)","v":""},null,{"$f":"IF(Pivot!J1317=\"\",\"\",Pivot!J1317)","v":""},{"$f":"IF(Pivot!I1317=\"\",\"\",Pivot!I1317)","v":""},null,null,null,null,null,null,"","",{"$error":"#VALUE!"},null,"","",""]
[{"$f":"IF(Pivot!G1318=\"\",\"\",Pivot!G1318)","v":""},null,{"$f":"IF(Pivot!H1318=\"\",\"\",Pivot!H1318)","v":""},null,{"$f":"IF(Pivot!J1318=\"\",\"\",Pivot!J1318)","v":""},{"$f":"IF(Pivot!I1318=\"\",\"\",Pivot!I1318)","v":""},null,null,null,null,null,null,"","",{"$error":"#VALUE!"},null,"","",""]
[{"$f":"IF(Pivot!G1319=\"\",\"\",Pivot!G1319)","v":""},null,{"$f":"IF(Pivot!H1319=\"\",\"\",Pivot!H1319)","v":""},null,{"$f":"IF(Pivot!J1319=\"\",\"\",Pivot!J1319)","v":""},{"$f":"IF(Pivot!I1319=\"\",\"\",Pivot!I1319)","v":""},null,null,null,null,null,null,"","",{"$error":"#VALUE!"},null,"","",""]
[{"$f":"IF(Pivot!G1320=\"\",\"\",Pivot!G1320)","v":""},null,{"$f":"IF(Pivot!H1320=\"\",\"\",Pivot!H1320)","v":""},null,{"$f":"IF(Pivot!J1320=\"\",\"\",Pivot!J1320)","v":""},{"$f":"IF(Pivot!I1320=\"\",\"\",Pivot!I1320)","v":""},null,null,null,null,null,null,"","",{"$error":"#VALUE!"},null,"","",""]
[{"$f":"IF(Pivot!G1321=\"\",\"\",Pivot!G1321)","v":""},null,{"$f":"IF(Pivot!H1321=\"\",\"\",Pivot!H1321)","v":""},null,{"$f":"IF(Pivot!J1321=\"\",\"\",Pivot!J1321)","v":""},{"$f":"IF(Pivot!I1321=\"\",\"\",Pivot!I1321)","v":""},null,null,null,null,null,null,"","",{"$error":"#VALUE!"},null,"","",""]
[{"$f":"IF(Pivot!G1322=\"\",\"\",Pivot!G1322)","v":""},null,{"$f":"IF(Pivot!H1322=\"\",\"\",Pivot!H1322)","v":""},null,{"$f":"IF(Pivot!J1322=\"\",\"\",Pivot!J1322)","v":""},{"$f":"IF(Pivot!I1322=\"\",\"\",Pivot!I1322)","v":""},null,null,null,null,null,null,"","",{"$error":"#VALUE!"},null,"","",""]
[{"$f":"IF(Pivot!G1323=\"\",\"\",Pivot!G1323)","v":""},null,{"$f":"IF(Pivot!H1323=\"\",\"\",Pivot!H1323)","v":""},null,{"$f":"IF(Pivot!J1323=\"\",\"\",Pivot!J1323)","v":""},{"$f":"IF(Pivot!I1323=\"\",\"\",Pivot!I1323)","v":""},null,null,null,null,null,null,"","",{"$error":"#VALUE!"},null,"","",""]
[{"$f":"IF(Pivot!G1324=\"\",\"\",Pivot!G1324)","v":""},null,{"$f":"IF(Pivot!H1324=\"\",\"\",Pivot!H1324)","v":""},null,{"$f":"IF(Pivot!J1324=\"\",\"\",Pivot!J1324)","v":""},{"$f":"IF(Pivot!I1324=\"\",\"\",Pivot!I1324)","v":""},null,null,null,null,null,null,"","",{"$error":"#VALUE!"},null,"","",""]
[{"$f":"IF(Pivot!G1325=\"\",\"\",Pivot!G1325)","v":""},null,{"$f":"IF(Pivot!H1325=\"\",\"\",Pivot!H1325)","v":""},null,{"$f":"IF(Pivot!J1325=\"\",\"\",Pivot!J1325)","v":""},{"$f":"IF(Pivot!I1325=\"\",\"\",Pivot!I1325)","v":""},null,null,null,null,null,null,"","",{"$error":"#VALUE!"},null,"","",""]
[{"$f":"IF(Pivot!G1326=\"\",\"\",Pivot!G1326)","v":""},null,{"$f":"IF(Pivot!H1326=\"\",\"\",Pivot!H1326)","v":""},null,{"$f":"IF(Pivot!J1326=\"\",\"\",Pivot!J1326)","v":""},{"$f":"IF(Pivot!I1326=\"\",\"\",Pivot!I1326)","v":""},null,null,null,null,null,null,"","",{"$error":"#VALUE!"},null,"","",""]
[{"$f":"IF(Pivot!G1327=\"\",\"\",Pivot!G1327)","v":""},null,{"$f":"IF(Pivot!H1327=\"\",\"\",Pivot!H1327)","v":""},null,{"$f":"IF(Pivot!J1327=\"\",\"\",Pivot!J1327)","v":""},{"$f":"IF(Pivot!I1327=\"\",\"\",Pivot!I1327)","v":""},null,null,null,null,null,null,"","",{"$error":"#VALUE!"},null,"","",""]
[{"$f":"IF(Pivot!G1328=\"\",\"\",Pivot!G1328)","v":""},null,{"$f":"IF(Pivot!H1328=\"\",\"\",Pivot!H1328)","v":""},null,{"$f":"IF(Pivot!J1328=\"\",\"\",Pivot!J1328)","v":""},{"$f":"IF(Pivot!I1328=\"\",\"\",Pivot!I1328)","v":""},null,null,null,null,null,null,"","",{"$error":"#VALUE!"},null,"","",""]
[{"$f":"IF(Pivot!G1329=\"\",\"\",Pivot!G1329)","v":""},null,{"$f":"IF(Pivot!H1329=\"\",\"\",Pivot!H1329)","v":""},null,{"$f":"IF(Pivot!J1329=\"\",\"\",Pivot!J1329)","v":""},{"$f":"IF(Pivot!I1329=\"\",\"\",Pivot!I1329)","v":""},null,null,null,null,null,null,"","",{"$error":"#VALUE!"},null,"","",""]
[{"$f":"IF(Pivot!G1330=\"\",\"\",Pivot!G1330)","v":""},null,{"$f":"IF(Pivot!H1330=\"\",\"\",Pivot!H1330)","v":""},null,{"$f":"IF(Pivot!J1330=\"\",\"\",Pivot!J1330)","v":""},{"$f":"IF(Pivot!I1330=\"\",\"\",Pivot!I1330)","v":""},null,null,null,null,null,null,"","",{"$error":"#VALUE!"},null,"","",""]
[{"$f":"IF(Pivot!G1331=\"\",\"\",Pivot!G1331)","v":""},null,{"$f":"IF(Pivot!H1331=\"\",\"\",Pivot!H1331)","v":""},null,{"$f":"IF(Pivot!J1331=\"\",\"\",Pivot!J1331)","v":""},{"$f":"IF(Pivot!I1331=\"\",\"\",Pivot!I1331)","v":""},null,null,null,null,null,null,"","",{"$error":"#VALUE!"},null,"","",""]
[{"$f":"IF(Pivot!G1332=\"\",\"\",Pivot!G1332)","v":""},null,{"$f":"IF(Pivot!H1332=\"\",\"\",Pivot!H1332)","v":""},null,{"$f":"IF(Pivot!J1332=\"\",\"\",Pivot!J1332)","v":""},{"$f":"IF(Pivot!I1332=\"\",\"\",Pivot!I1332)","v":""},null,null,null,null,null,null,"","",{"$error":"#VALUE!"},null,"","",""]
[{"$f":"IF(Pivot!G1333=\"\",\"\",Pivot!G1333)","v":""},null,{"$f":"IF(Pivot!H1333=\"\",\"\",Pivot!H1333)","v":""},null,{"$f":"IF(Pivot!J1333=\"\",\"\",Pivot!J1333)","v":""},{"$f":"IF(Pivot!I1333=\"\",\"\",Pivot!I1333)","v":""},null,null,null,null,null,null,"","",{"$error":"#VALUE!"},null,"","",""]
[{"$f":"IF(Pivot!G1334=\"\",\"\",Pivot!G1334)","v":""},null,{"$f":"IF(Pivot!H1334=\"\",\"\",Pivot!H1334)","v":""},null,{"$f":"IF(Pivot!J1334=\"\",\"\",Pivot!J1334)","v":""},{"$f":"IF(Pivot!I1334=\"\",\"\",Pivot!I1334)","v":""},null,null,null,null,null,null,"","",{"$error":"#VALUE!"},null,"","",""]
[{"$f":"IF(Pivot!G1335=\"\",\"\",Pivot!G1335)","v":""},null,{"$f":"IF(Pivot!H1335=\"\",\"\",Pivot!H1335)","v":""},null,{"$f":"IF(Pivot!J1335=\"\",\"\",Pivot!J1335)","v":""},{"$f":"IF(Pivot!I1335=\"\",\"\",Pivot!I1335)","v":""},null,null,null,null,null,null,"","",{"$error":"#VALUE!"},null,"","",""]
[{"$f":"IF(Pivot!G1336=\"\",\"\",Pivot!G1336)","v":""},null,{"$f":"IF(Pivot!H1336=\"\",\"\",Pivot!H1336)","v":""},null,{"$f":"IF(Pivot!J1336=\"\",\"\",Pivot!J1336)","v":""},{"$f":"IF(Pivot!I1336=\"\",\"\",Pivot!I1336)","v":""},null,null,null,null,null,null,"","",{"$error":"#VALUE!"},null,"","",""]
[{"$f":"IF(Pivot!G1337=\"\",\"\",Pivot!G1337)","v":""},null,{"$f":"IF(Pivot!H1337=\"\",\"\",Pivot!H1337)","v":""},null,{"$f":"IF(Pivot!J1337=\"\",\"\",Pivot!J1337)","v":""},{"$f":"IF(Pivot!I1337=\"\",\"\",Pivot!I1337)","v":""},null,null,null,null,null,null,"","",{"$error":"#VALUE!"},null,"","",""]
[{"$f":"IF(Pivot!G1338=\"\",\"\",Pivot!G1338)","v":""},null,{"$f":"IF(Pivot!H1338=\"\",\"\",Pivot!H1338)","v":""},null,{"$f":"IF(Pivot!J1338=\"\",\"\",Pivot!J1338)","v":""},{"$f":"IF(Pivot!I1338=\"\",\"\",Pivot!I1338)","v":""},null,null,null,null,null,null,"","",{"$error":"#VALUE!"},null,"","",""]
[{"$f":"IF(Pivot!G1339=\"\",\"\",Pivot!G1339)","v":""},null,{"$f":"IF(Pivot!H1339=\"\",\"\",Pivot!H1339)","v":""},null,{"$f":"IF(Pivot!J1339=\"\",\"\",Pivot!J1339)","v":""},{"$f":"IF(Pivot!I1339=\"\",\"\",Pivot!I1339)","v":""},null,null,null,null,null,null,"","",{"$error":"#VALUE!"},null,"","",""]
[{"$f":"IF(Pivot!G1340=\"\",\"\",Pivot!G1340)","v":""},null,{"$f":"IF(Pivot!H1340=\"\",\"\",Pivot!H1340)","v":""},null,{"$f":"IF(Pivot!J1340=\"\",\"\",Pivot!J1340)","v":""},{"$f":"IF(Pivot!I1340=\"\",\"\",Pivot!I1340)","v":""},null,null,null,null,null,null,"","",{"$error":"#VALUE!"},null,"","",""]
[{"$f":"IF(Pivot!G1341=\"\",\"\",Pivot!G1341)","v":""},null,{"$f":"IF(Pivot!H1341=\"\",\"\",Pivot!H1341)","v":""},null,{"$f":"IF(Pivot!J1341=\"\",\"\",Pivot!J1341)","v":""},{"$f":"IF(Pivot!I1341=\"\",\"\",Pivot!I1341)","v":""},null,null,null,null,null,null,"","",{"$error":"#VALUE!"},null,"","",""]
[{"$f":"IF(Pivot!G1342=\"\",\"\",Pivot!G1342)","v":""},null,{"$f":"IF(Pivot!H1342=\"\",\"\",Pivot!H1342)","v":""},null,{"$f":"IF(Pivot!J1342=\"\",\"\",Pivot!J1342)","v":""},{"$f":"IF(Pivot!I1342=\"\",\"\",Pivot!I1342)","v":""},null,null,null,null,null,null,"","",{"$error":"#VALUE!"},null,"","",""]
[{"$f":"IF(Pivot!G1343=\"\",\"\",Pivot!G1343)","v":""},null,{"$f":"IF(Pivot!H1343=\"\",\"\",Pivot!H1343)","v":""},null,{"$f":"IF(Pivot!J1343=\"\",\"\",Pivot!J1343)","v":""},{"$f":"IF(Pivot!I1343=\"\",\"\",Pivot!I1343)","v":""},null,null,null,null,null,null,"","",{"$error":"#VALUE!"},null,"","",""]
[{"$f":"IF(Pivot!G1344=\"\",\"\",Pivot!G1344)","v":""},null,{"$f":"IF(Pivot!H1344=\"\",\"\",Pivot!H1344)","v":""},null,{"$f":"IF(Pivot!J1344=\"\",\"\",Pivot!J1344)","v":""},{"$f":"IF(Pivot!I1344=\"\",\"\",Pivot!I1344)","v":""},null,null,null,null,null,null,"","",{"$error":"#VALUE!"},null,"","",""]
[{"$f":"IF(Pivot!G1345=\"\",\"\",Pivot!G1345)","v":""},null,{"$f":"IF(Pivot!H1345=\"\",\"\",Pivot!H1345)","v":""},null,{"$f":"IF(Pivot!J1345=\"\",\"\",Pivot!J1345)","v":""},{"$f":"IF(Pivot!I1345=\"\",\"\",Pivot!I1345)","v":""},null,null,null,null,null,null,"","",{"$error":"#VALUE!"},null,"","",""]
[{"$f":"IF(Pivot!G1346=\"\",\"\",Pivot!G1346)","v":""},null,{"$f":"IF(Pivot!H1346=\"\",\"\",Pivot!H1346)","v":""},null,{"$f":"IF(Pivot!J1346=\"\",\"\",Pivot!J1346)","v":""},{"$f":"IF(Pivot!I1346=\"\",\"\",Pivot!I1346)","v":""},null,null,null,null,null,null,"","",{"$error":"#VALUE!"},null,"","",""]
[{"$f":"IF(Pivot!G1347=\"\",\"\",Pivot!G1347)","v":""},null,{"$f":"IF(Pivot!H1347=\"\",\"\",Pivot!H1347)","v":""},null,{"$f":"IF(Pivot!J1347=\"\",\"\",Pivot!J1347)","v":""},{"$f":"IF(Pivot!I1347=\"\",\"\",Pivot!I1347)","v":""},null,null,null,null,null,null,"","",{"$error":"#VALUE!"},null,"","",""]
[{"$f":"IF(Pivot!G1348=\"\",\"\",Pivot!G1348)","v":""},null,{"$f":"IF(Pivot!H1348=\"\",\"\",Pivot!H1348)","v":""},null,{"$f":"IF(Pivot!J1348=\"\",\"\",Pivot!J1348)","v":""},{"$f":"IF(Pivot!I1348=\"\",\"\",Pivot!I1348)","v":""},null,null,null,null,null,null,"","",{"$f":"N1351/M1351","v":{"$error":"#VALUE!"}},null,"","",""]
[{"$f":"IF(Pivot!G1349=\"\",\"\",Pivot!G1349)","v":""},null,{"$f":"IF(Pivot!H1349=\"\",\"\",Pivot!H1349)","v":""},null,{"$f":"IF(Pivot!J1349=\"\",\"\",Pivot!J1349)","v":""},{"$f":"IF(Pivot!I1349=\"\",\"\",Pivot!I1349)","v":""},null,null,null,null,null,null,{"$f":"IF(C1352=\"\",\"\",C1352*L1352)","v":""},{"$f":"IF(F1352=\"\",\"\",M1352-F1352)","v":""},{"$error":"#VALUE!"},null,{"$f":"IF(C1352=\"\",\"\",C1352*P1352)","v":""},{"$f":"IF(F1352=\"\",\"\",Q1352-F1352)","v":""},{"$f":"IF(F1352=\"\",\"\",R1352/F1352)","v":""}]
[{"$f":"IF(Pivot!G1350=\"\",\"\",Pivot!G1350)","v":""},null,{"$f":"IF(Pivot!H1350=\"\",\"\",Pivot!H1350)","v":""},null,{"$f":"IF(Pivot!J1350=\"\",\"\",Pivot!J1350)","v":""},{"$f":"IF(Pivot!I1350=\"\",\"\",Pivot!I1350)","v":""},null,null,null,null,null,null,"","",{"$error":"#VALUE!"},null,"","",""]
[{"$f":"IF(Pivot!G1351=\"\",\"\",Pivot!G1351)","v":""},null,{"$f":"IF(Pivot!H1351=\"\",\"\",Pivot!H1351)","v":""},null,{"$f":"IF(Pivot!J1351=\"\",\"\",Pivot!J1351)","v":""},{"$f":"IF(Pivot!I1351=\"\",\"\",Pivot!I1351)","v":""},null,null,null,null,null,null,"","",{"$error":"#VALUE!"},null,"","",""]
[{"$f":"IF(Pivot!G1352=\"\",\"\",Pivot!G1352)","v":""},null,{"$f":"IF(Pivot!H1352=\"\",\"\",Pivot!H1352)","v":""},null,{"$f":"IF(Pivot!J1352=\"\",\"\",Pivot!J1352)","v":""},{"$f":"IF(Pivot!I1352=\"\",\"\",Pivot!I1352)","v":""},null,null,null,null,null,null,"","",{"$error":"#VALUE!"},null,"","",""]
[{"$f":"IF(Pivot!G1353=\"\",\"\",Pivot!G1353)","v":""},null,{"$f":"IF(Pivot!H1353=\"\",\"\",Pivot!H1353)","v":""},null,{"$f":"IF(Pivot!J1353=\"\",\"\",Pivot!J1353)","v":""},{"$f":"IF(Pivot!I1353=\"\",\"\",Pivot!I1353)","v":""},null,null,null,null,null,null,"","",{"$error":"#VALUE!"},null,"","",""]
[{"$f":"IF(Pivot!G1354=\"\",\"\",Pivot!G1354)","v":""},null,{"$f":"IF(Pivot!H1354=\"\",\"\",Pivot!H1354)","v":""},null,{"$f":"IF(Pivot!J1354=\"\",\"\",Pivot!J1354)","v":""},{"$f":"IF(Pivot!I1354=\"\",\"\",Pivot!I1354)","v":""},null,null,null,null,null,null,"","",{"$error":"#VALUE!"},null,"","",""]
[{"$f":"IF(Pivot!G1355=\"\",\"\",Pivot!G1355)","v":""},null,{"$f":"IF(Pivot!H1355=\"\",\"\",Pivot!H1355)","v":""},null,{"$f":"IF(Pivot!J1355=\"\",\"\",Pivot!J1355)","v":""},{"$f":"IF(Pivot!I1355=\"\",\"\",Pivot!I1355)","v":""},null,null,null,null,null,null,"","",{"$error":"#VALUE!"},null,"","",""]
[{"$f":"IF(Pivot!G1356=\"\",\"\",Pivot!G1356)","v":""},null,{"$f":"IF(Pivot!H1356=\"\",\"\",Pivot!H1356)","v":""},null,{"$f":"IF(Pivot!J1356=\"\",\"\",Pivot!J1356)","v":""},{"$f":"IF(Pivot!I1356=\"\",\"\",Pivot!I1356)","v":""},null,null,null,null,null,null,"","",{"$error":"#VALUE!"},null,"","",""]
[{"$f":"IF(Pivot!G1357=\"\",\"\",Pivot!G1357)","v":""},null,{"$f":"IF(Pivot!H1357=\"\",\"\",Pivot!H1357)","v":""},null,{"$f":"IF(Pivot!J1357=\"\",\"\",Pivot!J1357)","v":""},{"$f":"IF(Pivot!I1357=\"\",\"\",Pivot!I1357)","v":""},null,null,null,null,null,null,"","",{"$error":"#VALUE!"},null,"","",""]
[{"$f":"IF(Pivot!G1358=\"\",\"\",Pivot!G1358)","v":""},null,{"$f":"IF(Pivot!H1358=\"\",\"\",Pivot!H1358)","v":""},null,{"$f":"IF(Pivot!J1358=\"\",\"\",Pivot!J1358)","v":""},{"$f":"IF(Pivot!I1358=\"\",\"\",Pivot!I1358)","v":""},null,null,null,null,null,null,"","",{"$error":"#VALUE!"},null,"","",""]
[{"$f":"IF(Pivot!G1359=\"\",\"\",Pivot!G1359)","v":""},null,{"$f":"IF(Pivot!H1359=\"\",\"\",Pivot!H1359)","v":""},null,{"$f":"IF(Pivot!J1359=\"\",\"\",Pivot!J1359)","v":""},{"$f":"IF(Pivot!I1359=\"\",\"\",Pivot!I1359)","v":""},null,null,null,null,null,null,"","",{"$error":"#VALUE!"},null,"","",""]
[{"$f":"IF(Pivot!G1360=\"\",\"\",Pivot!G1360)","v":""},null,{"$f":"IF(Pivot!H1360=\"\",\"\",Pivot!H1360)","v":""},null,{"$f":"IF(Pivot!J1360=\"\",\"\",Pivot!J1360)","v":""},{"$f":"IF(Pivot!I1360=\"\",\"\",Pivot!I1360)","v":""},null,null,null,null,null,null,"","",{"$error":"#VALUE!"},null,"","",""]
[{"$f":"IF(Pivot!G1361=\"\",\"\",Pivot!G1361)","v":""},null,{"$f":"IF(Pivot!H1361=\"\",\"\",Pivot!H1361)","v":""},null,{"$f":"IF(Pivot!J1361=\"\",\"\",Pivot!J1361)","v":""},{"$f":"IF(Pivot!I1361=\"\",\"\",Pivot!I1361)","v":""},null,null,null,null,null,null,"","",{"$error":"#VALUE!"},null,"","",""]
[{"$f":"IF(Pivot!G1362=\"\",\"\",Pivot!G1362)","v":""},null,{"$f":"IF(Pivot!H1362=\"\",\"\",Pivot!H1362)","v":""},null,{"$f":"IF(Pivot!J1362=\"\",\"\",Pivot!J1362)","v":""},{"$f":"IF(Pivot!I1362=\"\",\"\",Pivot!I1362)","v":""},null,null,null,null,null,null,"","",{"$error":"#VALUE!"},null,"","",""]
[{"$f":"IF(Pivot!G1363=\"\",\"\",Pivot!G1363)","v":""},null,{"$f":"IF(Pivot!H1363=\"\",\"\",Pivot!H1363)","v":""},null,{"$f":"IF(Pivot!J1363=\"\",\"\",Pivot!J1363)","v":""},{"$f":"IF(Pivot!I1363=\"\",\"\",Pivot!I1363)","v":""},null,null,null,null,null,null,"","",{"$error":"#VALUE!"},null,"","",""]
[{"$f":"IF(Pivot!G1364=\"\",\"\",Pivot!G1364)","v":""},null,{"$f":"IF(Pivot!H1364=\"\",\"\",Pivot!H1364)","v":""},null,{"$f":"IF(Pivot!J1364=\"\",\"\",Pivot!J1364)","v":""},{"$f":"IF(Pivot!I1364=\"\",\"\",Pivot!I1364)","v":""},null,null,null,null,null,null,"","",{"$error":"#VALUE!"},null,"","",""]
[{"$f":"IF(Pivot!G1365=\"\",\"\",Pivot!G1365)","v":""},null,{"$f":"IF(Pivot!H1365=\"\",\"\",Pivot!H1365)","v":""},null,{"$f":"IF(Pivot!J1365=\"\",\"\",Pivot!J1365)","v":""},{"$f":"IF(Pivot!I1365=\"\",\"\",Pivot!I1365)","v":""},null,null,null,null,null,null,"","",{"$error":"#VALUE!"},null,"","",""]
[{"$f":"IF(Pivot!G1366=\"\",\"\",Pivot!G1366)","v":""},null,{"$f":"IF(Pivot!H1366=\"\",\"\",Pivot!H1366)","v":""},null,{"$f":"IF(Pivot!J1366=\"\",\"\",Pivot!J1366)","v":""},{"$f":"IF(Pivot!I1366=\"\",\"\",Pivot!I1366)","v":""},null,null,null,null,null,null,"","",{"$error":"#VALUE!"},null,"","",""]
[{"$f":"IF(Pivot!G1367=\"\",\"\",Pivot!G1367)","v":""},null,{"$f":"IF(Pivot!H1367=\"\",\"\",Pivot!H1367)","v":""},null,{"$f":"IF(Pivot!J1367=\"\",\"\",Pivot!J1367)","v":""},{"$f":"IF(Pivot!I1367=\"\",\"\",Pivot!I1367)","v":""},null,null,null,null,null,null,"","",{"$error":"#VALUE!"},null,"","",""]
[{"$f":"IF(Pivot!G1368=\"\",\"\",Pivot!G1368)","v":""},null,{"$f":"IF(Pivot!H1368=\"\",\"\",Pivot!H1368)","v":""},null,{"$f":"IF(Pivot!J1368=\"\",\"\",Pivot!J1368)","v":""},{"$f":"IF(Pivot!I1368=\"\",\"\",Pivot!I1368)","v":""},null,null,null,null,null,null,"","",{"$error":"#VALUE!"},null,"","",""]
[{"$f":"IF(Pivot!G1369=\"\",\"\",Pivot!G1369)","v":""},null,{"$f":"IF(Pivot!H1369=\"\",\"\",Pivot!H1369)","v":""},null,{"$f":"IF(Pivot!J1369=\"\",\"\",Pivot!J1369)","v":""},{"$f":"IF(Pivot!I1369=\"\",\"\",Pivot!I1369)","v":""},null,null,null,null,null,null,"","",{"$error":"#VALUE!"},null,"","",""]
[{"$f":"IF(Pivot!G1370=\"\",\"\",Pivot!G1370)","v":""},null,{"$f":"IF(Pivot!H1370=\"\",\"\",Pivot!H1370)","v":""},null,{"$f":"IF(Pivot!J1370=\"\",\"\",Pivot!J1370)","v":""},{"$f":"IF(Pivot!I1370=\"\",\"\",Pivot!I1370)","v":""},null,null,null,null,null,null,"","",{"$error":"#VALUE!"},null,"","",""]
[{"$f":"IF(Pivot!G1371=\"\",\"\",Pivot!G1371)","v":""},null,{"$f":"IF(Pivot!H1371=\"\",\"\",Pivot!H1371)","v":""},null,{"$f":"IF(Pivot!J1371=\"\",\"\",Pivot!J1371)","v":""},{"$f":"IF(Pivot!I1371=\"\",\"\",Pivot!I1371)","v":""},null,null,null,null,null,null,"","",{"$error":"#VALUE!"},null,"","",""]
[{"$f":"IF(Pivot!G1372=\"\",\"\",Pivot!G1372)","v":""},null,{"$f":"IF(Pivot!H1372=\"\",\"\",Pivot!H1372)","v":""},null,{"$f":"IF(Pivot!J1372=\"\",\"\",Pivot!J1372)","v":""},{"$f":"IF(Pivot!I1372=\"\",\"\",Pivot!I1372)","v":""},null,null,null,null,null,null,"","",{"$error":"#VALUE!"},null,"","",""]
[{"$f":"IF(Pivot!G1373=\"\",\"\",Pivot!G1373)","v":""},null,{"$f":"IF(Pivot!H1373=\"\",\"\",Pivot!H1373)","v":""},null,{"$f":"IF(Pivot!J1373=\"\",\"\",Pivot!J1373)","v":""},{"$f":"IF(Pivot!I1373=\"\",\"\",Pivot!I1373)","v":""},null,null,null,null,null,null,"","",{"$error":"#VALUE!"},null,"","",""]
[{"$f":"IF(Pivot!G1374=\"\",\"\",Pivot!G1374)","v":""},null,{"$f":"IF(Pivot!H1374=\"\",\"\",Pivot!H1374)","v":""},null,{"$f":"IF(Pivot!J1374=\"\",\"\",Pivot!J1374)","v":""},{"$f":"IF(Pivot!I1374=\"\",\"\",Pivot!I1374)","v":""},null,null,null,null,null,null,"","",{"$error":"#VALUE!"},null,"","",""]
[{"$f":"IF(Pivot!G1375=\"\",\"\",Pivot!G1375)","v":""},null,{"$f":"IF(Pivot!H1375=\"\",\"\",Pivot!H1375)","v":""},null,{"$f":"IF(Pivot!J1375=\"\",\"\",Pivot!J1375)","v":""},{"$f":"IF(Pivot!I1375=\"\",\"\",Pivot!I1375)","v":""},null,null,null,null,null,null,"","",{"$error":"#VALUE!"},null,"","",""]
[{"$f":"IF(Pivot!G1376=\"\",\"\",Pivot!G1376)","v":""},null,{"$f":"IF(Pivot!H1376=\"\",\"\",Pivot!H1376)","v":""},null,{"$f":"IF(Pivot!J1376=\"\",\"\",Pivot!J1376)","v":""},{"$f":"IF(Pivot!I1376=\"\",\"\",Pivot!I1376)","v":""},null,null,null,null,null,null,"","",{"$error":"#VALUE!"},null,"","",""]
[{"$f":"IF(Pivot!G1377=\"\",\"\",Pivot!G1377)","v":""},null,{"$f":"IF(Pivot!H1377=\"\",\"\",Pivot!H1377)","v":""},null,{"$f":"IF(Pivot!J1377=\"\",\"\",Pivot!J1377)","v":""},{"$f":"IF(Pivot!I1377=\"\",\"\",Pivot!I1377)","v":""},null,null,null,null,null,null,"","",{"$error":"#VALUE!"},null,"","",""]
[{"$f":"IF(Pivot!G1378=\"\",\"\",Pivot!G1378)","v":""},null,{"$f":"IF(Pivot!H1378=\"\",\"\",Pivot!H1378)","v":""},null,{"$f":"IF(Pivot!J1378=\"\",\"\",Pivot!J1378)","v":""},{"$f":"IF(Pivot!I1378=\"\",\"\",Pivot!I1378)","v":""},null,null,null,null,null,null,"","",{"$error":"#VALUE!"},null,"","",""]
[{"$f":"IF(Pivot!G1379=\"\",\"\",Pivot!G1379)","v":""},null,{"$f":"IF(Pivot!H1379=\"\",\"\",Pivot!H1379)","v":""},null,{"$f":"IF(Pivot!J1379=\"\",\"\",Pivot!J1379)","v":""},{"$f":"IF(Pivot!I1379=\"\",\"\",Pivot!I1379)","v":""},null,null,null,null,null,null,"","",{"$error":"#VALUE!"},null,"","",""]
[{"$f":"IF(Pivot!G1380=\"\",\"\",Pivot!G1380)","v":""},null,{"$f":"IF(Pivot!H1380=\"\",\"\",Pivot!H1380)","v":""},null,{"$f":"IF(Pivot!J1380=\"\",\"\",Pivot!J1380)","v":""},{"$f":"IF(Pivot!I1380=\"\",\"\",Pivot!I1380)","v":""},null,null,null,null,null,null,"","",{"$error":"#VALUE!"},null,"","",""]
[{"$f":"IF(Pivot!G1381=\"\",\"\",Pivot!G1381)","v":""},null,{"$f":"IF(Pivot!H1381=\"\",\"\",Pivot!H1381)","v":""},null,{"$f":"IF(Pivot!J1381=\"\",\"\",Pivot!J1381)","v":""},{"$f":"IF(Pivot!I1381=\"\",\"\",Pivot!I1381)","v":""},null,null,null,null,null,null,"","",{"$error":"#VALUE!"},null,"","",""]
[{"$f":"IF(Pivot!G1382=\"\",\"\",Pivot!G1382)","v":""},null,{"$f":"IF(Pivot!H1382=\"\",\"\",Pivot!H1382)","v":""},null,{"$f":"IF(Pivot!J1382=\"\",\"\",Pivot!J1382)","v":""},{"$f":"IF(Pivot!I1382=\"\",\"\",Pivot!I1382)","v":""},null,null,null,null,null,null,"","",{"$error":"#VALUE!"},null,"","",""]
[{"$f":"IF(Pivot!G1383=\"\",\"\",Pivot!G1383)","v":""},null,{"$f":"IF(Pivot!H1383=\"\",\"\",Pivot!H1383)","v":""},null,{"$f":"IF(Pivot!J1383=\"\",\"\",Pivot!J1383)","v":""},{"$f":"IF(Pivot!I1383=\"\",\"\",Pivot!I1383)","v":""},null,null,null,null,null,null,"","",{"$error":"#VALUE!"},null,"","",""]
[{"$f":"IF(Pivot!G1384=\"\",\"\",Pivot!G1384)","v":""},null,{"$f":"IF(Pivot!H1384=\"\",\"\",Pivot!H1384)","v":""},null,{"$f":"IF(Pivot!J1384=\"\",\"\",Pivot!J1384)","v":""},{"$f":"IF(Pivot!I1384=\"\",\"\",Pivot!I1384)","v":""},null,null,null,null,null,null,"","",{"$error":"#VALUE!"},null,"","",""]
[{"$f":"IF(Pivot!G1385=\"\",\"\",Pivot!G1385)","v":""},null,{"$f":"IF(Pivot!H1385=\"\",\"\",Pivot!H1385)","v":""},null,{"$f":"IF(Pivot!J1385=\"\",\"\",Pivot!J1385)","v":""},{"$f":"IF(Pivot!I1385=\"\",\"\",Pivot!I1385)","v":""},null,null,null,null,null,null,"","",{"$error":"#VALUE!"},null,"","",""]
[{"$f":"IF(Pivot!G1386=\"\",\"\",Pivot!G1386)","v":""},null,{"$f":"IF(Pivot!H1386=\"\",\"\",Pivot!H1386)","v":""},null,{"$f":"IF(Pivot!J1386=\"\",\"\",Pivot!J1386)","v":""},{"$f":"IF(Pivot!I1386=\"\",\"\",Pivot!I1386)","v":""},null,null,null,null,null,null,"","",{"$error":"#VALUE!"},null,"","",""]
[{"$f":"IF(Pivot!G1387=\"\",\"\",Pivot!G1387)","v":""},null,{"$f":"IF(Pivot!H1387=\"\",\"\",Pivot!H1387)","v":""},null,{"$f":"IF(Pivot!J1387=\"\",\"\",Pivot!J1387)","v":""},{"$f":"IF(Pivot!I1387=\"\",\"\",Pivot!I1387)","v":""},null,null,null,null,null,null,"","",{"$error":"#VALUE!"},null,"","",""]
[{"$f":"IF(Pivot!G1388=\"\",\"\",Pivot!G1388)","v":""},null,{"$f":"IF(Pivot!H1388=\"\",\"\",Pivot!H1388)","v":""},null,{"$f":"IF(Pivot!J1388=\"\",\"\",Pivot!J1388)","v":""},{"$f":"IF(Pivot!I1388=\"\",\"\",Pivot!I1388)","v":""},null,null,null,null,null,null,"","",{"$error":"#VALUE!"},null,"","",""]
[{"$f":"IF(Pivot!G1389=\"\",\"\",Pivot!G1389)","v":""},null,{"$f":"IF(Pivot!H1389=\"\",\"\",Pivot!H1389)","v":""},null,{"$f":"IF(Pivot!J1389=\"\",\"\",Pivot!J1389)","v":""},{"$f":"IF(Pivot!I1389=\"\",\"\",Pivot!I1389)","v":""},null,null,null,null,null,null,"","",{"$error":"#VALUE!"},null,"","",""]
[{"$f":"IF(Pivot!G1390=\"\",\"\",Pivot!G1390)","v":""},null,{"$f":"IF(Pivot!H1390=\"\",\"\",Pivot!H1390)","v":""},null,{"$f":"IF(Pivot!J1390=\"\",\"\",Pivot!J1390)","v":""},{"$f":"IF(Pivot!I1390=\"\",\"\",Pivot!I1390)","v":""},null,null,null,null,null,null,"","",{"$error":"#VALUE!"},null,"","",""]
[{"$f":"IF(Pivot!G1391=\"\",\"\",Pivot!G1391)","v":""},null,{"$f":"IF(Pivot!H1391=\"\",\"\",Pivot!H1391)","v":""},null,{"$f":"IF(Pivot!J1391=\"\",\"\",Pivot!J1391)","v":""},{"$f":"IF(Pivot!I1391=\"\",\"\",Pivot!I1391)","v":""},null,null,null,null,null,null,"","",{"$error":"#VALUE!"},null,"","",""]
[{"$f":"IF(Pivot!G1392=\"\",\"\",Pivot!G1392)","v":""},null,{"$f":"IF(Pivot!H1392=\"\",\"\",Pivot!H1392)","v":""},null,{"$f":"IF(Pivot!J1392=\"\",\"\",Pivot!J1392)","v":""},{"$f":"IF(Pivot!I1392=\"\",\"\",Pivot!I1392)","v":""},null,null,null,null,null,null,"","",{"$error":"#VALUE!"},null,"","",""]
[{"$f":"IF(Pivot!G1393=\"\",\"\",Pivot!G1393)","v":""},null,{"$f":"IF(Pivot!H1393=\"\",\"\",Pivot!H1393)","v":""},null,{"$f":"IF(Pivot!J1393=\"\",\"\",Pivot!J1393)","v":""},{"$f":"IF(Pivot!I1393=\"\",\"\",Pivot!I1393)","v":""},null,null,null,null,null,null,"","",{"$error":"#VALUE!"},null,"","",""]
[{"$f":"IF(Pivot!G1394=\"\",\"\",Pivot!G1394)","v":""},null,{"$f":"IF(Pivot!H1394=\"\",\"\",Pivot!H1394)","v":""},null,{"$f":"IF(Pivot!J1394=\"\",\"\",Pivot!J1394)","v":""},{"$f":"IF(Pivot!I1394=\"\",\"\",Pivot!I1394)","v":""},null,null,null,null,null,null,"","",{"$error":"#VALUE!"},null,"","",""]
[{"$f":"IF(Pivot!G1395=\"\",\"\",Pivot!G1395)","v":""},null,{"$f":"IF(Pivot!H1395=\"\",\"\",Pivot!H1395)","v":""},null,{"$f":"IF(Pivot!J1395=\"\",\"\",Pivot!J1395)","v":""},{"$f":"IF(Pivot!I1395=\"\",\"\",Pivot!I1395)","v":""},null,null,null,null,null,null,"","",{"$error":"#VALUE!"},null,"","",""]
[{"$f":"IF(Pivot!G1396=\"\",\"\",Pivot!G1396)","v":""},null,{"$f":"IF(Pivot!H1396=\"\",\"\",Pivot!H1396)","v":""},null,{"$f":"IF(Pivot!J1396=\"\",\"\",Pivot!J1396)","v":""},{"$f":"IF(Pivot!I1396=\"\",\"\",Pivot!I1396)","v":""},null,null,null,null,null,null,"","",{"$error":"#VALUE!"},null,"","",""]
[{"$f":"IF(Pivot!G1397=\"\",\"\",Pivot!G1397)","v":""},null,{"$f":"IF(Pivot!H1397=\"\",\"\",Pivot!H1397)","v":""},null,{"$f":"IF(Pivot!J1397=\"\",\"\",Pivot!J1397)","v":""},{"$f":"IF(Pivot!I1397=\"\",\"\",Pivot!I1397)","v":""},null,null,null,null,null,null,"","",{"$error":"#VALUE!"},null,"","",""]
[{"$f":"IF(Pivot!G1398=\"\",\"\",Pivot!G1398)","v":""},null,{"$f":"IF(Pivot!H1398=\"\",\"\",Pivot!H1398)","v":""},null,{"$f":"IF(Pivot!J1398=\"\",\"\",Pivot!J1398)","v":""},{"$f":"IF(Pivot!I1398=\"\",\"\",Pivot!I1398)","v":""},null,null,null,null,null,null,"","",{"$error":"#VALUE!"},null,"","",""]
[{"$f":"IF(Pivot!G1399=\"\",\"\",Pivot!G1399)","v":""},null,{"$f":"IF(Pivot!H1399=\"\",\"\",Pivot!H1399)","v":""},null,{"$f":"IF(Pivot!J1399=\"\",\"\",Pivot!J1399)","v":""},{"$f":"IF(Pivot!I1399=\"\",\"\",Pivot!I1399)","v":""},null,null,null,null,null,null,"","",{"$error":"#VALUE!"},null,"","",""]
[{"$f":"IF(Pivot!G1400=\"\",\"\",Pivot!G1400)","v":""},null,{"$f":"IF(Pivot!H1400=\"\",\"\",Pivot!H1400)","v":""},null,{"$f":"IF(Pivot!J1400=\"\",\"\",Pivot!J1400)","v":""},{"$f":"IF(Pivot!I1400=\"\",\"\",Pivot!I1400)","v":""},null,null,null,null,null,null,"","",{"$error":"#VALUE!"},null,"","",""]
[{"$f":"IF(Pivot!G1401=\"\",\"\",Pivot!G1401)","v":""},null,{"$f":"IF(Pivot!H1401=\"\",\"\",Pivot!H1401)","v":""},null,{"$f":"IF(Pivot!J1401=\"\",\"\",Pivot!J1401)","v":""},{"$f":"IF(Pivot!I1401=\"\",\"\",Pivot!I1401)","v":""},null,null,null,null,null,null,"","",{"$error":"#VALUE!"},null,"","",""]
[{"$f":"IF(Pivot!G1402=\"\",\"\",Pivot!G1402)","v":""},null,{"$f":"IF(Pivot!H1402=\"\",\"\",Pivot!H1402)","v":""},null,{"$f":"IF(Pivot!J1402=\"\",\"\",Pivot!J1402)","v":""},{"$f":"IF(Pivot!I1402=\"\",\"\",Pivot!I1402)","v":""},null,null,null,null,null,null,"","",{"$error":"#VALUE!"},null,"","",""]
[{"$f":"IF(Pivot!G1403=\"\",\"\",Pivot!G1403)","v":""},null,{"$f":"IF(Pivot!H1403=\"\",\"\",Pivot!H1403)","v":""},null,{"$f":"IF(Pivot!J1403=\"\",\"\",Pivot!J1403)","v":""},{"$f":"IF(Pivot!I1403=\"\",\"\",Pivot!I1403)","v":""},null,null,null,null,null,null,"","",{"$error":"#VALUE!"},null,"","",""]
[{"$f":"IF(Pivot!G1404=\"\",\"\",Pivot!G1404)","v":""},null,{"$f":"IF(Pivot!H1404=\"\",\"\",Pivot!H1404)","v":""},null,{"$f":"IF(Pivot!J1404=\"\",\"\",Pivot!J1404)","v":""},{"$f":"IF(Pivot!I1404=\"\",\"\",Pivot!I1404)","v":""},null,null,null,null,null,null,"","",{"$error":"#VALUE!"},null,"","",""]
[{"$f":"IF(Pivot!G1405=\"\",\"\",Pivot!G1405)","v":""},null,{"$f":"IF(Pivot!H1405=\"\",\"\",Pivot!H1405)","v":""},null,{"$f":"IF(Pivot!J1405=\"\",\"\",Pivot!J1405)","v":""},{"$f":"IF(Pivot!I1405=\"\",\"\",Pivot!I1405)","v":""},null,null,null,null,null,null,"","",{"$error":"#VALUE!"},null,"","",""]
[{"$f":"IF(Pivot!G1406=\"\",\"\",Pivot!G1406)","v":""},null,{"$f":"IF(Pivot!H1406=\"\",\"\",Pivot!H1406)","v":""},null,{"$f":"IF(Pivot!J1406=\"\",\"\",Pivot!J1406)","v":""},{"$f":"IF(Pivot!I1406=\"\",\"\",Pivot!I1406)","v":""},null,null,null,null,null,null,"","",{"$error":"#VALUE!"},null,"","",""]
[{"$f":"IF(Pivot!G1407=\"\",\"\",Pivot!G1407)","v":""},null,{"$f":"IF(Pivot!H1407=\"\",\"\",Pivot!H1407)","v":""},null,{"$f":"IF(Pivot!J1407=\"\",\"\",Pivot!J1407)","v":""},{"$f":"IF(Pivot!I1407=\"\",\"\",Pivot!I1407)","v":""},null,null,null,null,null,null,"","",{"$error":"#VALUE!"},null,"","",""]
[{"$f":"IF(Pivot!G1408=\"\",\"\",Pivot!G1408)","v":""},null,{"$f":"IF(Pivot!H1408=\"\",\"\",Pivot!H1408)","v":""},null,{"$f":"IF(Pivot!J1408=\"\",\"\",Pivot!J1408)","v":""},{"$f":"IF(Pivot!I1408=\"\",\"\",Pivot!I1408)","v":""},null,null,null,null,null,null,"","",{"$error":"#VALUE!"},null,"","",""]
[{"$f":"IF(Pivot!G1409=\"\",\"\",Pivot!G1409)","v":""},null,{"$f":"IF(Pivot!H1409=\"\",\"\",Pivot!H1409)","v":""},null,{"$f":"IF(Pivot!J1409=\"\",\"\",Pivot!J1409)","v":""},{"$f":"IF(Pivot!I1409=\"\",\"\",Pivot!I1409)","v":""},null,null,null,null,null,null,"","",{"$error":"#VALUE!"},null,"","",""]
[{"$f":"IF(Pivot!G1410=\"\",\"\",Pivot!G1410)","v":""},null,{"$f":"IF(Pivot!H1410=\"\",\"\",Pivot!H1410)","v":""},null,{"$f":"IF(Pivot!J1410=\"\",\"\",Pivot!J1410)","v":""},{"$f":"IF(Pivot!I1410=\"\",\"\",Pivot!I1410)","v":""},null,null,null,null,null,null,"","",{"$error":"#VALUE!"},null,"","",""]
[{"$f":"IF(Pivot!G1411=\"\",\"\",Pivot!G1411)","v":""},null,{"$f":"IF(Pivot!H1411=\"\",\"\",Pivot!H1411)","v":""},null,{"$f":"IF(Pivot!J1411=\"\",\"\",Pivot!J1411)","v":""},{"$f":"IF(Pivot!I1411=\"\",\"\",Pivot!I1411)","v":""},null,null,null,null,null,null,"","",{"$error":"#VALUE!"},null,"","",""]
[{"$f":"IF(Pivot!G1412=\"\",\"\",Pivot!G1412)","v":""},null,{"$f":"IF(Pivot!H1412=\"\",\"\",Pivot!H1412)","v":""},null,{"$f":"IF(Pivot!J1412=\"\",\"\",Pivot!J1412)","v":""},{"$f":"IF(Pivot!I1412=\"\",\"\",Pivot!I1412)","v":""},null,null,null,null,null,null,"","",{"$f":"N1415/M1415","v":{"$error":"#VALUE!"}},null,"","",""]
[{"$f":"IF(Pivot!G1413=\"\",\"\",Pivot!G1413)","v":""},null,{"$f":"IF(Pivot!H1413=\"\",\"\",Pivot!H1413)","v":""},null,{"$f":"IF(Pivot!J1413=\"\",\"\",Pivot!J1413)","v":""},{"$f":"IF(Pivot!I1413=\"\",\"\",Pivot!I1413)","v":""},null,null,null,null,null,null,{"$f":"IF(C1416=\"\",\"\",C1416*L1416)","v":""},{"$f":"IF(F1416=\"\",\"\",M1416-F1416)","v":""},{"$error":"#VALUE!"},null,{"$f":"IF(C1416=\"\",\"\",C1416*P1416)","v":""},{"$f":"IF(F1416=\"\",\"\",Q1416-F1416)","v":""},{"$f":"IF(F1416=\"\",\"\",R1416/F1416)","v":""}]
[{"$f":"IF(Pivot!G1414=\"\",\"\",Pivot!G1414)","v":""},null,{"$f":"IF(Pivot!H1414=\"\",\"\",Pivot!H1414)","v":""},null,{"$f":"IF(Pivot!J1414=\"\",\"\",Pivot!J1414)","v":""},{"$f":"IF(Pivot!I1414=\"\",\"\",Pivot!I1414)","v":""},null,null,null,null,null,null,"","",{"$error":"#VALUE!"},null,"","",""]
[{"$f":"IF(Pivot!G1415=\"\",\"\",Pivot!G1415)","v":""},null,{"$f":"IF(Pivot!H1415=\"\",\"\",Pivot!H1415)","v":""},null,{"$f":"IF(Pivot!J1415=\"\",\"\",Pivot!J1415)","v":""},{"$f":"IF(Pivot!I1415=\"\",\"\",Pivot!I1415)","v":""},null,null,null,null,null,null,"","",{"$error":"#VALUE!"},null,"","",""]
[{"$f":"IF(Pivot!G1416=\"\",\"\",Pivot!G1416)","v":""},null,{"$f":"IF(Pivot!H1416=\"\",\"\",Pivot!H1416)","v":""},null,{"$f":"IF(Pivot!J1416=\"\",\"\",Pivot!J1416)","v":""},{"$f":"IF(Pivot!I1416=\"\",\"\",Pivot!I1416)","v":""},null,null,null,null,null,null,"","",{"$error":"#VALUE!"},null,"","",""]
[{"$f":"IF(Pivot!G1417=\"\",\"\",Pivot!G1417)","v":""},null,{"$f":"IF(Pivot!H1417=\"\",\"\",Pivot!H1417)","v":""},null,{"$f":"IF(Pivot!J1417=\"\",\"\",Pivot!J1417)","v":""},{"$f":"IF(Pivot!I1417=\"\",\"\",Pivot!I1417)","v":""},null,null,null,null,null,null,"","",{"$error":"#VALUE!"},null,"","",""]
[{"$f":"IF(Pivot!G1418=\"\",\"\",Pivot!G1418)","v":""},null,{"$f":"IF(Pivot!H1418=\"\",\"\",Pivot!H1418)","v":""},null,{"$f":"IF(Pivot!J1418=\"\",\"\",Pivot!J1418)","v":""},{"$f":"IF(Pivot!I1418=\"\",\"\",Pivot!I1418)","v":""},null,null,null,null,null,null,"","",{"$error":"#VALUE!"},null,"","",""]
[{"$f":"IF(Pivot!G1419=\"\",\"\",Pivot!G1419)","v":""},null,{"$f":"IF(Pivot!H1419=\"\",\"\",Pivot!H1419)","v":""},null,{"$f":"IF(Pivot!J1419=\"\",\"\",Pivot!J1419)","v":""},{"$f":"IF(Pivot!I1419=\"\",\"\",Pivot!I1419)","v":""},null,null,null,null,null,null,"","",{"$error":"#VALUE!"},null,"","",""]
[{"$f":"IF(Pivot!G1420=\"\",\"\",Pivot!G1420)","v":""},null,{"$f":"IF(Pivot!H1420=\"\",\"\",Pivot!H1420)","v":""},null,{"$f":"IF(Pivot!J1420=\"\",\"\",Pivot!J1420)","v":""},{"$f":"IF(Pivot!I1420=\"\",\"\",Pivot!I1420)","v":""},null,null,null,null,null,null,"","",{"$error":"#VALUE!"},null,"","",""]
[{"$f":"IF(Pivot!G1421=\"\",\"\",Pivot!G1421)","v":""},null,{"$f":"IF(Pivot!H1421=\"\",\"\",Pivot!H1421)","v":""},null,{"$f":"IF(Pivot!J1421=\"\",\"\",Pivot!J1421)","v":""},{"$f":"IF(Pivot!I1421=\"\",\"\",Pivot!I1421)","v":""},null,null,null,null,null,null,"","",{"$error":"#VALUE!"},null,"","",""]
[{"$f":"IF(Pivot!G1422=\"\",\"\",Pivot!G1422)","v":""},null,{"$f":"IF(Pivot!H1422=\"\",\"\",Pivot!H1422)","v":""},null,{"$f":"IF(Pivot!J1422=\"\",\"\",Pivot!J1422)","v":""},{"$f":"IF(Pivot!I1422=\"\",\"\",Pivot!I1422)","v":""},null,null,null,null,null,null,"","",{"$error":"#VALUE!"},null,"","",""]
[{"$f":"IF(Pivot!G1423=\"\",\"\",Pivot!G1423)","v":""},null,{"$f":"IF(Pivot!H1423=\"\",\"\",Pivot!H1423)","v":""},null,{"$f":"IF(Pivot!J1423=\"\",\"\",Pivot!J1423)","v":""},{"$f":"IF(Pivot!I1423=\"\",\"\",Pivot!I1423)","v":""},null,null,null,null,null,null,"","",{"$error":"#VALUE!"},null,"","",""]
[{"$f":"IF(Pivot!G1424=\"\",\"\",Pivot!G1424)","v":""},null,{"$f":"IF(Pivot!H1424=\"\",\"\",Pivot!H1424)","v":""},null,{"$f":"IF(Pivot!J1424=\"\",\"\",Pivot!J1424)","v":""},{"$f":"IF(Pivot!I1424=\"\",\"\",Pivot!I1424)","v":""},null,null,null,null,null,null,"","",{"$error":"#VALUE!"},null,"","",""]
[{"$f":"IF(Pivot!G1425=\"\",\"\",Pivot!G1425)","v":""},null,{"$f":"IF(Pivot!H1425=\"\",\"\",Pivot!H1425)","v":""},null,{"$f":"IF(Pivot!J1425=\"\",\"\",Pivot!J1425)","v":""},{"$f":"IF(Pivot!I1425=\"\",\"\",Pivot!I1425)","v":""},null,null,null,null,null,null,"","",{"$error":"#VALUE!"},null,"","",""]
[{"$f":"IF(Pivot!G1426=\"\",\"\",Pivot!G1426)","v":""},null,{"$f":"IF(Pivot!H1426=\"\",\"\",Pivot!H1426)","v":""},null,{"$f":"IF(Pivot!J1426=\"\",\"\",Pivot!J1426)","v":""},{"$f":"IF(Pivot!I1426=\"\",\"\",Pivot!I1426)","v":""},null,null,null,null,null,null,"","",{"$error":"#VALUE!"},null,"","",""]
[{"$f":"IF(Pivot!G1427=\"\",\"\",Pivot!G1427)","v":""},null,{"$f":"IF(Pivot!H1427=\"\",\"\",Pivot!H1427)","v":""},null,{"$f":"IF(Pivot!J1427=\"\",\"\",Pivot!J1427)","v":""},{"$f":"IF(Pivot!I1427=\"\",\"\",Pivot!I1427)","v":""},null,null,null,null,null,null,"","",{"$error":"#VALUE!"},null,"","",""]
[{"$f":"IF(Pivot!G1428=\"\",\"\",Pivot!G1428)","v":""},null,{"$f":"IF(Pivot!H1428=\"\",\"\",Pivot!H1428)","v":""},null,{"$f":"IF(Pivot!J1428=\"\",\"\",Pivot!J1428)","v":""},{"$f":"IF(Pivot!I1428=\"\",\"\",Pivot!I1428)","v":""},null,null,null,null,null,null,"","",{"$error":"#VALUE!"},null,"","",""]
[{"$f":"IF(Pivot!G1429=\"\",\"\",Pivot!G1429)","v":""},null,{"$f":"IF(Pivot!H1429=\"\",\"\",Pivot!H1429)","v":""},null,{"$f":"IF(Pivot!J1429=\"\",\"\",Pivot!J1429)","v":""},{"$f":"IF(Pivot!I1429=\"\",\"\",Pivot!I1429)","v":""},null,null,null,null,null,null,"","",{"$error":"#VALUE!"},null,"","",""]
[{"$f":"IF(Pivot!G1430=\"\",\"\",Pivot!G1430)","v":""},null,{"$f":"IF(Pivot!H1430=\"\",\"\",Pivot!H1430)","v":""},null,{"$f":"IF(Pivot!J1430=\"\",\"\",Pivot!J1430)","v":""},{"$f":"IF(Pivot!I1430=\"\",\"\",Pivot!I1430)","v":""},null,null,null,null,null,null,"","",{"$error":"#VALUE!"},null,"","",""]
[{"$f":"IF(Pivot!G1431=\"\",\"\",Pivot!G1431)","v":""},null,{"$f":"IF(Pivot!H1431=\"\",\"\",Pivot!H1431)","v":""},null,{"$f":"IF(Pivot!J1431=\"\",\"\",Pivot!J1431)","v":""},{"$f":"IF(Pivot!I1431=\"\",\"\",Pivot!I1431)","v":""},null,null,null,null,null,null,"","",{"$error":"#VALUE!"},null,"","",""]
[{"$f":"IF(Pivot!G1432=\"\",\"\",Pivot!G1432)","v":""},null,{"$f":"IF(Pivot!H1432=\"\",\"\",Pivot!H1432)","v":""},null,{"$f":"IF(Pivot!J1432=\"\",\"\",Pivot!J1432)","v":""},{"$f":"IF(Pivot!I1432=\"\",\"\",Pivot!I1432)","v":""},null,null,null,null,null,null,"","",{"$error":"#VALUE!"},null,"","",""]
[{"$f":"IF(Pivot!G1433=\"\",\"\",Pivot!G1433)","v":""},null,{"$f":"IF(Pivot!H1433=\"\",\"\",Pivot!H1433)","v":""},null,{"$f":"IF(Pivot!J1433=\"\",\"\",Pivot!J1433)","v":""},{"$f":"IF(Pivot!I1433=\"\",\"\",Pivot!I1433)","v":""},null,null,null,null,null,null,"","",{"$error":"#VALUE!"},null,"","",""]
[{"$f":"IF(Pivot!G1434=\"\",\"\",Pivot!G1434)","v":""},null,{"$f":"IF(Pivot!H1434=\"\",\"\",Pivot!H1434)","v":""},null,{"$f":"IF(Pivot!J1434=\"\",\"\",Pivot!J1434)","v":""},{"$f":"IF(Pivot!I1434=\"\",\"\",Pivot!I1434)","v":""},null,null,null,null,null,null,"","",{"$error":"#VALUE!"},null,"","",""]
[{"$f":"IF(Pivot!G1435=\"\",\"\",Pivot!G1435)","v":""},null,{"$f":"IF(Pivot!H1435=\"\",\"\",Pivot!H1435)","v":""},null,{"$f":"IF(Pivot!J1435=\"\",\"\",Pivot!J1435)","v":""},{"$f":"IF(Pivot!I1435=\"\",\"\",Pivot!I1435)","v":""},null,null,null,null,null,null,"","",{"$error":"#VALUE!"},null,"","",""]
[{"$f":"IF(Pivot!G1436=\"\",\"\",Pivot!G1436)","v":""},null,{"$f":"IF(Pivot!H1436=\"\",\"\",Pivot!H1436)","v":""},null,{"$f":"IF(Pivot!J1436=\"\",\"\",Pivot!J1436)","v":""},{"$f":"IF(Pivot!I1436=\"\",\"\",Pivot!I1436)","v":""},null,null,null,null,null,null,"","",{"$error":"#VALUE!"},null,"","",""]
[{"$f":"IF(Pivot!G1437=\"\",\"\",Pivot!G1437)","v":""},null,{"$f":"IF(Pivot!H1437=\"\",\"\",Pivot!H1437)","v":""},null,{"$f":"IF(Pivot!J1437=\"\",\"\",Pivot!J1437)","v":""},{"$f":"IF(Pivot!I1437=\"\",\"\",Pivot!I1437)","v":""},null,null,null,null,null,null,"","",{"$error":"#VALUE!"},null,"","",""]
[{"$f":"IF(Pivot!G1438=\"\",\"\",Pivot!G1438)","v":""},null,{"$f":"IF(Pivot!H1438=\"\",\"\",Pivot!H1438)","v":""},null,{"$f":"IF(Pivot!J1438=\"\",\"\",Pivot!J1438)","v":""},{"$f":"IF(Pivot!I1438=\"\",\"\",Pivot!I1438)","v":""},null,null,null,null,null,null,"","",{"$error":"#VALUE!"},null,"","",""]
[{"$f":"IF(Pivot!G1439=\"\",\"\",Pivot!G1439)","v":""},null,{"$f":"IF(Pivot!H1439=\"\",\"\",Pivot!H1439)","v":""},null,{"$f":"IF(Pivot!J1439=\"\",\"\",Pivot!J1439)","v":""},{"$f":"IF(Pivot!I1439=\"\",\"\",Pivot!I1439)","v":""},null,null,null,null,null,null,"","",{"$error":"#VALUE!"},null,"","",""]
[{"$f":"IF(Pivot!G1440=\"\",\"\",Pivot!G1440)","v":""},null,{"$f":"IF(Pivot!H1440=\"\",\"\",Pivot!H1440)","v":""},null,{"$f":"IF(Pivot!J1440=\"\",\"\",Pivot!J1440)","v":""},{"$f":"IF(Pivot!I1440=\"\",\"\",Pivot!I1440)","v":""},null,null,null,null,null,null,"","",{"$error":"#VALUE!"},null,"","",""]
[{"$f":"IF(Pivot!G1441=\"\",\"\",Pivot!G1441)","v":""},null,{"$f":"IF(Pivot!H1441=\"\",\"\",Pivot!H1441)","v":""},null,{"$f":"IF(Pivot!J1441=\"\",\"\",Pivot!J1441)","v":""},{"$f":"IF(Pivot!I1441=\"\",\"\",Pivot!I1441)","v":""},null,null,null,null,null,null,"","",{"$error":"#VALUE!"},null,"","",""]
[{"$f":"IF(Pivot!G1442=\"\",\"\",Pivot!G1442)","v":""},null,{"$f":"IF(Pivot!H1442=\"\",\"\",Pivot!H1442)","v":""},null,{"$f":"IF(Pivot!J1442=\"\",\"\",Pivot!J1442)","v":""},{"$f":"IF(Pivot!I1442=\"\",\"\",Pivot!I1442)","v":""},null,null,null,null,null,null,"","",{"$error":"#VALUE!"},null,"","",""]
[{"$f":"IF(Pivot!G1443=\"\",\"\",Pivot!G1443)","v":""},null,{"$f":"IF(Pivot!H1443=\"\",\"\",Pivot!H1443)","v":""},null,{"$f":"IF(Pivot!J1443=\"\",\"\",Pivot!J1443)","v":""},{"$f":"IF(Pivot!I1443=\"\",\"\",Pivot!I1443)","v":""},null,null,null,null,null,null,"","",{"$error":"#VALUE!"},null,"","",""]
[{"$f":"IF(Pivot!G1444=\"\",\"\",Pivot!G1444)","v":""},null,{"$f":"IF(Pivot!H1444=\"\",\"\",Pivot!H1444)","v":""},null,{"$f":"IF(Pivot!J1444=\"\",\"\",Pivot!J1444)","v":""},{"$f":"IF(Pivot!I1444=\"\",\"\",Pivot!I1444)","v":""},null,null,null,null,null,null,"","",{"$error":"#VALUE!"},null,"","",""]
[{"$f":"IF(Pivot!G1445=\"\",\"\",Pivot!G1445)","v":""},null,{"$f":"IF(Pivot!H1445=\"\",\"\",Pivot!H1445)","v":""},null,{"$f":"IF(Pivot!J1445=\"\",\"\",Pivot!J1445)","v":""},{"$f":"IF(Pivot!I1445=\"\",\"\",Pivot!I1445)","v":""},null,null,null,null,null,null,"","",{"$error":"#VALUE!"},null,"","",""]
[{"$f":"IF(Pivot!G1446=\"\",\"\",Pivot!G1446)","v":""},null,{"$f":"IF(Pivot!H1446=\"\",\"\",Pivot!H1446)","v":""},null,{"$f":"IF(Pivot!J1446=\"\",\"\",Pivot!J1446)","v":""},{"$f":"IF(Pivot!I1446=\"\",\"\",Pivot!I1446)","v":""},null,null,null,null,null,null,"","",{"$error":"#VALUE!"},null,"","",""]
[{"$f":"IF(Pivot!G1447=\"\",\"\",Pivot!G1447)","v":""},null,{"$f":"IF(Pivot!H1447=\"\",\"\",Pivot!H1447)","v":""},null,{"$f":"IF(Pivot!J1447=\"\",\"\",Pivot!J1447)","v":""},{"$f":"IF(Pivot!I1447=\"\",\"\",Pivot!I1447)","v":""},null,null,null,null,null,null,"","",{"$error":"#VALUE!"},null,"","",""]
[{"$f":"IF(Pivot!G1448=\"\",\"\",Pivot!G1448)","v":""},null,{"$f":"IF(Pivot!H1448=\"\",\"\",Pivot!H1448)","v":""},null,{"$f":"IF(Pivot!J1448=\"\",\"\",Pivot!J1448)","v":""},{"$f":"IF(Pivot!I1448=\"\",\"\",Pivot!I1448)","v":""},null,null,null,null,null,null,"","",{"$error":"#VALUE!"},null,"","",""]
[{"$f":"IF(Pivot!G1449=\"\",\"\",Pivot!G1449)","v":""},null,{"$f":"IF(Pivot!H1449=\"\",\"\",Pivot!H1449)","v":""},null,{"$f":"IF(Pivot!J1449=\"\",\"\",Pivot!J1449)","v":""},{"$f":"IF(Pivot!I1449=\"\",\"\",Pivot!I1449)","v":""},null,null,null,null,null,null,"","",{"$error":"#VALUE!"},null,"","",""]
[{"$f":"IF(Pivot!G1450=\"\",\"\",Pivot!G1450)","v":""},null,{"$f":"IF(Pivot!H1450=\"\",\"\",Pivot!H1450)","v":""},null,{"$f":"IF(Pivot!J1450=\"\",\"\",Pivot!J1450)","v":""},{"$f":"IF(Pivot!I1450=\"\",\"\",Pivot!I1450)","v":""},null,null,null,null,null,null,"","",{"$error":"#VALUE!"},null,"","",""]
[{"$f":"IF(Pivot!G1451=\"\",\"\",Pivot!G1451)","v":""},null,{"$f":"IF(Pivot!H1451=\"\",\"\",Pivot!H1451)","v":""},null,{"$f":"IF(Pivot!J1451=\"\",\"\",Pivot!J1451)","v":""},{"$f":"IF(Pivot!I1451=\"\",\"\",Pivot!I1451)","v":""},null,null,null,null,null,null,"","",{"$error":"#VALUE!"},null,"","",""]
[{"$f":"IF(Pivot!G1452=\"\",\"\",Pivot!G1452)","v":""},null,{"$f":"IF(Pivot!H1452=\"\",\"\",Pivot!H1452)","v":""},null,{"$f":"IF(Pivot!J1452=\"\",\"\",Pivot!J1452)","v":""},{"$f":"IF(Pivot!I1452=\"\",\"\",Pivot!I1452)","v":""},null,null,null,null,null,null,"","",{"$error":"#VALUE!"},null,"","",""]
[{"$f":"IF(Pivot!G1453=\"\",\"\",Pivot!G1453)","v":""},null,{"$f":"IF(Pivot!H1453=\"\",\"\",Pivot!H1453)","v":""},null,{"$f":"IF(Pivot!J1453=\"\",\"\",Pivot!J1453)","v":""},{"$f":"IF(Pivot!I1453=\"\",\"\",Pivot!I1453)","v":""},null,null,null,null,null,null,"","",{"$error":"#VALUE!"},null,"","",""]
[{"$f":"IF(Pivot!G1454=\"\",\"\",Pivot!G1454)","v":""},null,{"$f":"IF(Pivot!H1454=\"\",\"\",Pivot!H1454)","v":""},null,{"$f":"IF(Pivot!J1454=\"\",\"\",Pivot!J1454)","v":""},{"$f":"IF(Pivot!I1454=\"\",\"\",Pivot!I1454)","v":""},null,null,null,null,null,null,"","",{"$error":"#VALUE!"},null,"","",""]
[{"$f":"IF(Pivot!G1455=\"\",\"\",Pivot!G1455)","v":""},null,{"$f":"IF(Pivot!H1455=\"\",\"\",Pivot!H1455)","v":""},null,{"$f":"IF(Pivot!J1455=\"\",\"\",Pivot!J1455)","v":""},{"$f":"IF(Pivot!I1455=\"\",\"\",Pivot!I1455)","v":""},null,null,null,null,null,null,"","",{"$error":"#VALUE!"},null,"","",""]
[{"$f":"IF(Pivot!G1456=\"\",\"\",Pivot!G1456)","v":""},null,{"$f":"IF(Pivot!H1456=\"\",\"\",Pivot!H1456)","v":""},null,{"$f":"IF(Pivot!J1456=\"\",\"\",Pivot!J1456)","v":""},{"$f":"IF(Pivot!I1456=\"\",\"\",Pivot!I1456)","v":""},null,null,null,null,null,null,"","",{"$error":"#VALUE!"},null,"","",""]
[{"$f":"IF(Pivot!G1457=\"\",\"\",Pivot!G1457)","v":""},null,{"$f":"IF(Pivot!H1457=\"\",\"\",Pivot!H1457)","v":""},null,{"$f":"IF(Pivot!J1457=\"\",\"\",Pivot!J1457)","v":""},{"$f":"IF(Pivot!I1457=\"\",\"\",Pivot!I1457)","v":""},null,null,null,null,null,null,"","",{"$error":"#VALUE!"},null,"","",""]
[{"$f":"IF(Pivot!G1458=\"\",\"\",Pivot!G1458)","v":""},null,{"$f":"IF(Pivot!H1458=\"\",\"\",Pivot!H1458)","v":""},null,{"$f":"IF(Pivot!J1458=\"\",\"\",Pivot!J1458)","v":""},{"$f":"IF(Pivot!I1458=\"\",\"\",Pivot!I1458)","v":""},null,null,null,null,null,null,"","",{"$error":"#VALUE!"},null,"","",""]
[{"$f":"IF(Pivot!G1459=\"\",\"\",Pivot!G1459)","v":""},null,{"$f":"IF(Pivot!H1459=\"\",\"\",Pivot!H1459)","v":""},null,{"$f":"IF(Pivot!J1459=\"\",\"\",Pivot!J1459)","v":""},{"$f":"IF(Pivot!I1459=\"\",\"\",Pivot!I1459)","v":""},null,null,null,null,null,null,"","",{"$error":"#VALUE!"},null,"","",""]
[{"$f":"IF(Pivot!G1460=\"\",\"\",Pivot!G1460)","v":""},null,{"$f":"IF(Pivot!H1460=\"\",\"\",Pivot!H1460)","v":""},null,{"$f":"IF(Pivot!J1460=\"\",\"\",Pivot!J1460)","v":""},{"$f":"IF(Pivot!I1460=\"\",\"\",Pivot!I1460)","v":""},null,null,null,null,null,null,"","",{"$error":"#VALUE!"},null,"","",""]
[{"$f":"IF(Pivot!G1461=\"\",\"\",Pivot!G1461)","v":""},null,{"$f":"IF(Pivot!H1461=\"\",\"\",Pivot!H1461)","v":""},null,{"$f":"IF(Pivot!J1461=\"\",\"\",Pivot!J1461)","v":""},{"$f":"IF(Pivot!I1461=\"\",\"\",Pivot!I1461)","v":""},null,null,null,null,null,null,"","",{"$error":"#VALUE!"},null,"","",""]
[{"$f":"IF(Pivot!G1462=\"\",\"\",Pivot!G1462)","v":""},null,{"$f":"IF(Pivot!H1462=\"\",\"\",Pivot!H1462)","v":""},null,{"$f":"IF(Pivot!J1462=\"\",\"\",Pivot!J1462)","v":""},{"$f":"IF(Pivot!I1462=\"\",\"\",Pivot!I1462)","v":""},null,null,null,null,null,null,"","",{"$error":"#VALUE!"},null,"","",""]
[{"$f":"IF(Pivot!G1463=\"\",\"\",Pivot!G1463)","v":""},null,{"$f":"IF(Pivot!H1463=\"\",\"\",Pivot!H1463)","v":""},null,{"$f":"IF(Pivot!J1463=\"\",\"\",Pivot!J1463)","v":""},{"$f":"IF(Pivot!I1463=\"\",\"\",Pivot!I1463)","v":""},null,null,null,null,null,null,"","",{"$error":"#VALUE!"},null,"","",""]
[{"$f":"IF(Pivot!G1464=\"\",\"\",Pivot!G1464)","v":""},null,{"$f":"IF(Pivot!H1464=\"\",\"\",Pivot!H1464)","v":""},null,{"$f":"IF(Pivot!J1464=\"\",\"\",Pivot!J1464)","v":""},{"$f":"IF(Pivot!I1464=\"\",\"\",Pivot!I1464)","v":""},null,null,null,null,null,null,"","",{"$error":"#VALUE!"},null,"","",""]
[{"$f":"IF(Pivot!G1465=\"\",\"\",Pivot!G1465)","v":""},null,{"$f":"IF(Pivot!H1465=\"\",\"\",Pivot!H1465)","v":""},null,{"$f":"IF(Pivot!J1465=\"\",\"\",Pivot!J1465)","v":""},{"$f":"IF(Pivot!I1465=\"\",\"\",Pivot!I1465)","v":""},null,null,null,null,null,null,"","",{"$error":"#VALUE!"},null,"","",""]
[{"$f":"IF(Pivot!G1466=\"\",\"\",Pivot!G1466)","v":""},null,{"$f":"IF(Pivot!H1466=\"\",\"\",Pivot!H1466)","v":""},null,{"$f":"IF(Pivot!J1466=\"\",\"\",Pivot!J1466)","v":""},{"$f":"IF(Pivot!I1466=\"\",\"\",Pivot!I1466)","v":""},null,null,null,null,null,null,"","",{"$error":"#VALUE!"},null,"","",""]
[{"$f":"IF(Pivot!G1467=\"\",\"\",Pivot!G1467)","v":""},null,{"$f":"IF(Pivot!H1467=\"\",\"\",Pivot!H1467)","v":""},null,{"$f":"IF(Pivot!J1467=\"\",\"\",Pivot!J1467)","v":""},{"$f":"IF(Pivot!I1467=\"\",\"\",Pivot!I1467)","v":""},null,null,null,null,null,null,"","",{"$error":"#VALUE!"},null,"","",""]
[{"$f":"IF(Pivot!G1468=\"\",\"\",Pivot!G1468)","v":""},null,{"$f":"IF(Pivot!H1468=\"\",\"\",Pivot!H1468)","v":""},null,{"$f":"IF(Pivot!J1468=\"\",\"\",Pivot!J1468)","v":""},{"$f":"IF(Pivot!I1468=\"\",\"\",Pivot!I1468)","v":""},null,null,null,null,null,null,"","",{"$error":"#VALUE!"},null,"","",""]
[{"$f":"IF(Pivot!G1469=\"\",\"\",Pivot!G1469)","v":""},null,{"$f":"IF(Pivot!H1469=\"\",\"\",Pivot!H1469)","v":""},null,{"$f":"IF(Pivot!J1469=\"\",\"\",Pivot!J1469)","v":""},{"$f":"IF(Pivot!I1469=\"\",\"\",Pivot!I1469)","v":""},null,null,null,null,null,null,"","",{"$error":"#VALUE!"},null,"","",""]
[{"$f":"IF(Pivot!G1470=\"\",\"\",Pivot!G1470)","v":""},null,{"$f":"IF(Pivot!H1470=\"\",\"\",Pivot!H1470)","v":""},null,{"$f":"IF(Pivot!J1470=\"\",\"\",Pivot!J1470)","v":""},{"$f":"IF(Pivot!I1470=\"\",\"\",Pivot!I1470)","v":""},null,null,null,null,null,null,"","",{"$error":"#VALUE!"},null,"","",""]
[{"$f":"IF(Pivot!G1471=\"\",\"\",Pivot!G1471)","v":""},null,{"$f":"IF(Pivot!H1471=\"\",\"\",Pivot!H1471)","v":""},null,{"$f":"IF(Pivot!J1471=\"\",\"\",Pivot!J1471)","v":""},{"$f":"IF(Pivot!I1471=\"\",\"\",Pivot!I1471)","v":""},null,null,null,null,null,null,"","",{"$error":"#VALUE!"},null,"","",""]
[{"$f":"IF(Pivot!G1472=\"\",\"\",Pivot!G1472)","v":""},null,{"$f":"IF(Pivot!H1472=\"\",\"\",Pivot!H1472)","v":""},null,{"$f":"IF(Pivot!J1472=\"\",\"\",Pivot!J1472)","v":""},{"$f":"IF(Pivot!I1472=\"\",\"\",Pivot!I1472)","v":""},null,null,null,null,null,null,"","",{"$error":"#VALUE!"},null,"","",""]
[{"$f":"IF(Pivot!G1473=\"\",\"\",Pivot!G1473)","v":""},null,{"$f":"IF(Pivot!H1473=\"\",\"\",Pivot!H1473)","v":""},null,{"$f":"IF(Pivot!J1473=\"\",\"\",Pivot!J1473)","v":""},{"$f":"IF(Pivot!I1473=\"\",\"\",Pivot!I1473)","v":""},null,null,null,null,null,null,"","",{"$error":"#VALUE!"},null,"","",""]
[{"$f":"IF(Pivot!G1474=\"\",\"\",Pivot!G1474)","v":""},null,{"$f":"IF(Pivot!H1474=\"\",\"\",Pivot!H1474)","v":""},null,{"$f":"IF(Pivot!J1474=\"\",\"\",Pivot!J1474)","v":""},{"$f":"IF(Pivot!I1474=\"\",\"\",Pivot!I1474)","v":""},null,null,null,null,null,null,"","",{"$error":"#VALUE!"},null,"","",""]
[{"$f":"IF(Pivot!G1475=\"\",\"\",Pivot!G1475)","v":""},null,{"$f":"IF(Pivot!H1475=\"\",\"\",Pivot!H1475)","v":""},null,{"$f":"IF(Pivot!J1475=\"\",\"\",Pivot!J1475)","v":""},{"$f":"IF(Pivot!I1475=\"\",\"\",Pivot!I1475)","v":""},null,null,null,null,null,null,"","",{"$error":"#VALUE!"},null,"","",""]
[{"$f":"IF(Pivot!G1476=\"\",\"\",Pivot!G1476)","v":""},null,{"$f":"IF(Pivot!H1476=\"\",\"\",Pivot!H1476)","v":""},null,{"$f":"IF(Pivot!J1476=\"\",\"\",Pivot!J1476)","v":""},{"$f":"IF(Pivot!I1476=\"\",\"\",Pivot!I1476)","v":""},null,null,null,null,null,null,"","",{"$f":"N1479/M1479","v":{"$error":"#VALUE!"}},null,"","",""]
[{"$f":"IF(Pivot!G1477=\"\",\"\",Pivot!G1477)","v":""},null,{"$f":"IF(Pivot!H1477=\"\",\"\",Pivot!H1477)","v":""},null,{"$f":"IF(Pivot!J1477=\"\",\"\",Pivot!J1477)","v":""},{"$f":"IF(Pivot!I1477=\"\",\"\",Pivot!I1477)","v":""},null,null,null,null,null,null,{"$f":"IF(C1480=\"\",\"\",C1480*L1480)","v":""},{"$f":"IF(F1480=\"\",\"\",M1480-F1480)","v":""},{"$error":"#VALUE!"},null,{"$f":"IF(C1480=\"\",\"\",C1480*P1480)","v":""},{"$f":"IF(F1480=\"\",\"\",Q1480-F1480)","v":""},{"$f":"IF(F1480=\"\",\"\",R1480/F1480)","v":""}]
[{"$f":"IF(Pivot!G1478=\"\",\"\",Pivot!G1478)","v":""},null,{"$f":"IF(Pivot!H1478=\"\",\"\",Pivot!H1478)","v":""},null,{"$f":"IF(Pivot!J1478=\"\",\"\",Pivot!J1478)","v":""},{"$f":"IF(Pivot!I1478=\"\",\"\",Pivot!I1478)","v":""},null,null,null,null,null,null,"","",{"$error":"#VALUE!"},null,"","",""]
[{"$f":"IF(Pivot!G1479=\"\",\"\",Pivot!G1479)","v":""},null,{"$f":"IF(Pivot!H1479=\"\",\"\",Pivot!H1479)","v":""},null,{"$f":"IF(Pivot!J1479=\"\",\"\",Pivot!J1479)","v":""},{"$f":"IF(Pivot!I1479=\"\",\"\",Pivot!I1479)","v":""},null,null,null,null,null,null,"","",{"$error":"#VALUE!"},null,"","",""]
[{"$f":"IF(Pivot!G1480=\"\",\"\",Pivot!G1480)","v":""},null,{"$f":"IF(Pivot!H1480=\"\",\"\",Pivot!H1480)","v":""},null,{"$f":"IF(Pivot!J1480=\"\",\"\",Pivot!J1480)","v":""},{"$f":"IF(Pivot!I1480=\"\",\"\",Pivot!I1480)","v":""},null,null,null,null,null,null,"","",{"$error":"#VALUE!"},null,"","",""]
[{"$f":"IF(Pivot!G1481=\"\",\"\",Pivot!G1481)","v":""},null,{"$f":"IF(Pivot!H1481=\"\",\"\",Pivot!H1481)","v":""},null,{"$f":"IF(Pivot!J1481=\"\",\"\",Pivot!J1481)","v":""},{"$f":"IF(Pivot!I1481=\"\",\"\",Pivot!I1481)","v":""},null,null,null,null,null,null,"","",{"$error":"#VALUE!"},null,"","",""]
[{"$f":"IF(Pivot!G1482=\"\",\"\",Pivot!G1482)","v":""},null,{"$f":"IF(Pivot!H1482=\"\",\"\",Pivot!H1482)","v":""},null,{"$f":"IF(Pivot!J1482=\"\",\"\",Pivot!J1482)","v":""},{"$f":"IF(Pivot!I1482=\"\",\"\",Pivot!I1482)","v":""},null,null,null,null,null,null,"","",{"$error":"#VALUE!"},null,"","",""]
[{"$f":"IF(Pivot!G1483=\"\",\"\",Pivot!G1483)","v":""},null,{"$f":"IF(Pivot!H1483=\"\",\"\",Pivot!H1483)","v":""},null,{"$f":"IF(Pivot!J1483=\"\",\"\",Pivot!J1483)","v":""},{"$f":"IF(Pivot!I1483=\"\",\"\",Pivot!I1483)","v":""},null,null,null,null,null,null,"","",{"$error":"#VALUE!"},null,"","",""]
[{"$f":"IF(Pivot!G1484=\"\",\"\",Pivot!G1484)","v":""},null,{"$f":"IF(Pivot!H1484=\"\",\"\",Pivot!H1484)","v":""},null,{"$f":"IF(Pivot!J1484=\"\",\"\",Pivot!J1484)","v":""},{"$f":"IF(Pivot!I1484=\"\",\"\",Pivot!I1484)","v":""},null,null,null,null,null,null,"","",{"$error":"#VALUE!"},null,"","",""]
[{"$f":"IF(Pivot!G1485=\"\",\"\",Pivot!G1485)","v":""},null,{"$f":"IF(Pivot!H1485=\"\",\"\",Pivot!H1485)","v":""},null,{"$f":"IF(Pivot!J1485=\"\",\"\",Pivot!J1485)","v":""},{"$f":"IF(Pivot!I1485=\"\",\"\",Pivot!I1485)","v":""},null,null,null,null,null,null,"","",{"$error":"#VALUE!"},null,"","",""]
[{"$f":"IF(Pivot!G1486=\"\",\"\",Pivot!G1486)","v":""},null,{"$f":"IF(Pivot!H1486=\"\",\"\",Pivot!H1486)","v":""},null,{"$f":"IF(Pivot!J1486=\"\",\"\",Pivot!J1486)","v":""},{"$f":"IF(Pivot!I1486=\"\",\"\",Pivot!I1486)","v":""},null,null,null,null,null,null,"","",{"$error":"#VALUE!"},null,"","",""]
[{"$f":"IF(Pivot!G1487=\"\",\"\",Pivot!G1487)","v":""},null,{"$f":"IF(Pivot!H1487=\"\",\"\",Pivot!H1487)","v":""},null,{"$f":"IF(Pivot!J1487=\"\",\"\",Pivot!J1487)","v":""},{"$f":"IF(Pivot!I1487=\"\",\"\",Pivot!I1487)","v":""},null,null,null,null,null,null,"","",{"$error":"#VALUE!"},null,"","",""]
[{"$f":"IF(Pivot!G1488=\"\",\"\",Pivot!G1488)","v":""},null,{"$f":"IF(Pivot!H1488=\"\",\"\",Pivot!H1488)","v":""},null,{"$f":"IF(Pivot!J1488=\"\",\"\",Pivot!J1488)","v":""},{"$f":"IF(Pivot!I1488=\"\",\"\",Pivot!I1488)","v":""},null,null,null,null,null,null,"","",{"$error":"#VALUE!"},null,"","",""]
[{"$f":"IF(Pivot!G1489=\"\",\"\",Pivot!G1489)","v":""},null,{"$f":"IF(Pivot!H1489=\"\",\"\",Pivot!H1489)","v":""},null,{"$f":"IF(Pivot!J1489=\"\",\"\",Pivot!J1489)","v":""},{"$f":"IF(Pivot!I1489=\"\",\"\",Pivot!I1489)","v":""},null,null,null,null,null,null,"","",{"$error":"#VALUE!"},null,"","",""]
[{"$f":"IF(Pivot!G1490=\"\",\"\",Pivot!G1490)","v":""},null,{"$f":"IF(Pivot!H1490=\"\",\"\",Pivot!H1490)","v":""},null,{"$f":"IF(Pivot!J1490=\"\",\"\",Pivot!J1490)","v":""},{"$f":"IF(Pivot!I1490=\"\",\"\",Pivot!I1490)","v":""},null,null,null,null,null,null,"","",{"$error":"#VALUE!"},null,"","",""]
[{"$f":"IF(Pivot!G1491=\"\",\"\",Pivot!G1491)","v":""},null,{"$f":"IF(Pivot!H1491=\"\",\"\",Pivot!H1491)","v":""},null,{"$f":"IF(Pivot!J1491=\"\",\"\",Pivot!J1491)","v":""},{"$f":"IF(Pivot!I1491=\"\",\"\",Pivot!I1491)","v":""},null,null,null,null,null,null,"","",{"$error":"#VALUE!"},null,"","",""]
[{"$f":"IF(Pivot!G1492=\"\",\"\",Pivot!G1492)","v":""},null,{"$f":"IF(Pivot!H1492=\"\",\"\",Pivot!H1492)","v":""},null,{"$f":"IF(Pivot!J1492=\"\",\"\",Pivot!J1492)","v":""},{"$f":"IF(Pivot!I1492=\"\",\"\",Pivot!I1492)","v":""},null,null,null,null,null,null,"","",{"$error":"#VALUE!"},null,"","",""]
[{"$f":"IF(Pivot!G1493=\"\",\"\",Pivot!G1493)","v":""},null,{"$f":"IF(Pivot!H1493=\"\",\"\",Pivot!H1493)","v":""},null,{"$f":"IF(Pivot!J1493=\"\",\"\",Pivot!J1493)","v":""},{"$f":"IF(Pivot!I1493=\"\",\"\",Pivot!I1493)","v":""},null,null,null,null,null,null,"","",{"$error":"#VALUE!"},null,"","",""]
[{"$f":"IF(Pivot!G1494=\"\",\"\",Pivot!G1494)","v":""},null,{"$f":"IF(Pivot!H1494=\"\",\"\",Pivot!H1494)","v":""},null,{"$f":"IF(Pivot!J1494=\"\",\"\",Pivot!J1494)","v":""},{"$f":"IF(Pivot!I1494=\"\",\"\",Pivot!I1494)","v":""},null,null,null,null,null,null,"","",{"$error":"#VALUE!"},null,"","",""]
[{"$f":"IF(Pivot!G1495=\"\",\"\",Pivot!G1495)","v":""},null,{"$f":"IF(Pivot!H1495=\"\",\"\",Pivot!H1495)","v":""},null,{"$f":"IF(Pivot!J1495=\"\",\"\",Pivot!J1495)","v":""},{"$f":"IF(Pivot!I1495=\"\",\"\",Pivot!I1495)","v":""},null,null,null,null,null,null,"","",{"$error":"#VALUE!"},null,"","",""]
[{"$f":"IF(Pivot!G1496=\"\",\"\",Pivot!G1496)","v":""},null,{"$f":"IF(Pivot!H1496=\"\",\"\",Pivot!H1496)","v":""},null,{"$f":"IF(Pivot!J1496=\"\",\"\",Pivot!J1496)","v":""},{"$f":"IF(Pivot!I1496=\"\",\"\",Pivot!I1496)","v":""},null,null,null,null,null,null,"","",{"$error":"#VALUE!"},null,"","",""]
[{"$f":"IF(Pivot!G1497=\"\",\"\",Pivot!G1497)","v":""},null,{"$f":"IF(Pivot!H1497=\"\",\"\",Pivot!H1497)","v":""},null,{"$f":"IF(Pivot!J1497=\"\",\"\",Pivot!J1497)","v":""},{"$f":"IF(Pivot!I1497=\"\",\"\",Pivot!I1497)","v":""},null,null,null,null,null,null,"","",{"$error":"#VALUE!"},null,"","",""]
[{"$f":"IF(Pivot!G1498=\"\",\"\",Pivot!G1498)","v":""},null,{"$f":"IF(Pivot!H1498=\"\",\"\",Pivot!H1498)","v":""},null,{"$f":"IF(Pivot!J1498=\"\",\"\",Pivot!J1498)","v":""},{"$f":"IF(Pivot!I1498=\"\",\"\",Pivot!I1498)","v":""},null,null,null,null,null,null,"","",{"$error":"#VALUE!"},null,"","",""]
[{"$f":"IF(Pivot!G1499=\"\",\"\",Pivot!G1499)","v":""},null,{"$f":"IF(Pivot!H1499=\"\",\"\",Pivot!H1499)","v":""},null,{"$f":"IF(Pivot!J1499=\"\",\"\",Pivot!J1499)","v":""},{"$f":"IF(Pivot!I1499=\"\",\"\",Pivot!I1499)","v":""},null,null,null,null,null,null,"","",{"$error":"#VALUE!"},null,"","",""]
[{"$f":"IF(Pivot!G1500=\"\",\"\",Pivot!G1500)","v":""},null,{"$f":"IF(Pivot!H1500=\"\",\"\",Pivot!H1500)","v":""},null,{"$f":"IF(Pivot!J1500=\"\",\"\",Pivot!J1500)","v":""},{"$f":"IF(Pivot!I1500=\"\",\"\",Pivot!I1500)","v":""},null,null,null,null,null,null,"","",{"$error":"#VALUE!"},null,"","",""]
[{"$f":"IF(Pivot!G1501=\"\",\"\",Pivot!G1501)","v":""},null,{"$f":"IF(Pivot!H1501=\"\",\"\",Pivot!H1501)","v":""},null,{"$f":"IF(Pivot!J1501=\"\",\"\",Pivot!J1501)","v":""},{"$f":"IF(Pivot!I1501=\"\",\"\",Pivot!I1501)","v":""},null,null,null,null,null,null,"","",{"$error":"#VALUE!"},null,"","",""]
[{"$f":"IF(Pivot!G1502=\"\",\"\",Pivot!G1502)","v":""},null,{"$f":"IF(Pivot!H1502=\"\",\"\",Pivot!H1502)","v":""},null,{"$f":"IF(Pivot!J1502=\"\",\"\",Pivot!J1502)","v":""},{"$f":"IF(Pivot!I1502=\"\",\"\",Pivot!I1502)","v":""},null,null,null,null,null,null,"","",{"$error":"#VALUE!"},null,"","",""]
[{"$f":"IF(Pivot!G1503=\"\",\"\",Pivot!G1503)","v":""},null,{"$f":"IF(Pivot!H1503=\"\",\"\",Pivot!H1503)","v":""},null,{"$f":"IF(Pivot!J1503=\"\",\"\",Pivot!J1503)","v":""},{"$f":"IF(Pivot!I1503=\"\",\"\",Pivot!I1503)","v":""},null,null,null,null,null,null,"","",{"$error":"#VALUE!"},null,"","",""]
[{"$f":"IF(Pivot!G1504=\"\",\"\",Pivot!G1504)","v":""},null,{"$f":"IF(Pivot!H1504=\"\",\"\",Pivot!H1504)","v":""},null,{"$f":"IF(Pivot!J1504=\"\",\"\",Pivot!J1504)","v":""},{"$f":"IF(Pivot!I1504=\"\",\"\",Pivot!I1504)","v":""},null,null,null,null,null,null,"","",{"$error":"#VALUE!"},null,"","",""]
[{"$f":"IF(Pivot!G1505=\"\",\"\",Pivot!G1505)","v":""},null,{"$f":"IF(Pivot!H1505=\"\",\"\",Pivot!H1505)","v":""},null,{"$f":"IF(Pivot!J1505=\"\",\"\",Pivot!J1505)","v":""},{"$f":"IF(Pivot!I1505=\"\",\"\",Pivot!I1505)","v":""},null,null,null,null,null,null,"","",{"$error":"#VALUE!"},null,"","",""]
[{"$f":"IF(Pivot!G1506=\"\",\"\",Pivot!G1506)","v":""},null,{"$f":"IF(Pivot!H1506=\"\",\"\",Pivot!H1506)","v":""},null,{"$f":"IF(Pivot!J1506=\"\",\"\",Pivot!J1506)","v":""},{"$f":"IF(Pivot!I1506=\"\",\"\",Pivot!I1506)","v":""},null,null,null,null,null,null,"","",{"$error":"#VALUE!"},null,"","",""]
[{"$f":"IF(Pivot!G1507=\"\",\"\",Pivot!G1507)","v":""},null,{"$f":"IF(Pivot!H1507=\"\",\"\",Pivot!H1507)","v":""},null,{"$f":"IF(Pivot!J1507=\"\",\"\",Pivot!J1507)","v":""},{"$f":"IF(Pivot!I1507=\"\",\"\",Pivot!I1507)","v":""},null,null,null,null,null,null,"","",{"$error":"#VALUE!"},null,"","",""]
[{"$f":"IF(Pivot!G1508=\"\",\"\",Pivot!G1508)","v":""},null,{"$f":"IF(Pivot!H1508=\"\",\"\",Pivot!H1508)","v":""},null,{"$f":"IF(Pivot!J1508=\"\",\"\",Pivot!J1508)","v":""},{"$f":"IF(Pivot!I1508=\"\",\"\",Pivot!I1508)","v":""},null,null,null,null,null,null,"","",{"$error":"#VALUE!"},null,"","",""]
[{"$f":"IF(Pivot!G1509=\"\",\"\",Pivot!G1509)","v":""},null,{"$f":"IF(Pivot!H1509=\"\",\"\",Pivot!H1509)","v":""},null,{"$f":"IF(Pivot!J1509=\"\",\"\",Pivot!J1509)","v":""},{"$f":"IF(Pivot!I1509=\"\",\"\",Pivot!I1509)","v":""},null,null,null,null,null,null,"","",{"$error":"#VALUE!"},null,"","",""]
[{"$f":"IF(Pivot!G1510=\"\",\"\",Pivot!G1510)","v":""},null,{"$f":"IF(Pivot!H1510=\"\",\"\",Pivot!H1510)","v":""},null,{"$f":"IF(Pivot!J1510=\"\",\"\",Pivot!J1510)","v":""},{"$f":"IF(Pivot!I1510=\"\",\"\",Pivot!I1510)","v":""},null,null,null,null,null,null,"","",{"$error":"#VALUE!"},null,"","",""]
[{"$f":"IF(Pivot!G1511=\"\",\"\",Pivot!G1511)","v":""},null,{"$f":"IF(Pivot!H1511=\"\",\"\",Pivot!H1511)","v":""},null,{"$f":"IF(Pivot!J1511=\"\",\"\",Pivot!J1511)","v":""},{"$f":"IF(Pivot!I1511=\"\",\"\",Pivot!I1511)","v":""},null,null,null,null,null,null,"","",{"$error":"#VALUE!"},null,"","",""]
[{"$f":"IF(Pivot!G1512=\"\",\"\",Pivot!G1512)","v":""},null,{"$f":"IF(Pivot!H1512=\"\",\"\",Pivot!H1512)","v":""},null,{"$f":"IF(Pivot!J1512=\"\",\"\",Pivot!J1512)","v":""},{"$f":"IF(Pivot!I1512=\"\",\"\",Pivot!I1512)","v":""},null,null,null,null,null,null,"","",{"$error":"#VALUE!"},null,"","",""]
[{"$f":"IF(Pivot!G1513=\"\",\"\",Pivot!G1513)","v":""},null,{"$f":"IF(Pivot!H1513=\"\",\"\",Pivot!H1513)","v":""},null,{"$f":"IF(Pivot!J1513=\"\",\"\",Pivot!J1513)","v":""},{"$f":"IF(Pivot!I1513=\"\",\"\",Pivot!I1513)","v":""},null,null,null,null,null,null,"","",{"$error":"#VALUE!"},null,"","",""]
[{"$f":"IF(Pivot!G1514=\"\",\"\",Pivot!G1514)","v":""},null,{"$f":"IF(Pivot!H1514=\"\",\"\",Pivot!H1514)","v":""},null,{"$f":"IF(Pivot!J1514=\"\",\"\",Pivot!J1514)","v":""},{"$f":"IF(Pivot!I1514=\"\",\"\",Pivot!I1514)","v":""},null,null,null,null,null,null,"","",{"$error":"#VALUE!"},null,"","",""]
[{"$f":"IF(Pivot!G1515=\"\",\"\",Pivot!G1515)","v":""},null,{"$f":"IF(Pivot!H1515=\"\",\"\",Pivot!H1515)","v":""},null,{"$f":"IF(Pivot!J1515=\"\",\"\",Pivot!J1515)","v":""},{"$f":"IF(Pivot!I1515=\"\",\"\",Pivot!I1515)","v":""},null,null,null,null,null,null,"","",{"$error":"#VALUE!"},null,"","",""]
[{"$f":"IF(Pivot!G1516=\"\",\"\",Pivot!G1516)","v":""},null,{"$f":"IF(Pivot!H1516=\"\",\"\",Pivot!H1516)","v":""},null,{"$f":"IF(Pivot!J1516=\"\",\"\",Pivot!J1516)","v":""},{"$f":"IF(Pivot!I1516=\"\",\"\",Pivot!I1516)","v":""},null,null,null,null,null,null,"","",{"$error":"#VALUE!"},null,"","",""]
[{"$f":"IF(Pivot!G1517=\"\",\"\",Pivot!G1517)","v":""},null,{"$f":"IF(Pivot!H1517=\"\",\"\",Pivot!H1517)","v":""},null,{"$f":"IF(Pivot!J1517=\"\",\"\",Pivot!J1517)","v":""},{"$f":"IF(Pivot!I1517=\"\",\"\",Pivot!I1517)","v":""},null,null,null,null,null,null,"","",{"$error":"#VALUE!"},null,"","",""]
[{"$f":"IF(Pivot!G1518=\"\",\"\",Pivot!G1518)","v":""},null,{"$f":"IF(Pivot!H1518=\"\",\"\",Pivot!H1518)","v":""},null,{"$f":"IF(Pivot!J1518=\"\",\"\",Pivot!J1518)","v":""},{"$f":"IF(Pivot!I1518=\"\",\"\",Pivot!I1518)","v":""},null,null,null,null,null,null,"","",{"$error":"#VALUE!"},null,"","",""]
[{"$f":"IF(Pivot!G1519=\"\",\"\",Pivot!G1519)","v":""},null,{"$f":"IF(Pivot!H1519=\"\",\"\",Pivot!H1519)","v":""},null,{"$f":"IF(Pivot!J1519=\"\",\"\",Pivot!J1519)","v":""},{"$f":"IF(Pivot!I1519=\"\",\"\",Pivot!I1519)","v":""},null,null,null,null,null,null,"","",{"$error":"#VALUE!"},null,"","",""]
[{"$f":"IF(Pivot!G1520=\"\",\"\",Pivot!G1520)","v":""},null,{"$f":"IF(Pivot!H1520=\"\",\"\",Pivot!H1520)","v":""},null,{"$f":"IF(Pivot!J1520=\"\",\"\",Pivot!J1520)","v":""},{"$f":"IF(Pivot!I1520=\"\",\"\",Pivot!I1520)","v":""},null,null,null,null,null,null,"","",{"$error":"#VALUE!"},null,"","",""]
[{"$f":"IF(Pivot!G1521=\"\",\"\",Pivot!G1521)","v":""},null,{"$f":"IF(Pivot!H1521=\"\",\"\",Pivot!H1521)","v":""},null,{"$f":"IF(Pivot!J1521=\"\",\"\",Pivot!J1521)","v":""},{"$f":"IF(Pivot!I1521=\"\",\"\",Pivot!I1521)","v":""},null,null,null,null,null,null,"","",{"$error":"#VALUE!"},null,"","",""]
[{"$f":"IF(Pivot!G1522=\"\",\"\",Pivot!G1522)","v":""},null,{"$f":"IF(Pivot!H1522=\"\",\"\",Pivot!H1522)","v":""},null,{"$f":"IF(Pivot!J1522=\"\",\"\",Pivot!J1522)","v":""},{"$f":"IF(Pivot!I1522=\"\",\"\",Pivot!I1522)","v":""},null,null,null,null,null,null,"","",{"$error":"#VALUE!"},null,"","",""]
[{"$f":"IF(Pivot!G1523=\"\",\"\",Pivot!G1523)","v":""},null,{"$f":"IF(Pivot!H1523=\"\",\"\",Pivot!H1523)","v":""},null,{"$f":"IF(Pivot!J1523=\"\",\"\",Pivot!J1523)","v":""},{"$f":"IF(Pivot!I1523=\"\",\"\",Pivot!I1523)","v":""},null,null,null,null,null,null,"","",{"$error":"#VALUE!"},null,"","",""]
[{"$f":"IF(Pivot!G1524=\"\",\"\",Pivot!G1524)","v":""},null,{"$f":"IF(Pivot!H1524=\"\",\"\",Pivot!H1524)","v":""},null,{"$f":"IF(Pivot!J1524=\"\",\"\",Pivot!J1524)","v":""},{"$f":"IF(Pivot!I1524=\"\",\"\",Pivot!I1524)","v":""},null,null,null,null,null,null,"","",{"$error":"#VALUE!"},null,"","",""]
[{"$f":"IF(Pivot!G1525=\"\",\"\",Pivot!G1525)","v":""},null,{"$f":"IF(Pivot!H1525=\"\",\"\",Pivot!H1525)","v":""},null,{"$f":"IF(Pivot!J1525=\"\",\"\",Pivot!J1525)","v":""},{"$f":"IF(Pivot!I1525=\"\",\"\",Pivot!I1525)","v":""},null,null,null,null,null,null,"","",{"$error":"#VALUE!"},null,"","",""]
[{"$f":"IF(Pivot!G1526=\"\",\"\",Pivot!G1526)","v":""},null,{"$f":"IF(Pivot!H1526=\"\",\"\",Pivot!H1526)","v":""},null,{"$f":"IF(Pivot!J1526=\"\",\"\",Pivot!J1526)","v":""},{"$f":"IF(Pivot!I1526=\"\",\"\",Pivot!I1526)","v":""},null,null,null,null,null,null,"","",{"$error":"#VALUE!"},null,"","",""]
[{"$f":"IF(Pivot!G1527=\"\",\"\",Pivot!G1527)","v":""},null,{"$f":"IF(Pivot!H1527=\"\",\"\",Pivot!H1527)","v":""},null,{"$f":"IF(Pivot!J1527=\"\",\"\",Pivot!J1527)","v":""},{"$f":"IF(Pivot!I1527=\"\",\"\",Pivot!I1527)","v":""},null,null,null,null,null,null,"","",{"$error":"#VALUE!"},null,"","",""]
[{"$f":"IF(Pivot!G1528=\"\",\"\",Pivot!G1528)","v":""},null,{"$f":"IF(Pivot!H1528=\"\",\"\",Pivot!H1528)","v":""},null,{"$f":"IF(Pivot!J1528=\"\",\"\",Pivot!J1528)","v":""},{"$f":"IF(Pivot!I1528=\"\",\"\",Pivot!I1528)","v":""},null,null,null,null,null,null,"","",{"$error":"#VALUE!"},null,"","",""]
[{"$f":"IF(Pivot!G1529=\"\",\"\",Pivot!G1529)","v":""},null,{"$f":"IF(Pivot!H1529=\"\",\"\",Pivot!H1529)","v":""},null,{"$f":"IF(Pivot!J1529=\"\",\"\",Pivot!J1529)","v":""},{"$f":"IF(Pivot!I1529=\"\",\"\",Pivot!I1529)","v":""},null,null,null,null,null,null,"","",{"$error":"#VALUE!"},null,"","",""]
[{"$f":"IF(Pivot!G1530=\"\",\"\",Pivot!G1530)","v":""},null,{"$f":"IF(Pivot!H1530=\"\",\"\",Pivot!H1530)","v":""},null,{"$f":"IF(Pivot!J1530=\"\",\"\",Pivot!J1530)","v":""},{"$f":"IF(Pivot!I1530=\"\",\"\",Pivot!I1530)","v":""},null,null,null,null,null,null,"","",{"$error":"#VALUE!"},null,"","",""]
[{"$f":"IF(Pivot!G1531=\"\",\"\",Pivot!G1531)","v":""},null,{"$f":"IF(Pivot!H1531=\"\",\"\",Pivot!H1531)","v":""},null,{"$f":"IF(Pivot!J1531=\"\",\"\",Pivot!J1531)","v":""},{"$f":"IF(Pivot!I1531=\"\",\"\",Pivot!I1531)","v":""},null,null,null,null,null,null,"","",{"$error":"#VALUE!"},null,"","",""]
[{"$f":"IF(Pivot!G1532=\"\",\"\",Pivot!G1532)","v":""},null,{"$f":"IF(Pivot!H1532=\"\",\"\",Pivot!H1532)","v":""},null,{"$f":"IF(Pivot!J1532=\"\",\"\",Pivot!J1532)","v":""},{"$f":"IF(Pivot!I1532=\"\",\"\",Pivot!I1532)","v":""},null,null,null,null,null,null,"","",{"$error":"#VALUE!"},null,"","",""]
[{"$f":"IF(Pivot!G1533=\"\",\"\",Pivot!G1533)","v":""},null,{"$f":"IF(Pivot!H1533=\"\",\"\",Pivot!H1533)","v":""},null,{"$f":"IF(Pivot!J1533=\"\",\"\",Pivot!J1533)","v":""},{"$f":"IF(Pivot!I1533=\"\",\"\",Pivot!I1533)","v":""},null,null,null,null,null,null,"","",{"$error":"#VALUE!"},null,"","",""]
[{"$f":"IF(Pivot!G1534=\"\",\"\",Pivot!G1534)","v":""},null,{"$f":"IF(Pivot!H1534=\"\",\"\",Pivot!H1534)","v":""},null,{"$f":"IF(Pivot!J1534=\"\",\"\",Pivot!J1534)","v":""},{"$f":"IF(Pivot!I1534=\"\",\"\",Pivot!I1534)","v":""},null,null,null,null,null,null,"","",{"$error":"#VALUE!"},null,"","",""]
[{"$f":"IF(Pivot!G1535=\"\",\"\",Pivot!G1535)","v":""},null,{"$f":"IF(Pivot!H1535=\"\",\"\",Pivot!H1535)","v":""},null,{"$f":"IF(Pivot!J1535=\"\",\"\",Pivot!J1535)","v":""},{"$f":"IF(Pivot!I1535=\"\",\"\",Pivot!I1535)","v":""},null,null,null,null,null,null,"","",{"$error":"#VALUE!"},null,"","",""]
[{"$f":"IF(Pivot!G1536=\"\",\"\",Pivot!G1536)","v":""},null,{"$f":"IF(Pivot!H1536=\"\",\"\",Pivot!H1536)","v":""},null,{"$f":"IF(Pivot!J1536=\"\",\"\",Pivot!J1536)","v":""},{"$f":"IF(Pivot!I1536=\"\",\"\",Pivot!I1536)","v":""},null,null,null,null,null,null,"","",{"$error":"#VALUE!"},null,"","",""]
[{"$f":"IF(Pivot!G1537=\"\",\"\",Pivot!G1537)","v":""},null,{"$f":"IF(Pivot!H1537=\"\",\"\",Pivot!H1537)","v":""},null,{"$f":"IF(Pivot!J1537=\"\",\"\",Pivot!J1537)","v":""},{"$f":"IF(Pivot!I1537=\"\",\"\",Pivot!I1537)","v":""},null,null,null,null,null,null,"","",{"$error":"#VALUE!"},null,"","",""]
[{"$f":"IF(Pivot!G1538=\"\",\"\",Pivot!G1538)","v":""},null,{"$f":"IF(Pivot!H1538=\"\",\"\",Pivot!H1538)","v":""},null,{"$f":"IF(Pivot!J1538=\"\",\"\",Pivot!J1538)","v":""},{"$f":"IF(Pivot!I1538=\"\",\"\",Pivot!I1538)","v":""},null,null,null,null,null,null,"","",{"$error":"#VALUE!"},null,"","",""]
[{"$f":"IF(Pivot!G1539=\"\",\"\",Pivot!G1539)","v":""},null,{"$f":"IF(Pivot!H1539=\"\",\"\",Pivot!H1539)","v":""},null,{"$f":"IF(Pivot!J1539=\"\",\"\",Pivot!J1539)","v":""},{"$f":"IF(Pivot!I1539=\"\",\"\",Pivot!I1539)","v":""},null,null,null,null,null,null,"","",{"$error":"#VALUE!"},null,"","",""]
[{"$f":"IF(Pivot!G1540=\"\",\"\",Pivot!G1540)","v":""},null,{"$f":"IF(Pivot!H1540=\"\",\"\",Pivot!H1540)","v":""},null,{"$f":"IF(Pivot!J1540=\"\",\"\",Pivot!J1540)","v":""},{"$f":"IF(Pivot!I1540=\"\",\"\",Pivot!I1540)","v":""},null,null,null,null,null,null,"","",{"$f":"N1543/M1543","v":{"$error":"#VALUE!"}},null,"","",""]
[{"$f":"IF(Pivot!G1541=\"\",\"\",Pivot!G1541)","v":""},null,{"$f":"IF(Pivot!H1541=\"\",\"\",Pivot!H1541)","v":""},null,{"$f":"IF(Pivot!J1541=\"\",\"\",Pivot!J1541)","v":""},{"$f":"IF(Pivot!I1541=\"\",\"\",Pivot!I1541)","v":""},null,null,null,null,null,null,{"$f":"IF(C1544=\"\",\"\",C1544*L1544)","v":""},{"$f":"IF(F1544=\"\",\"\",M1544-F1544)","v":""},{"$error":"#VALUE!"},null,{"$f":"IF(C1544=\"\",\"\",C1544*P1544)","v":""},{"$f":"IF(F1544=\"\",\"\",Q1544-F1544)","v":""},{"$f":"IF(F1544=\"\",\"\",R1544/F1544)","v":""}]
[{"$f":"IF(Pivot!G1542=\"\",\"\",Pivot!G1542)","v":""},null,{"$f":"IF(Pivot!H1542=\"\",\"\",Pivot!H1542)","v":""},null,{"$f":"IF(Pivot!J1542=\"\",\"\",Pivot!J1542)","v":""},{"$f":"IF(Pivot!I1542=\"\",\"\",Pivot!I1542)","v":""},null,null,null,null,null,null,"","",{"$error":"#VALUE!"},null,"","",""]
[{"$f":"IF(Pivot!G1543=\"\",\"\",Pivot!G1543)","v":""},null,{"$f":"IF(Pivot!H1543=\"\",\"\",Pivot!H1543)","v":""},null,{"$f":"IF(Pivot!J1543=\"\",\"\",Pivot!J1543)","v":""},{"$f":"IF(Pivot!I1543=\"\",\"\",Pivot!I1543)","v":""},null,null,null,null,null,null,"","",{"$error":"#VALUE!"},null,"","",""]
[{"$f":"IF(Pivot!G1544=\"\",\"\",Pivot!G1544)","v":""},null,{"$f":"IF(Pivot!H1544=\"\",\"\",Pivot!H1544)","v":""},null,{"$f":"IF(Pivot!J1544=\"\",\"\",Pivot!J1544)","v":""},{"$f":"IF(Pivot!I1544=\"\",\"\",Pivot!I1544)","v":""},null,null,null,null,null,null,"","",{"$error":"#VALUE!"},null,"","",""]
[{"$f":"IF(Pivot!G1545=\"\",\"\",Pivot!G1545)","v":""},null,{"$f":"IF(Pivot!H1545=\"\",\"\",Pivot!H1545)","v":""},null,{"$f":"IF(Pivot!J1545=\"\",\"\",Pivot!J1545)","v":""},{"$f":"IF(Pivot!I1545=\"\",\"\",Pivot!I1545)","v":""},null,null,null,null,null,null,"","",{"$error":"#VALUE!"},null,"","",""]
[{"$f":"IF(Pivot!G1546=\"\",\"\",Pivot!G1546)","v":""},null,{"$f":"IF(Pivot!H1546=\"\",\"\",Pivot!H1546)","v":""},null,{"$f":"IF(Pivot!J1546=\"\",\"\",Pivot!J1546)","v":""},{"$f":"IF(Pivot!I1546=\"\",\"\",Pivot!I1546)","v":""},null,null,null,null,null,null,"","",{"$error":"#VALUE!"},null,"","",""]
[{"$f":"IF(Pivot!G1547=\"\",\"\",Pivot!G1547)","v":""},null,{"$f":"IF(Pivot!H1547=\"\",\"\",Pivot!H1547)","v":""},null,{"$f":"IF(Pivot!J1547=\"\",\"\",Pivot!J1547)","v":""},{"$f":"IF(Pivot!I1547=\"\",\"\",Pivot!I1547)","v":""},null,null,null,null,null,null,"","",{"$error":"#VALUE!"},null,"","",""]
[{"$f":"IF(Pivot!G1548=\"\",\"\",Pivot!G1548)","v":""},null,{"$f":"IF(Pivot!H1548=\"\",\"\",Pivot!H1548)","v":""},null,{"$f":"IF(Pivot!J1548=\"\",\"\",Pivot!J1548)","v":""},{"$f":"IF(Pivot!I1548=\"\",\"\",Pivot!I1548)","v":""},null,null,null,null,null,null,"","",{"$error":"#VALUE!"},null,"","",""]
[{"$f":"IF(Pivot!G1549=\"\",\"\",Pivot!G1549)","v":""},null,{"$f":"IF(Pivot!H1549=\"\",\"\",Pivot!H1549)","v":""},null,{"$f":"IF(Pivot!J1549=\"\",\"\",Pivot!J1549)","v":""},{"$f":"IF(Pivot!I1549=\"\",\"\",Pivot!I1549)","v":""},null,null,null,null,null,null,"","",{"$error":"#VALUE!"},null,"","",""]
[{"$f":"IF(Pivot!G1550=\"\",\"\",Pivot!G1550)","v":""},null,{"$f":"IF(Pivot!H1550=\"\",\"\",Pivot!H1550)","v":""},null,{"$f":"IF(Pivot!J1550=\"\",\"\",Pivot!J1550)","v":""},{"$f":"IF(Pivot!I1550=\"\",\"\",Pivot!I1550)","v":""},null,null,null,null,null,null,"","",{"$error":"#VALUE!"},null,"","",""]
[{"$f":"IF(Pivot!G1551=\"\",\"\",Pivot!G1551)","v":""},null,{"$f":"IF(Pivot!H1551=\"\",\"\",Pivot!H1551)","v":""},null,{"$f":"IF(Pivot!J1551=\"\",\"\",Pivot!J1551)","v":""},{"$f":"IF(Pivot!I1551=\"\",\"\",Pivot!I1551)","v":""},null,null,null,null,null,null,"","",{"$error":"#VALUE!"},null,"","",""]
[{"$f":"IF(Pivot!G1552=\"\",\"\",Pivot!G1552)","v":""},null,{"$f":"IF(Pivot!H1552=\"\",\"\",Pivot!H1552)","v":""},null,{"$f":"IF(Pivot!J1552=\"\",\"\",Pivot!J1552)","v":""},{"$f":"IF(Pivot!I1552=\"\",\"\",Pivot!I1552)","v":""},null,null,null,null,null,null,"","",{"$error":"#VALUE!"},null,"","",""]
[{"$f":"IF(Pivot!G1553=\"\",\"\",Pivot!G1553)","v":""},null,{"$f":"IF(Pivot!H1553=\"\",\"\",Pivot!H1553)","v":""},null,{"$f":"IF(Pivot!J1553=\"\",\"\",Pivot!J1553)","v":""},{"$f":"IF(Pivot!I1553=\"\",\"\",Pivot!I1553)","v":""},null,null,null,null,null,null,"","",{"$error":"#VALUE!"},null,"","",""]
[{"$f":"IF(Pivot!G1554=\"\",\"\",Pivot!G1554)","v":""},null,{"$f":"IF(Pivot!H1554=\"\",\"\",Pivot!H1554)","v":""},null,{"$f":"IF(Pivot!J1554=\"\",\"\",Pivot!J1554)","v":""},{"$f":"IF(Pivot!I1554=\"\",\"\",Pivot!I1554)","v":""},null,null,null,null,null,null,"","",{"$error":"#VALUE!"},null,"","",""]
[{"$f":"IF(Pivot!G1555=\"\",\"\",Pivot!G1555)","v":""},null,{"$f":"IF(Pivot!H1555=\"\",\"\",Pivot!H1555)","v":""},null,{"$f":"IF(Pivot!J1555=\"\",\"\",Pivot!J1555)","v":""},{"$f":"IF(Pivot!I1555=\"\",\"\",Pivot!I1555)","v":""},null,null,null,null,null,null,"","",{"$error":"#VALUE!"},null,"","",""]
[{"$f":"IF(Pivot!G1556=\"\",\"\",Pivot!G1556)","v":""},null,{"$f":"IF(Pivot!H1556=\"\",\"\",Pivot!H1556)","v":""},null,{"$f":"IF(Pivot!J1556=\"\",\"\",Pivot!J1556)","v":""},{"$f":"IF(Pivot!I1556=\"\",\"\",Pivot!I1556)","v":""},null,null,null,null,null,null,"","",{"$error":"#VALUE!"},null,"","",""]
[{"$f":"IF(Pivot!G1557=\"\",\"\",Pivot!G1557)","v":""},null,{"$f":"IF(Pivot!H1557=\"\",\"\",Pivot!H1557)","v":""},null,{"$f":"IF(Pivot!J1557=\"\",\"\",Pivot!J1557)","v":""},{"$f":"IF(Pivot!I1557=\"\",\"\",Pivot!I1557)","v":""},null,null,null,null,null,null,"","",{"$error":"#VALUE!"},null,"","",""]
[{"$f":"IF(Pivot!G1558=\"\",\"\",Pivot!G1558)","v":""},null,{"$f":"IF(Pivot!H1558=\"\",\"\",Pivot!H1558)","v":""},null,{"$f":"IF(Pivot!J1558=\"\",\"\",Pivot!J1558)","v":""},{"$f":"IF(Pivot!I1558=\"\",\"\",Pivot!I1558)","v":""},null,null,null,null,null,null,"","",{"$error":"#VALUE!"},null,"","",""]
[{"$f":"IF(Pivot!G1559=\"\",\"\",Pivot!G1559)","v":""},null,{"$f":"IF(Pivot!H1559=\"\",\"\",Pivot!H1559)","v":""},null,{"$f":"IF(Pivot!J1559=\"\",\"\",Pivot!J1559)","v":""},{"$f":"IF(Pivot!I1559=\"\",\"\",Pivot!I1559)","v":""},null,null,null,null,null,null,"","",{"$error":"#VALUE!"},null,"","",""]
[{"$f":"IF(Pivot!G1560=\"\",\"\",Pivot!G1560)","v":""},null,{"$f":"IF(Pivot!H1560=\"\",\"\",Pivot!H1560)","v":""},null,{"$f":"IF(Pivot!J1560=\"\",\"\",Pivot!J1560)","v":""},{"$f":"IF(Pivot!I1560=\"\",\"\",Pivot!I1560)","v":""},null,null,null,null,null,null,"","",{"$error":"#VALUE!"},null,"","",""]
[{"$f":"IF(Pivot!G1561=\"\",\"\",Pivot!G1561)","v":""},null,{"$f":"IF(Pivot!H1561=\"\",\"\",Pivot!H1561)","v":""},null,{"$f":"IF(Pivot!J1561=\"\",\"\",Pivot!J1561)","v":""},{"$f":"IF(Pivot!I1561=\"\",\"\",Pivot!I1561)","v":""},null,null,null,null,null,null,"","",{"$error":"#VALUE!"},null,"","",""]
[{"$f":"IF(Pivot!G1562=\"\",\"\",Pivot!G1562)","v":""},null,{"$f":"IF(Pivot!H1562=\"\",\"\",Pivot!H1562)","v":""},null,{"$f":"IF(Pivot!J1562=\"\",\"\",Pivot!J1562)","v":""},{"$f":"IF(Pivot!I1562=\"\",\"\",Pivot!I1562)","v":""},null,null,null,null,null,null,"","",{"$error":"#VALUE!"},null,"","",""]
[{"$f":"IF(Pivot!G1563=\"\",\"\",Pivot!G1563)","v":""},null,{"$f":"IF(Pivot!H1563=\"\",\"\",Pivot!H1563)","v":""},null,{"$f":"IF(Pivot!J1563=\"\",\"\",Pivot!J1563)","v":""},{"$f":"IF(Pivot!I1563=\"\",\"\",Pivot!I1563)","v":""},null,null,null,null,null,null,"","",{"$error":"#VALUE!"},null,"","",""]
[{"$f":"IF(Pivot!G1564=\"\",\"\",Pivot!G1564)","v":""},null,{"$f":"IF(Pivot!H1564=\"\",\"\",Pivot!H1564)","v":""},null,{"$f":"IF(Pivot!J1564=\"\",\"\",Pivot!J1564)","v":""},{"$f":"IF(Pivot!I1564=\"\",\"\",Pivot!I1564)","v":""},null,null,null,null,null,null,"","",{"$error":"#VALUE!"},null,"","",""]
[{"$f":"IF(Pivot!G1565=\"\",\"\",Pivot!G1565)","v":""},null,{"$f":"IF(Pivot!H1565=\"\",\"\",Pivot!H1565)","v":""},null,{"$f":"IF(Pivot!J1565=\"\",\"\",Pivot!J1565)","v":""},{"$f":"IF(Pivot!I1565=\"\",\"\",Pivot!I1565)","v":""},null,null,null,null,null,null,"","",{"$error":"#VALUE!"},null,"","",""]
[{"$f":"IF(Pivot!G1566=\"\",\"\",Pivot!G1566)","v":""},null,{"$f":"IF(Pivot!H1566=\"\",\"\",Pivot!H1566)","v":""},null,{"$f":"IF(Pivot!J1566=\"\",\"\",Pivot!J1566)","v":""},{"$f":"IF(Pivot!I1566=\"\",\"\",Pivot!I1566)","v":""},null,null,null,null,null,null,"","",{"$error":"#VALUE!"},null,"","",""]
[{"$f":"IF(Pivot!G1567=\"\",\"\",Pivot!G1567)","v":""},null,{"$f":"IF(Pivot!H1567=\"\",\"\",Pivot!H1567)","v":""},null,{"$f":"IF(Pivot!J1567=\"\",\"\",Pivot!J1567)","v":""},{"$f":"IF(Pivot!I1567=\"\",\"\",Pivot!I1567)","v":""},null,null,null,null,null,null,"","",{"$error":"#VALUE!"},null,"","",""]
[{"$f":"IF(Pivot!G1568=\"\",\"\",Pivot!G1568)","v":""},null,{"$f":"IF(Pivot!H1568=\"\",\"\",Pivot!H1568)","v":""},null,{"$f":"IF(Pivot!J1568=\"\",\"\",Pivot!J1568)","v":""},{"$f":"IF(Pivot!I1568=\"\",\"\",Pivot!I1568)","v":""},null,null,null,null,null,null,"","",{"$error":"#VALUE!"},null,"","",""]
[{"$f":"IF(Pivot!G1569=\"\",\"\",Pivot!G1569)","v":""},null,{"$f":"IF(Pivot!H1569=\"\",\"\",Pivot!H1569)","v":""},null,{"$f":"IF(Pivot!J1569=\"\",\"\",Pivot!J1569)","v":""},{"$f":"IF(Pivot!I1569=\"\",\"\",Pivot!I1569)","v":""},null,null,null,null,null,null,"","",{"$error":"#VALUE!"},null,"","",""]
[{"$f":"IF(Pivot!G1570=\"\",\"\",Pivot!G1570)","v":""},null,{"$f":"IF(Pivot!H1570=\"\",\"\",Pivot!H1570)","v":""},null,{"$f":"IF(Pivot!J1570=\"\",\"\",Pivot!J1570)","v":""},{"$f":"IF(Pivot!I1570=\"\",\"\",Pivot!I1570)","v":""},null,null,null,null,null,null,"","",{"$error":"#VALUE!"},null,"","",""]
[{"$f":"IF(Pivot!G1571=\"\",\"\",Pivot!G1571)","v":""},null,{"$f":"IF(Pivot!H1571=\"\",\"\",Pivot!H1571)","v":""},null,{"$f":"IF(Pivot!J1571=\"\",\"\",Pivot!J1571)","v":""},{"$f":"IF(Pivot!I1571=\"\",\"\",Pivot!I1571)","v":""},null,null,null,null,null,null,"","",{"$error":"#VALUE!"},null,"","",""]
[{"$f":"IF(Pivot!G1572=\"\",\"\",Pivot!G1572)","v":""},null,{"$f":"IF(Pivot!H1572=\"\",\"\",Pivot!H1572)","v":""},null,{"$f":"IF(Pivot!J1572=\"\",\"\",Pivot!J1572)","v":""},{"$f":"IF(Pivot!I1572=\"\",\"\",Pivot!I1572)","v":""},null,null,null,null,null,null,"","",{"$error":"#VALUE!"},null,"","",""]
[{"$f":"IF(Pivot!G1573=\"\",\"\",Pivot!G1573)","v":""},null,{"$f":"IF(Pivot!H1573=\"\",\"\",Pivot!H1573)","v":""},null,{"$f":"IF(Pivot!J1573=\"\",\"\",Pivot!J1573)","v":""},{"$f":"IF(Pivot!I1573=\"\",\"\",Pivot!I1573)","v":""},null,null,null,null,null,null,"","",{"$error":"#VALUE!"},null,"","",""]
[{"$f":"IF(Pivot!G1574=\"\",\"\",Pivot!G1574)","v":""},null,{"$f":"IF(Pivot!H1574=\"\",\"\",Pivot!H1574)","v":""},null,{"$f":"IF(Pivot!J1574=\"\",\"\",Pivot!J1574)","v":""},{"$f":"IF(Pivot!I1574=\"\",\"\",Pivot!I1574)","v":""},null,null,null,null,null,null,"","",{"$error":"#VALUE!"},null,"","",""]
[{"$f":"IF(Pivot!G1575=\"\",\"\",Pivot!G1575)","v":""},null,{"$f":"IF(Pivot!H1575=\"\",\"\",Pivot!H1575)","v":""},null,{"$f":"IF(Pivot!J1575=\"\",\"\",Pivot!J1575)","v":""},{"$f":"IF(Pivot!I1575=\"\",\"\",Pivot!I1575)","v":""},null,null,null,null,null,null,"","",{"$error":"#VALUE!"},null,"","",""]
[{"$f":"IF(Pivot!G1576=\"\",\"\",Pivot!G1576)","v":""},null,{"$f":"IF(Pivot!H1576=\"\",\"\",Pivot!H1576)","v":""},null,{"$f":"IF(Pivot!J1576=\"\",\"\",Pivot!J1576)","v":""},{"$f":"IF(Pivot!I1576=\"\",\"\",Pivot!I1576)","v":""},null,null,null,null,null,null,"","",{"$error":"#VALUE!"},null,"","",""]
[{"$f":"IF(Pivot!G1577=\"\",\"\",Pivot!G1577)","v":""},null,{"$f":"IF(Pivot!H1577=\"\",\"\",Pivot!H1577)","v":""},null,{"$f":"IF(Pivot!J1577=\"\",\"\",Pivot!J1577)","v":""},{"$f":"IF(Pivot!I1577=\"\",\"\",Pivot!I1577)","v":""},null,null,null,null,null,null,"","",{"$error":"#VALUE!"},null,"","",""]
[{"$f":"IF(Pivot!G1578=\"\",\"\",Pivot!G1578)","v":""},null,{"$f":"IF(Pivot!H1578=\"\",\"\",Pivot!H1578)","v":""},null,{"$f":"IF(Pivot!J1578=\"\",\"\",Pivot!J1578)","v":""},{"$f":"IF(Pivot!I1578=\"\",\"\",Pivot!I1578)","v":""},null,null,null,null,null,null,"","",{"$error":"#VALUE!"},null,"","",""]
[{"$f":"IF(Pivot!G1579=\"\",\"\",Pivot!G1579)","v":""},null,{"$f":"IF(Pivot!H1579=\"\",\"\",Pivot!H1579)","v":""},null,{"$f":"IF(Pivot!J1579=\"\",\"\",Pivot!J1579)","v":""},{"$f":"IF(Pivot!I1579=\"\",\"\",Pivot!I1579)","v":""},null,null,null,null,null,null,"","",{"$error":"#VALUE!"},null,"","",""]
[{"$f":"IF(Pivot!G1580=\"\",\"\",Pivot!G1580)","v":""},null,{"$f":"IF(Pivot!H1580=\"\",\"\",Pivot!H1580)","v":""},null,{"$f":"IF(Pivot!J1580=\"\",\"\",Pivot!J1580)","v":""},{"$f":"IF(Pivot!I1580=\"\",\"\",Pivot!I1580)","v":""},null,null,null,null,null,null,"","",{"$error":"#VALUE!"},null,"","",""]
[{"$f":"IF(Pivot!G1581=\"\",\"\",Pivot!G1581)","v":""},null,{"$f":"IF(Pivot!H1581=\"\",\"\",Pivot!H1581)","v":""},null,{"$f":"IF(Pivot!J1581=\"\",\"\",Pivot!J1581)","v":""},{"$f":"IF(Pivot!I1581=\"\",\"\",Pivot!I1581)","v":""},null,null,null,null,null,null,"","",{"$error":"#VALUE!"},null,"","",""]
[{"$f":"IF(Pivot!G1582=\"\",\"\",Pivot!G1582)","v":""},null,{"$f":"IF(Pivot!H1582=\"\",\"\",Pivot!H1582)","v":""},null,{"$f":"IF(Pivot!J1582=\"\",\"\",Pivot!J1582)","v":""},{"$f":"IF(Pivot!I1582=\"\",\"\",Pivot!I1582)","v":""},null,null,null,null,null,null,"","",{"$error":"#VALUE!"},null,"","",""]
[{"$f":"IF(Pivot!G1583=\"\",\"\",Pivot!G1583)","v":""},null,{"$f":"IF(Pivot!H1583=\"\",\"\",Pivot!H1583)","v":""},null,{"$f":"IF(Pivot!J1583=\"\",\"\",Pivot!J1583)","v":""},{"$f":"IF(Pivot!I1583=\"\",\"\",Pivot!I1583)","v":""},null,null,null,null,null,null,"","",{"$error":"#VALUE!"},null,"","",""]
[{"$f":"IF(Pivot!G1584=\"\",\"\",Pivot!G1584)","v":""},null,{"$f":"IF(Pivot!H1584=\"\",\"\",Pivot!H1584)","v":""},null,{"$f":"IF(Pivot!J1584=\"\",\"\",Pivot!J1584)","v":""},{"$f":"IF(Pivot!I1584=\"\",\"\",Pivot!I1584)","v":""},null,null,null,null,null,null,"","",{"$error":"#VALUE!"},null,"","",""]
[{"$f":"IF(Pivot!G1585=\"\",\"\",Pivot!G1585)","v":""},null,{"$f":"IF(Pivot!H1585=\"\",\"\",Pivot!H1585)","v":""},null,{"$f":"IF(Pivot!J1585=\"\",\"\",Pivot!J1585)","v":""},{"$f":"IF(Pivot!I1585=\"\",\"\",Pivot!I1585)","v":""},null,null,null,null,null,null,"","",{"$error":"#VALUE!"},null,"","",""]
[{"$f":"IF(Pivot!G1586=\"\",\"\",Pivot!G1586)","v":""},null,{"$f":"IF(Pivot!H1586=\"\",\"\",Pivot!H1586)","v":""},null,{"$f":"IF(Pivot!J1586=\"\",\"\",Pivot!J1586)","v":""},{"$f":"IF(Pivot!I1586=\"\",\"\",Pivot!I1586)","v":""},null,null,null,null,null,null,"","",{"$error":"#VALUE!"},null,"","",""]
[{"$f":"IF(Pivot!G1587=\"\",\"\",Pivot!G1587)","v":""},null,{"$f":"IF(Pivot!H1587=\"\",\"\",Pivot!H1587)","v":""},null,{"$f":"IF(Pivot!J1587=\"\",\"\",Pivot!J1587)","v":""},{"$f":"IF(Pivot!I1587=\"\",\"\",Pivot!I1587)","v":""},null,null,null,null,null,null,"","",{"$error":"#VALUE!"},null,"","",""]
[{"$f":"IF(Pivot!G1588=\"\",\"\",Pivot!G1588)","v":""},null,{"$f":"IF(Pivot!H1588=\"\",\"\",Pivot!H1588)","v":""},null,{"$f":"IF(Pivot!J1588=\"\",\"\",Pivot!J1588)","v":""},{"$f":"IF(Pivot!I1588=\"\",\"\",Pivot!I1588)","v":""},null,null,null,null,null,null,"","",{"$error":"#VALUE!"},null,"","",""]
[{"$f":"IF(Pivot!G1589=\"\",\"\",Pivot!G1589)","v":""},null,{"$f":"IF(Pivot!H1589=\"\",\"\",Pivot!H1589)","v":""},null,{"$f":"IF(Pivot!J1589=\"\",\"\",Pivot!J1589)","v":""},{"$f":"IF(Pivot!I1589=\"\",\"\",Pivot!I1589)","v":""},null,null,null,null,null,null,"","",{"$error":"#VALUE!"},null,"","",""]
[{"$f":"IF(Pivot!G1590=\"\",\"\",Pivot!G1590)","v":""},null,{"$f":"IF(Pivot!H1590=\"\",\"\",Pivot!H1590)","v":""},null,{"$f":"IF(Pivot!J1590=\"\",\"\",Pivot!J1590)","v":""},{"$f":"IF(Pivot!I1590=\"\",\"\",Pivot!I1590)","v":""},null,null,null,null,null,null,"","",{"$error":"#VALUE!"},null,"","",""]
[{"$f":"IF(Pivot!G1591=\"\",\"\",Pivot!G1591)","v":""},null,{"$f":"IF(Pivot!H1591=\"\",\"\",Pivot!H1591)","v":""},null,{"$f":"IF(Pivot!J1591=\"\",\"\",Pivot!J1591)","v":""},{"$f":"IF(Pivot!I1591=\"\",\"\",Pivot!I1591)","v":""},null,null,null,null,null,null,"","",{"$error":"#VALUE!"},null,"","",""]
[{"$f":"IF(Pivot!G1592=\"\",\"\",Pivot!G1592)","v":""},null,{"$f":"IF(Pivot!H1592=\"\",\"\",Pivot!H1592)","v":""},null,{"$f":"IF(Pivot!J1592=\"\",\"\",Pivot!J1592)","v":""},{"$f":"IF(Pivot!I1592=\"\",\"\",Pivot!I1592)","v":""},null,null,null,null,null,null,"","",{"$error":"#VALUE!"},null,"","",""]
[{"$f":"IF(Pivot!G1593=\"\",\"\",Pivot!G1593)","v":""},null,{"$f":"IF(Pivot!H1593=\"\",\"\",Pivot!H1593)","v":""},null,{"$f":"IF(Pivot!J1593=\"\",\"\",Pivot!J1593)","v":""},{"$f":"IF(Pivot!I1593=\"\",\"\",Pivot!I1593)","v":""},null,null,null,null,null,null,"","",{"$error":"#VALUE!"},null,"","",""]
[{"$f":"IF(Pivot!G1594=\"\",\"\",Pivot!G1594)","v":""},null,{"$f":"IF(Pivot!H1594=\"\",\"\",Pivot!H1594)","v":""},null,{"$f":"IF(Pivot!J1594=\"\",\"\",Pivot!J1594)","v":""},{"$f":"IF(Pivot!I1594=\"\",\"\",Pivot!I1594)","v":""},null,null,null,null,null,null,"","",{"$error":"#VALUE!"},null,"","",""]
[{"$f":"IF(Pivot!G1595=\"\",\"\",Pivot!G1595)","v":""},null,{"$f":"IF(Pivot!H1595=\"\",\"\",Pivot!H1595)","v":""},null,{"$f":"IF(Pivot!J1595=\"\",\"\",Pivot!J1595)","v":""},{"$f":"IF(Pivot!I1595=\"\",\"\",Pivot!I1595)","v":""},null,null,null,null,null,null,"","",{"$error":"#VALUE!"},null,"","",""]
[{"$f":"IF(Pivot!G1596=\"\",\"\",Pivot!G1596)","v":""},null,{"$f":"IF(Pivot!H1596=\"\",\"\",Pivot!H1596)","v":""},null,{"$f":"IF(Pivot!J1596=\"\",\"\",Pivot!J1596)","v":""},{"$f":"IF(Pivot!I1596=\"\",\"\",Pivot!I1596)","v":""},null,null,null,null,null,null,"","",{"$error":"#VALUE!"},null,"","",""]
[{"$f":"IF(Pivot!G1597=\"\",\"\",Pivot!G1597)","v":""},null,{"$f":"IF(Pivot!H1597=\"\",\"\",Pivot!H1597)","v":""},null,{"$f":"IF(Pivot!J1597=\"\",\"\",Pivot!J1597)","v":""},{"$f":"IF(Pivot!I1597=\"\",\"\",Pivot!I1597)","v":""},null,null,null,null,null,null,"","",{"$error":"#VALUE!"},null,"","",""]
[{"$f":"IF(Pivot!G1598=\"\",\"\",Pivot!G1598)","v":""},null,{"$f":"IF(Pivot!H1598=\"\",\"\",Pivot!H1598)","v":""},null,{"$f":"IF(Pivot!J1598=\"\",\"\",Pivot!J1598)","v":""},{"$f":"IF(Pivot!I1598=\"\",\"\",Pivot!I1598)","v":""},null,null,null,null,null,null,"","",{"$error":"#VALUE!"},null,"","",""]
[{"$f":"IF(Pivot!G1599=\"\",\"\",Pivot!G1599)","v":""},null,{"$f":"IF(Pivot!H1599=\"\",\"\",Pivot!H1599)","v":""},null,{"$f":"IF(Pivot!J1599=\"\",\"\",Pivot!J1599)","v":""},{"$f":"IF(Pivot!I1599=\"\",\"\",Pivot!I1599)","v":""},null,null,null,null,null,null,"","",{"$error":"#VALUE!"},null,"","",""]
[{"$f":"IF(Pivot!G1600=\"\",\"\",Pivot!G1600)","v":""},null,{"$f":"IF(Pivot!H1600=\"\",\"\",Pivot!H1600)","v":""},null,{"$f":"IF(Pivot!J1600=\"\",\"\",Pivot!J1600)","v":""},{"$f":"IF(Pivot!I1600=\"\",\"\",Pivot!I1600)","v":""},null,null,null,null,null,null,"","",{"$error":"#VALUE!"},null,"","",""]
[{"$f":"IF(Pivot!G1601=\"\",\"\",Pivot!G1601)","v":""},null,{"$f":"IF(Pivot!H1601=\"\",\"\",Pivot!H1601)","v":""},null,{"$f":"IF(Pivot!J1601=\"\",\"\",Pivot!J1601)","v":""},{"$f":"IF(Pivot!I1601=\"\",\"\",Pivot!I1601)","v":""},null,null,null,null,null,null,"","",{"$error":"#VALUE!"},null,"","",""]
[{"$f":"IF(Pivot!G1602=\"\",\"\",Pivot!G1602)","v":""},null,{"$f":"IF(Pivot!H1602=\"\",\"\",Pivot!H1602)","v":""},null,{"$f":"IF(Pivot!J1602=\"\",\"\",Pivot!J1602)","v":""},{"$f":"IF(Pivot!I1602=\"\",\"\",Pivot!I1602)","v":""},null,null,null,null,null,null,"","",{"$error":"#VALUE!"},null,"","",""]
[{"$f":"IF(Pivot!G1603=\"\",\"\",Pivot!G1603)","v":""},null,{"$f":"IF(Pivot!H1603=\"\",\"\",Pivot!H1603)","v":""},null,{"$f":"IF(Pivot!J1603=\"\",\"\",Pivot!J1603)","v":""},{"$f":"IF(Pivot!I1603=\"\",\"\",Pivot!I1603)","v":""},null,null,null,null,null,null,"","",{"$error":"#VALUE!"},null,"","",""]
[{"$f":"IF(Pivot!G1604=\"\",\"\",Pivot!G1604)","v":""},null,{"$f":"IF(Pivot!H1604=\"\",\"\",Pivot!H1604)","v":""},null,{"$f":"IF(Pivot!J1604=\"\",\"\",Pivot!J1604)","v":""},{"$f":"IF(Pivot!I1604=\"\",\"\",Pivot!I1604)","v":""},null,null,null,null,null,null,"","",{"$f":"N1607/M1607","v":{"$error":"#VALUE!"}},null,"","",""]
[{"$f":"IF(Pivot!G1605=\"\",\"\",Pivot!G1605)","v":""},null,{"$f":"IF(Pivot!H1605=\"\",\"\",Pivot!H1605)","v":""},null,{"$f":"IF(Pivot!J1605=\"\",\"\",Pivot!J1605)","v":""},{"$f":"IF(Pivot!I1605=\"\",\"\",Pivot!I1605)","v":""},null,null,null,null,null,null,{"$f":"IF(C1608=\"\",\"\",C1608*L1608)","v":""},{"$f":"IF(F1608=\"\",\"\",M1608-F1608)","v":""},{"$error":"#VALUE!"},null,{"$f":"IF(C1608=\"\",\"\",C1608*P1608)","v":""},{"$f":"IF(F1608=\"\",\"\",Q1608-F1608)","v":""},{"$f":"IF(F1608=\"\",\"\",R1608/F1608)","v":""}]
[{"$f":"IF(Pivot!G1606=\"\",\"\",Pivot!G1606)","v":""},null,{"$f":"IF(Pivot!H1606=\"\",\"\",Pivot!H1606)","v":""},null,{"$f":"IF(Pivot!J1606=\"\",\"\",Pivot!J1606)","v":""},{"$f":"IF(Pivot!I1606=\"\",\"\",Pivot!I1606)","v":""},null,null,null,null,null,null,"","",{"$error":"#VALUE!"},null,"","",""]
[{"$f":"IF(Pivot!G1607=\"\",\"\",Pivot!G1607)","v":""},null,{"$f":"IF(Pivot!H1607=\"\",\"\",Pivot!H1607)","v":""},null,{"$f":"IF(Pivot!J1607=\"\",\"\",Pivot!J1607)","v":""},{"$f":"IF(Pivot!I1607=\"\",\"\",Pivot!I1607)","v":""},null,null,null,null,null,null,"","",{"$error":"#VALUE!"},null,"","",""]
[{"$f":"IF(Pivot!G1608=\"\",\"\",Pivot!G1608)","v":""},null,{"$f":"IF(Pivot!H1608=\"\",\"\",Pivot!H1608)","v":""},null,{"$f":"IF(Pivot!J1608=\"\",\"\",Pivot!J1608)","v":""},{"$f":"IF(Pivot!I1608=\"\",\"\",Pivot!I1608)","v":""},null,null,null,null,null,null,"","",{"$error":"#VALUE!"},null,"","",""]
[{"$f":"IF(Pivot!G1609=\"\",\"\",Pivot!G1609)","v":""},null,{"$f":"IF(Pivot!H1609=\"\",\"\",Pivot!H1609)","v":""},null,{"$f":"IF(Pivot!J1609=\"\",\"\",Pivot!J1609)","v":""},{"$f":"IF(Pivot!I1609=\"\",\"\",Pivot!I1609)","v":""},null,null,null,null,null,null,"","",{"$error":"#VALUE!"},null,"","",""]
[{"$f":"IF(Pivot!G1610=\"\",\"\",Pivot!G1610)","v":""},null,{"$f":"IF(Pivot!H1610=\"\",\"\",Pivot!H1610)","v":""},null,{"$f":"IF(Pivot!J1610=\"\",\"\",Pivot!J1610)","v":""},{"$f":"IF(Pivot!I1610=\"\",\"\",Pivot!I1610)","v":""},null,null,null,null,null,null,"","",{"$error":"#VALUE!"},null,"","",""]
[{"$f":"IF(Pivot!G1611=\"\",\"\",Pivot!G1611)","v":""},null,{"$f":"IF(Pivot!H1611=\"\",\"\",Pivot!H1611)","v":""},null,{"$f":"IF(Pivot!J1611=\"\",\"\",Pivot!J1611)","v":""},{"$f":"IF(Pivot!I1611=\"\",\"\",Pivot!I1611)","v":""},null,null,null,null,null,null,"","",{"$error":"#VALUE!"},null,"","",""]
[{"$f":"IF(Pivot!G1612=\"\",\"\",Pivot!G1612)","v":""},null,{"$f":"IF(Pivot!H1612=\"\",\"\",Pivot!H1612)","v":""},null,{"$f":"IF(Pivot!J1612=\"\",\"\",Pivot!J1612)","v":""},{"$f":"IF(Pivot!I1612=\"\",\"\",Pivot!I1612)","v":""},null,null,null,null,null,null,"","",{"$error":"#VALUE!"},null,"","",""]
[{"$f":"IF(Pivot!G1613=\"\",\"\",Pivot!G1613)","v":""},null,{"$f":"IF(Pivot!H1613=\"\",\"\",Pivot!H1613)","v":""},null,{"$f":"IF(Pivot!J1613=\"\",\"\",Pivot!J1613)","v":""},{"$f":"IF(Pivot!I1613=\"\",\"\",Pivot!I1613)","v":""},null,null,null,null,null,null,"","",{"$error":"#VALUE!"},null,"","",""]
[{"$f":"IF(Pivot!G1614=\"\",\"\",Pivot!G1614)","v":""},null,{"$f":"IF(Pivot!H1614=\"\",\"\",Pivot!H1614)","v":""},null,{"$f":"IF(Pivot!J1614=\"\",\"\",Pivot!J1614)","v":""},{"$f":"IF(Pivot!I1614=\"\",\"\",Pivot!I1614)","v":""},null,null,null,null,null,null,"","",{"$error":"#VALUE!"},null,"","",""]
[{"$f":"IF(Pivot!G1615=\"\",\"\",Pivot!G1615)","v":""},null,{"$f":"IF(Pivot!H1615=\"\",\"\",Pivot!H1615)","v":""},null,{"$f":"IF(Pivot!J1615=\"\",\"\",Pivot!J1615)","v":""},{"$f":"IF(Pivot!I1615=\"\",\"\",Pivot!I1615)","v":""},null,null,null,null,null,null,"","",{"$error":"#VALUE!"},null,"","",""]
[{"$f":"IF(Pivot!G1616=\"\",\"\",Pivot!G1616)","v":""},null,{"$f":"IF(Pivot!H1616=\"\",\"\",Pivot!H1616)","v":""},null,{"$f":"IF(Pivot!J1616=\"\",\"\",Pivot!J1616)","v":""},{"$f":"IF(Pivot!I1616=\"\",\"\",Pivot!I1616)","v":""},null,null,null,null,null,null,"","",{"$error":"#VALUE!"},null,"","",""]
[{"$f":"IF(Pivot!G1617=\"\",\"\",Pivot!G1617)","v":""},null,{"$f":"IF(Pivot!H1617=\"\",\"\",Pivot!H1617)","v":""},null,{"$f":"IF(Pivot!J1617=\"\",\"\",Pivot!J1617)","v":""},{"$f":"IF(Pivot!I1617=\"\",\"\",Pivot!I1617)","v":""},null,null,null,null,null,null,"","",{"$error":"#VALUE!"},null,"","",""]
[{"$f":"IF(Pivot!G1618=\"\",\"\",Pivot!G1618)","v":""},null,{"$f":"IF(Pivot!H1618=\"\",\"\",Pivot!H1618)","v":""},null,{"$f":"IF(Pivot!J1618=\"\",\"\",Pivot!J1618)","v":""},{"$f":"IF(Pivot!I1618=\"\",\"\",Pivot!I1618)","v":""},null,null,null,null,null,null,"","",{"$error":"#VALUE!"},null,"","",""]
[{"$f":"IF(Pivot!G1619=\"\",\"\",Pivot!G1619)","v":""},null,{"$f":"IF(Pivot!H1619=\"\",\"\",Pivot!H1619)","v":""},null,{"$f":"IF(Pivot!J1619=\"\",\"\",Pivot!J1619)","v":""},{"$f":"IF(Pivot!I1619=\"\",\"\",Pivot!I1619)","v":""},null,null,null,null,null,null,"","",{"$error":"#VALUE!"},null,"","",""]
[{"$f":"IF(Pivot!G1620=\"\",\"\",Pivot!G1620)","v":""},null,{"$f":"IF(Pivot!H1620=\"\",\"\",Pivot!H1620)","v":""},null,{"$f":"IF(Pivot!J1620=\"\",\"\",Pivot!J1620)","v":""},{"$f":"IF(Pivot!I1620=\"\",\"\",Pivot!I1620)","v":""},null,null,null,null,null,null,"","",{"$error":"#VALUE!"},null,"","",""]
[{"$f":"IF(Pivot!G1621=\"\",\"\",Pivot!G1621)","v":""},null,{"$f":"IF(Pivot!H1621=\"\",\"\",Pivot!H1621)","v":""},null,{"$f":"IF(Pivot!J1621=\"\",\"\",Pivot!J1621)","v":""},{"$f":"IF(Pivot!I1621=\"\",\"\",Pivot!I1621)","v":""},null,null,null,null,null,null,"","",{"$error":"#VALUE!"},null,"","",""]
[{"$f":"IF(Pivot!G1622=\"\",\"\",Pivot!G1622)","v":""},null,{"$f":"IF(Pivot!H1622=\"\",\"\",Pivot!H1622)","v":""},null,{"$f":"IF(Pivot!J1622=\"\",\"\",Pivot!J1622)","v":""},{"$f":"IF(Pivot!I1622=\"\",\"\",Pivot!I1622)","v":""},null,null,null,null,null,null,"","",{"$error":"#VALUE!"},null,"","",""]
[{"$f":"IF(Pivot!G1623=\"\",\"\",Pivot!G1623)","v":""},null,{"$f":"IF(Pivot!H1623=\"\",\"\",Pivot!H1623)","v":""},null,{"$f":"IF(Pivot!J1623=\"\",\"\",Pivot!J1623)","v":""},{"$f":"IF(Pivot!I1623=\"\",\"\",Pivot!I1623)","v":""},null,null,null,null,null,null,"","",{"$error":"#VALUE!"},null,"","",""]
[{"$f":"IF(Pivot!G1624=\"\",\"\",Pivot!G1624)","v":""},null,{"$f":"IF(Pivot!H1624=\"\",\"\",Pivot!H1624)","v":""},null,{"$f":"IF(Pivot!J1624=\"\",\"\",Pivot!J1624)","v":""},{"$f":"IF(Pivot!I1624=\"\",\"\",Pivot!I1624)","v":""},null,null,null,null,null,null,"","",{"$error":"#VALUE!"},null,"","",""]
[{"$f":"IF(Pivot!G1625=\"\",\"\",Pivot!G1625)","v":""},null,{"$f":"IF(Pivot!H1625=\"\",\"\",Pivot!H1625)","v":""},null,{"$f":"IF(Pivot!J1625=\"\",\"\",Pivot!J1625)","v":""},{"$f":"IF(Pivot!I1625=\"\",\"\",Pivot!I1625)","v":""},null,null,null,null,null,null,"","",{"$error":"#VALUE!"},null,"","",""]
[{"$f":"IF(Pivot!G1626=\"\",\"\",Pivot!G1626)","v":""},null,{"$f":"IF(Pivot!H1626=\"\",\"\",Pivot!H1626)","v":""},null,{"$f":"IF(Pivot!J1626=\"\",\"\",Pivot!J1626)","v":""},{"$f":"IF(Pivot!I1626=\"\",\"\",Pivot!I1626)","v":""},null,null,null,null,null,null,"","",{"$error":"#VALUE!"},null,"","",""]
[{"$f":"IF(Pivot!G1627=\"\",\"\",Pivot!G1627)","v":""},null,{"$f":"IF(Pivot!H1627=\"\",\"\",Pivot!H1627)","v":""},null,{"$f":"IF(Pivot!J1627=\"\",\"\",Pivot!J1627)","v":""},{"$f":"IF(Pivot!I1627=\"\",\"\",Pivot!I1627)","v":""},null,null,null,null,null,null,"","",{"$error":"#VALUE!"},null,"","",""]
[{"$f":"IF(Pivot!G1628=\"\",\"\",Pivot!G1628)","v":""},null,{"$f":"IF(Pivot!H1628=\"\",\"\",Pivot!H1628)","v":""},null,{"$f":"IF(Pivot!J1628=\"\",\"\",Pivot!J1628)","v":""},{"$f":"IF(Pivot!I1628=\"\",\"\",Pivot!I1628)","v":""},null,null,null,null,null,null,"","",{"$error":"#VALUE!"},null,"","",""]
[{"$f":"IF(Pivot!G1629=\"\",\"\",Pivot!G1629)","v":""},null,{"$f":"IF(Pivot!H1629=\"\",\"\",Pivot!H1629)","v":""},null,{"$f":"IF(Pivot!J1629=\"\",\"\",Pivot!J1629)","v":""},{"$f":"IF(Pivot!I1629=\"\",\"\",Pivot!I1629)","v":""},null,null,null,null,null,null,"","",{"$error":"#VALUE!"},null,"","",""]
[{"$f":"IF(Pivot!G1630=\"\",\"\",Pivot!G1630)","v":""},null,{"$f":"IF(Pivot!H1630=\"\",\"\",Pivot!H1630)","v":""},null,{"$f":"IF(Pivot!J1630=\"\",\"\",Pivot!J1630)","v":""},{"$f":"IF(Pivot!I1630=\"\",\"\",Pivot!I1630)","v":""},null,null,null,null,null,null,"","",{"$error":"#VALUE!"},null,"","",""]
[{"$f":"IF(Pivot!G1631=\"\",\"\",Pivot!G1631)","v":""},null,{"$f":"IF(Pivot!H1631=\"\",\"\",Pivot!H1631)","v":""},null,{"$f":"IF(Pivot!J1631=\"\",\"\",Pivot!J1631)","v":""},{"$f":"IF(Pivot!I1631=\"\",\"\",Pivot!I1631)","v":""},null,null,null,null,null,null,"","",{"$error":"#VALUE!"},null,"","",""]
[{"$f":"IF(Pivot!G1632=\"\",\"\",Pivot!G1632)","v":""},null,{"$f":"IF(Pivot!H1632=\"\",\"\",Pivot!H1632)","v":""},null,{"$f":"IF(Pivot!J1632=\"\",\"\",Pivot!J1632)","v":""},{"$f":"IF(Pivot!I1632=\"\",\"\",Pivot!I1632)","v":""},null,null,null,null,null,null,"","",{"$error":"#VALUE!"},null,"","",""]
[{"$f":"IF(Pivot!G1633=\"\",\"\",Pivot!G1633)","v":""},null,{"$f":"IF(Pivot!H1633=\"\",\"\",Pivot!H1633)","v":""},null,{"$f":"IF(Pivot!J1633=\"\",\"\",Pivot!J1633)","v":""},{"$f":"IF(Pivot!I1633=\"\",\"\",Pivot!I1633)","v":""},null,null,null,null,null,null,"","",{"$error":"#VALUE!"},null,"","",""]
[{"$f":"IF(Pivot!G1634=\"\",\"\",Pivot!G1634)","v":""},null,{"$f":"IF(Pivot!H1634=\"\",\"\",Pivot!H1634)","v":""},null,{"$f":"IF(Pivot!J1634=\"\",\"\",Pivot!J1634)","v":""},{"$f":"IF(Pivot!I1634=\"\",\"\",Pivot!I1634)","v":""},null,null,null,null,null,null,"","",{"$error":"#VALUE!"},null,"","",""]
[{"$f":"IF(Pivot!G1635=\"\",\"\",Pivot!G1635)","v":""},null,{"$f":"IF(Pivot!H1635=\"\",\"\",Pivot!H1635)","v":""},null,{"$f":"IF(Pivot!J1635=\"\",\"\",Pivot!J1635)","v":""},{"$f":"IF(Pivot!I1635=\"\",\"\",Pivot!I1635)","v":""},null,null,null,null,null,null,"","",{"$error":"#VALUE!"},null,"","",""]
[{"$f":"IF(Pivot!G1636=\"\",\"\",Pivot!G1636)","v":""},null,{"$f":"IF(Pivot!H1636=\"\",\"\",Pivot!H1636)","v":""},null,{"$f":"IF(Pivot!J1636=\"\",\"\",Pivot!J1636)","v":""},{"$f":"IF(Pivot!I1636=\"\",\"\",Pivot!I1636)","v":""},null,null,null,null,null,null,"","",{"$error":"#VALUE!"},null,"","",""]
[{"$f":"IF(Pivot!G1637=\"\",\"\",Pivot!G1637)","v":""},null,{"$f":"IF(Pivot!H1637=\"\",\"\",Pivot!H1637)","v":""},null,{"$f":"IF(Pivot!J1637=\"\",\"\",Pivot!J1637)","v":""},{"$f":"IF(Pivot!I1637=\"\",\"\",Pivot!I1637)","v":""},null,null,null,null,null,null,"","",{"$error":"#VALUE!"},null,"","",""]
[{"$f":"IF(Pivot!G1638=\"\",\"\",Pivot!G1638)","v":""},null,{"$f":"IF(Pivot!H1638=\"\",\"\",Pivot!H1638)","v":""},null,{"$f":"IF(Pivot!J1638=\"\",\"\",Pivot!J1638)","v":""},{"$f":"IF(Pivot!I1638=\"\",\"\",Pivot!I1638)","v":""},null,null,null,null,null,null,"","",{"$error":"#VALUE!"},null,"","",""]
[{"$f":"IF(Pivot!G1639=\"\",\"\",Pivot!G1639)","v":""},null,{"$f":"IF(Pivot!H1639=\"\",\"\",Pivot!H1639)","v":""},null,{"$f":"IF(Pivot!J1639=\"\",\"\",Pivot!J1639)","v":""},{"$f":"IF(Pivot!I1639=\"\",\"\",Pivot!I1639)","v":""},null,null,null,null,null,null,"","",{"$error":"#VALUE!"},null,"","",""]
[{"$f":"IF(Pivot!G1640=\"\",\"\",Pivot!G1640)","v":""},null,{"$f":"IF(Pivot!H1640=\"\",\"\",Pivot!H1640)","v":""},null,{"$f":"IF(Pivot!J1640=\"\",\"\",Pivot!J1640)","v":""},{"$f":"IF(Pivot!I1640=\"\",\"\",Pivot!I1640)","v":""},null,null,null,null,null,null,"","",{"$error":"#VALUE!"},null,"","",""]
[{"$f":"IF(Pivot!G1641=\"\",\"\",Pivot!G1641)","v":""},null,{"$f":"IF(Pivot!H1641=\"\",\"\",Pivot!H1641)","v":""},null,{"$f":"IF(Pivot!J1641=\"\",\"\",Pivot!J1641)","v":""},{"$f":"IF(Pivot!I1641=\"\",\"\",Pivot!I1641)","v":""},null,null,null,null,null,null,"","",{"$error":"#VALUE!"},null,"","",""]
[{"$f":"IF(Pivot!G1642=\"\",\"\",Pivot!G1642)","v":""},null,{"$f":"IF(Pivot!H1642=\"\",\"\",Pivot!H1642)","v":""},null,{"$f":"IF(Pivot!J1642=\"\",\"\",Pivot!J1642)","v":""},{"$f":"IF(Pivot!I1642=\"\",\"\",Pivot!I1642)","v":""},null,null,null,null,null,null,"","",{"$error":"#VALUE!"},null,"","",""]
[{"$f":"IF(Pivot!G1643=\"\",\"\",Pivot!G1643)","v":""},null,{"$f":"IF(Pivot!H1643=\"\",\"\",Pivot!H1643)","v":""},null,{"$f":"IF(Pivot!J1643=\"\",\"\",Pivot!J1643)","v":""},{"$f":"IF(Pivot!I1643=\"\",\"\",Pivot!I1643)","v":""},null,null,null,null,null,null,"","",{"$error":"#VALUE!"},null,"","",""]
[{"$f":"IF(Pivot!G1644=\"\",\"\",Pivot!G1644)","v":""},null,{"$f":"IF(Pivot!H1644=\"\",\"\",Pivot!H1644)","v":""},null,{"$f":"IF(Pivot!J1644=\"\",\"\",Pivot!J1644)","v":""},{"$f":"IF(Pivot!I1644=\"\",\"\",Pivot!I1644)","v":""},null,null,null,null,null,null,"","",{"$error":"#VALUE!"},null,"","",""]
[{"$f":"IF(Pivot!G1645=\"\",\"\",Pivot!G1645)","v":""},null,{"$f":"IF(Pivot!H1645=\"\",\"\",Pivot!H1645)","v":""},null,{"$f":"IF(Pivot!J1645=\"\",\"\",Pivot!J1645)","v":""},{"$f":"IF(Pivot!I1645=\"\",\"\",Pivot!I1645)","v":""},null,null,null,null,null,null,"","",{"$error":"#VALUE!"},null,"","",""]
[{"$f":"IF(Pivot!G1646=\"\",\"\",Pivot!G1646)","v":""},null,{"$f":"IF(Pivot!H1646=\"\",\"\",Pivot!H1646)","v":""},null,{"$f":"IF(Pivot!J1646=\"\",\"\",Pivot!J1646)","v":""},{"$f":"IF(Pivot!I1646=\"\",\"\",Pivot!I1646)","v":""},null,null,null,null,null,null,"","",{"$error":"#VALUE!"},null,"","",""]
[{"$f":"IF(Pivot!G1647=\"\",\"\",Pivot!G1647)","v":""},null,{"$f":"IF(Pivot!H1647=\"\",\"\",Pivot!H1647)","v":""},null,{"$f":"IF(Pivot!J1647=\"\",\"\",Pivot!J1647)","v":""},{"$f":"IF(Pivot!I1647=\"\",\"\",Pivot!I1647)","v":""},null,null,null,null,null,null,"","",{"$error":"#VALUE!"},null,"","",""]
[{"$f":"IF(Pivot!G1648=\"\",\"\",Pivot!G1648)","v":""},null,{"$f":"IF(Pivot!H1648=\"\",\"\",Pivot!H1648)","v":""},null,{"$f":"IF(Pivot!J1648=\"\",\"\",Pivot!J1648)","v":""},{"$f":"IF(Pivot!I1648=\"\",\"\",Pivot!I1648)","v":""},null,null,null,null,null,null,"","",{"$error":"#VALUE!"},null,"","",""]
[{"$f":"IF(Pivot!G1649=\"\",\"\",Pivot!G1649)","v":""},null,{"$f":"IF(Pivot!H1649=\"\",\"\",Pivot!H1649)","v":""},null,{"$f":"IF(Pivot!J1649=\"\",\"\",Pivot!J1649)","v":""},{"$f":"IF(Pivot!I1649=\"\",\"\",Pivot!I1649)","v":""},null,null,null,null,null,null,"","",{"$error":"#VALUE!"},null,"","",""]
[{"$f":"IF(Pivot!G1650=\"\",\"\",Pivot!G1650)","v":""},null,{"$f":"IF(Pivot!H1650=\"\",\"\",Pivot!H1650)","v":""},null,{"$f":"IF(Pivot!J1650=\"\",\"\",Pivot!J1650)","v":""},{"$f":"IF(Pivot!I1650=\"\",\"\",Pivot!I1650)","v":""},null,null,null,null,null,null,"","",{"$error":"#VALUE!"},null,"","",""]
[{"$f":"IF(Pivot!G1651=\"\",\"\",Pivot!G1651)","v":""},null,{"$f":"IF(Pivot!H1651=\"\",\"\",Pivot!H1651)","v":""},null,{"$f":"IF(Pivot!J1651=\"\",\"\",Pivot!J1651)","v":""},{"$f":"IF(Pivot!I1651=\"\",\"\",Pivot!I1651)","v":""},null,null,null,null,null,null,"","",{"$error":"#VALUE!"},null,"","",""]
[{"$f":"IF(Pivot!G1652=\"\",\"\",Pivot!G1652)","v":""},null,{"$f":"IF(Pivot!H1652=\"\",\"\",Pivot!H1652)","v":""},null,{"$f":"IF(Pivot!J1652=\"\",\"\",Pivot!J1652)","v":""},{"$f":"IF(Pivot!I1652=\"\",\"\",Pivot!I1652)","v":""},null,null,null,null,null,null,"","",{"$error":"#VALUE!"},null,"","",""]
[{"$f":"IF(Pivot!G1653=\"\",\"\",Pivot!G1653)","v":""},null,{"$f":"IF(Pivot!H1653=\"\",\"\",Pivot!H1653)","v":""},null,{"$f":"IF(Pivot!J1653=\"\",\"\",Pivot!J1653)","v":""},{"$f":"IF(Pivot!I1653=\"\",\"\",Pivot!I1653)","v":""},null,null,null,null,null,null,"","",{"$error":"#VALUE!"},null,"","",""]
[{"$f":"IF(Pivot!G1654=\"\",\"\",Pivot!G1654)","v":""},null,{"$f":"IF(Pivot!H1654=\"\",\"\",Pivot!H1654)","v":""},null,{"$f":"IF(Pivot!J1654=\"\",\"\",Pivot!J1654)","v":""},{"$f":"IF(Pivot!I1654=\"\",\"\",Pivot!I1654)","v":""},null,null,null,null,null,null,"","",{"$error":"#VALUE!"},null,"","",""]
[{"$f":"IF(Pivot!G1655=\"\",\"\",Pivot!G1655)","v":""},null,{"$f":"IF(Pivot!H1655=\"\",\"\",Pivot!H1655)","v":""},null,{"$f":"IF(Pivot!J1655=\"\",\"\",Pivot!J1655)","v":""},{"$f":"IF(Pivot!I1655=\"\",\"\",Pivot!I1655)","v":""},null,null,null,null,null,null,"","",{"$error":"#VALUE!"},null,"","",""]
[{"$f":"IF(Pivot!G1656=\"\",\"\",Pivot!G1656)","v":""},null,{"$f":"IF(Pivot!H1656=\"\",\"\",Pivot!H1656)","v":""},null,{"$f":"IF(Pivot!J1656=\"\",\"\",Pivot!J1656)","v":""},{"$f":"IF(Pivot!I1656=\"\",\"\",Pivot!I1656)","v":""},null,null,null,null,null,null,"","",{"$error":"#VALUE!"},null,"","",""]
[{"$f":"IF(Pivot!G1657=\"\",\"\",Pivot!G1657)","v":""},null,{"$f":"IF(Pivot!H1657=\"\",\"\",Pivot!H1657)","v":""},null,{"$f":"IF(Pivot!J1657=\"\",\"\",Pivot!J1657)","v":""},{"$f":"IF(Pivot!I1657=\"\",\"\",Pivot!I1657)","v":""},null,null,null,null,null,null,"","",{"$error":"#VALUE!"},null,"","",""]
[{"$f":"IF(Pivot!G1658=\"\",\"\",Pivot!G1658)","v":""},null,{"$f":"IF(Pivot!H1658=\"\",\"\",Pivot!H1658)","v":""},null,{"$f":"IF(Pivot!J1658=\"\",\"\",Pivot!J1658)","v":""},{"$f":"IF(Pivot!I1658=\"\",\"\",Pivot!I1658)","v":""},null,null,null,null,null,null,"","",{"$error":"#VALUE!"},null,"","",""]
[{"$f":"IF(Pivot!G1659=\"\",\"\",Pivot!G1659)","v":""},null,{"$f":"IF(Pivot!H1659=\"\",\"\",Pivot!H1659)","v":""},null,{"$f":"IF(Pivot!J1659=\"\",\"\",Pivot!J1659)","v":""},{"$f":"IF(Pivot!I1659=\"\",\"\",Pivot!I1659)","v":""},null,null,null,null,null,null,"","",{"$error":"#VALUE!"},null,"","",""]
[{"$f":"IF(Pivot!G1660=\"\",\"\",Pivot!G1660)","v":""},null,{"$f":"IF(Pivot!H1660=\"\",\"\",Pivot!H1660)","v":""},null,{"$f":"IF(Pivot!J1660=\"\",\"\",Pivot!J1660)","v":""},{"$f":"IF(Pivot!I1660=\"\",\"\",Pivot!I1660)","v":""},null,null,null,null,null,null,"","",{"$error":"#VALUE!"},null,"","",""]
[{"$f":"IF(Pivot!G1661=\"\",\"\",Pivot!G1661)","v":""},null,{"$f":"IF(Pivot!H1661=\"\",\"\",Pivot!H1661)","v":""},null,{"$f":"IF(Pivot!J1661=\"\",\"\",Pivot!J1661)","v":""},{"$f":"IF(Pivot!I1661=\"\",\"\",Pivot!I1661)","v":""},null,null,null,null,null,null,"","",{"$error":"#VALUE!"},null,"","",""]
[{"$f":"IF(Pivot!G1662=\"\",\"\",Pivot!G1662)","v":""},null,{"$f":"IF(Pivot!H1662=\"\",\"\",Pivot!H1662)","v":""},null,{"$f":"IF(Pivot!J1662=\"\",\"\",Pivot!J1662)","v":""},{"$f":"IF(Pivot!I1662=\"\",\"\",Pivot!I1662)","v":""},null,null,null,null,null,null,"","",{"$error":"#VALUE!"},null,"","",""]
[{"$f":"IF(Pivot!G1663=\"\",\"\",Pivot!G1663)","v":""},null,{"$f":"IF(Pivot!H1663=\"\",\"\",Pivot!H1663)","v":""},null,{"$f":"IF(Pivot!J1663=\"\",\"\",Pivot!J1663)","v":""},{"$f":"IF(Pivot!I1663=\"\",\"\",Pivot!I1663)","v":""},null,null,null,null,null,null,"","",{"$error":"#VALUE!"},null,"","",""]
[{"$f":"IF(Pivot!G1664=\"\",\"\",Pivot!G1664)","v":""},null,{"$f":"IF(Pivot!H1664=\"\",\"\",Pivot!H1664)","v":""},null,{"$f":"IF(Pivot!J1664=\"\",\"\",Pivot!J1664)","v":""},{"$f":"IF(Pivot!I1664=\"\",\"\",Pivot!I1664)","v":""},null,null,null,null,null,null,"","",{"$error":"#VALUE!"},null,"","",""]
[{"$f":"IF(Pivot!G1665=\"\",\"\",Pivot!G1665)","v":""},null,{"$f":"IF(Pivot!H1665=\"\",\"\",Pivot!H1665)","v":""},null,{"$f":"IF(Pivot!J1665=\"\",\"\",Pivot!J1665)","v":""},{"$f":"IF(Pivot!I1665=\"\",\"\",Pivot!I1665)","v":""},null,null,null,null,null,null,"","",{"$error":"#VALUE!"},null,"","",""]
[{"$f":"IF(Pivot!G1666=\"\",\"\",Pivot!G1666)","v":""},null,{"$f":"IF(Pivot!H1666=\"\",\"\",Pivot!H1666)","v":""},null,{"$f":"IF(Pivot!J1666=\"\",\"\",Pivot!J1666)","v":""},{"$f":"IF(Pivot!I1666=\"\",\"\",Pivot!I1666)","v":""},null,null,null,null,null,null,"","",{"$error":"#VALUE!"},null,"","",""]
[{"$f":"IF(Pivot!G1667=\"\",\"\",Pivot!G1667)","v":""},null,{"$f":"IF(Pivot!H1667=\"\",\"\",Pivot!H1667)","v":""},null,{"$f":"IF(Pivot!J1667=\"\",\"\",Pivot!J1667)","v":""},{"$f":"IF(Pivot!I1667=\"\",\"\",Pivot!I1667)","v":""},null,null,null,null,null,null,"","",{"$error":"#VALUE!"},null,"","",""]
[{"$f":"IF(Pivot!G1668=\"\",\"\",Pivot!G1668)","v":""},null,{"$f":"IF(Pivot!H1668=\"\",\"\",Pivot!H1668)","v":""},null,{"$f":"IF(Pivot!J1668=\"\",\"\",Pivot!J1668)","v":""},{"$f":"IF(Pivot!I1668=\"\",\"\",Pivot!I1668)","v":""},null,null,null,null,null,null,"","",{"$f":"N1671/M1671","v":{"$error":"#VALUE!"}},null,"","",""]
[{"$f":"IF(Pivot!G1669=\"\",\"\",Pivot!G1669)","v":""},null,{"$f":"IF(Pivot!H1669=\"\",\"\",Pivot!H1669)","v":""},null,{"$f":"IF(Pivot!J1669=\"\",\"\",Pivot!J1669)","v":""},{"$f":"IF(Pivot!I1669=\"\",\"\",Pivot!I1669)","v":""},null,null,null,null,null,null,{"$f":"IF(C1672=\"\",\"\",C1672*L1672)","v":""},{"$f":"IF(F1672=\"\",\"\",M1672-F1672)","v":""},{"$error":"#VALUE!"},null,{"$f":"IF(C1672=\"\",\"\",C1672*P1672)","v":""},{"$f":"IF(F1672=\"\",\"\",Q1672-F1672)","v":""},{"$f":"IF(F1672=\"\",\"\",R1672/F1672)","v":""}]
[{"$f":"IF(Pivot!G1670=\"\",\"\",Pivot!G1670)","v":""},null,{"$f":"IF(Pivot!H1670=\"\",\"\",Pivot!H1670)","v":""},null,{"$f":"IF(Pivot!J1670=\"\",\"\",Pivot!J1670)","v":""},{"$f":"IF(Pivot!I1670=\"\",\"\",Pivot!I1670)","v":""},null,null,null,null,null,null,"","",{"$error":"#VALUE!"},null,"","",""]
[{"$f":"IF(Pivot!G1671=\"\",\"\",Pivot!G1671)","v":""},null,{"$f":"IF(Pivot!H1671=\"\",\"\",Pivot!H1671)","v":""},null,{"$f":"IF(Pivot!J1671=\"\",\"\",Pivot!J1671)","v":""},{"$f":"IF(Pivot!I1671=\"\",\"\",Pivot!I1671)","v":""},null,null,null,null,null,null,"","",{"$error":"#VALUE!"},null,"","",""]
[{"$f":"IF(Pivot!G1672=\"\",\"\",Pivot!G1672)","v":""},null,{"$f":"IF(Pivot!H1672=\"\",\"\",Pivot!H1672)","v":""},null,{"$f":"IF(Pivot!J1672=\"\",\"\",Pivot!J1672)","v":""},{"$f":"IF(Pivot!I1672=\"\",\"\",Pivot!I1672)","v":""},null,null,null,null,null,null,"","",{"$error":"#VALUE!"},null,"","",""]
[{"$f":"IF(Pivot!G1673=\"\",\"\",Pivot!G1673)","v":""},null,{"$f":"IF(Pivot!H1673=\"\",\"\",Pivot!H1673)","v":""},null,{"$f":"IF(Pivot!J1673=\"\",\"\",Pivot!J1673)","v":""},{"$f":"IF(Pivot!I1673=\"\",\"\",Pivot!I1673)","v":""},null,null,null,null,null,null,"","",{"$error":"#VALUE!"},null,"","",""]
[{"$f":"IF(Pivot!G1674=\"\",\"\",Pivot!G1674)","v":""},null,{"$f":"IF(Pivot!H1674=\"\",\"\",Pivot!H1674)","v":""},null,{"$f":"IF(Pivot!J1674=\"\",\"\",Pivot!J1674)","v":""},{"$f":"IF(Pivot!I1674=\"\",\"\",Pivot!I1674)","v":""},null,null,null,null,null,null,"","",{"$error":"#VALUE!"},null,"","",""]
[{"$f":"IF(Pivot!G1675=\"\",\"\",Pivot!G1675)","v":""},null,{"$f":"IF(Pivot!H1675=\"\",\"\",Pivot!H1675)","v":""},null,{"$f":"IF(Pivot!J1675=\"\",\"\",Pivot!J1675)","v":""},{"$f":"IF(Pivot!I1675=\"\",\"\",Pivot!I1675)","v":""},null,null,null,null,null,null,"","",{"$error":"#VALUE!"},null,"","",""]
[{"$f":"IF(Pivot!G1676=\"\",\"\",Pivot!G1676)","v":""},null,{"$f":"IF(Pivot!H1676=\"\",\"\",Pivot!H1676)","v":""},null,{"$f":"IF(Pivot!J1676=\"\",\"\",Pivot!J1676)","v":""},{"$f":"IF(Pivot!I1676=\"\",\"\",Pivot!I1676)","v":""},null,null,null,null,null,null,"","",{"$error":"#VALUE!"},null,"","",""]
[{"$f":"IF(Pivot!G1677=\"\",\"\",Pivot!G1677)","v":""},null,{"$f":"IF(Pivot!H1677=\"\",\"\",Pivot!H1677)","v":""},null,{"$f":"IF(Pivot!J1677=\"\",\"\",Pivot!J1677)","v":""},{"$f":"IF(Pivot!I1677=\"\",\"\",Pivot!I1677)","v":""},null,null,null,null,null,null,"","",{"$error":"#VALUE!"},null,"","",""]
[{"$f":"IF(Pivot!G1678=\"\",\"\",Pivot!G1678)","v":""},null,{"$f":"IF(Pivot!H1678=\"\",\"\",Pivot!H1678)","v":""},null,{"$f":"IF(Pivot!J1678=\"\",\"\",Pivot!J1678)","v":""},{"$f":"IF(Pivot!I1678=\"\",\"\",Pivot!I1678)","v":""},null,null,null,null,null,null,"","",{"$error":"#VALUE!"},null,"","",""]
[{"$f":"IF(Pivot!G1679=\"\",\"\",Pivot!G1679)","v":""},null,{"$f":"IF(Pivot!H1679=\"\",\"\",Pivot!H1679)","v":""},null,{"$f":"IF(Pivot!J1679=\"\",\"\",Pivot!J1679)","v":""},{"$f":"IF(Pivot!I1679=\"\",\"\",Pivot!I1679)","v":""},null,null,null,null,null,null,"","",{"$error":"#VALUE!"},null,"","",""]
[{"$f":"IF(Pivot!G1680=\"\",\"\",Pivot!G1680)","v":""},null,{"$f":"IF(Pivot!H1680=\"\",\"\",Pivot!H1680)","v":""},null,{"$f":"IF(Pivot!J1680=\"\",\"\",Pivot!J1680)","v":""},{"$f":"IF(Pivot!I1680=\"\",\"\",Pivot!I1680)","v":""},null,null,null,null,null,null,"","",{"$error":"#VALUE!"},null,"","",""]
[{"$f":"IF(Pivot!G1681=\"\",\"\",Pivot!G1681)","v":""},null,{"$f":"IF(Pivot!H1681=\"\",\"\",Pivot!H1681)","v":""},null,{"$f":"IF(Pivot!J1681=\"\",\"\",Pivot!J1681)","v":""},{"$f":"IF(Pivot!I1681=\"\",\"\",Pivot!I1681)","v":""},null,null,null,null,null,null,"","",{"$error":"#VALUE!"},null,"","",""]
[{"$f":"IF(Pivot!G1682=\"\",\"\",Pivot!G1682)","v":""},null,{"$f":"IF(Pivot!H1682=\"\",\"\",Pivot!H1682)","v":""},null,{"$f":"IF(Pivot!J1682=\"\",\"\",Pivot!J1682)","v":""},{"$f":"IF(Pivot!I1682=\"\",\"\",Pivot!I1682)","v":""},null,null,null,null,null,null,"","",{"$error":"#VALUE!"},null,"","",""]
[{"$f":"IF(Pivot!G1683=\"\",\"\",Pivot!G1683)","v":""},null,{"$f":"IF(Pivot!H1683=\"\",\"\",Pivot!H1683)","v":""},null,{"$f":"IF(Pivot!J1683=\"\",\"\",Pivot!J1683)","v":""},{"$f":"IF(Pivot!I1683=\"\",\"\",Pivot!I1683)","v":""},null,null,null,null,null,null,"","",{"$error":"#VALUE!"},null,"","",""]
[{"$f":"IF(Pivot!G1684=\"\",\"\",Pivot!G1684)","v":""},null,{"$f":"IF(Pivot!H1684=\"\",\"\",Pivot!H1684)","v":""},null,{"$f":"IF(Pivot!J1684=\"\",\"\",Pivot!J1684)","v":""},{"$f":"IF(Pivot!I1684=\"\",\"\",Pivot!I1684)","v":""},null,null,null,null,null,null,"","",{"$error":"#VALUE!"},null,"","",""]
[{"$f":"IF(Pivot!G1685=\"\",\"\",Pivot!G1685)","v":""},null,{"$f":"IF(Pivot!H1685=\"\",\"\",Pivot!H1685)","v":""},null,{"$f":"IF(Pivot!J1685=\"\",\"\",Pivot!J1685)","v":""},{"$f":"IF(Pivot!I1685=\"\",\"\",Pivot!I1685)","v":""},null,null,null,null,null,null,"","",{"$error":"#VALUE!"},null,"","",""]
[{"$f":"IF(Pivot!G1686=\"\",\"\",Pivot!G1686)","v":""},null,{"$f":"IF(Pivot!H1686=\"\",\"\",Pivot!H1686)","v":""},null,{"$f":"IF(Pivot!J1686=\"\",\"\",Pivot!J1686)","v":""},{"$f":"IF(Pivot!I1686=\"\",\"\",Pivot!I1686)","v":""},null,null,null,null,null,null,"","",{"$error":"#VALUE!"},null,"","",""]
[{"$f":"IF(Pivot!G1687=\"\",\"\",Pivot!G1687)","v":""},null,{"$f":"IF(Pivot!H1687=\"\",\"\",Pivot!H1687)","v":""},null,{"$f":"IF(Pivot!J1687=\"\",\"\",Pivot!J1687)","v":""},{"$f":"IF(Pivot!I1687=\"\",\"\",Pivot!I1687)","v":""},null,null,null,null,null,null,"","",{"$error":"#VALUE!"},null,"","",""]
[{"$f":"IF(Pivot!G1688=\"\",\"\",Pivot!G1688)","v":""},null,{"$f":"IF(Pivot!H1688=\"\",\"\",Pivot!H1688)","v":""},null,{"$f":"IF(Pivot!J1688=\"\",\"\",Pivot!J1688)","v":""},{"$f":"IF(Pivot!I1688=\"\",\"\",Pivot!I1688)","v":""},null,null,null,null,null,null,"","",{"$error":"#VALUE!"},null,"","",""]
[{"$f":"IF(Pivot!G1689=\"\",\"\",Pivot!G1689)","v":""},null,{"$f":"IF(Pivot!H1689=\"\",\"\",Pivot!H1689)","v":""},null,{"$f":"IF(Pivot!J1689=\"\",\"\",Pivot!J1689)","v":""},{"$f":"IF(Pivot!I1689=\"\",\"\",Pivot!I1689)","v":""},null,null,null,null,null,null,"","",{"$error":"#VALUE!"},null,"","",""]
[{"$f":"IF(Pivot!G1690=\"\",\"\",Pivot!G1690)","v":""},null,{"$f":"IF(Pivot!H1690=\"\",\"\",Pivot!H1690)","v":""},null,{"$f":"IF(Pivot!J1690=\"\",\"\",Pivot!J1690)","v":""},{"$f":"IF(Pivot!I1690=\"\",\"\",Pivot!I1690)","v":""},null,null,null,null,null,null,"","",{"$error":"#VALUE!"},null,"","",""]
[{"$f":"IF(Pivot!G1691=\"\",\"\",Pivot!G1691)","v":""},null,{"$f":"IF(Pivot!H1691=\"\",\"\",Pivot!H1691)","v":""},null,{"$f":"IF(Pivot!J1691=\"\",\"\",Pivot!J1691)","v":""},{"$f":"IF(Pivot!I1691=\"\",\"\",Pivot!I1691)","v":""},null,null,null,null,null,null,"","",{"$error":"#VALUE!"},null,"","",""]
[{"$f":"IF(Pivot!G1692=\"\",\"\",Pivot!G1692)","v":""},null,{"$f":"IF(Pivot!H1692=\"\",\"\",Pivot!H1692)","v":""},null,{"$f":"IF(Pivot!J1692=\"\",\"\",Pivot!J1692)","v":""},{"$f":"IF(Pivot!I1692=\"\",\"\",Pivot!I1692)","v":""},null,null,null,null,null,null,"","",{"$error":"#VALUE!"},null,"","",""]
[{"$f":"IF(Pivot!G1693=\"\",\"\",Pivot!G1693)","v":""},null,{"$f":"IF(Pivot!H1693=\"\",\"\",Pivot!H1693)","v":""},null,{"$f":"IF(Pivot!J1693=\"\",\"\",Pivot!J1693)","v":""},{"$f":"IF(Pivot!I1693=\"\",\"\",Pivot!I1693)","v":""},null,null,null,null,null,null,"","",{"$error":"#VALUE!"},null,"","",""]
[{"$f":"IF(Pivot!G1694=\"\",\"\",Pivot!G1694)","v":""},null,{"$f":"IF(Pivot!H1694=\"\",\"\",Pivot!H1694)","v":""},null,{"$f":"IF(Pivot!J1694=\"\",\"\",Pivot!J1694)","v":""},{"$f":"IF(Pivot!I1694=\"\",\"\",Pivot!I1694)","v":""},null,null,null,null,null,null,"","",{"$error":"#VALUE!"},null,"","",""]
[{"$f":"IF(Pivot!G1695=\"\",\"\",Pivot!G1695)","v":""},null,{"$f":"IF(Pivot!H1695=\"\",\"\",Pivot!H1695)","v":""},null,{"$f":"IF(Pivot!J1695=\"\",\"\",Pivot!J1695)","v":""},{"$f":"IF(Pivot!I1695=\"\",\"\",Pivot!I1695)","v":""},null,null,null,null,null,null,"","",{"$error":"#VALUE!"},null,"","",""]
[{"$f":"IF(Pivot!G1696=\"\",\"\",Pivot!G1696)","v":""},null,{"$f":"IF(Pivot!H1696=\"\",\"\",Pivot!H1696)","v":""},null,{"$f":"IF(Pivot!J1696=\"\",\"\",Pivot!J1696)","v":""},{"$f":"IF(Pivot!I1696=\"\",\"\",Pivot!I1696)","v":""},null,null,null,null,null,null,"","",{"$error":"#VALUE!"},null,"","",""]
[{"$f":"IF(Pivot!G1697=\"\",\"\",Pivot!G1697)","v":""},null,{"$f":"IF(Pivot!H1697=\"\",\"\",Pivot!H1697)","v":""},null,{"$f":"IF(Pivot!J1697=\"\",\"\",Pivot!J1697)","v":""},{"$f":"IF(Pivot!I1697=\"\",\"\",Pivot!I1697)","v":""},null,null,null,null,null,null,"","",{"$error":"#VALUE!"},null,"","",""]
[{"$f":"IF(Pivot!G1698=\"\",\"\",Pivot!G1698)","v":""},null,{"$f":"IF(Pivot!H1698=\"\",\"\",Pivot!H1698)","v":""},null,{"$f":"IF(Pivot!J1698=\"\",\"\",Pivot!J1698)","v":""},{"$f":"IF(Pivot!I1698=\"\",\"\",Pivot!I1698)","v":""},null,null,null,null,null,null,"","",{"$error":"#VALUE!"},null,"","",""]
[{"$f":"IF(Pivot!G1699=\"\",\"\",Pivot!G1699)","v":""},null,{"$f":"IF(Pivot!H1699=\"\",\"\",Pivot!H1699)","v":""},null,{"$f":"IF(Pivot!J1699=\"\",\"\",Pivot!J1699)","v":""},{"$f":"IF(Pivot!I1699=\"\",\"\",Pivot!I1699)","v":""},null,null,null,null,null,null,"","",{"$error":"#VALUE!"},null,"","",""]
[{"$f":"IF(Pivot!G1700=\"\",\"\",Pivot!G1700)","v":""},null,{"$f":"IF(Pivot!H1700=\"\",\"\",Pivot!H1700)","v":""},null,{"$f":"IF(Pivot!J1700=\"\",\"\",Pivot!J1700)","v":""},{"$f":"IF(Pivot!I1700=\"\",\"\",Pivot!I1700)","v":""},null,null,null,null,null,null,"","",{"$error":"#VALUE!"},null,"","",""]
[{"$f":"IF(Pivot!G1701=\"\",\"\",Pivot!G1701)","v":""},null,{"$f":"IF(Pivot!H1701=\"\",\"\",Pivot!H1701)","v":""},null,{"$f":"IF(Pivot!J1701=\"\",\"\",Pivot!J1701)","v":""},{"$f":"IF(Pivot!I1701=\"\",\"\",Pivot!I1701)","v":""},null,null,null,null,null,null,"","",{"$error":"#VALUE!"},null,"","",""]
[{"$f":"IF(Pivot!G1702=\"\",\"\",Pivot!G1702)","v":""},null,{"$f":"IF(Pivot!H1702=\"\",\"\",Pivot!H1702)","v":""},null,{"$f":"IF(Pivot!J1702=\"\",\"\",Pivot!J1702)","v":""},{"$f":"IF(Pivot!I1702=\"\",\"\",Pivot!I1702)","v":""},null,null,null,null,null,null,"","",{"$error":"#VALUE!"},null,"","",""]
[{"$f":"IF(Pivot!G1703=\"\",\"\",Pivot!G1703)","v":""},null,{"$f":"IF(Pivot!H1703=\"\",\"\",Pivot!H1703)","v":""},null,{"$f":"IF(Pivot!J1703=\"\",\"\",Pivot!J1703)","v":""},{"$f":"IF(Pivot!I1703=\"\",\"\",Pivot!I1703)","v":""},null,null,null,null,null,null,"","",{"$error":"#VALUE!"},null,"","",""]
[{"$f":"IF(Pivot!G1704=\"\",\"\",Pivot!G1704)","v":""},null,{"$f":"IF(Pivot!H1704=\"\",\"\",Pivot!H1704)","v":""},null,{"$f":"IF(Pivot!J1704=\"\",\"\",Pivot!J1704)","v":""},{"$f":"IF(Pivot!I1704=\"\",\"\",Pivot!I1704)","v":""},null,null,null,null,null,null,"","",{"$error":"#VALUE!"},null,"","",""]
[{"$f":"IF(Pivot!G1705=\"\",\"\",Pivot!G1705)","v":""},null,{"$f":"IF(Pivot!H1705=\"\",\"\",Pivot!H1705)","v":""},null,{"$f":"IF(Pivot!J1705=\"\",\"\",Pivot!J1705)","v":""},{"$f":"IF(Pivot!I1705=\"\",\"\",Pivot!I1705)","v":""},null,null,null,null,null,null,"","",{"$error":"#VALUE!"},null,"","",""]
[{"$f":"IF(Pivot!G1706=\"\",\"\",Pivot!G1706)","v":""},null,{"$f":"IF(Pivot!H1706=\"\",\"\",Pivot!H1706)","v":""},null,{"$f":"IF(Pivot!J1706=\"\",\"\",Pivot!J1706)","v":""},{"$f":"IF(Pivot!I1706=\"\",\"\",Pivot!I1706)","v":""},null,null,null,null,null,null,"","",{"$error":"#VALUE!"},null,"","",""]
[{"$f":"IF(Pivot!G1707=\"\",\"\",Pivot!G1707)","v":""},null,{"$f":"IF(Pivot!H1707=\"\",\"\",Pivot!H1707)","v":""},null,{"$f":"IF(Pivot!J1707=\"\",\"\",Pivot!J1707)","v":""},{"$f":"IF(Pivot!I1707=\"\",\"\",Pivot!I1707)","v":""},null,null,null,null,null,null,"","",{"$error":"#VALUE!"},null,"","",""]
[{"$f":"IF(Pivot!G1708=\"\",\"\",Pivot!G1708)","v":""},null,{"$f":"IF(Pivot!H1708=\"\",\"\",Pivot!H1708)","v":""},null,{"$f":"IF(Pivot!J1708=\"\",\"\",Pivot!J1708)","v":""},{"$f":"IF(Pivot!I1708=\"\",\"\",Pivot!I1708)","v":""},null,null,null,null,null,null,"","",{"$error":"#VALUE!"},null,"","",""]
[{"$f":"IF(Pivot!G1709=\"\",\"\",Pivot!G1709)","v":""},null,{"$f":"IF(Pivot!H1709=\"\",\"\",Pivot!H1709)","v":""},null,{"$f":"IF(Pivot!J1709=\"\",\"\",Pivot!J1709)","v":""},{"$f":"IF(Pivot!I1709=\"\",\"\",Pivot!I1709)","v":""},null,null,null,null,null,null,"","",{"$error":"#VALUE!"},null,"","",""]
[{"$f":"IF(Pivot!G1710=\"\",\"\",Pivot!G1710)","v":""},null,{"$f":"IF(Pivot!H1710=\"\",\"\",Pivot!H1710)","v":""},null,{"$f":"IF(Pivot!J1710=\"\",\"\",Pivot!J1710)","v":""},{"$f":"IF(Pivot!I1710=\"\",\"\",Pivot!I1710)","v":""},null,null,null,null,null,null,"","",{"$error":"#VALUE!"},null,"","",""]
[{"$f":"IF(Pivot!G1711=\"\",\"\",Pivot!G1711)","v":""},null,{"$f":"IF(Pivot!H1711=\"\",\"\",Pivot!H1711)","v":""},null,{"$f":"IF(Pivot!J1711=\"\",\"\",Pivot!J1711)","v":""},{"$f":"IF(Pivot!I1711=\"\",\"\",Pivot!I1711)","v":""},null,null,null,null,null,null,"","",{"$error":"#VALUE!"},null,"","",""]
[{"$f":"IF(Pivot!G1712=\"\",\"\",Pivot!G1712)","v":""},null,{"$f":"IF(Pivot!H1712=\"\",\"\",Pivot!H1712)","v":""},null,{"$f":"IF(Pivot!J1712=\"\",\"\",Pivot!J1712)","v":""},{"$f":"IF(Pivot!I1712=\"\",\"\",Pivot!I1712)","v":""},null,null,null,null,null,null,"","",{"$error":"#VALUE!"},null,"","",""]
[{"$f":"IF(Pivot!G1713=\"\",\"\",Pivot!G1713)","v":""},null,{"$f":"IF(Pivot!H1713=\"\",\"\",Pivot!H1713)","v":""},null,{"$f":"IF(Pivot!J1713=\"\",\"\",Pivot!J1713)","v":""},{"$f":"IF(Pivot!I1713=\"\",\"\",Pivot!I1713)","v":""},null,null,null,null,null,null,"","",{"$error":"#VALUE!"},null,"","",""]
[{"$f":"IF(Pivot!G1714=\"\",\"\",Pivot!G1714)","v":""},null,{"$f":"IF(Pivot!H1714=\"\",\"\",Pivot!H1714)","v":""},null,{"$f":"IF(Pivot!J1714=\"\",\"\",Pivot!J1714)","v":""},{"$f":"IF(Pivot!I1714=\"\",\"\",Pivot!I1714)","v":""},null,null,null,null,null,null,"","",{"$error":"#VALUE!"},null,"","",""]
[{"$f":"IF(Pivot!G1715=\"\",\"\",Pivot!G1715)","v":""},null,{"$f":"IF(Pivot!H1715=\"\",\"\",Pivot!H1715)","v":""},null,{"$f":"IF(Pivot!J1715=\"\",\"\",Pivot!J1715)","v":""},{"$f":"IF(Pivot!I1715=\"\",\"\",Pivot!I1715)","v":""},null,null,null,null,null,null,"","",{"$error":"#VALUE!"},null,"","",""]
[{"$f":"IF(Pivot!G1716=\"\",\"\",Pivot!G1716)","v":""},null,{"$f":"IF(Pivot!H1716=\"\",\"\",Pivot!H1716)","v":""},null,{"$f":"IF(Pivot!J1716=\"\",\"\",Pivot!J1716)","v":""},{"$f":"IF(Pivot!I1716=\"\",\"\",Pivot!I1716)","v":""},null,null,null,null,null,null,"","",{"$error":"#VALUE!"},null,"","",""]
[{"$f":"IF(Pivot!G1717=\"\",\"\",Pivot!G1717)","v":""},null,{"$f":"IF(Pivot!H1717=\"\",\"\",Pivot!H1717)","v":""},null,{"$f":"IF(Pivot!J1717=\"\",\"\",Pivot!J1717)","v":""},{"$f":"IF(Pivot!I1717=\"\",\"\",Pivot!I1717)","v":""},null,null,null,null,null,null,"","",{"$error":"#VALUE!"},null,"","",""]
[{"$f":"IF(Pivot!G1718=\"\",\"\",Pivot!G1718)","v":""},null,{"$f":"IF(Pivot!H1718=\"\",\"\",Pivot!H1718)","v":""},null,{"$f":"IF(Pivot!J1718=\"\",\"\",Pivot!J1718)","v":""},{"$f":"IF(Pivot!I1718=\"\",\"\",Pivot!I1718)","v":""},null,null,null,null,null,null,"","",{"$error":"#VALUE!"},null,"","",""]
[{"$f":"IF(Pivot!G1719=\"\",\"\",Pivot!G1719)","v":""},null,{"$f":"IF(Pivot!H1719=\"\",\"\",Pivot!H1719)","v":""},null,{"$f":"IF(Pivot!J1719=\"\",\"\",Pivot!J1719)","v":""},{"$f":"IF(Pivot!I1719=\"\",\"\",Pivot!I1719)","v":""},null,null,null,null,null,null,"","",{"$error":"#VALUE!"},null,"","",""]
[{"$f":"IF(Pivot!G1720=\"\",\"\",Pivot!G1720)","v":""},null,{"$f":"IF(Pivot!H1720=\"\",\"\",Pivot!H1720)","v":""},null,{"$f":"IF(Pivot!J1720=\"\",\"\",Pivot!J1720)","v":""},{"$f":"IF(Pivot!I1720=\"\",\"\",Pivot!I1720)","v":""},null,null,null,null,null,null,"","",{"$error":"#VALUE!"},null,"","",""]
[{"$f":"IF(Pivot!G1721=\"\",\"\",Pivot!G1721)","v":""},null,{"$f":"IF(Pivot!H1721=\"\",\"\",Pivot!H1721)","v":""},null,{"$f":"IF(Pivot!J1721=\"\",\"\",Pivot!J1721)","v":""},{"$f":"IF(Pivot!I1721=\"\",\"\",Pivot!I1721)","v":""},null,null,null,null,null,null,"","",{"$error":"#VALUE!"},null,"","",""]
[{"$f":"IF(Pivot!G1722=\"\",\"\",Pivot!G1722)","v":""},null,{"$f":"IF(Pivot!H1722=\"\",\"\",Pivot!H1722)","v":""},null,{"$f":"IF(Pivot!J1722=\"\",\"\",Pivot!J1722)","v":""},{"$f":"IF(Pivot!I1722=\"\",\"\",Pivot!I1722)","v":""},null,null,null,null,null,null,"","",{"$error":"#VALUE!"},null,"","",""]
[{"$f":"IF(Pivot!G1723=\"\",\"\",Pivot!G1723)","v":""},null,{"$f":"IF(Pivot!H1723=\"\",\"\",Pivot!H1723)","v":""},null,{"$f":"IF(Pivot!J1723=\"\",\"\",Pivot!J1723)","v":""},{"$f":"IF(Pivot!I1723=\"\",\"\",Pivot!I1723)","v":""},null,null,null,null,null,null,"","",{"$error":"#VALUE!"},null,"","",""]
[{"$f":"IF(Pivot!G1724=\"\",\"\",Pivot!G1724)","v":""},null,{"$f":"IF(Pivot!H1724=\"\",\"\",Pivot!H1724)","v":""},null,{"$f":"IF(Pivot!J1724=\"\",\"\",Pivot!J1724)","v":""},{"$f":"IF(Pivot!I1724=\"\",\"\",Pivot!I1724)","v":""},null,null,null,null,null,null,"","",{"$error":"#VALUE!"},null,"","",""]
[{"$f":"IF(Pivot!G1725=\"\",\"\",Pivot!G1725)","v":""},null,{"$f":"IF(Pivot!H1725=\"\",\"\",Pivot!H1725)","v":""},null,{"$f":"IF(Pivot!J1725=\"\",\"\",Pivot!J1725)","v":""},{"$f":"IF(Pivot!I1725=\"\",\"\",Pivot!I1725)","v":""},null,null,null,null,null,null,"","",{"$error":"#VALUE!"},null,"","",""]
[{"$f":"IF(Pivot!G1726=\"\",\"\",Pivot!G1726)","v":""},null,{"$f":"IF(Pivot!H1726=\"\",\"\",Pivot!H1726)","v":""},null,{"$f":"IF(Pivot!J1726=\"\",\"\",Pivot!J1726)","v":""},{"$f":"IF(Pivot!I1726=\"\",\"\",Pivot!I1726)","v":""},null,null,null,null,null,null,"","",{"$error":"#VALUE!"},null,"","",""]
[{"$f":"IF(Pivot!G1727=\"\",\"\",Pivot!G1727)","v":""},null,{"$f":"IF(Pivot!H1727=\"\",\"\",Pivot!H1727)","v":""},null,{"$f":"IF(Pivot!J1727=\"\",\"\",Pivot!J1727)","v":""},{"$f":"IF(Pivot!I1727=\"\",\"\",Pivot!I1727)","v":""},null,null,null,null,null,null,"","",{"$error":"#VALUE!"},null,"","",""]
[{"$f":"IF(Pivot!G1728=\"\",\"\",Pivot!G1728)","v":""},null,{"$f":"IF(Pivot!H1728=\"\",\"\",Pivot!H1728)","v":""},null,{"$f":"IF(Pivot!J1728=\"\",\"\",Pivot!J1728)","v":""},{"$f":"IF(Pivot!I1728=\"\",\"\",Pivot!I1728)","v":""},null,null,null,null,null,null,"","",{"$error":"#VALUE!"},null,"","",""]
[{"$f":"IF(Pivot!G1729=\"\",\"\",Pivot!G1729)","v":""},null,{"$f":"IF(Pivot!H1729=\"\",\"\",Pivot!H1729)","v":""},null,{"$f":"IF(Pivot!J1729=\"\",\"\",Pivot!J1729)","v":""},{"$f":"IF(Pivot!I1729=\"\",\"\",Pivot!I1729)","v":""},null,null,null,null,null,null,"","",{"$error":"#VALUE!"},null,"","",""]
[{"$f":"IF(Pivot!G1730=\"\",\"\",Pivot!G1730)","v":""},null,{"$f":"IF(Pivot!H1730=\"\",\"\",Pivot!H1730)","v":""},null,{"$f":"IF(Pivot!J1730=\"\",\"\",Pivot!J1730)","v":""},{"$f":"IF(Pivot!I1730=\"\",\"\",Pivot!I1730)","v":""},null,null,null,null,null,null,"","",{"$error":"#VALUE!"},null,"","",""]
[{"$f":"IF(Pivot!G1731=\"\",\"\",Pivot!G1731)","v":""},null,{"$f":"IF(Pivot!H1731=\"\",\"\",Pivot!H1731)","v":""},null,{"$f":"IF(Pivot!J1731=\"\",\"\",Pivot!J1731)","v":""},{"$f":"IF(Pivot!I1731=\"\",\"\",Pivot!I1731)","v":""},null,null,null,null,null,null,"","",{"$error":"#VALUE!"},null,"","",""]
[{"$f":"IF(Pivot!G1732=\"\",\"\",Pivot!G1732)","v":""},null,{"$f":"IF(Pivot!H1732=\"\",\"\",Pivot!H1732)","v":""},null,{"$f":"IF(Pivot!J1732=\"\",\"\",Pivot!J1732)","v":""},{"$f":"IF(Pivot!I1732=\"\",\"\",Pivot!I1732)","v":""},null,null,null,null,null,null,"","",{"$f":"N1735/M1735","v":{"$error":"#VALUE!"}},null,"","",""]
[{"$f":"IF(Pivot!G1733=\"\",\"\",Pivot!G1733)","v":""},null,{"$f":"IF(Pivot!H1733=\"\",\"\",Pivot!H1733)","v":""},null,{"$f":"IF(Pivot!J1733=\"\",\"\",Pivot!J1733)","v":""},{"$f":"IF(Pivot!I1733=\"\",\"\",Pivot!I1733)","v":""},null,null,null,null,null,null,{"$f":"IF(C1736=\"\",\"\",C1736*L1736)","v":""},{"$f":"IF(F1736=\"\",\"\",M1736-F1736)","v":""},{"$error":"#VALUE!"},null,{"$f":"IF(C1736=\"\",\"\",C1736*P1736)","v":""},{"$f":"IF(F1736=\"\",\"\",Q1736-F1736)","v":""},{"$f":"IF(F1736=\"\",\"\",R1736/F1736)","v":""}]
[{"$f":"IF(Pivot!G1734=\"\",\"\",Pivot!G1734)","v":""},null,{"$f":"IF(Pivot!H1734=\"\",\"\",Pivot!H1734)","v":""},null,{"$f":"IF(Pivot!J1734=\"\",\"\",Pivot!J1734)","v":""},{"$f":"IF(Pivot!I1734=\"\",\"\",Pivot!I1734)","v":""},null,null,null,null,null,null,"","",{"$error":"#VALUE!"},null,"","",""]
[{"$f":"IF(Pivot!G1735=\"\",\"\",Pivot!G1735)","v":""},null,{"$f":"IF(Pivot!H1735=\"\",\"\",Pivot!H1735)","v":""},null,{"$f":"IF(Pivot!J1735=\"\",\"\",Pivot!J1735)","v":""},{"$f":"IF(Pivot!I1735=\"\",\"\",Pivot!I1735)","v":""},null,null,null,null,null,null,"","",{"$error":"#VALUE!"},null,"","",""]
[{"$f":"IF(Pivot!G1736=\"\",\"\",Pivot!G1736)","v":""},null,{"$f":"IF(Pivot!H1736=\"\",\"\",Pivot!H1736)","v":""},null,{"$f":"IF(Pivot!J1736=\"\",\"\",Pivot!J1736)","v":""},{"$f":"IF(Pivot!I1736=\"\",\"\",Pivot!I1736)","v":""},null,null,null,null,null,null,"","",{"$error":"#VALUE!"},null,"","",""]
[{"$f":"IF(Pivot!G1737=\"\",\"\",Pivot!G1737)","v":""},null,{"$f":"IF(Pivot!H1737=\"\",\"\",Pivot!H1737)","v":""},null,{"$f":"IF(Pivot!J1737=\"\",\"\",Pivot!J1737)","v":""},{"$f":"IF(Pivot!I1737=\"\",\"\",Pivot!I1737)","v":""},null,null,null,null,null,null,"","",{"$error":"#VALUE!"},null,"","",""]
[{"$f":"IF(Pivot!G1738=\"\",\"\",Pivot!G1738)","v":""},null,{"$f":"IF(Pivot!H1738=\"\",\"\",Pivot!H1738)","v":""},null,{"$f":"IF(Pivot!J1738=\"\",\"\",Pivot!J1738)","v":""},{"$f":"IF(Pivot!I1738=\"\",\"\",Pivot!I1738)","v":""},null,null,null,null,null,null,"","",{"$error":"#VALUE!"},null,"","",""]
[{"$f":"IF(Pivot!G1739=\"\",\"\",Pivot!G1739)","v":""},null,{"$f":"IF(Pivot!H1739=\"\",\"\",Pivot!H1739)","v":""},null,{"$f":"IF(Pivot!J1739=\"\",\"\",Pivot!J1739)","v":""},{"$f":"IF(Pivot!I1739=\"\",\"\",Pivot!I1739)","v":""},null,null,null,null,null,null,"","",{"$error":"#VALUE!"},null,"","",""]
[{"$f":"IF(Pivot!G1740=\"\",\"\",Pivot!G1740)","v":""},null,{"$f":"IF(Pivot!H1740=\"\",\"\",Pivot!H1740)","v":""},null,{"$f":"IF(Pivot!J1740=\"\",\"\",Pivot!J1740)","v":""},{"$f":"IF(Pivot!I1740=\"\",\"\",Pivot!I1740)","v":""},null,null,null,null,null,null,"","",{"$error":"#VALUE!"},null,"","",""]
[{"$f":"IF(Pivot!G1741=\"\",\"\",Pivot!G1741)","v":""},null,{"$f":"IF(Pivot!H1741=\"\",\"\",Pivot!H1741)","v":""},null,{"$f":"IF(Pivot!J1741=\"\",\"\",Pivot!J1741)","v":""},{"$f":"IF(Pivot!I1741=\"\",\"\",Pivot!I1741)","v":""},null,null,null,null,null,null,"","",{"$error":"#VALUE!"},null,"","",""]
[{"$f":"IF(Pivot!G1742=\"\",\"\",Pivot!G1742)","v":""},null,{"$f":"IF(Pivot!H1742=\"\",\"\",Pivot!H1742)","v":""},null,{"$f":"IF(Pivot!J1742=\"\",\"\",Pivot!J1742)","v":""},{"$f":"IF(Pivot!I1742=\"\",\"\",Pivot!I1742)","v":""},null,null,null,null,null,null,"","",{"$error":"#VALUE!"},null,"","",""]
[{"$f":"IF(Pivot!G1743=\"\",\"\",Pivot!G1743)","v":""},null,{"$f":"IF(Pivot!H1743=\"\",\"\",Pivot!H1743)","v":""},null,{"$f":"IF(Pivot!J1743=\"\",\"\",Pivot!J1743)","v":""},{"$f":"IF(Pivot!I1743=\"\",\"\",Pivot!I1743)","v":""},null,null,null,null,null,null,"","",{"$error":"#VALUE!"},null,"","",""]
[{"$f":"IF(Pivot!G1744=\"\",\"\",Pivot!G1744)","v":""},null,{"$f":"IF(Pivot!H1744=\"\",\"\",Pivot!H1744)","v":""},null,{"$f":"IF(Pivot!J1744=\"\",\"\",Pivot!J1744)","v":""},{"$f":"IF(Pivot!I1744=\"\",\"\",Pivot!I1744)","v":""},null,null,null,null,null,null,"","",{"$error":"#VALUE!"},null,"","",""]
[{"$f":"IF(Pivot!G1745=\"\",\"\",Pivot!G1745)","v":""},null,{"$f":"IF(Pivot!H1745=\"\",\"\",Pivot!H1745)","v":""},null,{"$f":"IF(Pivot!J1745=\"\",\"\",Pivot!J1745)","v":""},{"$f":"IF(Pivot!I1745=\"\",\"\",Pivot!I1745)","v":""},null,null,null,null,null,null,"","",{"$error":"#VALUE!"},null,"","",""]
[{"$f":"IF(Pivot!G1746=\"\",\"\",Pivot!G1746)","v":""},null,{"$f":"IF(Pivot!H1746=\"\",\"\",Pivot!H1746)","v":""},null,{"$f":"IF(Pivot!J1746=\"\",\"\",Pivot!J1746)","v":""},{"$f":"IF(Pivot!I1746=\"\",\"\",Pivot!I1746)","v":""},null,null,null,null,null,null,"","",{"$error":"#VALUE!"},null,"","",""]
[{"$f":"IF(Pivot!G1747=\"\",\"\",Pivot!G1747)","v":""},null,{"$f":"IF(Pivot!H1747=\"\",\"\",Pivot!H1747)","v":""},null,{"$f":"IF(Pivot!J1747=\"\",\"\",Pivot!J1747)","v":""},{"$f":"IF(Pivot!I1747=\"\",\"\",Pivot!I1747)","v":""},null,null,null,null,null,null,"","",{"$error":"#VALUE!"},null,"","",""]
[{"$f":"IF(Pivot!G1748=\"\",\"\",Pivot!G1748)","v":""},null,{"$f":"IF(Pivot!H1748=\"\",\"\",Pivot!H1748)","v":""},null,{"$f":"IF(Pivot!J1748=\"\",\"\",Pivot!J1748)","v":""},{"$f":"IF(Pivot!I1748=\"\",\"\",Pivot!I1748)","v":""},null,null,null,null,null,null,"","",{"$error":"#VALUE!"},null,"","",""]
[{"$f":"IF(Pivot!G1749=\"\",\"\",Pivot!G1749)","v":""},null,{"$f":"IF(Pivot!H1749=\"\",\"\",Pivot!H1749)","v":""},null,{"$f":"IF(Pivot!J1749=\"\",\"\",Pivot!J1749)","v":""},{"$f":"IF(Pivot!I1749=\"\",\"\",Pivot!I1749)","v":""},null,null,null,null,null,null,"","",{"$error":"#VALUE!"},null,"","",""]
[{"$f":"IF(Pivot!G1750=\"\",\"\",Pivot!G1750)","v":""},null,{"$f":"IF(Pivot!H1750=\"\",\"\",Pivot!H1750)","v":""},null,{"$f":"IF(Pivot!J1750=\"\",\"\",Pivot!J1750)","v":""},{"$f":"IF(Pivot!I1750=\"\",\"\",Pivot!I1750)","v":""},null,null,null,null,null,null,"","",{"$error":"#VALUE!"},null,"","",""]
[{"$f":"IF(Pivot!G1751=\"\",\"\",Pivot!G1751)","v":""},null,{"$f":"IF(Pivot!H1751=\"\",\"\",Pivot!H1751)","v":""},null,{"$f":"IF(Pivot!J1751=\"\",\"\",Pivot!J1751)","v":""},{"$f":"IF(Pivot!I1751=\"\",\"\",Pivot!I1751)","v":""},null,null,null,null,null,null,"","",{"$error":"#VALUE!"},null,"","",""]
[{"$f":"IF(Pivot!G1752=\"\",\"\",Pivot!G1752)","v":""},null,{"$f":"IF(Pivot!H1752=\"\",\"\",Pivot!H1752)","v":""},null,{"$f":"IF(Pivot!J1752=\"\",\"\",Pivot!J1752)","v":""},{"$f":"IF(Pivot!I1752=\"\",\"\",Pivot!I1752)","v":""},null,null,null,null,null,null,"","",{"$error":"#VALUE!"},null,"","",""]
[{"$f":"IF(Pivot!G1753=\"\",\"\",Pivot!G1753)","v":""},null,{"$f":"IF(Pivot!H1753=\"\",\"\",Pivot!H1753)","v":""},null,{"$f":"IF(Pivot!J1753=\"\",\"\",Pivot!J1753)","v":""},{"$f":"IF(Pivot!I1753=\"\",\"\",Pivot!I1753)","v":""},null,null,null,null,null,null,"","",{"$error":"#VALUE!"},null,"","",""]
[{"$f":"IF(Pivot!G1754=\"\",\"\",Pivot!G1754)","v":""},null,{"$f":"IF(Pivot!H1754=\"\",\"\",Pivot!H1754)","v":""},null,{"$f":"IF(Pivot!J1754=\"\",\"\",Pivot!J1754)","v":""},{"$f":"IF(Pivot!I1754=\"\",\"\",Pivot!I1754)","v":""},null,null,null,null,null,null,"","",{"$error":"#VALUE!"},null,"","",""]
[{"$f":"IF(Pivot!G1755=\"\",\"\",Pivot!G1755)","v":""},null,{"$f":"IF(Pivot!H1755=\"\",\"\",Pivot!H1755)","v":""},null,{"$f":"IF(Pivot!J1755=\"\",\"\",Pivot!J1755)","v":""},{"$f":"IF(Pivot!I1755=\"\",\"\",Pivot!I1755)","v":""},null,null,null,null,null,null,"","",{"$error":"#VALUE!"},null,"","",""]
[{"$f":"IF(Pivot!G1756=\"\",\"\",Pivot!G1756)","v":""},null,{"$f":"IF(Pivot!H1756=\"\",\"\",Pivot!H1756)","v":""},null,{"$f":"IF(Pivot!J1756=\"\",\"\",Pivot!J1756)","v":""},{"$f":"IF(Pivot!I1756=\"\",\"\",Pivot!I1756)","v":""},null,null,null,null,null,null,"","",{"$error":"#VALUE!"},null,"","",""]
[{"$f":"IF(Pivot!G1757=\"\",\"\",Pivot!G1757)","v":""},null,{"$f":"IF(Pivot!H1757=\"\",\"\",Pivot!H1757)","v":""},null,{"$f":"IF(Pivot!J1757=\"\",\"\",Pivot!J1757)","v":""},{"$f":"IF(Pivot!I1757=\"\",\"\",Pivot!I1757)","v":""},null,null,null,null,null,null,"","",{"$error":"#VALUE!"},null,"","",""]
[{"$f":"IF(Pivot!G1758=\"\",\"\",Pivot!G1758)","v":""},null,{"$f":"IF(Pivot!H1758=\"\",\"\",Pivot!H1758)","v":""},null,{"$f":"IF(Pivot!J1758=\"\",\"\",Pivot!J1758)","v":""},{"$f":"IF(Pivot!I1758=\"\",\"\",Pivot!I1758)","v":""},null,null,null,null,null,null,"","",{"$error":"#VALUE!"},null,"","",""]
[{"$f":"IF(Pivot!G1759=\"\",\"\",Pivot!G1759)","v":""},null,{"$f":"IF(Pivot!H1759=\"\",\"\",Pivot!H1759)","v":""},null,{"$f":"IF(Pivot!J1759=\"\",\"\",Pivot!J1759)","v":""},{"$f":"IF(Pivot!I1759=\"\",\"\",Pivot!I1759)","v":""},null,null,null,null,null,null,"","",{"$error":"#VALUE!"},null,"","",""]
[{"$f":"IF(Pivot!G1760=\"\",\"\",Pivot!G1760)","v":""},null,{"$f":"IF(Pivot!H1760=\"\",\"\",Pivot!H1760)","v":""},null,{"$f":"IF(Pivot!J1760=\"\",\"\",Pivot!J1760)","v":""},{"$f":"IF(Pivot!I1760=\"\",\"\",Pivot!I1760)","v":""},null,null,null,null,null,null,"","",{"$error":"#VALUE!"},null,"","",""]
[{"$f":"IF(Pivot!G1761=\"\",\"\",Pivot!G1761)","v":""},null,{"$f":"IF(Pivot!H1761=\"\",\"\",Pivot!H1761)","v":""},null,{"$f":"IF(Pivot!J1761=\"\",\"\",Pivot!J1761)","v":""},{"$f":"IF(Pivot!I1761=\"\",\"\",Pivot!I1761)","v":""},null,null,null,null,null,null,"","",{"$error":"#VALUE!"},null,"","",""]
[{"$f":"IF(Pivot!G1762=\"\",\"\",Pivot!G1762)","v":""},null,{"$f":"IF(Pivot!H1762=\"\",\"\",Pivot!H1762)","v":""},null,{"$f":"IF(Pivot!J1762=\"\",\"\",Pivot!J1762)","v":""},{"$f":"IF(Pivot!I1762=\"\",\"\",Pivot!I1762)","v":""},null,null,null,null,null,null,"","",{"$error":"#VALUE!"},null,"","",""]
[{"$f":"IF(Pivot!G1763=\"\",\"\",Pivot!G1763)","v":""},null,{"$f":"IF(Pivot!H1763=\"\",\"\",Pivot!H1763)","v":""},null,{"$f":"IF(Pivot!J1763=\"\",\"\",Pivot!J1763)","v":""},{"$f":"IF(Pivot!I1763=\"\",\"\",Pivot!I1763)","v":""},null,null,null,null,null,null,"","",{"$error":"#VALUE!"},null,"","",""]
[{"$f":"IF(Pivot!G1764=\"\",\"\",Pivot!G1764)","v":""},null,{"$f":"IF(Pivot!H1764=\"\",\"\",Pivot!H1764)","v":""},null,{"$f":"IF(Pivot!J1764=\"\",\"\",Pivot!J1764)","v":""},{"$f":"IF(Pivot!I1764=\"\",\"\",Pivot!I1764)","v":""},null,null,null,null,null,null,"","",{"$error":"#VALUE!"},null,"","",""]
[{"$f":"IF(Pivot!G1765=\"\",\"\",Pivot!G1765)","v":""},null,{"$f":"IF(Pivot!H1765=\"\",\"\",Pivot!H1765)","v":""},null,{"$f":"IF(Pivot!J1765=\"\",\"\",Pivot!J1765)","v":""},{"$f":"IF(Pivot!I1765=\"\",\"\",Pivot!I1765)","v":""},null,null,null,null,null,null,"","",{"$error":"#VALUE!"},null,"","",""]
[{"$f":"IF(Pivot!G1766=\"\",\"\",Pivot!G1766)","v":""},null,{"$f":"IF(Pivot!H1766=\"\",\"\",Pivot!H1766)","v":""},null,{"$f":"IF(Pivot!J1766=\"\",\"\",Pivot!J1766)","v":""},{"$f":"IF(Pivot!I1766=\"\",\"\",Pivot!I1766)","v":""},null,null,null,null,null,null,"","",{"$error":"#VALUE!"},null,"","",""]
[{"$f":"IF(Pivot!G1767=\"\",\"\",Pivot!G1767)","v":""},null,{"$f":"IF(Pivot!H1767=\"\",\"\",Pivot!H1767)","v":""},null,{"$f":"IF(Pivot!J1767=\"\",\"\",Pivot!J1767)","v":""},{"$f":"IF(Pivot!I1767=\"\",\"\",Pivot!I1767)","v":""},null,null,null,null,null,null,"","",{"$error":"#VALUE!"},null,"","",""]
[{"$f":"IF(Pivot!G1768=\"\",\"\",Pivot!G1768)","v":""},null,{"$f":"IF(Pivot!H1768=\"\",\"\",Pivot!H1768)","v":""},null,{"$f":"IF(Pivot!J1768=\"\",\"\",Pivot!J1768)","v":""},{"$f":"IF(Pivot!I1768=\"\",\"\",Pivot!I1768)","v":""},null,null,null,null,null,null,"","",{"$error":"#VALUE!"},null,"","",""]
[{"$f":"IF(Pivot!G1769=\"\",\"\",Pivot!G1769)","v":""},null,{"$f":"IF(Pivot!H1769=\"\",\"\",Pivot!H1769)","v":""},null,{"$f":"IF(Pivot!J1769=\"\",\"\",Pivot!J1769)","v":""},{"$f":"IF(Pivot!I1769=\"\",\"\",Pivot!I1769)","v":""},null,null,null,null,null,null,"","",{"$error":"#VALUE!"},null,"","",""]
[{"$f":"IF(Pivot!G1770=\"\",\"\",Pivot!G1770)","v":""},null,{"$f":"IF(Pivot!H1770=\"\",\"\",Pivot!H1770)","v":""},null,{"$f":"IF(Pivot!J1770=\"\",\"\",Pivot!J1770)","v":""},{"$f":"IF(Pivot!I1770=\"\",\"\",Pivot!I1770)","v":""},null,null,null,null,null,null,"","",{"$error":"#VALUE!"},null,"","",""]
[{"$f":"IF(Pivot!G1771=\"\",\"\",Pivot!G1771)","v":""},null,{"$f":"IF(Pivot!H1771=\"\",\"\",Pivot!H1771)","v":""},null,{"$f":"IF(Pivot!J1771=\"\",\"\",Pivot!J1771)","v":""},{"$f":"IF(Pivot!I1771=\"\",\"\",Pivot!I1771)","v":""},null,null,null,null,null,null,"","",{"$error":"#VALUE!"},null,"","",""]
[{"$f":"IF(Pivot!G1772=\"\",\"\",Pivot!G1772)","v":""},null,{"$f":"IF(Pivot!H1772=\"\",\"\",Pivot!H1772)","v":""},null,{"$f":"IF(Pivot!J1772=\"\",\"\",Pivot!J1772)","v":""},{"$f":"IF(Pivot!I1772=\"\",\"\",Pivot!I1772)","v":""},null,null,null,null,null,null,"","",{"$error":"#VALUE!"},null,"","",""]
[{"$f":"IF(Pivot!G1773=\"\",\"\",Pivot!G1773)","v":""},null,{"$f":"IF(Pivot!H1773=\"\",\"\",Pivot!H1773)","v":""},null,{"$f":"IF(Pivot!J1773=\"\",\"\",Pivot!J1773)","v":""},{"$f":"IF(Pivot!I1773=\"\",\"\",Pivot!I1773)","v":""},null,null,null,null,null,null,"","",{"$error":"#VALUE!"},null,"","",""]
[{"$f":"IF(Pivot!G1774=\"\",\"\",Pivot!G1774)","v":""},null,{"$f":"IF(Pivot!H1774=\"\",\"\",Pivot!H1774)","v":""},null,{"$f":"IF(Pivot!J1774=\"\",\"\",Pivot!J1774)","v":""},{"$f":"IF(Pivot!I1774=\"\",\"\",Pivot!I1774)","v":""},null,null,null,null,null,null,"","",{"$error":"#VALUE!"},null,"","",""]
[{"$f":"IF(Pivot!G1775=\"\",\"\",Pivot!G1775)","v":""},null,{"$f":"IF(Pivot!H1775=\"\",\"\",Pivot!H1775)","v":""},null,{"$f":"IF(Pivot!J1775=\"\",\"\",Pivot!J1775)","v":""},{"$f":"IF(Pivot!I1775=\"\",\"\",Pivot!I1775)","v":""},null,null,null,null,null,null,"","",{"$error":"#VALUE!"},null,"","",""]
[{"$f":"IF(Pivot!G1776=\"\",\"\",Pivot!G1776)","v":""},null,{"$f":"IF(Pivot!H1776=\"\",\"\",Pivot!H1776)","v":""},null,{"$f":"IF(Pivot!J1776=\"\",\"\",Pivot!J1776)","v":""},{"$f":"IF(Pivot!I1776=\"\",\"\",Pivot!I1776)","v":""},null,null,null,null,null,null,"","",{"$error":"#VALUE!"},null,"","",""]
[{"$f":"IF(Pivot!G1777=\"\",\"\",Pivot!G1777)","v":""},null,{"$f":"IF(Pivot!H1777=\"\",\"\",Pivot!H1777)","v":""},null,{"$f":"IF(Pivot!J1777=\"\",\"\",Pivot!J1777)","v":""},{"$f":"IF(Pivot!I1777=\"\",\"\",Pivot!I1777)","v":""},null,null,null,null,null,null,"","",{"$error":"#VALUE!"},null,"","",""]
[{"$f":"IF(Pivot!G1778=\"\",\"\",Pivot!G1778)","v":""},null,{"$f":"IF(Pivot!H1778=\"\",\"\",Pivot!H1778)","v":""},null,{"$f":"IF(Pivot!J1778=\"\",\"\",Pivot!J1778)","v":""},{"$f":"IF(Pivot!I1778=\"\",\"\",Pivot!I1778)","v":""},null,null,null,null,null,null,"","",{"$error":"#VALUE!"},null,"","",""]
[{"$f":"IF(Pivot!G1779=\"\",\"\",Pivot!G1779)","v":""},null,{"$f":"IF(Pivot!H1779=\"\",\"\",Pivot!H1779)","v":""},null,{"$f":"IF(Pivot!J1779=\"\",\"\",Pivot!J1779)","v":""},{"$f":"IF(Pivot!I1779=\"\",\"\",Pivot!I1779)","v":""},null,null,null,null,null,null,"","",{"$error":"#VALUE!"},null,"","",""]
[{"$f":"IF(Pivot!G1780=\"\",\"\",Pivot!G1780)","v":""},null,{"$f":"IF(Pivot!H1780=\"\",\"\",Pivot!H1780)","v":""},null,{"$f":"IF(Pivot!J1780=\"\",\"\",Pivot!J1780)","v":""},{"$f":"IF(Pivot!I1780=\"\",\"\",Pivot!I1780)","v":""},null,null,null,null,null,null,"","",{"$error":"#VALUE!"},null,"","",""]
[{"$f":"IF(Pivot!G1781=\"\",\"\",Pivot!G1781)","v":""},null,{"$f":"IF(Pivot!H1781=\"\",\"\",Pivot!H1781)","v":""},null,{"$f":"IF(Pivot!J1781=\"\",\"\",Pivot!J1781)","v":""},{"$f":"IF(Pivot!I1781=\"\",\"\",Pivot!I1781)","v":""},null,null,null,null,null,null,"","",{"$error":"#VALUE!"},null,"","",""]
[{"$f":"IF(Pivot!G1782=\"\",\"\",Pivot!G1782)","v":""},null,{"$f":"IF(Pivot!H1782=\"\",\"\",Pivot!H1782)","v":""},null,{"$f":"IF(Pivot!J1782=\"\",\"\",Pivot!J1782)","v":""},{"$f":"IF(Pivot!I1782=\"\",\"\",Pivot!I1782)","v":""},null,null,null,null,null,null,"","",{"$error":"#VALUE!"},null,"","",""]
[{"$f":"IF(Pivot!G1783=\"\",\"\",Pivot!G1783)","v":""},null,{"$f":"IF(Pivot!H1783=\"\",\"\",Pivot!H1783)","v":""},null,{"$f":"IF(Pivot!J1783=\"\",\"\",Pivot!J1783)","v":""},{"$f":"IF(Pivot!I1783=\"\",\"\",Pivot!I1783)","v":""},null,null,null,null,null,null,"","",{"$error":"#VALUE!"},null,"","",""]
[{"$f":"IF(Pivot!G1784=\"\",\"\",Pivot!G1784)","v":""},null,{"$f":"IF(Pivot!H1784=\"\",\"\",Pivot!H1784)","v":""},null,{"$f":"IF(Pivot!J1784=\"\",\"\",Pivot!J1784)","v":""},{"$f":"IF(Pivot!I1784=\"\",\"\",Pivot!I1784)","v":""},null,null,null,null,null,null,"","",{"$error":"#VALUE!"},null,"","",""]
[{"$f":"IF(Pivot!G1785=\"\",\"\",Pivot!G1785)","v":""},null,{"$f":"IF(Pivot!H1785=\"\",\"\",Pivot!H1785)","v":""},null,{"$f":"IF(Pivot!J1785=\"\",\"\",Pivot!J1785)","v":""},{"$f":"IF(Pivot!I1785=\"\",\"\",Pivot!I1785)","v":""},null,null,null,null,null,null,"","",{"$error":"#VALUE!"},null,"","",""]
[{"$f":"IF(Pivot!G1786=\"\",\"\",Pivot!G1786)","v":""},null,{"$f":"IF(Pivot!H1786=\"\",\"\",Pivot!H1786)","v":""},null,{"$f":"IF(Pivot!J1786=\"\",\"\",Pivot!J1786)","v":""},{"$f":"IF(Pivot!I1786=\"\",\"\",Pivot!I1786)","v":""},null,null,null,null,null,null,"","",{"$error":"#VALUE!"},null,"","",""]
[{"$f":"IF(Pivot!G1787=\"\",\"\",Pivot!G1787)","v":""},null,{"$f":"IF(Pivot!H1787=\"\",\"\",Pivot!H1787)","v":""},null,{"$f":"IF(Pivot!J1787=\"\",\"\",Pivot!J1787)","v":""},{"$f":"IF(Pivot!I1787=\"\",\"\",Pivot!I1787)","v":""},null,null,null,null,null,null,"","",{"$error":"#VALUE!"},null,"","",""]
[{"$f":"IF(Pivot!G1788=\"\",\"\",Pivot!G1788)","v":""},null,{"$f":"IF(Pivot!H1788=\"\",\"\",Pivot!H1788)","v":""},null,{"$f":"IF(Pivot!J1788=\"\",\"\",Pivot!J1788)","v":""},{"$f":"IF(Pivot!I1788=\"\",\"\",Pivot!I1788)","v":""},null,null,null,null,null,null,"","",{"$error":"#VALUE!"},null,"","",""]
[{"$f":"IF(Pivot!G1789=\"\",\"\",Pivot!G1789)","v":""},null,{"$f":"IF(Pivot!H1789=\"\",\"\",Pivot!H1789)","v":""},null,{"$f":"IF(Pivot!J1789=\"\",\"\",Pivot!J1789)","v":""},{"$f":"IF(Pivot!I1789=\"\",\"\",Pivot!I1789)","v":""},null,null,null,null,null,null,"","",{"$error":"#VALUE!"},null,"","",""]
[{"$f":"IF(Pivot!G1790=\"\",\"\",Pivot!G1790)","v":""},null,{"$f":"IF(Pivot!H1790=\"\",\"\",Pivot!H1790)","v":""},null,{"$f":"IF(Pivot!J1790=\"\",\"\",Pivot!J1790)","v":""},{"$f":"IF(Pivot!I1790=\"\",\"\",Pivot!I1790)","v":""},null,null,null,null,null,null,"","",{"$error":"#VALUE!"},null,"","",""]
[{"$f":"IF(Pivot!G1791=\"\",\"\",Pivot!G1791)","v":""},null,{"$f":"IF(Pivot!H1791=\"\",\"\",Pivot!H1791)","v":""},null,{"$f":"IF(Pivot!J1791=\"\",\"\",Pivot!J1791)","v":""},{"$f":"IF(Pivot!I1791=\"\",\"\",Pivot!I1791)","v":""},null,null,null,null,null,null,"","",{"$error":"#VALUE!"},null,"","",""]
[{"$f":"IF(Pivot!G1792=\"\",\"\",Pivot!G1792)","v":""},null,{"$f":"IF(Pivot!H1792=\"\",\"\",Pivot!H1792)","v":""},null,{"$f":"IF(Pivot!J1792=\"\",\"\",Pivot!J1792)","v":""},{"$f":"IF(Pivot!I1792=\"\",\"\",Pivot!I1792)","v":""},null,null,null,null,null,null,"","",{"$error":"#VALUE!"},null,"","",""]
[{"$f":"IF(Pivot!G1793=\"\",\"\",Pivot!G1793)","v":""},null,{"$f":"IF(Pivot!H1793=\"\",\"\",Pivot!H1793)","v":""},null,{"$f":"IF(Pivot!J1793=\"\",\"\",Pivot!J1793)","v":""},{"$f":"IF(Pivot!I1793=\"\",\"\",Pivot!I1793)","v":""},null,null,null,null,null,null,"","",{"$error":"#VALUE!"},null,"","",""]
[{"$f":"IF(Pivot!G1794=\"\",\"\",Pivot!G1794)","v":""},null,{"$f":"IF(Pivot!H1794=\"\",\"\",Pivot!H1794)","v":""},null,{"$f":"IF(Pivot!J1794=\"\",\"\",Pivot!J1794)","v":""},{"$f":"IF(Pivot!I1794=\"\",\"\",Pivot!I1794)","v":""},null,null,null,null,null,null,"","",{"$error":"#VALUE!"},null,"","",""]
[{"$f":"IF(Pivot!G1795=\"\",\"\",Pivot!G1795)","v":""},null,{"$f":"IF(Pivot!H1795=\"\",\"\",Pivot!H1795)","v":""},null,{"$f":"IF(Pivot!J1795=\"\",\"\",Pivot!J1795)","v":""},{"$f":"IF(Pivot!I1795=\"\",\"\",Pivot!I1795)","v":""},null,null,null,null,null,null,"","",{"$error":"#VALUE!"},null,"","",""]
[{"$f":"IF(Pivot!G1796=\"\",\"\",Pivot!G1796)","v":""},null,{"$f":"IF(Pivot!H1796=\"\",\"\",Pivot!H1796)","v":""},null,{"$f":"IF(Pivot!J1796=\"\",\"\",Pivot!J1796)","v":""},{"$f":"IF(Pivot!I1796=\"\",\"\",Pivot!I1796)","v":""},null,null,null,null,null,null,"","",{"$f":"N1799/M1799","v":{"$error":"#VALUE!"}},null,"","",""]
[{"$f":"IF(Pivot!G1797=\"\",\"\",Pivot!G1797)","v":""},null,{"$f":"IF(Pivot!H1797=\"\",\"\",Pivot!H1797)","v":""},null,{"$f":"IF(Pivot!J1797=\"\",\"\",Pivot!J1797)","v":""},{"$f":"IF(Pivot!I1797=\"\",\"\",Pivot!I1797)","v":""},null,null,null,null,null,null,{"$f":"IF(C1800=\"\",\"\",C1800*L1800)","v":""},{"$f":"IF(F1800=\"\",\"\",M1800-F1800)","v":""},{"$error":"#VALUE!"},null,{"$f":"IF(C1800=\"\",\"\",C1800*P1800)","v":""},{"$f":"IF(F1800=\"\",\"\",Q1800-F1800)","v":""},{"$f":"IF(F1800=\"\",\"\",R1800/F1800)","v":""}]
[{"$f":"IF(Pivot!G1798=\"\",\"\",Pivot!G1798)","v":""},null,{"$f":"IF(Pivot!H1798=\"\",\"\",Pivot!H1798)","v":""},null,{"$f":"IF(Pivot!J1798=\"\",\"\",Pivot!J1798)","v":""},{"$f":"IF(Pivot!I1798=\"\",\"\",Pivot!I1798)","v":""},null,null,null,null,null,null,"","",{"$error":"#VALUE!"},null,"","",""]
[{"$f":"IF(Pivot!G1799=\"\",\"\",Pivot!G1799)","v":""},null,{"$f":"IF(Pivot!H1799=\"\",\"\",Pivot!H1799)","v":""},null,{"$f":"IF(Pivot!J1799=\"\",\"\",Pivot!J1799)","v":""},{"$f":"IF(Pivot!I1799=\"\",\"\",Pivot!I1799)","v":""},null,null,null,null,null,null,"","",{"$error":"#VALUE!"},null,"","",""]
[{"$f":"IF(Pivot!G1800=\"\",\"\",Pivot!G1800)","v":""},null,{"$f":"IF(Pivot!H1800=\"\",\"\",Pivot!H1800)","v":""},null,{"$f":"IF(Pivot!J1800=\"\",\"\",Pivot!J1800)","v":""},{"$f":"IF(Pivot!I1800=\"\",\"\",Pivot!I1800)","v":""},null,null,null,null,null,null,"","",{"$error":"#VALUE!"},null,"","",""]
[{"$f":"IF(Pivot!G1801=\"\",\"\",Pivot!G1801)","v":""},null,{"$f":"IF(Pivot!H1801=\"\",\"\",Pivot!H1801)","v":""},null,{"$f":"IF(Pivot!J1801=\"\",\"\",Pivot!J1801)","v":""},{"$f":"IF(Pivot!I1801=\"\",\"\",Pivot!I1801)","v":""},null,null,null,null,null,null,"","",{"$error":"#VALUE!"},null,"","",""]
[{"$f":"IF(Pivot!G1802=\"\",\"\",Pivot!G1802)","v":""},null,{"$f":"IF(Pivot!H1802=\"\",\"\",Pivot!H1802)","v":""},null,{"$f":"IF(Pivot!J1802=\"\",\"\",Pivot!J1802)","v":""},{"$f":"IF(Pivot!I1802=\"\",\"\",Pivot!I1802)","v":""},null,null,null,null,null,null,"","",{"$error":"#VALUE!"},null,"","",""]
[{"$f":"IF(Pivot!G1803=\"\",\"\",Pivot!G1803)","v":""},null,{"$f":"IF(Pivot!H1803=\"\",\"\",Pivot!H1803)","v":""},null,{"$f":"IF(Pivot!J1803=\"\",\"\",Pivot!J1803)","v":""},{"$f":"IF(Pivot!I1803=\"\",\"\",Pivot!I1803)","v":""},null,null,null,null,null,null,"","",{"$error":"#VALUE!"},null,"","",""]
[{"$f":"IF(Pivot!G1804=\"\",\"\",Pivot!G1804)","v":""},null,{"$f":"IF(Pivot!H1804=\"\",\"\",Pivot!H1804)","v":""},null,{"$f":"IF(Pivot!J1804=\"\",\"\",Pivot!J1804)","v":""},{"$f":"IF(Pivot!I1804=\"\",\"\",Pivot!I1804)","v":""},null,null,null,null,null,null,"","",{"$error":"#VALUE!"},null,"","",""]
[{"$f":"IF(Pivot!G1805=\"\",\"\",Pivot!G1805)","v":""},null,{"$f":"IF(Pivot!H1805=\"\",\"\",Pivot!H1805)","v":""},null,{"$f":"IF(Pivot!J1805=\"\",\"\",Pivot!J1805)","v":""},{"$f":"IF(Pivot!I1805=\"\",\"\",Pivot!I1805)","v":""},null,null,null,null,null,null,"","",{"$error":"#VALUE!"},null,"","",""]
[{"$f":"IF(Pivot!G1806=\"\",\"\",Pivot!G1806)","v":""},null,{"$f":"IF(Pivot!H1806=\"\",\"\",Pivot!H1806)","v":""},null,{"$f":"IF(Pivot!J1806=\"\",\"\",Pivot!J1806)","v":""},{"$f":"IF(Pivot!I1806=\"\",\"\",Pivot!I1806)","v":""},null,null,null,null,null,null,"","",{"$error":"#VALUE!"},null,"","",""]
[{"$f":"IF(Pivot!G1807=\"\",\"\",Pivot!G1807)","v":""},null,{"$f":"IF(Pivot!H1807=\"\",\"\",Pivot!H1807)","v":""},null,{"$f":"IF(Pivot!J1807=\"\",\"\",Pivot!J1807)","v":""},{"$f":"IF(Pivot!I1807=\"\",\"\",Pivot!I1807)","v":""},null,null,null,null,null,null,"","",{"$error":"#VALUE!"},null,"","",""]
[{"$f":"IF(Pivot!G1808=\"\",\"\",Pivot!G1808)","v":""},null,{"$f":"IF(Pivot!H1808=\"\",\"\",Pivot!H1808)","v":""},null,{"$f":"IF(Pivot!J1808=\"\",\"\",Pivot!J1808)","v":""},{"$f":"IF(Pivot!I1808=\"\",\"\",Pivot!I1808)","v":""},null,null,null,null,null,null,"","",{"$error":"#VALUE!"},null,"","",""]
[{"$f":"IF(Pivot!G1809=\"\",\"\",Pivot!G1809)","v":""},null,{"$f":"IF(Pivot!H1809=\"\",\"\",Pivot!H1809)","v":""},null,{"$f":"IF(Pivot!J1809=\"\",\"\",Pivot!J1809)","v":""},{"$f":"IF(Pivot!I1809=\"\",\"\",Pivot!I1809)","v":""},null,null,null,null,null,null,"","",{"$error":"#VALUE!"},null,"","",""]
[{"$f":"IF(Pivot!G1810=\"\",\"\",Pivot!G1810)","v":""},null,{"$f":"IF(Pivot!H1810=\"\",\"\",Pivot!H1810)","v":""},null,{"$f":"IF(Pivot!J1810=\"\",\"\",Pivot!J1810)","v":""},{"$f":"IF(Pivot!I1810=\"\",\"\",Pivot!I1810)","v":""},null,null,null,null,null,null,"","",{"$error":"#VALUE!"},null,"","",""]
[{"$f":"IF(Pivot!G1811=\"\",\"\",Pivot!G1811)","v":""},null,{"$f":"IF(Pivot!H1811=\"\",\"\",Pivot!H1811)","v":""},null,{"$f":"IF(Pivot!J1811=\"\",\"\",Pivot!J1811)","v":""},{"$f":"IF(Pivot!I1811=\"\",\"\",Pivot!I1811)","v":""},null,null,null,null,null,null,"","",{"$error":"#VALUE!"},null,"","",""]
[{"$f":"IF(Pivot!G1812=\"\",\"\",Pivot!G1812)","v":""},null,{"$f":"IF(Pivot!H1812=\"\",\"\",Pivot!H1812)","v":""},null,{"$f":"IF(Pivot!J1812=\"\",\"\",Pivot!J1812)","v":""},{"$f":"IF(Pivot!I1812=\"\",\"\",Pivot!I1812)","v":""},null,null,null,null,null,null,"","",{"$error":"#VALUE!"},null,"","",""]
[{"$f":"IF(Pivot!G1813=\"\",\"\",Pivot!G1813)","v":""},null,{"$f":"IF(Pivot!H1813=\"\",\"\",Pivot!H1813)","v":""},null,{"$f":"IF(Pivot!J1813=\"\",\"\",Pivot!J1813)","v":""},{"$f":"IF(Pivot!I1813=\"\",\"\",Pivot!I1813)","v":""},null,null,null,null,null,null,"","",{"$error":"#VALUE!"},null,"","",""]
[{"$f":"IF(Pivot!G1814=\"\",\"\",Pivot!G1814)","v":""},null,{"$f":"IF(Pivot!H1814=\"\",\"\",Pivot!H1814)","v":""},null,{"$f":"IF(Pivot!J1814=\"\",\"\",Pivot!J1814)","v":""},{"$f":"IF(Pivot!I1814=\"\",\"\",Pivot!I1814)","v":""},null,null,null,null,null,null,"","",{"$error":"#VALUE!"},null,"","",""]
[{"$f":"IF(Pivot!G1815=\"\",\"\",Pivot!G1815)","v":""},null,{"$f":"IF(Pivot!H1815=\"\",\"\",Pivot!H1815)","v":""},null,{"$f":"IF(Pivot!J1815=\"\",\"\",Pivot!J1815)","v":""},{"$f":"IF(Pivot!I1815=\"\",\"\",Pivot!I1815)","v":""},null,null,null,null,null,null,"","",{"$error":"#VALUE!"},null,"","",""]
[{"$f":"IF(Pivot!G1816=\"\",\"\",Pivot!G1816)","v":""},null,{"$f":"IF(Pivot!H1816=\"\",\"\",Pivot!H1816)","v":""},null,{"$f":"IF(Pivot!J1816=\"\",\"\",Pivot!J1816)","v":""},{"$f":"IF(Pivot!I1816=\"\",\"\",Pivot!I1816)","v":""},null,null,null,null,null,null,"","",{"$error":"#VALUE!"},null,"","",""]
[{"$f":"IF(Pivot!G1817=\"\",\"\",Pivot!G1817)","v":""},null,{"$f":"IF(Pivot!H1817=\"\",\"\",Pivot!H1817)","v":""},null,{"$f":"IF(Pivot!J1817=\"\",\"\",Pivot!J1817)","v":""},{"$f":"IF(Pivot!I1817=\"\",\"\",Pivot!I1817)","v":""},null,null,null,null,null,null,"","",{"$error":"#VALUE!"},null,"","",""]
[{"$f":"IF(Pivot!G1818=\"\",\"\",Pivot!G1818)","v":""},null,{"$f":"IF(Pivot!H1818=\"\",\"\",Pivot!H1818)","v":""},null,{"$f":"IF(Pivot!J1818=\"\",\"\",Pivot!J1818)","v":""},{"$f":"IF(Pivot!I1818=\"\",\"\",Pivot!I1818)","v":""},null,null,null,null,null,null,"","",{"$error":"#VALUE!"},null,"","",""]
[{"$f":"IF(Pivot!G1819=\"\",\"\",Pivot!G1819)","v":""},null,{"$f":"IF(Pivot!H1819=\"\",\"\",Pivot!H1819)","v":""},null,{"$f":"IF(Pivot!J1819=\"\",\"\",Pivot!J1819)","v":""},{"$f":"IF(Pivot!I1819=\"\",\"\",Pivot!I1819)","v":""},null,null,null,null,null,null,"","",{"$error":"#VALUE!"},null,"","",""]
[{"$f":"IF(Pivot!G1820=\"\",\"\",Pivot!G1820)","v":""},null,{"$f":"IF(Pivot!H1820=\"\",\"\",Pivot!H1820)","v":""},null,{"$f":"IF(Pivot!J1820=\"\",\"\",Pivot!J1820)","v":""},{"$f":"IF(Pivot!I1820=\"\",\"\",Pivot!I1820)","v":""},null,null,null,null,null,null,"","",{"$error":"#VALUE!"},null,"","",""]
[{"$f":"IF(Pivot!G1821=\"\",\"\",Pivot!G1821)","v":""},null,{"$f":"IF(Pivot!H1821=\"\",\"\",Pivot!H1821)","v":""},null,{"$f":"IF(Pivot!J1821=\"\",\"\",Pivot!J1821)","v":""},{"$f":"IF(Pivot!I1821=\"\",\"\",Pivot!I1821)","v":""},null,null,null,null,null,null,"","",{"$error":"#VALUE!"},null,"","",""]
[{"$f":"IF(Pivot!G1822=\"\",\"\",Pivot!G1822)","v":""},null,{"$f":"IF(Pivot!H1822=\"\",\"\",Pivot!H1822)","v":""},null,{"$f":"IF(Pivot!J1822=\"\",\"\",Pivot!J1822)","v":""},{"$f":"IF(Pivot!I1822=\"\",\"\",Pivot!I1822)","v":""},null,null,null,null,null,null,"","",{"$error":"#VALUE!"},null,"","",""]
[{"$f":"IF(Pivot!G1823=\"\",\"\",Pivot!G1823)","v":""},null,{"$f":"IF(Pivot!H1823=\"\",\"\",Pivot!H1823)","v":""},null,{"$f":"IF(Pivot!J1823=\"\",\"\",Pivot!J1823)","v":""},{"$f":"IF(Pivot!I1823=\"\",\"\",Pivot!I1823)","v":""},null,null,null,null,null,null,"","",{"$error":"#VALUE!"},null,"","",""]
[{"$f":"IF(Pivot!G1824=\"\",\"\",Pivot!G1824)","v":""},null,{"$f":"IF(Pivot!H1824=\"\",\"\",Pivot!H1824)","v":""},null,{"$f":"IF(Pivot!J1824=\"\",\"\",Pivot!J1824)","v":""},{"$f":"IF(Pivot!I1824=\"\",\"\",Pivot!I1824)","v":""},null,null,null,null,null,null,"","",{"$error":"#VALUE!"},null,"","",""]
[{"$f":"IF(Pivot!G1825=\"\",\"\",Pivot!G1825)","v":""},null,{"$f":"IF(Pivot!H1825=\"\",\"\",Pivot!H1825)","v":""},null,{"$f":"IF(Pivot!J1825=\"\",\"\",Pivot!J1825)","v":""},{"$f":"IF(Pivot!I1825=\"\",\"\",Pivot!I1825)","v":""},null,null,null,null,null,null,"","",{"$error":"#VALUE!"},null,"","",""]
[{"$f":"IF(Pivot!G1826=\"\",\"\",Pivot!G1826)","v":""},null,{"$f":"IF(Pivot!H1826=\"\",\"\",Pivot!H1826)","v":""},null,{"$f":"IF(Pivot!J1826=\"\",\"\",Pivot!J1826)","v":""},{"$f":"IF(Pivot!I1826=\"\",\"\",Pivot!I1826)","v":""},null,null,null,null,null,null,"","",{"$error":"#VALUE!"},null,"","",""]
[{"$f":"IF(Pivot!G1827=\"\",\"\",Pivot!G1827)","v":""},null,{"$f":"IF(Pivot!H1827=\"\",\"\",Pivot!H1827)","v":""},null,{"$f":"IF(Pivot!J1827=\"\",\"\",Pivot!J1827)","v":""},{"$f":"IF(Pivot!I1827=\"\",\"\",Pivot!I1827)","v":""},null,null,null,null,null,null,"","",{"$error":"#VALUE!"},null,"","",""]
[{"$f":"IF(Pivot!G1828=\"\",\"\",Pivot!G1828)","v":""},null,{"$f":"IF(Pivot!H1828=\"\",\"\",Pivot!H1828)","v":""},null,{"$f":"IF(Pivot!J1828=\"\",\"\",Pivot!J1828)","v":""},{"$f":"IF(Pivot!I1828=\"\",\"\",Pivot!I1828)","v":""},null,null,null,null,null,null,"","",{"$error":"#VALUE!"},null,"","",""]
[{"$f":"IF(Pivot!G1829=\"\",\"\",Pivot!G1829)","v":""},null,{"$f":"IF(Pivot!H1829=\"\",\"\",Pivot!H1829)","v":""},null,{"$f":"IF(Pivot!J1829=\"\",\"\",Pivot!J1829)","v":""},{"$f":"IF(Pivot!I1829=\"\",\"\",Pivot!I1829)","v":""},null,null,null,null,null,null,"","",{"$error":"#VALUE!"},null,"","",""]
[{"$f":"IF(Pivot!G1830=\"\",\"\",Pivot!G1830)","v":""},null,{"$f":"IF(Pivot!H1830=\"\",\"\",Pivot!H1830)","v":""},null,{"$f":"IF(Pivot!J1830=\"\",\"\",Pivot!J1830)","v":""},{"$f":"IF(Pivot!I1830=\"\",\"\",Pivot!I1830)","v":""},null,null,null,null,null,null,"","",{"$error":"#VALUE!"},null,"","",""]
[{"$f":"IF(Pivot!G1831=\"\",\"\",Pivot!G1831)","v":""},null,{"$f":"IF(Pivot!H1831=\"\",\"\",Pivot!H1831)","v":""},null,{"$f":"IF(Pivot!J1831=\"\",\"\",Pivot!J1831)","v":""},{"$f":"IF(Pivot!I1831=\"\",\"\",Pivot!I1831)","v":""},null,null,null,null,null,null,"","",{"$error":"#VALUE!"},null,"","",""]
[{"$f":"IF(Pivot!G1832=\"\",\"\",Pivot!G1832)","v":""},null,{"$f":"IF(Pivot!H1832=\"\",\"\",Pivot!H1832)","v":""},null,{"$f":"IF(Pivot!J1832=\"\",\"\",Pivot!J1832)","v":""},{"$f":"IF(Pivot!I1832=\"\",\"\",Pivot!I1832)","v":""},null,null,null,null,null,null,"","",{"$error":"#VALUE!"},null,"","",""]
[{"$f":"IF(Pivot!G1833=\"\",\"\",Pivot!G1833)","v":""},null,{"$f":"IF(Pivot!H1833=\"\",\"\",Pivot!H1833)","v":""},null,{"$f":"IF(Pivot!J1833=\"\",\"\",Pivot!J1833)","v":""},{"$f":"IF(Pivot!I1833=\"\",\"\",Pivot!I1833)","v":""},null,null,null,null,null,null,"","",{"$error":"#VALUE!"},null,"","",""]
[{"$f":"IF(Pivot!G1834=\"\",\"\",Pivot!G1834)","v":""},null,{"$f":"IF(Pivot!H1834=\"\",\"\",Pivot!H1834)","v":""},null,{"$f":"IF(Pivot!J1834=\"\",\"\",Pivot!J1834)","v":""},{"$f":"IF(Pivot!I1834=\"\",\"\",Pivot!I1834)","v":""},null,null,null,null,null,null,"","",{"$error":"#VALUE!"},null,"","",""]
[{"$f":"IF(Pivot!G1835=\"\",\"\",Pivot!G1835)","v":""},null,{"$f":"IF(Pivot!H1835=\"\",\"\",Pivot!H1835)","v":""},null,{"$f":"IF(Pivot!J1835=\"\",\"\",Pivot!J1835)","v":""},{"$f":"IF(Pivot!I1835=\"\",\"\",Pivot!I1835)","v":""},null,null,null,null,null,null,"","",{"$error":"#VALUE!"},null,"","",""]
[{"$f":"IF(Pivot!G1836=\"\",\"\",Pivot!G1836)","v":""},null,{"$f":"IF(Pivot!H1836=\"\",\"\",Pivot!H1836)","v":""},null,{"$f":"IF(Pivot!J1836=\"\",\"\",Pivot!J1836)","v":""},{"$f":"IF(Pivot!I1836=\"\",\"\",Pivot!I1836)","v":""},null,null,null,null,null,null,"","",{"$error":"#VALUE!"},null,"","",""]
[{"$f":"IF(Pivot!G1837=\"\",\"\",Pivot!G1837)","v":""},null,{"$f":"IF(Pivot!H1837=\"\",\"\",Pivot!H1837)","v":""},null,{"$f":"IF(Pivot!J1837=\"\",\"\",Pivot!J1837)","v":""},{"$f":"IF(Pivot!I1837=\"\",\"\",Pivot!I1837)","v":""},null,null,null,null,null,null,"","",{"$error":"#VALUE!"},null,"","",""]
[{"$f":"IF(Pivot!G1838=\"\",\"\",Pivot!G1838)","v":""},null,{"$f":"IF(Pivot!H1838=\"\",\"\",Pivot!H1838)","v":""},null,{"$f":"IF(Pivot!J1838=\"\",\"\",Pivot!J1838)","v":""},{"$f":"IF(Pivot!I1838=\"\",\"\",Pivot!I1838)","v":""},null,null,null,null,null,null,"","",{"$error":"#VALUE!"},null,"","",""]
[{"$f":"IF(Pivot!G1839=\"\",\"\",Pivot!G1839)","v":""},null,{"$f":"IF(Pivot!H1839=\"\",\"\",Pivot!H1839)","v":""},null,{"$f":"IF(Pivot!J1839=\"\",\"\",Pivot!J1839)","v":""},{"$f":"IF(Pivot!I1839=\"\",\"\",Pivot!I1839)","v":""},null,null,null,null,null,null,"","",{"$error":"#VALUE!"},null,"","",""]
[{"$f":"IF(Pivot!G1840=\"\",\"\",Pivot!G1840)","v":""},null,{"$f":"IF(Pivot!H1840=\"\",\"\",Pivot!H1840)","v":""},null,{"$f":"IF(Pivot!J1840=\"\",\"\",Pivot!J1840)","v":""},{"$f":"IF(Pivot!I1840=\"\",\"\",Pivot!I1840)","v":""},null,null,null,null,null,null,"","",{"$error":"#VALUE!"},null,"","",""]
[{"$f":"IF(Pivot!G1841=\"\",\"\",Pivot!G1841)","v":""},null,{"$f":"IF(Pivot!H1841=\"\",\"\",Pivot!H1841)","v":""},null,{"$f":"IF(Pivot!J1841=\"\",\"\",Pivot!J1841)","v":""},{"$f":"IF(Pivot!I1841=\"\",\"\",Pivot!I1841)","v":""},null,null,null,null,null,null,"","",{"$error":"#VALUE!"},null,"","",""]
[{"$f":"IF(Pivot!G1842=\"\",\"\",Pivot!G1842)","v":""},null,{"$f":"IF(Pivot!H1842=\"\",\"\",Pivot!H1842)","v":""},null,{"$f":"IF(Pivot!J1842=\"\",\"\",Pivot!J1842)","v":""},{"$f":"IF(Pivot!I1842=\"\",\"\",Pivot!I1842)","v":""},null,null,null,null,null,null,"","",{"$error":"#VALUE!"},null,"","",""]
[{"$f":"IF(Pivot!G1843=\"\",\"\",Pivot!G1843)","v":""},null,{"$f":"IF(Pivot!H1843=\"\",\"\",Pivot!H1843)","v":""},null,{"$f":"IF(Pivot!J1843=\"\",\"\",Pivot!J1843)","v":""},{"$f":"IF(Pivot!I1843=\"\",\"\",Pivot!I1843)","v":""},null,null,null,null,null,null,"","",{"$error":"#VALUE!"},null,"","",""]
[{"$f":"IF(Pivot!G1844=\"\",\"\",Pivot!G1844)","v":""},null,{"$f":"IF(Pivot!H1844=\"\",\"\",Pivot!H1844)","v":""},null,{"$f":"IF(Pivot!J1844=\"\",\"\",Pivot!J1844)","v":""},{"$f":"IF(Pivot!I1844=\"\",\"\",Pivot!I1844)","v":""},null,null,null,null,null,null,"","",{"$error":"#VALUE!"},null,"","",""]
[{"$f":"IF(Pivot!G1845=\"\",\"\",Pivot!G1845)","v":""},null,{"$f":"IF(Pivot!H1845=\"\",\"\",Pivot!H1845)","v":""},null,{"$f":"IF(Pivot!J1845=\"\",\"\",Pivot!J1845)","v":""},{"$f":"IF(Pivot!I1845=\"\",\"\",Pivot!I1845)","v":""},null,null,null,null,null,null,"","",{"$error":"#VALUE!"},null,"","",""]
[{"$f":"IF(Pivot!G1846=\"\",\"\",Pivot!G1846)","v":""},null,{"$f":"IF(Pivot!H1846=\"\",\"\",Pivot!H1846)","v":""},null,{"$f":"IF(Pivot!J1846=\"\",\"\",Pivot!J1846)","v":""},{"$f":"IF(Pivot!I1846=\"\",\"\",Pivot!I1846)","v":""},null,null,null,null,null,null,"","",{"$error":"#VALUE!"},null,"","",""]
[{"$f":"IF(Pivot!G1847=\"\",\"\",Pivot!G1847)","v":""},null,{"$f":"IF(Pivot!H1847=\"\",\"\",Pivot!H1847)","v":""},null,{"$f":"IF(Pivot!J1847=\"\",\"\",Pivot!J1847)","v":""},{"$f":"IF(Pivot!I1847=\"\",\"\",Pivot!I1847)","v":""},null,null,null,null,null,null,"","",{"$error":"#VALUE!"},null,"","",""]
[{"$f":"IF(Pivot!G1848=\"\",\"\",Pivot!G1848)","v":""},null,{"$f":"IF(Pivot!H1848=\"\",\"\",Pivot!H1848)","v":""},null,{"$f":"IF(Pivot!J1848=\"\",\"\",Pivot!J1848)","v":""},{"$f":"IF(Pivot!I1848=\"\",\"\",Pivot!I1848)","v":""},null,null,null,null,null,null,"","",{"$error":"#VALUE!"},null,"","",""]
[{"$f":"IF(Pivot!G1849=\"\",\"\",Pivot!G1849)","v":""},null,{"$f":"IF(Pivot!H1849=\"\",\"\",Pivot!H1849)","v":""},null,{"$f":"IF(Pivot!J1849=\"\",\"\",Pivot!J1849)","v":""},{"$f":"IF(Pivot!I1849=\"\",\"\",Pivot!I1849)","v":""},null,null,null,null,null,null,"","",{"$error":"#VALUE!"},null,"","",""]
[{"$f":"IF(Pivot!G1850=\"\",\"\",Pivot!G1850)","v":""},null,{"$f":"IF(Pivot!H1850=\"\",\"\",Pivot!H1850)","v":""},null,{"$f":"IF(Pivot!J1850=\"\",\"\",Pivot!J1850)","v":""},{"$f":"IF(Pivot!I1850=\"\",\"\",Pivot!I1850)","v":""},null,null,null,null,null,null,"","",{"$error":"#VALUE!"},null,"","",""]
[{"$f":"IF(Pivot!G1851=\"\",\"\",Pivot!G1851)","v":""},null,{"$f":"IF(Pivot!H1851=\"\",\"\",Pivot!H1851)","v":""},null,{"$f":"IF(Pivot!J1851=\"\",\"\",Pivot!J1851)","v":""},{"$f":"IF(Pivot!I1851=\"\",\"\",Pivot!I1851)","v":""},null,null,null,null,null,null,"","",{"$error":"#VALUE!"},null,"","",""]
[{"$f":"IF(Pivot!G1852=\"\",\"\",Pivot!G1852)","v":""},null,{"$f":"IF(Pivot!H1852=\"\",\"\",Pivot!H1852)","v":""},null,{"$f":"IF(Pivot!J1852=\"\",\"\",Pivot!J1852)","v":""},{"$f":"IF(Pivot!I1852=\"\",\"\",Pivot!I1852)","v":""},null,null,null,null,null,null,"","",{"$error":"#VALUE!"},null,"","",""]
[{"$f":"IF(Pivot!G1853=\"\",\"\",Pivot!G1853)","v":""},null,{"$f":"IF(Pivot!H1853=\"\",\"\",Pivot!H1853)","v":""},null,{"$f":"IF(Pivot!J1853=\"\",\"\",Pivot!J1853)","v":""},{"$f":"IF(Pivot!I1853=\"\",\"\",Pivot!I1853)","v":""},null,null,null,null,null,null,"","",{"$error":"#VALUE!"},null,"","",""]
[{"$f":"IF(Pivot!G1854=\"\",\"\",Pivot!G1854)","v":""},null,{"$f":"IF(Pivot!H1854=\"\",\"\",Pivot!H1854)","v":""},null,{"$f":"IF(Pivot!J1854=\"\",\"\",Pivot!J1854)","v":""},{"$f":"IF(Pivot!I1854=\"\",\"\",Pivot!I1854)","v":""},null,null,null,null,null,null,"","",{"$error":"#VALUE!"},null,"","",""]
[{"$f":"IF(Pivot!G1855=\"\",\"\",Pivot!G1855)","v":""},null,{"$f":"IF(Pivot!H1855=\"\",\"\",Pivot!H1855)","v":""},null,{"$f":"IF(Pivot!J1855=\"\",\"\",Pivot!J1855)","v":""},{"$f":"IF(Pivot!I1855=\"\",\"\",Pivot!I1855)","v":""},null,null,null,null,null,null,"","",{"$error":"#VALUE!"},null,"","",""]
[{"$f":"IF(Pivot!G1856=\"\",\"\",Pivot!G1856)","v":""},null,{"$f":"IF(Pivot!H1856=\"\",\"\",Pivot!H1856)","v":""},null,{"$f":"IF(Pivot!J1856=\"\",\"\",Pivot!J1856)","v":""},{"$f":"IF(Pivot!I1856=\"\",\"\",Pivot!I1856)","v":""},null,null,null,null,null,null,"","",{"$error":"#VALUE!"},null,"","",""]
[{"$f":"IF(Pivot!G1857=\"\",\"\",Pivot!G1857)","v":""},null,{"$f":"IF(Pivot!H1857=\"\",\"\",Pivot!H1857)","v":""},null,{"$f":"IF(Pivot!J1857=\"\",\"\",Pivot!J1857)","v":""},{"$f":"IF(Pivot!I1857=\"\",\"\",Pivot!I1857)","v":""},null,null,null,null,null,null,"","",{"$error":"#VALUE!"},null,"","",""]
[{"$f":"IF(Pivot!G1858=\"\",\"\",Pivot!G1858)","v":""},null,{"$f":"IF(Pivot!H1858=\"\",\"\",Pivot!H1858)","v":""},null,{"$f":"IF(Pivot!J1858=\"\",\"\",Pivot!J1858)","v":""},{"$f":"IF(Pivot!I1858=\"\",\"\",Pivot!I1858)","v":""},null,null,null,null,null,null,"","",{"$error":"#VALUE!"},null,"","",""]
[{"$f":"IF(Pivot!G1859=\"\",\"\",Pivot!G1859)","v":""},null,{"$f":"IF(Pivot!H1859=\"\",\"\",Pivot!H1859)","v":""},null,{"$f":"IF(Pivot!J1859=\"\",\"\",Pivot!J1859)","v":""},{"$f":"IF(Pivot!I1859=\"\",\"\",Pivot!I1859)","v":""},null,null,null,null,null,null,"","",{"$error":"#VALUE!"},null,"","",""]
[{"$f":"IF(Pivot!G1860=\"\",\"\",Pivot!G1860)","v":""},null,{"$f":"IF(Pivot!H1860=\"\",\"\",Pivot!H1860)","v":""},null,{"$f":"IF(Pivot!J1860=\"\",\"\",Pivot!J1860)","v":""},{"$f":"IF(Pivot!I1860=\"\",\"\",Pivot!I1860)","v":""},null,null,null,null,null,null,"","",{"$f":"N1863/M1863","v":{"$error":"#VALUE!"}},null,"","",""]
[{"$f":"IF(Pivot!G1861=\"\",\"\",Pivot!G1861)","v":""},null,{"$f":"IF(Pivot!H1861=\"\",\"\",Pivot!H1861)","v":""},null,{"$f":"IF(Pivot!J1861=\"\",\"\",Pivot!J1861)","v":""},{"$f":"IF(Pivot!I1861=\"\",\"\",Pivot!I1861)","v":""},null,null,null,null,null,null,{"$f":"IF(C1864=\"\",\"\",C1864*L1864)","v":""},{"$f":"IF(F1864=\"\",\"\",M1864-F1864)","v":""},{"$error":"#VALUE!"},null,{"$f":"IF(C1864=\"\",\"\",C1864*P1864)","v":""},{"$f":"IF(F1864=\"\",\"\",Q1864-F1864)","v":""},{"$f":"IF(F1864=\"\",\"\",R1864/F1864)","v":""}]
[{"$f":"IF(Pivot!G1862=\"\",\"\",Pivot!G1862)","v":""},null,{"$f":"IF(Pivot!H1862=\"\",\"\",Pivot!H1862)","v":""},null,{"$f":"IF(Pivot!J1862=\"\",\"\",Pivot!J1862)","v":""},{"$f":"IF(Pivot!I1862=\"\",\"\",Pivot!I1862)","v":""},null,null,null,null,null,null,"","",{"$error":"#VALUE!"},null,"","",""]
[{"$f":"IF(Pivot!G1863=\"\",\"\",Pivot!G1863)","v":""},null,{"$f":"IF(Pivot!H1863=\"\",\"\",Pivot!H1863)","v":""},null,{"$f":"IF(Pivot!J1863=\"\",\"\",Pivot!J1863)","v":""},{"$f":"IF(Pivot!I1863=\"\",\"\",Pivot!I1863)","v":""},null,null,null,null,null,null,"","",{"$error":"#VALUE!"},null,"","",""]
[{"$f":"IF(Pivot!G1864=\"\",\"\",Pivot!G1864)","v":""},null,{"$f":"IF(Pivot!H1864=\"\",\"\",Pivot!H1864)","v":""},null,{"$f":"IF(Pivot!J1864=\"\",\"\",Pivot!J1864)","v":""},{"$f":"IF(Pivot!I1864=\"\",\"\",Pivot!I1864)","v":""},null,null,null,null,null,null,"","",{"$error":"#VALUE!"},null,"","",""]
[{"$f":"IF(Pivot!G1865=\"\",\"\",Pivot!G1865)","v":""},null,{"$f":"IF(Pivot!H1865=\"\",\"\",Pivot!H1865)","v":""},null,{"$f":"IF(Pivot!J1865=\"\",\"\",Pivot!J1865)","v":""},{"$f":"IF(Pivot!I1865=\"\",\"\",Pivot!I1865)","v":""},null,null,null,null,null,null,"","",{"$error":"#VALUE!"},null,"","",""]
[{"$f":"IF(Pivot!G1866=\"\",\"\",Pivot!G1866)","v":""},null,{"$f":"IF(Pivot!H1866=\"\",\"\",Pivot!H1866)","v":""},null,{"$f":"IF(Pivot!J1866=\"\",\"\",Pivot!J1866)","v":""},{"$f":"IF(Pivot!I1866=\"\",\"\",Pivot!I1866)","v":""},null,null,null,null,null,null,"","",{"$error":"#VALUE!"},null,"","",""]
[{"$f":"IF(Pivot!G1867=\"\",\"\",Pivot!G1867)","v":""},null,{"$f":"IF(Pivot!H1867=\"\",\"\",Pivot!H1867)","v":""},null,{"$f":"IF(Pivot!J1867=\"\",\"\",Pivot!J1867)","v":""},{"$f":"IF(Pivot!I1867=\"\",\"\",Pivot!I1867)","v":""},null,null,null,null,null,null,"","",{"$error":"#VALUE!"},null,"","",""]
[{"$f":"IF(Pivot!G1868=\"\",\"\",Pivot!G1868)","v":""},null,{"$f":"IF(Pivot!H1868=\"\",\"\",Pivot!H1868)","v":""},null,{"$f":"IF(Pivot!J1868=\"\",\"\",Pivot!J1868)","v":""},{"$f":"IF(Pivot!I1868=\"\",\"\",Pivot!I1868)","v":""},null,null,null,null,null,null,"","",{"$error":"#VALUE!"},null,"","",""]
[{"$f":"IF(Pivot!G1869=\"\",\"\",Pivot!G1869)","v":""},null,{"$f":"IF(Pivot!H1869=\"\",\"\",Pivot!H1869)","v":""},null,{"$f":"IF(Pivot!J1869=\"\",\"\",Pivot!J1869)","v":""},{"$f":"IF(Pivot!I1869=\"\",\"\",Pivot!I1869)","v":""},null,null,null,null,null,null,"","",{"$error":"#VALUE!"},null,"","",""]
[{"$f":"IF(Pivot!G1870=\"\",\"\",Pivot!G1870)","v":""},null,{"$f":"IF(Pivot!H1870=\"\",\"\",Pivot!H1870)","v":""},null,{"$f":"IF(Pivot!J1870=\"\",\"\",Pivot!J1870)","v":""},{"$f":"IF(Pivot!I1870=\"\",\"\",Pivot!I1870)","v":""},null,null,null,null,null,null,"","",{"$error":"#VALUE!"},null,"","",""]
[{"$f":"IF(Pivot!G1871=\"\",\"\",Pivot!G1871)","v":""},null,{"$f":"IF(Pivot!H1871=\"\",\"\",Pivot!H1871)","v":""},null,{"$f":"IF(Pivot!J1871=\"\",\"\",Pivot!J1871)","v":""},{"$f":"IF(Pivot!I1871=\"\",\"\",Pivot!I1871)","v":""},null,null,null,null,null,null,"","",{"$error":"#VALUE!"},null,"","",""]
[{"$f":"IF(Pivot!G1872=\"\",\"\",Pivot!G1872)","v":""},null,{"$f":"IF(Pivot!H1872=\"\",\"\",Pivot!H1872)","v":""},null,{"$f":"IF(Pivot!J1872=\"\",\"\",Pivot!J1872)","v":""},{"$f":"IF(Pivot!I1872=\"\",\"\",Pivot!I1872)","v":""},null,null,null,null,null,null,"","",{"$error":"#VALUE!"},null,"","",""]
[{"$f":"IF(Pivot!G1873=\"\",\"\",Pivot!G1873)","v":""},null,{"$f":"IF(Pivot!H1873=\"\",\"\",Pivot!H1873)","v":""},null,{"$f":"IF(Pivot!J1873=\"\",\"\",Pivot!J1873)","v":""},{"$f":"IF(Pivot!I1873=\"\",\"\",Pivot!I1873)","v":""},null,null,null,null,null,null,"","",{"$error":"#VALUE!"},null,"","",""]
[{"$f":"IF(Pivot!G1874=\"\",\"\",Pivot!G1874)","v":""},null,{"$f":"IF(Pivot!H1874=\"\",\"\",Pivot!H1874)","v":""},null,{"$f":"IF(Pivot!J1874=\"\",\"\",Pivot!J1874)","v":""},{"$f":"IF(Pivot!I1874=\"\",\"\",Pivot!I1874)","v":""},null,null,null,null,null,null,"","",{"$error":"#VALUE!"},null,"","",""]
[{"$f":"IF(Pivot!G1875=\"\",\"\",Pivot!G1875)","v":""},null,{"$f":"IF(Pivot!H1875=\"\",\"\",Pivot!H1875)","v":""},null,{"$f":"IF(Pivot!J1875=\"\",\"\",Pivot!J1875)","v":""},{"$f":"IF(Pivot!I1875=\"\",\"\",Pivot!I1875)","v":""},null,null,null,null,null,null,"","",{"$error":"#VALUE!"},null,"","",""]
[{"$f":"IF(Pivot!G1876=\"\",\"\",Pivot!G1876)","v":""},null,{"$f":"IF(Pivot!H1876=\"\",\"\",Pivot!H1876)","v":""},null,{"$f":"IF(Pivot!J1876=\"\",\"\",Pivot!J1876)","v":""},{"$f":"IF(Pivot!I1876=\"\",\"\",Pivot!I1876)","v":""},null,null,null,null,null,null,"","",{"$error":"#VALUE!"},null,"","",""]
[{"$f":"IF(Pivot!G1877=\"\",\"\",Pivot!G1877)","v":""},null,{"$f":"IF(Pivot!H1877=\"\",\"\",Pivot!H1877)","v":""},null,{"$f":"IF(Pivot!J1877=\"\",\"\",Pivot!J1877)","v":""},{"$f":"IF(Pivot!I1877=\"\",\"\",Pivot!I1877)","v":""},null,null,null,null,null,null,"","",{"$error":"#VALUE!"},null,"","",""]
[{"$f":"IF(Pivot!G1878=\"\",\"\",Pivot!G1878)","v":""},null,{"$f":"IF(Pivot!H1878=\"\",\"\",Pivot!H1878)","v":""},null,{"$f":"IF(Pivot!J1878=\"\",\"\",Pivot!J1878)","v":""},{"$f":"IF(Pivot!I1878=\"\",\"\",Pivot!I1878)","v":""},null,null,null,null,null,null,"","",{"$error":"#VALUE!"},null,"","",""]
[{"$f":"IF(Pivot!G1879=\"\",\"\",Pivot!G1879)","v":""},null,{"$f":"IF(Pivot!H1879=\"\",\"\",Pivot!H1879)","v":""},null,{"$f":"IF(Pivot!J1879=\"\",\"\",Pivot!J1879)","v":""},{"$f":"IF(Pivot!I1879=\"\",\"\",Pivot!I1879)","v":""},null,null,null,null,null,null,"","",{"$error":"#VALUE!"},null,"","",""]
[{"$f":"IF(Pivot!G1880=\"\",\"\",Pivot!G1880)","v":""},null,{"$f":"IF(Pivot!H1880=\"\",\"\",Pivot!H1880)","v":""},null,{"$f":"IF(Pivot!J1880=\"\",\"\",Pivot!J1880)","v":""},{"$f":"IF(Pivot!I1880=\"\",\"\",Pivot!I1880)","v":""},null,null,null,null,null,null,"","",{"$error":"#VALUE!"},null,"","",""]
[{"$f":"IF(Pivot!G1881=\"\",\"\",Pivot!G1881)","v":""},null,{"$f":"IF(Pivot!H1881=\"\",\"\",Pivot!H1881)","v":""},null,{"$f":"IF(Pivot!J1881=\"\",\"\",Pivot!J1881)","v":""},{"$f":"IF(Pivot!I1881=\"\",\"\",Pivot!I1881)","v":""},null,null,null,null,null,null,"","",{"$error":"#VALUE!"},null,"","",""]
[{"$f":"IF(Pivot!G1882=\"\",\"\",Pivot!G1882)","v":""},null,{"$f":"IF(Pivot!H1882=\"\",\"\",Pivot!H1882)","v":""},null,{"$f":"IF(Pivot!J1882=\"\",\"\",Pivot!J1882)","v":""},{"$f":"IF(Pivot!I1882=\"\",\"\",Pivot!I1882)","v":""},null,null,null,null,null,null,"","",{"$error":"#VALUE!"},null,"","",""]
[{"$f":"IF(Pivot!G1883=\"\",\"\",Pivot!G1883)","v":""},null,{"$f":"IF(Pivot!H1883=\"\",\"\",Pivot!H1883)","v":""},null,{"$f":"IF(Pivot!J1883=\"\",\"\",Pivot!J1883)","v":""},{"$f":"IF(Pivot!I1883=\"\",\"\",Pivot!I1883)","v":""},null,null,null,null,null,null,"","",{"$error":"#VALUE!"},null,"","",""]
[{"$f":"IF(Pivot!G1884=\"\",\"\",Pivot!G1884)","v":""},null,{"$f":"IF(Pivot!H1884=\"\",\"\",Pivot!H1884)","v":""},null,{"$f":"IF(Pivot!J1884=\"\",\"\",Pivot!J1884)","v":""},{"$f":"IF(Pivot!I1884=\"\",\"\",Pivot!I1884)","v":""},null,null,null,null,null,null,"","",{"$error":"#VALUE!"},null,"","",""]
[{"$f":"IF(Pivot!G1885=\"\",\"\",Pivot!G1885)","v":""},null,{"$f":"IF(Pivot!H1885=\"\",\"\",Pivot!H1885)","v":""},null,{"$f":"IF(Pivot!J1885=\"\",\"\",Pivot!J1885)","v":""},{"$f":"IF(Pivot!I1885=\"\",\"\",Pivot!I1885)","v":""},null,null,null,null,null,null,"","",{"$error":"#VALUE!"},null,"","",""]
[{"$f":"IF(Pivot!G1886=\"\",\"\",Pivot!G1886)","v":""},null,{"$f":"IF(Pivot!H1886=\"\",\"\",Pivot!H1886)","v":""},null,{"$f":"IF(Pivot!J1886=\"\",\"\",Pivot!J1886)","v":""},{"$f":"IF(Pivot!I1886=\"\",\"\",Pivot!I1886)","v":""},null,null,null,null,null,null,"","",{"$error":"#VALUE!"},null,"","",""]
[{"$f":"IF(Pivot!G1887=\"\",\"\",Pivot!G1887)","v":""},null,{"$f":"IF(Pivot!H1887=\"\",\"\",Pivot!H1887)","v":""},null,{"$f":"IF(Pivot!J1887=\"\",\"\",Pivot!J1887)","v":""},{"$f":"IF(Pivot!I1887=\"\",\"\",Pivot!I1887)","v":""},null,null,null,null,null,null,"","",{"$error":"#VALUE!"},null,"","",""]
[{"$f":"IF(Pivot!G1888=\"\",\"\",Pivot!G1888)","v":""},null,{"$f":"IF(Pivot!H1888=\"\",\"\",Pivot!H1888)","v":""},null,{"$f":"IF(Pivot!J1888=\"\",\"\",Pivot!J1888)","v":""},{"$f":"IF(Pivot!I1888=\"\",\"\",Pivot!I1888)","v":""},null,null,null,null,null,null,"","",{"$error":"#VALUE!"},null,"","",""]
[{"$f":"IF(Pivot!G1889=\"\",\"\",Pivot!G1889)","v":""},null,{"$f":"IF(Pivot!H1889=\"\",\"\",Pivot!H1889)","v":""},null,{"$f":"IF(Pivot!J1889=\"\",\"\",Pivot!J1889)","v":""},{"$f":"IF(Pivot!I1889=\"\",\"\",Pivot!I1889)","v":""},null,null,null,null,null,null,"","",{"$error":"#VALUE!"},null,"","",""]
[{"$f":"IF(Pivot!G1890=\"\",\"\",Pivot!G1890)","v":""},null,{"$f":"IF(Pivot!H1890=\"\",\"\",Pivot!H1890)","v":""},null,{"$f":"IF(Pivot!J1890=\"\",\"\",Pivot!J1890)","v":""},{"$f":"IF(Pivot!I1890=\"\",\"\",Pivot!I1890)","v":""},null,null,null,null,null,null,"","",{"$error":"#VALUE!"},null,"","",""]
[{"$f":"IF(Pivot!G1891=\"\",\"\",Pivot!G1891)","v":""},null,{"$f":"IF(Pivot!H1891=\"\",\"\",Pivot!H1891)","v":""},null,{"$f":"IF(Pivot!J1891=\"\",\"\",Pivot!J1891)","v":""},{"$f":"IF(Pivot!I1891=\"\",\"\",Pivot!I1891)","v":""},null,null,null,null,null,null,"","",{"$error":"#VALUE!"},null,"","",""]
[{"$f":"IF(Pivot!G1892=\"\",\"\",Pivot!G1892)","v":""},null,{"$f":"IF(Pivot!H1892=\"\",\"\",Pivot!H1892)","v":""},null,{"$f":"IF(Pivot!J1892=\"\",\"\",Pivot!J1892)","v":""},{"$f":"IF(Pivot!I1892=\"\",\"\",Pivot!I1892)","v":""},null,null,null,null,null,null,"","",{"$error":"#VALUE!"},null,"","",""]
[{"$f":"IF(Pivot!G1893=\"\",\"\",Pivot!G1893)","v":""},null,{"$f":"IF(Pivot!H1893=\"\",\"\",Pivot!H1893)","v":""},null,{"$f":"IF(Pivot!J1893=\"\",\"\",Pivot!J1893)","v":""},{"$f":"IF(Pivot!I1893=\"\",\"\",Pivot!I1893)","v":""},null,null,null,null,null,null,"","",{"$error":"#VALUE!"},null,"","",""]
[{"$f":"IF(Pivot!G1894=\"\",\"\",Pivot!G1894)","v":""},null,{"$f":"IF(Pivot!H1894=\"\",\"\",Pivot!H1894)","v":""},null,{"$f":"IF(Pivot!J1894=\"\",\"\",Pivot!J1894)","v":""},{"$f":"IF(Pivot!I1894=\"\",\"\",Pivot!I1894)","v":""},null,null,null,null,null,null,"","",{"$error":"#VALUE!"},null,"","",""]
[{"$f":"IF(Pivot!G1895=\"\",\"\",Pivot!G1895)","v":""},null,{"$f":"IF(Pivot!H1895=\"\",\"\",Pivot!H1895)","v":""},null,{"$f":"IF(Pivot!J1895=\"\",\"\",Pivot!J1895)","v":""},{"$f":"IF(Pivot!I1895=\"\",\"\",Pivot!I1895)","v":""},null,null,null,null,null,null,"","",{"$error":"#VALUE!"},null,"","",""]
[{"$f":"IF(Pivot!G1896=\"\",\"\",Pivot!G1896)","v":""},null,{"$f":"IF(Pivot!H1896=\"\",\"\",Pivot!H1896)","v":""},null,{"$f":"IF(Pivot!J1896=\"\",\"\",Pivot!J1896)","v":""},{"$f":"IF(Pivot!I1896=\"\",\"\",Pivot!I1896)","v":""},null,null,null,null,null,null,"","",{"$error":"#VALUE!"},null,"","",""]
[{"$f":"IF(Pivot!G1897=\"\",\"\",Pivot!G1897)","v":""},null,{"$f":"IF(Pivot!H1897=\"\",\"\",Pivot!H1897)","v":""},null,{"$f":"IF(Pivot!J1897=\"\",\"\",Pivot!J1897)","v":""},{"$f":"IF(Pivot!I1897=\"\",\"\",Pivot!I1897)","v":""},null,null,null,null,null,null,"","",{"$error":"#VALUE!"},null,"","",""]
[{"$f":"IF(Pivot!G1898=\"\",\"\",Pivot!G1898)","v":""},null,{"$f":"IF(Pivot!H1898=\"\",\"\",Pivot!H1898)","v":""},null,{"$f":"IF(Pivot!J1898=\"\",\"\",Pivot!J1898)","v":""},{"$f":"IF(Pivot!I1898=\"\",\"\",Pivot!I1898)","v":""},null,null,null,null,null,null,"","",{"$error":"#VALUE!"},null,"","",""]
[{"$f":"IF(Pivot!G1899=\"\",\"\",Pivot!G1899)","v":""},null,{"$f":"IF(Pivot!H1899=\"\",\"\",Pivot!H1899)","v":""},null,{"$f":"IF(Pivot!J1899=\"\",\"\",Pivot!J1899)","v":""},{"$f":"IF(Pivot!I1899=\"\",\"\",Pivot!I1899)","v":""},null,null,null,null,null,null,"","",{"$error":"#VALUE!"},null,"","",""]
[{"$f":"IF(Pivot!G1900=\"\",\"\",Pivot!G1900)","v":""},null,{"$f":"IF(Pivot!H1900=\"\",\"\",Pivot!H1900)","v":""},null,{"$f":"IF(Pivot!J1900=\"\",\"\",Pivot!J1900)","v":""},{"$f":"IF(Pivot!I1900=\"\",\"\",Pivot!I1900)","v":""},null,null,null,null,null,null,"","",{"$error":"#VALUE!"},null,"","",""]
[{"$f":"IF(Pivot!G1901=\"\",\"\",Pivot!G1901)","v":""},null,{"$f":"IF(Pivot!H1901=\"\",\"\",Pivot!H1901)","v":""},null,{"$f":"IF(Pivot!J1901=\"\",\"\",Pivot!J1901)","v":""},{"$f":"IF(Pivot!I1901=\"\",\"\",Pivot!I1901)","v":""},null,null,null,null,null,null,"","",{"$error":"#VALUE!"},null,"","",""]
[{"$f":"IF(Pivot!G1902=\"\",\"\",Pivot!G1902)","v":""},null,{"$f":"IF(Pivot!H1902=\"\",\"\",Pivot!H1902)","v":""},null,{"$f":"IF(Pivot!J1902=\"\",\"\",Pivot!J1902)","v":""},{"$f":"IF(Pivot!I1902=\"\",\"\",Pivot!I1902)","v":""},null,null,null,null,null,null,"","",{"$error":"#VALUE!"},null,"","",""]
[{"$f":"IF(Pivot!G1903=\"\",\"\",Pivot!G1903)","v":""},null,{"$f":"IF(Pivot!H1903=\"\",\"\",Pivot!H1903)","v":""},null,{"$f":"IF(Pivot!J1903=\"\",\"\",Pivot!J1903)","v":""},{"$f":"IF(Pivot!I1903=\"\",\"\",Pivot!I1903)","v":""},null,null,null,null,null,null,"","",{"$error":"#VALUE!"},null,"","",""]
[{"$f":"IF(Pivot!G1904=\"\",\"\",Pivot!G1904)","v":""},null,{"$f":"IF(Pivot!H1904=\"\",\"\",Pivot!H1904)","v":""},null,{"$f":"IF(Pivot!J1904=\"\",\"\",Pivot!J1904)","v":""},{"$f":"IF(Pivot!I1904=\"\",\"\",Pivot!I1904)","v":""},null,null,null,null,null,null,"","",{"$error":"#VALUE!"},null,"","",""]
[{"$f":"IF(Pivot!G1905=\"\",\"\",Pivot!G1905)","v":""},null,{"$f":"IF(Pivot!H1905=\"\",\"\",Pivot!H1905)","v":""},null,{"$f":"IF(Pivot!J1905=\"\",\"\",Pivot!J1905)","v":""},{"$f":"IF(Pivot!I1905=\"\",\"\",Pivot!I1905)","v":""},null,null,null,null,null,null,"","",{"$error":"#VALUE!"},null,"","",""]
[{"$f":"IF(Pivot!G1906=\"\",\"\",Pivot!G1906)","v":""},null,{"$f":"IF(Pivot!H1906=\"\",\"\",Pivot!H1906)","v":""},null,{"$f":"IF(Pivot!J1906=\"\",\"\",Pivot!J1906)","v":""},{"$f":"IF(Pivot!I1906=\"\",\"\",Pivot!I1906)","v":""},null,null,null,null,null,null,"","",{"$error":"#VALUE!"},null,"","",""]
[{"$f":"IF(Pivot!G1907=\"\",\"\",Pivot!G1907)","v":""},null,{"$f":"IF(Pivot!H1907=\"\",\"\",Pivot!H1907)","v":""},null,{"$f":"IF(Pivot!J1907=\"\",\"\",Pivot!J1907)","v":""},{"$f":"IF(Pivot!I1907=\"\",\"\",Pivot!I1907)","v":""},null,null,null,null,null,null,"","",{"$error":"#VALUE!"},null,"","",""]
[{"$f":"IF(Pivot!G1908=\"\",\"\",Pivot!G1908)","v":""},null,{"$f":"IF(Pivot!H1908=\"\",\"\",Pivot!H1908)","v":""},null,{"$f":"IF(Pivot!J1908=\"\",\"\",Pivot!J1908)","v":""},{"$f":"IF(Pivot!I1908=\"\",\"\",Pivot!I1908)","v":""},null,null,null,null,null,null,"","",{"$error":"#VALUE!"},null,"","",""]
[{"$f":"IF(Pivot!G1909=\"\",\"\",Pivot!G1909)","v":""},null,{"$f":"IF(Pivot!H1909=\"\",\"\",Pivot!H1909)","v":""},null,{"$f":"IF(Pivot!J1909=\"\",\"\",Pivot!J1909)","v":""},{"$f":"IF(Pivot!I1909=\"\",\"\",Pivot!I1909)","v":""},null,null,null,null,null,null,"","",{"$error":"#VALUE!"},null,"","",""]
[{"$f":"IF(Pivot!G1910=\"\",\"\",Pivot!G1910)","v":""},null,{"$f":"IF(Pivot!H1910=\"\",\"\",Pivot!H1910)","v":""},null,{"$f":"IF(Pivot!J1910=\"\",\"\",Pivot!J1910)","v":""},{"$f":"IF(Pivot!I1910=\"\",\"\",Pivot!I1910)","v":""},null,null,null,null,null,null,"","",{"$error":"#VALUE!"},null,"","",""]
[{"$f":"IF(Pivot!G1911=\"\",\"\",Pivot!G1911)","v":""},null,{"$f":"IF(Pivot!H1911=\"\",\"\",Pivot!H1911)","v":""},null,{"$f":"IF(Pivot!J1911=\"\",\"\",Pivot!J1911)","v":""},{"$f":"IF(Pivot!I1911=\"\",\"\",Pivot!I1911)","v":""},null,null,null,null,null,null,"","",{"$error":"#VALUE!"},null,"","",""]
[{"$f":"IF(Pivot!G1912=\"\",\"\",Pivot!G1912)","v":""},null,{"$f":"IF(Pivot!H1912=\"\",\"\",Pivot!H1912)","v":""},null,{"$f":"IF(Pivot!J1912=\"\",\"\",Pivot!J1912)","v":""},{"$f":"IF(Pivot!I1912=\"\",\"\",Pivot!I1912)","v":""},null,null,null,null,null,null,"","",{"$error":"#VALUE!"},null,"","",""]
[{"$f":"IF(Pivot!G1913=\"\",\"\",Pivot!G1913)","v":""},null,{"$f":"IF(Pivot!H1913=\"\",\"\",Pivot!H1913)","v":""},null,{"$f":"IF(Pivot!J1913=\"\",\"\",Pivot!J1913)","v":""},{"$f":"IF(Pivot!I1913=\"\",\"\",Pivot!I1913)","v":""},null,null,null,null,null,null,"","",{"$error":"#VALUE!"},null,"","",""]
[{"$f":"IF(Pivot!G1914=\"\",\"\",Pivot!G1914)","v":""},null,{"$f":"IF(Pivot!H1914=\"\",\"\",Pivot!H1914)","v":""},null,{"$f":"IF(Pivot!J1914=\"\",\"\",Pivot!J1914)","v":""},{"$f":"IF(Pivot!I1914=\"\",\"\",Pivot!I1914)","v":""},null,null,null,null,null,null,"","",{"$error":"#VALUE!"},null,"","",""]
[{"$f":"IF(Pivot!G1915=\"\",\"\",Pivot!G1915)","v":""},null,{"$f":"IF(Pivot!H1915=\"\",\"\",Pivot!H1915)","v":""},null,{"$f":"IF(Pivot!J1915=\"\",\"\",Pivot!J1915)","v":""},{"$f":"IF(Pivot!I1915=\"\",\"\",Pivot!I1915)","v":""},null,null,null,null,null,null,"","",{"$error":"#VALUE!"},null,"","",""]
[{"$f":"IF(Pivot!G1916=\"\",\"\",Pivot!G1916)","v":""},null,{"$f":"IF(Pivot!H1916=\"\",\"\",Pivot!H1916)","v":""},null,{"$f":"IF(Pivot!J1916=\"\",\"\",Pivot!J1916)","v":""},{"$f":"IF(Pivot!I1916=\"\",\"\",Pivot!I1916)","v":""},null,null,null,null,null,null,"","",{"$error":"#VALUE!"},null,"","",""]
[{"$f":"IF(Pivot!G1917=\"\",\"\",Pivot!G1917)","v":""},null,{"$f":"IF(Pivot!H1917=\"\",\"\",Pivot!H1917)","v":""},null,{"$f":"IF(Pivot!J1917=\"\",\"\",Pivot!J1917)","v":""},{"$f":"IF(Pivot!I1917=\"\",\"\",Pivot!I1917)","v":""},null,null,null,null,null,null,"","",{"$error":"#VALUE!"},null,"","",""]
[{"$f":"IF(Pivot!G1918=\"\",\"\",Pivot!G1918)","v":""},null,{"$f":"IF(Pivot!H1918=\"\",\"\",Pivot!H1918)","v":""},null,{"$f":"IF(Pivot!J1918=\"\",\"\",Pivot!J1918)","v":""},{"$f":"IF(Pivot!I1918=\"\",\"\",Pivot!I1918)","v":""},null,null,null,null,null,null,"","",{"$error":"#VALUE!"},null,"","",""]
[{"$f":"IF(Pivot!G1919=\"\",\"\",Pivot!G1919)","v":""},null,{"$f":"IF(Pivot!H1919=\"\",\"\",Pivot!H1919)","v":""},null,{"$f":"IF(Pivot!J1919=\"\",\"\",Pivot!J1919)","v":""},{"$f":"IF(Pivot!I1919=\"\",\"\",Pivot!I1919)","v":""},null,null,null,null,null,null,"","",{"$error":"#VALUE!"},null,"","",""]
[{"$f":"IF(Pivot!G1920=\"\",\"\",Pivot!G1920)","v":""},null,{"$f":"IF(Pivot!H1920=\"\",\"\",Pivot!H1920)","v":""},null,{"$f":"IF(Pivot!J1920=\"\",\"\",Pivot!J1920)","v":""},{"$f":"IF(Pivot!I1920=\"\",\"\",Pivot!I1920)","v":""},null,null,null,null,null,null,"","",{"$error":"#VALUE!"},null,"","",""]
[{"$f":"IF(Pivot!G1921=\"\",\"\",Pivot!G1921)","v":""},null,{"$f":"IF(Pivot!H1921=\"\",\"\",Pivot!H1921)","v":""},null,{"$f":"IF(Pivot!J1921=\"\",\"\",Pivot!J1921)","v":""},{"$f":"IF(Pivot!I1921=\"\",\"\",Pivot!I1921)","v":""},null,null,null,null,null,null,"","",{"$error":"#VALUE!"},null,"","",""]
[{"$f":"IF(Pivot!G1922=\"\",\"\",Pivot!G1922)","v":""},null,{"$f":"IF(Pivot!H1922=\"\",\"\",Pivot!H1922)","v":""},null,{"$f":"IF(Pivot!J1922=\"\",\"\",Pivot!J1922)","v":""},{"$f":"IF(Pivot!I1922=\"\",\"\",Pivot!I1922)","v":""},null,null,null,null,null,null,"","",{"$error":"#VALUE!"},null,"","",""]
[{"$f":"IF(Pivot!G1923=\"\",\"\",Pivot!G1923)","v":""},null,{"$f":"IF(Pivot!H1923=\"\",\"\",Pivot!H1923)","v":""},null,{"$f":"IF(Pivot!J1923=\"\",\"\",Pivot!J1923)","v":""},{"$f":"IF(Pivot!I1923=\"\",\"\",Pivot!I1923)","v":""},null,null,null,null,null,null,"","",{"$error":"#VALUE!"},null,"","",""]
[{"$f":"IF(Pivot!G1924=\"\",\"\",Pivot!G1924)","v":""},null,{"$f":"IF(Pivot!H1924=\"\",\"\",Pivot!H1924)","v":""},null,{"$f":"IF(Pivot!J1924=\"\",\"\",Pivot!J1924)","v":""},{"$f":"IF(Pivot!I1924=\"\",\"\",Pivot!I1924)","v":""},null,null,null,null,null,null,"","",{"$f":"N1927/M1927","v":{"$error":"#VALUE!"}},null,"","",""]
[{"$f":"IF(Pivot!G1925=\"\",\"\",Pivot!G1925)","v":""},null,{"$f":"IF(Pivot!H1925=\"\",\"\",Pivot!H1925)","v":""},null,{"$f":"IF(Pivot!J1925=\"\",\"\",Pivot!J1925)","v":""},{"$f":"IF(Pivot!I1925=\"\",\"\",Pivot!I1925)","v":""},null,null,null,null,null,null,{"$f":"IF(C1928=\"\",\"\",C1928*L1928)","v":""},{"$f":"IF(F1928=\"\",\"\",M1928-F1928)","v":""},{"$error":"#VALUE!"},null,{"$f":"IF(C1928=\"\",\"\",C1928*P1928)","v":""},{"$f":"IF(F1928=\"\",\"\",Q1928-F1928)","v":""},{"$f":"IF(F1928=\"\",\"\",R1928/F1928)","v":""}]
[{"$f":"IF(Pivot!G1926=\"\",\"\",Pivot!G1926)","v":""},null,{"$f":"IF(Pivot!H1926=\"\",\"\",Pivot!H1926)","v":""},null,{"$f":"IF(Pivot!J1926=\"\",\"\",Pivot!J1926)","v":""},{"$f":"IF(Pivot!I1926=\"\",\"\",Pivot!I1926)","v":""},null,null,null,null,null,null,"","",{"$error":"#VALUE!"},null,"","",""]
[{"$f":"IF(Pivot!G1927=\"\",\"\",Pivot!G1927)","v":""},null,{"$f":"IF(Pivot!H1927=\"\",\"\",Pivot!H1927)","v":""},null,{"$f":"IF(Pivot!J1927=\"\",\"\",Pivot!J1927)","v":""},{"$f":"IF(Pivot!I1927=\"\",\"\",Pivot!I1927)","v":""},null,null,null,null,null,null,"","",{"$error":"#VALUE!"},null,"","",""]
[{"$f":"IF(Pivot!G1928=\"\",\"\",Pivot!G1928)","v":""},null,{"$f":"IF(Pivot!H1928=\"\",\"\",Pivot!H1928)","v":""},null,{"$f":"IF(Pivot!J1928=\"\",\"\",Pivot!J1928)","v":""},{"$f":"IF(Pivot!I1928=\"\",\"\",Pivot!I1928)","v":""},null,null,null,null,null,null,"","",{"$error":"#VALUE!"},null,"","",""]
[{"$f":"IF(Pivot!G1929=\"\",\"\",Pivot!G1929)","v":""},null,{"$f":"IF(Pivot!H1929=\"\",\"\",Pivot!H1929)","v":""},null,{"$f":"IF(Pivot!J1929=\"\",\"\",Pivot!J1929)","v":""},{"$f":"IF(Pivot!I1929=\"\",\"\",Pivot!I1929)","v":""},null,null,null,null,null,null,"","",{"$error":"#VALUE!"},null,"","",""]
[{"$f":"IF(Pivot!G1930=\"\",\"\",Pivot!G1930)","v":""},null,{"$f":"IF(Pivot!H1930=\"\",\"\",Pivot!H1930)","v":""},null,{"$f":"IF(Pivot!J1930=\"\",\"\",Pivot!J1930)","v":""},{"$f":"IF(Pivot!I1930=\"\",\"\",Pivot!I1930)","v":""},null,null,null,null,null,null,"","",{"$error":"#VALUE!"},null,"","",""]
[{"$f":"IF(Pivot!G1931=\"\",\"\",Pivot!G1931)","v":""},null,{"$f":"IF(Pivot!H1931=\"\",\"\",Pivot!H1931)","v":""},null,{"$f":"IF(Pivot!J1931=\"\",\"\",Pivot!J1931)","v":""},{"$f":"IF(Pivot!I1931=\"\",\"\",Pivot!I1931)","v":""},null,null,null,null,null,null,"","",{"$error":"#VALUE!"},null,"","",""]
[{"$f":"IF(Pivot!G1932=\"\",\"\",Pivot!G1932)","v":""},null,{"$f":"IF(Pivot!H1932=\"\",\"\",Pivot!H1932)","v":""},null,{"$f":"IF(Pivot!J1932=\"\",\"\",Pivot!J1932)","v":""},{"$f":"IF(Pivot!I1932=\"\",\"\",Pivot!I1932)","v":""},null,null,null,null,null,null,"","",{"$error":"#VALUE!"},null,"","",""]
[{"$f":"IF(Pivot!G1933=\"\",\"\",Pivot!G1933)","v":""},null,{"$f":"IF(Pivot!H1933=\"\",\"\",Pivot!H1933)","v":""},null,{"$f":"IF(Pivot!J1933=\"\",\"\",Pivot!J1933)","v":""},{"$f":"IF(Pivot!I1933=\"\",\"\",Pivot!I1933)","v":""},null,null,null,null,null,null,"","",{"$error":"#VALUE!"},null,"","",""]
[{"$f":"IF(Pivot!G1934=\"\",\"\",Pivot!G1934)","v":""},null,{"$f":"IF(Pivot!H1934=\"\",\"\",Pivot!H1934)","v":""},null,{"$f":"IF(Pivot!J1934=\"\",\"\",Pivot!J1934)","v":""},{"$f":"IF(Pivot!I1934=\"\",\"\",Pivot!I1934)","v":""},null,null,null,null,null,null,"","",{"$error":"#VALUE!"},null,"","",""]
[{"$f":"IF(Pivot!G1935=\"\",\"\",Pivot!G1935)","v":""},null,{"$f":"IF(Pivot!H1935=\"\",\"\",Pivot!H1935)","v":""},null,{"$f":"IF(Pivot!J1935=\"\",\"\",Pivot!J1935)","v":""},{"$f":"IF(Pivot!I1935=\"\",\"\",Pivot!I1935)","v":""},null,null,null,null,null,null,"","",{"$error":"#VALUE!"},null,"","",""]
[{"$f":"IF(Pivot!G1936=\"\",\"\",Pivot!G1936)","v":""},null,{"$f":"IF(Pivot!H1936=\"\",\"\",Pivot!H1936)","v":""},null,{"$f":"IF(Pivot!J1936=\"\",\"\",Pivot!J1936)","v":""},{"$f":"IF(Pivot!I1936=\"\",\"\",Pivot!I1936)","v":""},null,null,null,null,null,null,"","",{"$error":"#VALUE!"},null,"","",""]
[{"$f":"IF(Pivot!G1937=\"\",\"\",Pivot!G1937)","v":""},null,{"$f":"IF(Pivot!H1937=\"\",\"\",Pivot!H1937)","v":""},null,{"$f":"IF(Pivot!J1937=\"\",\"\",Pivot!J1937)","v":""},{"$f":"IF(Pivot!I1937=\"\",\"\",Pivot!I1937)","v":""},null,null,null,null,null,null,"","",{"$error":"#VALUE!"},null,"","",""]
[{"$f":"IF(Pivot!G1938=\"\",\"\",Pivot!G1938)","v":""},null,{"$f":"IF(Pivot!H1938=\"\",\"\",Pivot!H1938)","v":""},null,{"$f":"IF(Pivot!J1938=\"\",\"\",Pivot!J1938)","v":""},{"$f":"IF(Pivot!I1938=\"\",\"\",Pivot!I1938)","v":""},null,null,null,null,null,null,"","",{"$error":"#VALUE!"},null,"","",""]
[{"$f":"IF(Pivot!G1939=\"\",\"\",Pivot!G1939)","v":""},null,{"$f":"IF(Pivot!H1939=\"\",\"\",Pivot!H1939)","v":""},null,{"$f":"IF(Pivot!J1939=\"\",\"\",Pivot!J1939)","v":""},{"$f":"IF(Pivot!I1939=\"\",\"\",Pivot!I1939)","v":""},null,null,null,null,null,null,"","",{"$error":"#VALUE!"},null,"","",""]
[{"$f":"IF(Pivot!G1940=\"\",\"\",Pivot!G1940)","v":""},null,{"$f":"IF(Pivot!H1940=\"\",\"\",Pivot!H1940)","v":""},null,{"$f":"IF(Pivot!J1940=\"\",\"\",Pivot!J1940)","v":""},{"$f":"IF(Pivot!I1940=\"\",\"\",Pivot!I1940)","v":""},null,null,null,null,null,null,"","",{"$error":"#VALUE!"},null,"","",""]
[{"$f":"IF(Pivot!G1941=\"\",\"\",Pivot!G1941)","v":""},null,{"$f":"IF(Pivot!H1941=\"\",\"\",Pivot!H1941)","v":""},null,{"$f":"IF(Pivot!J1941=\"\",\"\",Pivot!J1941)","v":""},{"$f":"IF(Pivot!I1941=\"\",\"\",Pivot!I1941)","v":""},null,null,null,null,null,null,"","",{"$error":"#VALUE!"},null,"","",""]
[{"$f":"IF(Pivot!G1942=\"\",\"\",Pivot!G1942)","v":""},null,{"$f":"IF(Pivot!H1942=\"\",\"\",Pivot!H1942)","v":""},null,{"$f":"IF(Pivot!J1942=\"\",\"\",Pivot!J1942)","v":""},{"$f":"IF(Pivot!I1942=\"\",\"\",Pivot!I1942)","v":""},null,null,null,null,null,null,"","",{"$error":"#VALUE!"},null,"","",""]
[{"$f":"IF(Pivot!G1943=\"\",\"\",Pivot!G1943)","v":""},null,{"$f":"IF(Pivot!H1943=\"\",\"\",Pivot!H1943)","v":""},null,{"$f":"IF(Pivot!J1943=\"\",\"\",Pivot!J1943)","v":""},{"$f":"IF(Pivot!I1943=\"\",\"\",Pivot!I1943)","v":""},null,null,null,null,null,null,"","",{"$error":"#VALUE!"},null,"","",""]
[{"$f":"IF(Pivot!G1944=\"\",\"\",Pivot!G1944)","v":""},null,{"$f":"IF(Pivot!H1944=\"\",\"\",Pivot!H1944)","v":""},null,{"$f":"IF(Pivot!J1944=\"\",\"\",Pivot!J1944)","v":""},{"$f":"IF(Pivot!I1944=\"\",\"\",Pivot!I1944)","v":""},null,null,null,null,null,null,"","",{"$error":"#VALUE!"},null,"","",""]
[{"$f":"IF(Pivot!G1945=\"\",\"\",Pivot!G1945)","v":""},null,{"$f":"IF(Pivot!H1945=\"\",\"\",Pivot!H1945)","v":""},null,{"$f":"IF(Pivot!J1945=\"\",\"\",Pivot!J1945)","v":""},{"$f":"IF(Pivot!I1945=\"\",\"\",Pivot!I1945)","v":""},null,null,null,null,null,null,"","",{"$error":"#VALUE!"},null,"","",""]
[{"$f":"IF(Pivot!G1946=\"\",\"\",Pivot!G1946)","v":""},null,{"$f":"IF(Pivot!H1946=\"\",\"\",Pivot!H1946)","v":""},null,{"$f":"IF(Pivot!J1946=\"\",\"\",Pivot!J1946)","v":""},{"$f":"IF(Pivot!I1946=\"\",\"\",Pivot!I1946)","v":""},null,null,null,null,null,null,"","",{"$error":"#VALUE!"},null,"","",""]
[{"$f":"IF(Pivot!G1947=\"\",\"\",Pivot!G1947)","v":""},null,{"$f":"IF(Pivot!H1947=\"\",\"\",Pivot!H1947)","v":""},null,{"$f":"IF(Pivot!J1947=\"\",\"\",Pivot!J1947)","v":""},{"$f":"IF(Pivot!I1947=\"\",\"\",Pivot!I1947)","v":""},null,null,null,null,null,null,"","",{"$error":"#VALUE!"},null,"","",""]
[{"$f":"IF(Pivot!G1948=\"\",\"\",Pivot!G1948)","v":""},null,{"$f":"IF(Pivot!H1948=\"\",\"\",Pivot!H1948)","v":""},null,{"$f":"IF(Pivot!J1948=\"\",\"\",Pivot!J1948)","v":""},{"$f":"IF(Pivot!I1948=\"\",\"\",Pivot!I1948)","v":""},null,null,null,null,null,null,"","",{"$error":"#VALUE!"},null,"","",""]
[{"$f":"IF(Pivot!G1949=\"\",\"\",Pivot!G1949)","v":""},null,{"$f":"IF(Pivot!H1949=\"\",\"\",Pivot!H1949)","v":""},null,{"$f":"IF(Pivot!J1949=\"\",\"\",Pivot!J1949)","v":""},{"$f":"IF(Pivot!I1949=\"\",\"\",Pivot!I1949)","v":""},null,null,null,null,null,null,"","",{"$error":"#VALUE!"},null,"","",""]
[{"$f":"IF(Pivot!G1950=\"\",\"\",Pivot!G1950)","v":""},null,{"$f":"IF(Pivot!H1950=\"\",\"\",Pivot!H1950)","v":""},null,{"$f":"IF(Pivot!J1950=\"\",\"\",Pivot!J1950)","v":""},{"$f":"IF(Pivot!I1950=\"\",\"\",Pivot!I1950)","v":""},null,null,null,null,null,null,"","",{"$error":"#VALUE!"},null,"","",""]
[{"$f":"IF(Pivot!G1951=\"\",\"\",Pivot!G1951)","v":""},null,{"$f":"IF(Pivot!H1951=\"\",\"\",Pivot!H1951)","v":""},null,{"$f":"IF(Pivot!J1951=\"\",\"\",Pivot!J1951)","v":""},{"$f":"IF(Pivot!I1951=\"\",\"\",Pivot!I1951)","v":""},null,null,null,null,null,null,"","",{"$error":"#VALUE!"},null,"","",""]
[{"$f":"IF(Pivot!G1952=\"\",\"\",Pivot!G1952)","v":""},null,{"$f":"IF(Pivot!H1952=\"\",\"\",Pivot!H1952)","v":""},null,{"$f":"IF(Pivot!J1952=\"\",\"\",Pivot!J1952)","v":""},{"$f":"IF(Pivot!I1952=\"\",\"\",Pivot!I1952)","v":""},null,null,null,null,null,null,"","",{"$error":"#VALUE!"},null,"","",""]
[{"$f":"IF(Pivot!G1953=\"\",\"\",Pivot!G1953)","v":""},null,{"$f":"IF(Pivot!H1953=\"\",\"\",Pivot!H1953)","v":""},null,{"$f":"IF(Pivot!J1953=\"\",\"\",Pivot!J1953)","v":""},{"$f":"IF(Pivot!I1953=\"\",\"\",Pivot!I1953)","v":""},null,null,null,null,null,null,"","",{"$error":"#VALUE!"},null,"","",""]
[{"$f":"IF(Pivot!G1954=\"\",\"\",Pivot!G1954)","v":""},null,{"$f":"IF(Pivot!H1954=\"\",\"\",Pivot!H1954)","v":""},null,{"$f":"IF(Pivot!J1954=\"\",\"\",Pivot!J1954)","v":""},{"$f":"IF(Pivot!I1954=\"\",\"\",Pivot!I1954)","v":""},null,null,null,null,null,null,"","",{"$error":"#VALUE!"},null,"","",""]
[{"$f":"IF(Pivot!G1955=\"\",\"\",Pivot!G1955)","v":""},null,{"$f":"IF(Pivot!H1955=\"\",\"\",Pivot!H1955)","v":""},null,{"$f":"IF(Pivot!J1955=\"\",\"\",Pivot!J1955)","v":""},{"$f":"IF(Pivot!I1955=\"\",\"\",Pivot!I1955)","v":""},null,null,null,null,null,null,"","",{"$error":"#VALUE!"},null,"","",""]
[{"$f":"IF(Pivot!G1956=\"\",\"\",Pivot!G1956)","v":""},null,{"$f":"IF(Pivot!H1956=\"\",\"\",Pivot!H1956)","v":""},null,{"$f":"IF(Pivot!J1956=\"\",\"\",Pivot!J1956)","v":""},{"$f":"IF(Pivot!I1956=\"\",\"\",Pivot!I1956)","v":""},null,null,null,null,null,null,"","",{"$error":"#VALUE!"},null,"","",""]
[{"$f":"IF(Pivot!G1957=\"\",\"\",Pivot!G1957)","v":""},null,{"$f":"IF(Pivot!H1957=\"\",\"\",Pivot!H1957)","v":""},null,{"$f":"IF(Pivot!J1957=\"\",\"\",Pivot!J1957)","v":""},{"$f":"IF(Pivot!I1957=\"\",\"\",Pivot!I1957)","v":""},null,null,null,null,null,null,"","",{"$error":"#VALUE!"},null,"","",""]
[{"$f":"IF(Pivot!G1958=\"\",\"\",Pivot!G1958)","v":""},null,{"$f":"IF(Pivot!H1958=\"\",\"\",Pivot!H1958)","v":""},null,{"$f":"IF(Pivot!J1958=\"\",\"\",Pivot!J1958)","v":""},{"$f":"IF(Pivot!I1958=\"\",\"\",Pivot!I1958)","v":""},null,null,null,null,null,null,"","",{"$error":"#VALUE!"},null,"","",""]
[{"$f":"IF(Pivot!G1959=\"\",\"\",Pivot!G1959)","v":""},null,{"$f":"IF(Pivot!H1959=\"\",\"\",Pivot!H1959)","v":""},null,{"$f":"IF(Pivot!J1959=\"\",\"\",Pivot!J1959)","v":""},{"$f":"IF(Pivot!I1959=\"\",\"\",Pivot!I1959)","v":""},null,null,null,null,null,null,"","",{"$error":"#VALUE!"},null,"","",""]
[{"$f":"IF(Pivot!G1960=\"\",\"\",Pivot!G1960)","v":""},null,{"$f":"IF(Pivot!H1960=\"\",\"\",Pivot!H1960)","v":""},null,{"$f":"IF(Pivot!J1960=\"\",\"\",Pivot!J1960)","v":""},{"$f":"IF(Pivot!I1960=\"\",\"\",Pivot!I1960)","v":""},null,null,null,null,null,null,"","",{"$error":"#VALUE!"},null,"","",""]
[{"$f":"IF(Pivot!G1961=\"\",\"\",Pivot!G1961)","v":""},null,{"$f":"IF(Pivot!H1961=\"\",\"\",Pivot!H1961)","v":""},null,{"$f":"IF(Pivot!J1961=\"\",\"\",Pivot!J1961)","v":""},{"$f":"IF(Pivot!I1961=\"\",\"\",Pivot!I1961)","v":""},null,null,null,null,null,null,"","",{"$error":"#VALUE!"},null,"","",""]
[{"$f":"IF(Pivot!G1962=\"\",\"\",Pivot!G1962)","v":""},null,{"$f":"IF(Pivot!H1962=\"\",\"\",Pivot!H1962)","v":""},null,{"$f":"IF(Pivot!J1962=\"\",\"\",Pivot!J1962)","v":""},{"$f":"IF(Pivot!I1962=\"\",\"\",Pivot!I1962)","v":""},null,null,null,null,null,null,"","",{"$error":"#VALUE!"},null,"","",""]
[{"$f":"IF(Pivot!G1963=\"\",\"\",Pivot!G1963)","v":""},null,{"$f":"IF(Pivot!H1963=\"\",\"\",Pivot!H1963)","v":""},null,{"$f":"IF(Pivot!J1963=\"\",\"\",Pivot!J1963)","v":""},{"$f":"IF(Pivot!I1963=\"\",\"\",Pivot!I1963)","v":""},null,null,null,null,null,null,"","",{"$error":"#VALUE!"},null,"","",""]
[{"$f":"IF(Pivot!G1964=\"\",\"\",Pivot!G1964)","v":""},null,{"$f":"IF(Pivot!H1964=\"\",\"\",Pivot!H1964)","v":""},null,{"$f":"IF(Pivot!J1964=\"\",\"\",Pivot!J1964)","v":""},{"$f":"IF(Pivot!I1964=\"\",\"\",Pivot!I1964)","v":""},null,null,null,null,null,null,"","",{"$error":"#VALUE!"},null,"","",""]
[{"$f":"IF(Pivot!G1965=\"\",\"\",Pivot!G1965)","v":""},null,{"$f":"IF(Pivot!H1965=\"\",\"\",Pivot!H1965)","v":""},null,{"$f":"IF(Pivot!J1965=\"\",\"\",Pivot!J1965)","v":""},{"$f":"IF(Pivot!I1965=\"\",\"\",Pivot!I1965)","v":""},null,null,null,null,null,null,"","",{"$error":"#VALUE!"},null,"","",""]
[{"$f":"IF(Pivot!G1966=\"\",\"\",Pivot!G1966)","v":""},null,{"$f":"IF(Pivot!H1966=\"\",\"\",Pivot!H1966)","v":""},null,{"$f":"IF(Pivot!J1966=\"\",\"\",Pivot!J1966)","v":""},{"$f":"IF(Pivot!I1966=\"\",\"\",Pivot!I1966)","v":""},null,null,null,null,null,null,"","",{"$error":"#VALUE!"},null,"","",""]
[{"$f":"IF(Pivot!G1967=\"\",\"\",Pivot!G1967)","v":""},null,{"$f":"IF(Pivot!H1967=\"\",\"\",Pivot!H1967)","v":""},null,{"$f":"IF(Pivot!J1967=\"\",\"\",Pivot!J1967)","v":""},{"$f":"IF(Pivot!I1967=\"\",\"\",Pivot!I1967)","v":""},null,null,null,null,null,null,"","",{"$error":"#VALUE!"},null,"","",""]
[{"$f":"IF(Pivot!G1968=\"\",\"\",Pivot!G1968)","v":""},null,{"$f":"IF(Pivot!H1968=\"\",\"\",Pivot!H1968)","v":""},null,{"$f":"IF(Pivot!J1968=\"\",\"\",Pivot!J1968)","v":""},{"$f":"IF(Pivot!I1968=\"\",\"\",Pivot!I1968)","v":""},null,null,null,null,null,null,"","",{"$error":"#VALUE!"},null,"","",""]
[{"$f":"IF(Pivot!G1969=\"\",\"\",Pivot!G1969)","v":""},null,{"$f":"IF(Pivot!H1969=\"\",\"\",Pivot!H1969)","v":""},null,{"$f":"IF(Pivot!J1969=\"\",\"\",Pivot!J1969)","v":""},{"$f":"IF(Pivot!I1969=\"\",\"\",Pivot!I1969)","v":""},null,null,null,null,null,null,"","",{"$error":"#VALUE!"},null,"","",""]
[{"$f":"IF(Pivot!G1970=\"\",\"\",Pivot!G1970)","v":""},null,{"$f":"IF(Pivot!H1970=\"\",\"\",Pivot!H1970)","v":""},null,{"$f":"IF(Pivot!J1970=\"\",\"\",Pivot!J1970)","v":""},{"$f":"IF(Pivot!I1970=\"\",\"\",Pivot!I1970)","v":""},null,null,null,null,null,null,"","",{"$error":"#VALUE!"},null,"","",""]
[{"$f":"IF(Pivot!G1971=\"\",\"\",Pivot!G1971)","v":""},null,{"$f":"IF(Pivot!H1971=\"\",\"\",Pivot!H1971)","v":""},null,{"$f":"IF(Pivot!J1971=\"\",\"\",Pivot!J1971)","v":""},{"$f":"IF(Pivot!I1971=\"\",\"\",Pivot!I1971)","v":""},null,null,null,null,null,null,"","",{"$error":"#VALUE!"},null,"","",""]
[{"$f":"IF(Pivot!G1972=\"\",\"\",Pivot!G1972)","v":""},null,{"$f":"IF(Pivot!H1972=\"\",\"\",Pivot!H1972)","v":""},null,{"$f":"IF(Pivot!J1972=\"\",\"\",Pivot!J1972)","v":""},{"$f":"IF(Pivot!I1972=\"\",\"\",Pivot!I1972)","v":""},null,null,null,null,null,null,"","",{"$error":"#VALUE!"},null,"","",""]
[{"$f":"IF(Pivot!G1973=\"\",\"\",Pivot!G1973)","v":""},null,{"$f":"IF(Pivot!H1973=\"\",\"\",Pivot!H1973)","v":""},null,{"$f":"IF(Pivot!J1973=\"\",\"\",Pivot!J1973)","v":""},{"$f":"IF(Pivot!I1973=\"\",\"\",Pivot!I1973)","v":""},null,null,null,null,null,null,"","",{"$error":"#VALUE!"},null,"","",""]
[{"$f":"IF(Pivot!G1974=\"\",\"\",Pivot!G1974)","v":""},null,{"$f":"IF(Pivot!H1974=\"\",\"\",Pivot!H1974)","v":""},null,{"$f":"IF(Pivot!J1974=\"\",\"\",Pivot!J1974)","v":""},{"$f":"IF(Pivot!I1974=\"\",\"\",Pivot!I1974)","v":""},null,null,null,null,null,null,"","",{"$error":"#VALUE!"},null,"","",""]
[{"$f":"IF(Pivot!G1975=\"\",\"\",Pivot!G1975)","v":""},null,{"$f":"IF(Pivot!H1975=\"\",\"\",Pivot!H1975)","v":""},null,{"$f":"IF(Pivot!J1975=\"\",\"\",Pivot!J1975)","v":""},{"$f":"IF(Pivot!I1975=\"\",\"\",Pivot!I1975)","v":""},null,null,null,null,null,null,"","",{"$error":"#VALUE!"},null,"","",""]
[{"$f":"IF(Pivot!G1976=\"\",\"\",Pivot!G1976)","v":""},null,{"$f":"IF(Pivot!H1976=\"\",\"\",Pivot!H1976)","v":""},null,{"$f":"IF(Pivot!J1976=\"\",\"\",Pivot!J1976)","v":""},{"$f":"IF(Pivot!I1976=\"\",\"\",Pivot!I1976)","v":""},null,null,null,null,null,null,"","",{"$error":"#VALUE!"},null,"","",""]
[{"$f":"IF(Pivot!G1977=\"\",\"\",Pivot!G1977)","v":""},null,{"$f":"IF(Pivot!H1977=\"\",\"\",Pivot!H1977)","v":""},null,{"$f":"IF(Pivot!J1977=\"\",\"\",Pivot!J1977)","v":""},{"$f":"IF(Pivot!I1977=\"\",\"\",Pivot!I1977)","v":""},null,null,null,null,null,null,"","",{"$error":"#VALUE!"},null,"","",""]
[{"$f":"IF(Pivot!G1978=\"\",\"\",Pivot!G1978)","v":""},null,{"$f":"IF(Pivot!H1978=\"\",\"\",Pivot!H1978)","v":""},null,{"$f":"IF(Pivot!J1978=\"\",\"\",Pivot!J1978)","v":""},{"$f":"IF(Pivot!I1978=\"\",\"\",Pivot!I1978)","v":""},null,null,null,null,null,null,"","",{"$error":"#VALUE!"},null,"","",""]
[{"$f":"IF(Pivot!G1979=\"\",\"\",Pivot!G1979)","v":""},null,{"$f":"IF(Pivot!H1979=\"\",\"\",Pivot!H1979)","v":""},null,{"$f":"IF(Pivot!J1979=\"\",\"\",Pivot!J1979)","v":""},{"$f":"IF(Pivot!I1979=\"\",\"\",Pivot!I1979)","v":""},null,null,null,null,null,null,"","",{"$error":"#VALUE!"},null,"","",""]
[{"$f":"IF(Pivot!G1980=\"\",\"\",Pivot!G1980)","v":""},null,{"$f":"IF(Pivot!H1980=\"\",\"\",Pivot!H1980)","v":""},null,{"$f":"IF(Pivot!J1980=\"\",\"\",Pivot!J1980)","v":""},{"$f":"IF(Pivot!I1980=\"\",\"\",Pivot!I1980)","v":""},null,null,null,null,null,null,"","",{"$error":"#VALUE!"},null,"","",""]
[{"$f":"IF(Pivot!G1981=\"\",\"\",Pivot!G1981)","v":""},null,{"$f":"IF(Pivot!H1981=\"\",\"\",Pivot!H1981)","v":""},null,{"$f":"IF(Pivot!J1981=\"\",\"\",Pivot!J1981)","v":""},{"$f":"IF(Pivot!I1981=\"\",\"\",Pivot!I1981)","v":""},null,null,null,null,null,null,"","",{"$error":"#VALUE!"},null,"","",""]
[{"$f":"IF(Pivot!G1982=\"\",\"\",Pivot!G1982)","v":""},null,{"$f":"IF(Pivot!H1982=\"\",\"\",Pivot!H1982)","v":""},null,{"$f":"IF(Pivot!J1982=\"\",\"\",Pivot!J1982)","v":""},{"$f":"IF(Pivot!I1982=\"\",\"\",Pivot!I1982)","v":""},null,null,null,null,null,null,"","",{"$error":"#VALUE!"},null,"","",""]
[{"$f":"IF(Pivot!G1983=\"\",\"\",Pivot!G1983)","v":""},null,{"$f":"IF(Pivot!H1983=\"\",\"\",Pivot!H1983)","v":""},null,{"$f":"IF(Pivot!J1983=\"\",\"\",Pivot!J1983)","v":""},{"$f":"IF(Pivot!I1983=\"\",\"\",Pivot!I1983)","v":""},null,null,null,null,null,null,"","",{"$error":"#VALUE!"},null,"","",""]
[{"$f":"IF(Pivot!G1984=\"\",\"\",Pivot!G1984)","v":""},null,{"$f":"IF(Pivot!H1984=\"\",\"\",Pivot!H1984)","v":""},null,{"$f":"IF(Pivot!J1984=\"\",\"\",Pivot!J1984)","v":""},{"$f":"IF(Pivot!I1984=\"\",\"\",Pivot!I1984)","v":""},null,null,null,null,null,null,"","",{"$error":"#VALUE!"},null,"","",""]
[{"$f":"IF(Pivot!G1985=\"\",\"\",Pivot!G1985)","v":""},null,{"$f":"IF(Pivot!H1985=\"\",\"\",Pivot!H1985)","v":""},null,{"$f":"IF(Pivot!J1985=\"\",\"\",Pivot!J1985)","v":""},{"$f":"IF(Pivot!I1985=\"\",\"\",Pivot!I1985)","v":""},null,null,null,null,null,null,"","",{"$error":"#VALUE!"},null,"","",""]
[{"$f":"IF(Pivot!G1986=\"\",\"\",Pivot!G1986)","v":""},null,{"$f":"IF(Pivot!H1986=\"\",\"\",Pivot!H1986)","v":""},null,{"$f":"IF(Pivot!J1986=\"\",\"\",Pivot!J1986)","v":""},{"$f":"IF(Pivot!I1986=\"\",\"\",Pivot!I1986)","v":""},null,null,null,null,null,null,"","",{"$error":"#VALUE!"},null,"","",""]
[{"$f":"IF(Pivot!G1987=\"\",\"\",Pivot!G1987)","v":""},null,{"$f":"IF(Pivot!H1987=\"\",\"\",Pivot!H1987)","v":""},null,{"$f":"IF(Pivot!J1987=\"\",\"\",Pivot!J1987)","v":""},{"$f":"IF(Pivot!I1987=\"\",\"\",Pivot!I1987)","v":""},null,null,null,null,null,null,"","",{"$error":"#VALUE!"},null,"","",""]
[{"$f":"IF(Pivot!G1988=\"\",\"\",Pivot!G1988)","v":""},null,{"$f":"IF(Pivot!H1988=\"\",\"\",Pivot!H1988)","v":""},null,{"$f":"IF(Pivot!J1988=\"\",\"\",Pivot!J1988)","v":""},{"$f":"IF(Pivot!I1988=\"\",\"\",Pivot!I1988)","v":""},null,null,null,null,null,null,"","",{"$f":"N1991/M1991","v":{"$error":"#VALUE!"}},null,"","",""]
[{"$f":"IF(Pivot!G1989=\"\",\"\",Pivot!G1989)","v":""},null,{"$f":"IF(Pivot!H1989=\"\",\"\",Pivot!H1989)","v":""},null,{"$f":"IF(Pivot!J1989=\"\",\"\",Pivot!J1989)","v":""},{"$f":"IF(Pivot!I1989=\"\",\"\",Pivot!I1989)","v":""},null,null,null,null,null,null,{"$f":"IF(C1992=\"\",\"\",C1992*L1992)","v":""},{"$f":"IF(F1992=\"\",\"\",M1992-F1992)","v":""},{"$error":"#VALUE!"},null,{"$f":"IF(C1992=\"\",\"\",C1992*P1992)","v":""},{"$f":"IF(F1992=\"\",\"\",Q1992-F1992)","v":""},{"$f":"IF(F1992=\"\",\"\",R1992/F1992)","v":""}]
[{"$f":"IF(Pivot!G1990=\"\",\"\",Pivot!G1990)","v":""},null,{"$f":"IF(Pivot!H1990=\"\",\"\",Pivot!H1990)","v":""},null,{"$f":"IF(Pivot!J1990=\"\",\"\",Pivot!J1990)","v":""},{"$f":"IF(Pivot!I1990=\"\",\"\",Pivot!I1990)","v":""},null,null,null,null,null,null,"","",{"$error":"#VALUE!"},null,"","",""]
[{"$f":"IF(Pivot!G1991=\"\",\"\",Pivot!G1991)","v":""},null,{"$f":"IF(Pivot!H1991=\"\",\"\",Pivot!H1991)","v":""},null,{"$f":"IF(Pivot!J1991=\"\",\"\",Pivot!J1991)","v":""},{"$f":"IF(Pivot!I1991=\"\",\"\",Pivot!I1991)","v":""},null,null,null,null,null,null,"","",{"$error":"#VALUE!"},null,"","",""]
[{"$f":"IF(Pivot!G1992=\"\",\"\",Pivot!G1992)","v":""},null,{"$f":"IF(Pivot!H1992=\"\",\"\",Pivot!H1992)","v":""},null,{"$f":"IF(Pivot!J1992=\"\",\"\",Pivot!J1992)","v":""},{"$f":"IF(Pivot!I1992=\"\",\"\",Pivot!I1992)","v":""},null,null,null,null,null,null,"","",{"$error":"#VALUE!"},null,"","",""]
[{"$f":"IF(Pivot!G1993=\"\",\"\",Pivot!G1993)","v":""},null,{"$f":"IF(Pivot!H1993=\"\",\"\",Pivot!H1993)","v":""},null,{"$f":"IF(Pivot!J1993=\"\",\"\",Pivot!J1993)","v":""},{"$f":"IF(Pivot!I1993=\"\",\"\",Pivot!I1993)","v":""},null,null,null,null,null,null,"","",{"$error":"#VALUE!"},null,"","",""]
[{"$f":"IF(Pivot!G1994=\"\",\"\",Pivot!G1994)","v":""},null,{"$f":"IF(Pivot!H1994=\"\",\"\",Pivot!H1994)","v":""},null,{"$f":"IF(Pivot!J1994=\"\",\"\",Pivot!J1994)","v":""},{"$f":"IF(Pivot!I1994=\"\",\"\",Pivot!I1994)","v":""},null,null,null,null,null,null,"","",{"$error":"#VALUE!"},null,"","",""]
[{"$f":"IF(Pivot!G1995=\"\",\"\",Pivot!G1995)","v":""},null,{"$f":"IF(Pivot!H1995=\"\",\"\",Pivot!H1995)","v":""},null,{"$f":"IF(Pivot!J1995=\"\",\"\",Pivot!J1995)","v":""},{"$f":"IF(Pivot!I1995=\"\",\"\",Pivot!I1995)","v":""},null,null,null,null,null,null,"","",{"$error":"#VALUE!"},null,"","",""]
[{"$f":"IF(Pivot!G1996=\"\",\"\",Pivot!G1996)","v":""},null,{"$f":"IF(Pivot!H1996=\"\",\"\",Pivot!H1996)","v":""},null,{"$f":"IF(Pivot!J1996=\"\",\"\",Pivot!J1996)","v":""},{"$f":"IF(Pivot!I1996=\"\",\"\",Pivot!I1996)","v":""},null,null,null,null,null,null,"","",{"$error":"#VALUE!"},null,"","",""]
[{"$f":"IF(Pivot!G1997=\"\",\"\",Pivot!G1997)","v":""},null,{"$f":"IF(Pivot!H1997=\"\",\"\",Pivot!H1997)","v":""},null,{"$f":"IF(Pivot!J1997=\"\",\"\",Pivot!J1997)","v":""},{"$f":"IF(Pivot!I1997=\"\",\"\",Pivot!I1997)","v":""},null,null,null,null,null,null,"","",{"$error":"#VALUE!"},null,"","",""]
[{"$f":"IF(Pivot!G2314=\"\",\"\",Pivot!G2314)","v":""},null,{"$f":"IF(Pivot!H2314=\"\",\"\",Pivot!H2314)","v":""},null,{"$f":"IF(Pivot!J2314=\"\",\"\",Pivot!J2314)","v":""},{"$f":"IF(Pivot!I2314=\"\",\"\",Pivot!I2314)","v":""},null,null,null,null,null,null,"","",{"$error":"#VALUE!"},null,"","",""]
[{"$f":"IF(Pivot!G2829=\"\",\"\",Pivot!G2829)","v":""},null,{"$f":"IF(Pivot!H2829=\"\",\"\",Pivot!H2829)","v":""},null,{"$f":"IF(Pivot!J2829=\"\",\"\",Pivot!J2829)","v":""},{"$f":"IF(Pivot!I2829=\"\",\"\",Pivot!I2829)","v":""},null,null,null,null,null,null,"","",{"$error":"#VALUE!"},null,"","",""]
[{"$f":"IF(Pivot!G3050=\"\",\"\",Pivot!G3050)","v":""},null,{"$f":"IF(Pivot!H3050=\"\",\"\",Pivot!H3050)","v":""},null,{"$f":"IF(Pivot!J3050=\"\",\"\",Pivot!J3050)","v":""},{"$f":"IF(Pivot!I3050=\"\",\"\",Pivot!I3050)","v":""},null,null,null,null,null,null,"","",{"$error":"#VALUE!"},null,"","",""]
[{"$f":"IF(Pivot!G4088=\"\",\"\",Pivot!G4088)","v":""},null,{"$f":"IF(Pivot!H4088=\"\",\"\",Pivot!H4088)","v":""},null,{"$f":"IF(Pivot!J4088=\"\",\"\",Pivot!J4088)","v":""},{"$f":"IF(Pivot!I4088=\"\",\"\",Pivot!I4088)","v":""},null,null,null,null,null,null,"","",{"$error":"#VALUE!"},null,"","",""]
[{"$f":"IF(Pivot!G4309=\"\",\"\",Pivot!G4309)","v":""},null,{"$f":"IF(Pivot!H4309=\"\",\"\",Pivot!H4309)","v":""},null,{"$f":"IF(Pivot!J4309=\"\",\"\",Pivot!J4309)","v":""},{"$f":"IF(Pivot!I4309=\"\",\"\",Pivot!I4309)","v":""},null,null,null,null,null,null,"","",{"$error":"#VALUE!"},null,"","",""]
[null,null,null,null,null,null,null,null,null,null,null,null,null,null,{"$error":"#DIV/0!"},null,0]
[null,null,null,null,null,null,null,null,null,null,null,null,null,null,{"$error":"#DIV/0!"},null,0]
[null,null,null,null,null,null,null,null,null,null,null,null,null,null,{"$error":"#DIV/0!"},null,0]
[null,null,null,null,null,null,null,null,null,null,null,null,null,null,{"$error":"#DIV/0!"},null,0]
[null,null,null,null,null,null,null,null,null,null,null,null,null,null,{"$error":"#DIV/0!"},null,0]
[null,null,null,null,null,null,null,null,null,null,null,null,null,null,{"$error":"#DIV/0!"},null,0]
[null,null,null,null,null,null,null,null,null,null,null,null,null,null,{"$error":"#DIV/0!"},null,0]
[null,null,null,null,null,null,null,null,null,null,null,null,null,null,{"$error":"#DIV/0!"},null,0]
[null,null,null,null,null,null,null,null,null,null,null,null,null,null,{"$error":"#DIV/0!"},null,0]
[null,null,null,null,null,null,null,null,null,null,null,null,null,null,{"$error":"#DIV/0!"},null,0]
[null,null,null,null,null,null,null,null,null,null,null,null,null,null,{"$error":"#DIV/0!"},null,0]
[null,null,null,null,null,null,null,null,null,null,null,null,null,null,{"$error":"#DIV/0!"},null,0]
[null,null,null,null,null,null,null,null,null,null,null,null,null,null,{"$error":"#DIV/0!"},null,0]
[null,null,null,null,null,null,null,null,null,null,null,null,null,null,{"$error":"#DIV/0!"},null,0]
[null,null,null,null,null,null,null,null,null,null,null,null,null,null,{"$error":"#DIV/0!"},null,0]
[null,null,null,null,null,null,null,null,null,null,null,null,null,null,{"$error":"#DIV/0!"},null,0]
[null,null,null,null,null,null,null,null,null,null,null,null,null,null,{"$error":"#DIV/0!"},null,0]
[null,null,null,null,null,null,null,null,null,null,null,null,null,null,{"$error":"#DIV/0!"},null,0]
[null,null,null,null,null,null,null,null,null,null,null,null,null,null,{"$error":"#DIV/0!"},null,0]
[null,null,null,null,null,null,null,null,null,null,null,null,null,null,{"$error":"#DIV/0!"},null,0]
[null,null,null,null,null,null,null,null,null,null,null,null,null,null,{"$error":"#DIV/0!"},null,0]
[null,null,null,null,null,null,null,null,null,null,null,null,null,null,{"$error":"#DIV/0!"},null,0]
[null,null,null,null,null,null,null,null,null,null,null,null,null,null,{"$error":"#DIV/0!"},null,0]
[null,null,null,null,null,null,null,null,null,null,null,null,null,null,{"$error":"#DIV/0!"},null,0]
[null,null,null,null,null,null,null,null,null,null,null,null,null,null,{"$error":"#DIV/0!"},null,0]
[null,null,null,null,null,null,null,null,null,null,null,null,null,null,{"$error":"#DIV/0!"},null,0]
[null,null,null,null,null,null,null,null,null,null,null,null,null,null,{"$error":"#DIV/0!"},null,0]
[null,null,null,null,null,null,null,null,null,null,null,null,null,null,{"$error":"#DIV/0!"},null,0]
[null,null,null,null,null,null,null,null,null,null,null,null,null,null,{"$error":"#DIV/0!"},null,0]
[null,null,null,null,null,null,null,null,null,null,null,null,null,null,{"$error":"#DIV/0!"},null,0]
[null,null,null,null,null,null,null,null,null,null,null,null,null,null,{"$error":"#DIV/0!"},null,0]
[null,null,null,null,null,null,null,null,null,null,null,null,null,null,{"$error":"#DIV/0!"},null,0]
[null,null,null,null,null,null,null,null,null,null,null,null,null,null,{"$error":"#DIV/0!"},null,0]
[null,null,null,null,null,null,null,null,null,null,null,null,null,null,{"$error":"#DIV/0!"},null,0]
[null,null,null,null,null,null,null,null,null,null,null,null,null,null,{"$error":"#DIV/0!"},null,0]
[null,null,null,null,null,null,null,null,null,null,null,null,null,null,{"$error":"#DIV/0!"},null,0]
[null,null,null,null,null,null,null,null,null,null,null,null,null,null,{"$error":"#DIV/0!"},null,0]
[null,null,null,null,null,null,null,null,null,null,null,null,null,null,{"$error":"#DIV/0!"},null,0]
[null,null,null,null,null,null,null,null,null,null,null,null,null,null,{"$error":"#DIV/0!"},null,0]
[null,null,null,null,null,null,null,null,null,null,null,null,null,null,{"$error":"#DIV/0!"},null,0]
[null,null,null,null,null,null,null,null,null,null,null,null,null,null,{"$error":"#DIV/0!"},null,0]
[null,null,null,null,null,null,null,null,null,null,null,null,null,null,{"$error":"#DIV/0!"},null,0]
[null,null,null,null,null,null,null,null,null,null,null,null,null,null,{"$error":"#DIV/0!"},null,0]
[null,null,null,null,null,null,null,null,null,null,null,null,null,null,{"$error":"#DIV/0!"},null,0]
[null,null,null,null,null,null,null,null,null,null,null,null,null,null,{"$error":"#DIV/0!"},null,0]
[null,null,null,null,null,null,null,null,null,null,null,null,null,null,{"$error":"#DIV/0!"},null,0]
[null,null,null,null,null,null,null,null,null,null,null,null,null,null,{"$error":"#DIV/0!"},null,0]
[null,null,null,null,null,null,null,null,null,null,null,null,null,null,{"$error":"#DIV/0!"},null,0]
[null,null,null,null,null,null,null,null,null,null,null,null,null,null,{"$error":"#DIV/0!"},null,0]
[null,null,null,null,null,null,null,null,null,null,null,null,null,null,{"$error":"#DIV/0!"},null,0]
[null,null,null,null,null,null,null,null,null,null,null,null,null,null,{"$error":"#DIV/0!"},null,0]
[null,null,null,null,null,null,null,null,null,null,null,null,null,null,{"$f":"N31623/M31623","v":{"$error":"#DIV/0!"}},null,{"$f":"C31623*P31623","v":0}]
[null,null,null,null,null,null,null,null,null,null,null,null,null,null,{"$error":"#DIV/0!"},null,0]
[null,null,null,null,null,null,null,null,null,null,null,null,null,null,{"$error":"#DIV/0!"},null,0]
[null,null,null,null,null,null,null,null,null,null,null,null,null,null,{"$error":"#DIV/0!"},null,0]
[null,null,null,null,null,null,null,null,null,null,null,null,null,null,{"$error":"#DIV/0!"},null,0]
[null,null,null,null,null,null,null,null,null,null,null,null,null,null,{"$error":"#DIV/0!"},null,0]
[null,null,null,null,null,null,null,null,null,null,null,null,null,null,{"$error":"#DIV/0!"},null,0]
[null,null,null,null,null,null,null,null,null,null,null,null,null,null,{"$error":"#DIV/0!"},null,0]
[null,null,null,null,null,null,null,null,null,null,null,null,null,null,{"$error":"#DIV/0!"},null,0]
[null,null,null,null,null,null,null,null,null,null,null,null,null,null,{"$error":"#DIV/0!"},null,0]
[null,null,null,null,null,null,null,null,null,null,null,null,null,null,{"$error":"#DIV/0!"},null,0]
[null,null,null,null,null,null,null,null,null,null,null,null,null,null,{"$error":"#DIV/0!"},null,0]
[null,null,null,null,null,null,null,null,null,null,null,null,null,null,{"$error":"#DIV/0!"},null,0]
[null,null,null,null,null,null,null,null,null,null,null,null,null,null,{"$error":"#DIV/0!"},null,0]
[null,null,null,null,null,null,null,null,null,null,null,null,null,null,{"$error":"#DIV/0!"},null,0]
[null,null,null,null,null,null,null,null,null,null,null,null,null,null,{"$error":"#DIV/0!"},null,0]
[null,null,null,null,null,null,null,null,null,null,null,null,null,null,{"$error":"#DIV/0!"},null,0]
[null,null,null,null,null,null,null,null,null,null,null,null,null,null,{"$error":"#DIV/0!"},null,0]
[null,null,null,null,null,null,null,null,null,null,null,null,null,null,{"$error":"#DIV/0!"},null,0]
[null,null,null,null,null,null,null,null,null,null,null,null,null,null,{"$error":"#DIV/0!"},null,0]
[null,null,null,null,null,null,null,null,null,null,null,null,null,null,{"$error":"#DIV/0!"},null,0]
[null,null,null,null,null,null,null,null,null,null,null,null,null,null,{"$error":"#DIV/0!"},null,0]
[null,null,null,null,null,null,null,null,null,null,null,null,null,null,{"$error":"#DIV/0!"},null,0]
[null,null,null,null,null,null,null,null,null,null,null,null,null,null,{"$error":"#DIV/0!"},null,0]
[null,null,null,null,null,null,null,null,null,null,null,null,null,null,{"$error":"#DIV/0!"},null,0]
[null,null,null,null,null,null,null,null,null,null,null,null,null,null,{"$error":"#DIV/0!"},null,0]
[null,null,null,null,null,null,null,null,null,null,null,null,null,null,{"$error":"#DIV/0!"},null,0]
[null,null,null,null,null,null,null,null,null,null,null,null,null,null,{"$error":"#DIV/0!"},null,0]
[null,null,null,null,null,null,null,null,null,null,null,null,null,null,{"$error":"#DIV/0!"},null,0]
[null,null,null,null,null,null,null,null,null,null,null,null,null,null,{"$error":"#DIV/0!"},null,0]
[null,null,null,null,null,null,null,null,null,null,null,null,null,null,{"$error":"#DIV/0!"},null,0]
[null,null,null,null,null,null,null,null,null,null,null,null,null,null,{"$error":"#DIV/0!"},null,0]
[null,null,null,null,null,null,null,null,null,null,null,null,null,null,{"$error":"#DIV/0!"},null,0]
[null,null,null,null,null,null,null,null,null,null,null,null,null,null,{"$error":"#DIV/0!"},null,0]
[null,null,null,null,null,null,null,null,null,null,null,null,null,null,{"$error":"#DIV/0!"},null,0]
[null,null,null,null,null,null,null,null,null,null,null,null,null,null,{"$error":"#DIV/0!"},null,0]
[null,null,null,null,null,null,null,null,null,null,null,null,null,null,{"$error":"#DIV/0!"},null,0]
[null,null,null,null,null,null,null,null,null,null,null,null,null,null,{"$error":"#DIV/0!"},null,0]
[null,null,null,null,null,null,null,null,null,null,null,null,null,null,{"$error":"#DIV/0!"},null,0]
[null,null,null,null,null,null,null,null,null,null,null,null,null,null,{"$f":"N51975/M51975","v":{"$error":"#DIV/0!"}},null,{"$f":"C51975*P51975","v":0}]
[null,null,null,null,null,null,null,null,null,null,null,null,null,null,{"$error":"#DIV/0!"},null,0]
[null,null,null,null,null,null,null,null,null,null,null,null,null,null,{"$error":"#DIV/0!"},null,0]
[null,null,null,null,null,null,null,null,null,null,null,null,null,null,{"$error":"#DIV/0!"},null,0]
[null,null,null,null,null,null,null,null,null,null,null,null,null,null,{"$error":"#DIV/0!"},null,0]
[null,null,null,null,null,null,null,null,null,null,null,null,null,null,{"$error":"#DIV/0!"},null,0]
[null,null,null,null,null,null,null,null,null,null,null,null,null,null,{"$error":"#DIV/0!"},null,0]
[null,null,null,null,null,null,null,null,null,null,null,null,null,null,{"$error":"#DIV/0!"},null,0]
[null,null,null,null,null,null,null,null,null,null,null,null,null,null,{"$error":"#DIV/0!"},null,0]
[null,null,null,null,null,null,null,null,null,null,null,null,null,null,{"$error":"#DIV/0!"},null,0]
[null,null,null,null,null,null,null,null,null,null,null,null,null,null,{"$error":"#DIV/0!"},null,0]
[null,null,null,null,null,null,null,null,null,null,null,null,null,null,{"$error":"#DIV/0!"},null,0]
[null,null,null,null,null,null,null,null,null,null,null,null,null,null,{"$error":"#DIV/0!"},null,0]
[null,null,null,null,null,null,null,null,null,null,null,null,null,null,{"$error":"#DIV/0!"},null,0]
[null,null,null,null,null,null,null,null,null,null,null,null,null,null,{"$error":"#DIV/0!"},null,0]
[null,null,null,null,null,null,null,null,null,null,null,null,null,null,{"$error":"#DIV/0!"},null,0]
[null,null,null,null,null,null,null,null,null,null,null,null,null,null,{"$error":"#DIV/0!"},null,0]
[null,null,null,null,null,null,null,null,null,null,null,null,null,null,{"$error":"#DIV/0!"},null,0]
[null,null,null,null,null,null,null,null,null,null,null,null,null,null,{"$error":"#DIV/0!"},null,0]
[null,null,null,null,null,null,null,null,null,null,null,null,null,null,{"$error":"#DIV/0!"},null,0]
[null,null,null,null,null,null,null,null,null,null,null,null,null,null,{"$error":"#DIV/0!"},null,0]
[null,null,null,null,null,null,null,null,null,null,null,null,null,null,{"$error":"#DIV/0!"},null,0]
[null,null,null,null,null,null,null,null,null,null,null,null,null,null,{"$error":"#DIV/0!"},null,0]
[null,null,null,null,null,null,null,null,null,null,null,null,null,null,{"$error":"#DIV/0!"},null,0]
[null,null,null,null,null,null,null,null,null,null,null,null,null,null,{"$error":"#DIV/0!"},null,0]
[null,null,null,null,null,null,null,null,null,null,null,null,null,null,{"$error":"#DIV/0!"},null,0]
[null,null,null,null,null,null,null,null,null,null,null,null,null,null,{"$error":"#DIV/0!"},null,0]
[null,null,null,null,null,null,null,null,null,null,null,null,null,null,{"$error":"#DIV/0!"},null,0]
[null,null,null,null,null,null,null,null,null,null,null,null,null,null,{"$error":"#DIV/0!"},null,0]
[null,null,null,null,null,null,null,null,null,null,null,null,null,null,{"$error":"#DIV/0!"},null,0]
[null,null,null,null,null,null,null,null,null,null,null,null,null,null,{"$error":"#DIV/0!"},null,0]
[null,null,null,null,null,null,null,null,null,null,null,null,null,null,{"$error":"#DIV/0!"},null,0]
[null,null,null,null,null,null,null,null,null,null,null,null,null,null,{"$error":"#DIV/0!"},null,0]
[null,null,null,null,null,null,null,null,null,null,null,null,null,null,{"$error":"#DIV/0!"},null,0]
[null,null,null,null,null,null,null,null,null,null,null,null,null,null,{"$error":"#DIV/0!"},null,0]
[null,null,null,null,null,null,null,null,null,null,null,null,null,null,{"$error":"#DIV/0!"},null,0]
[null,null,null,null,null,null,null,null,null,null,null,null,null,null,{"$error":"#DIV/0!"},null,0]
[null,null,null,null,null,null,null,null,null,null,null,null,null,null,{"$error":"#DIV/0!"},null,0]
[null,null,null,null,null,null,null,null,null,null,null,null,null,null,{"$error":"#DIV/0!"},null,0]
[null,null,null,null,null,null,null,null,null,null,null,null,null,null,{"$error":"#DIV/0!"},null,0]
[null,null,null,null,null,null,null,null,null,null,null,null,null,null,{"$error":"#DIV/0!"},null,0]
[null,null,null,null,null,null,null,null,null,null,null,null,null,null,{"$error":"#DIV/0!"},null,0]
[null,null,null,null,null,null,null,null,null,null,null,null,null,null,{"$error":"#DIV/0!"},null,0]
[null,null,null,null,null,null,null,null,null,null,null,null,null,null,{"$error":"#DIV/0!"},null,0]
[null,null,null,null,null,null,null,null,null,null,null,null,null,null,{"$error":"#DIV/0!"},null,0]
[null,null,null,null,null,null,null,null,null,null,null,null,null,null,{"$error":"#DIV/0!"},null,0]
[null,null,null,null,null,null,null,null,null,null,null,null,null,null,{"$error":"#DIV/0!"},null,0]
[null,null,null,null,null,null,null,null,null,null,null,null,null,null,{"$error":"#DIV/0!"},null,0]
[null,null,null,null,null,null,null,null,null,null,null,null,null,null,{"$error":"#DIV/0!"},null,0]
[null,null,null,null,null,null,null,null,null,null,null,null,null,null,{"$error":"#DIV/0!"},null,0]
[null,null,null,null,null,null,null,null,null,null,null,null,null,null,{"$error":"#DIV/0!"},null,0]
[null,null,null,null,null,null,null,null,null,null,null,null,null,null,{"$error":"#DIV/0!"},null,0]
[null,null,null,null,null,null,null,null,null,null,null,null,null,null,{"$error":"#DIV/0!"},null,0]
[null,null,null,null,null,null,null,null,null,null,null,null,null,null,{"$error":"#DIV/0!"},null,0]
[null,null,null,null,null,null,null,null,null,null,null,null,null,null,{"$error":"#DIV/0!"},null,0]
[null,null,null,null,null,null,null,null,null,null,null,null,null,null,{"$error":"#DIV/0!"},null,0]
[null,null,null,null,null,null,null,null,null,null,null,null,null,null,{"$error":"#DIV/0!"},null,0]
[null,null,null,null,null,null,null,null,null,null,null,null,null,null,{"$error":"#DIV/0!"},null,0]
[null,null,null,null,null,null,null,null,null,null,null,null,null,null,{"$error":"#DIV/0!"},null,0]
[null,null,null,null,null,null,null,null,null,null,null,null,null,null,{"$error":"#DIV/0!"},null,0]
[null,null,null,null,null,null,null,null,null,null,null,null,null,null,{"$error":"#DIV/0!"},null,0]
[null,null,null,null,null,null,null,null,null,null,null,null,null,null,{"$error":"#DIV/0!"},null,0]
[null,null,null,null,null,null,null,null,null,null,null,null,null,null,{"$error":"#DIV/0!"},null,0]
[null,null,null,null,null,null,null,null,null,null,null,null,null,null,{"$error":"#DIV/0!"},null,0]
[null,null,null,null,null,null,null,null,null,null,null,null,null,null,{"$error":"#DIV/0!"},null,0]
[null,null,null,null,null,null,null,null,null,null,null,null,null,null,{"$error":"#DIV/0!"},null,0]
[null,null,null,null,null,null,null,null,null,null,null,null,null,null,{"$error":"#DIV/0!"},null,0]
[null,null,null,null,null,null,null,null,null,null,null,null,null,null,{"$error":"#DIV/0!"},null,0]
[null,null,null,null,null,null,null,null,null,null,null,null,null,null,{"$error":"#DIV/0!"},null,0]
[null,null,null,null,null,null,null,null,null,null,null,null,null,null,{"$error":"#DIV/0!"},null,0]
[null,null,null,null,null,null,null,null,null,null,null,null,null,null,{"$error":"#DIV/0!"},null,0]
[null,null,null,null,null,null,null,null,null,null,null,null,null,null,{"$error":"#DIV/0!"},null,0]
[null,null,null,null,null,null,null,null,null,null,null,null,null,null,{"$error":"#DIV/0!"},null,0]
[null,null,null,null,null,null,null,null,null,null,null,null,null,null,{"$error":"#DIV/0!"},null,0]
[null,null,null,null,null,null,null,null,null,null,null,null,null,null,{"$error":"#DIV/0!"},null,0]
[null,null,null,null,null,null,null,null,null,null,null,null,null,null,{"$error":"#DIV/0!"},null,0]
[null,null,null,null,null,null,null,null,null,null,null,null,null,null,{"$error":"#DIV/0!"},null,0]
[null,null,null,null,null,null,null,null,null,null,null,null,null,null,{"$error":"#DIV/0!"},null,0]
[null,null,null,null,null,null,null,null,null,null,null,null,null,null,{"$error":"#DIV/0!"},null,0]
[null,null,null,null,null,null,null,null,null,null,null,null,null,null,{"$error":"#DIV/0!"},null,0]
[null,null,null,null,null,null,null,null,null,null,null,null,null,null,{"$error":"#DIV/0!"},null,0]
[null,null,null,null,null,null,null,null,null,null,null,null,null,null,{"$error":"#DIV/0!"},null,0]
[null,null,null,null,null,null,null,null,null,null,null,null,null,null,{"$error":"#DIV/0!"},null,0]
[null,null,null,null,null,null,null,null,null,null,null,null,null,null,{"$error":"#DIV/0!"},null,0]
[null,null,null,null,null,null,null,null,null,null,null,null,null,null,{"$error":"#DIV/0!"},null,0]
[null,null,null,null,null,null,null,null,null,null,null,null,null,null,{"$error":"#DIV/0!"},null,0]
[null,null,null,null,null,null,null,null,null,null,null,null,null,null,{"$error":"#DIV/0!"},null,0]
[null,null,null,null,null,null,null,null,null,null,null,null,null,null,{"$error":"#DIV/0!"},null,0]
[null,null,null,null,null,null,null,null,null,null,null,null,null,null,{"$error":"#DIV/0!"},null,0]
[null,null,null,null,null,null,null,null,null,null,null,null,null,null,{"$error":"#DIV/0!"},null,0]
[null,null,null,null,null,null,null,null,null,null,null,null,null,null,{"$error":"#DIV/0!"},null,0]
[null,null,null,null,null,null,null,null,null,null,null,null,null,null,{"$error":"#DIV/0!"},null,0]
[null,null,null,null,null,null,null,null,null,null,null,null,null,null,{"$error":"#DIV/0!"},null,0]
[null,null,null,null,null,null,null,null,null,null,null,null,null,null,{"$error":"#DIV/0!"},null,0]
[null,null,null,null,null,null,null,null,null,null,null,null,null,null,{"$error":"#DIV/0!"},null,0]
[null,null,null,null,null,null,null,null,null,null,null,null,null,null,{"$error":"#DIV/0!"},null,0]
[null,null,null,null,null,null,null,null,null,null,null,null,null,null,{"$error":"#DIV/0!"},null,0]
[null,null,null,null,null,null,null,null,null,null,null,null,null,null,{"$f":"N102599/M102599","v":{"$error":"#DIV/0!"}},null,{"$f":"C102599*P102599","v":0}]
[null,null,null,null,null,null,null,null,null,null,null,null,null,null,{"$error":"#DIV/0!"},null,0]
[null,null,null,null,null,null,null,null,null,null,null,null,null,null,{"$error":"#DIV/0!"},null,0]
[null,null,null,null,null,null,null,null,null,null,null,null,null,null,{"$error":"#DIV/0!"},null,0]
[null,null,null,null,null,null,null,null,null,null,null,null,null,null,{"$error":"#DIV/0!"},null,0]
[null,null,null,null,null,null,null,null,null,null,null,null,null,null,{"$error":"#DIV/0!"},null,0]
[null,null,null,null,null,null,null,null,null,null,null,null,null,null,{"$error":"#DIV/0!"},null,0]
[null,null,null,null,null,null,null,null,null,null,null,null,null,null,{"$error":"#DIV/0!"},null,0]
[null,null,null,null,null,null,null,null,null,null,null,null,null,null,{"$error":"#DIV/0!"},null,0]
[null,null,null,null,null,null,null,null,null,null,null,null,null,null,{"$error":"#DIV/0!"},null,0]
[null,null,null,null,null,null,null,null,null,null,null,null,null,null,{"$error":"#DIV/0!"},null,0]
[null,null,null,null,null,null,null,null,null,null,null,null,null,null,{"$error":"#DIV/0!"},null,0]
[null,null,null,null,null,null,null,null,null,null,null,null,null,null,{"$error":"#DIV/0!"},null,0]
[null,null,null,null,null,null,null,null,null,null,null,null,null,null,{"$error":"#DIV/0!"},null,0]
[null,null,null,null,null,null,null,null,null,null,null,null,null,null,{"$error":"#DIV/0!"},null,0]
[null,null,null,null,null,null,null,null,null,null,null,null,null,null,{"$error":"#DIV/0!"},null,0]
[null,null,null,null,null,null,null,null,null,null,null,null,null,null,{"$error":"#DIV/0!"},null,0]
[null,null,null,null,null,null,null,null,null,null,null,null,null,null,{"$error":"#DIV/0!"},null,0]
[null,null,null,null,null,null,null,null,null,null,null,null,null,null,{"$error":"#DIV/0!"},null,0]
[null,null,null,null,null,null,null,null,null,null,null,null,null,null,{"$error":"#DIV/0!"},null,0]
[null,null,null,null,null,null,null,null,null,null,null,null,null,null,{"$error":"#DIV/0!"},null,0]
[null,null,null,null,null,null,null,null,null,null,null,null,null,null,{"$error":"#DIV/0!"},null,0]
[null,null,null,null,null,null,null,null,null,null,null,null,null,null,{"$error":"#DIV/0!"},null,0]
[null,null,null,null,null,null,null,null,null,null,null,null,null,null,{"$error":"#DIV/0!"},null,0]
[null,null,null,null,null,null,null,null,null,null,null,null,null,null,{"$error":"#DIV/0!"},null,0]
[null,null,null,null,null,null,null,null,null,null,null,null,null,null,{"$error":"#DIV/0!"},null,0]
[null,null,null,null,null,null,null,null,null,null,null,null,null,null,{"$error":"#DIV/0!"},null,0]
[null,null,null,null,null,null,null,null,null,null,null,null,null,null,{"$error":"#DIV/0!"},null,0]
[null,null,null,null,null,null,null,null,null,null,null,null,null,null,{"$error":"#DIV/0!"},null,0]
[null,null,null,null,null,null,null,null,null,null,null,null,null,null,{"$error":"#DIV/0!"},null,0]
[null,null,null,null,null,null,null,null,null,null,null,null,null,null,{"$error":"#DIV/0!"},null,0]
[null,null,null,null,null,null,null,null,null,null,null,null,null,null,{"$error":"#DIV/0!"},null,0]
[null,null,null,null,null,null,null,null,null,null,null,null,null,null,{"$error":"#DIV/0!"},null,0]
[null,null,null,null,null,null,null,null,null,null,null,null,null,null,{"$error":"#DIV/0!"},null,0]
[null,null,null,null,null,null,null,null,null,null,null,null,null,null,{"$error":"#DIV/0!"},null,0]
[null,null,null,null,null,null,null,null,null,null,null,null,null,null,{"$error":"#DIV/0!"},null,0]
[null,null,null,null,null,null,null,null,null,null,null,null,null,null,{"$error":"#DIV/0!"},null,0]
[null,null,null,null,null,null,null,null,null,null,null,null,null,null,{"$error":"#DIV/0!"},null,0]
[null,null,null,null,null,null,null,null,null,null,null,null,null,null,{"$error":"#DIV/0!"},null,0]
[null,null,null,null,null,null,null,null,null,null,null,null,null,null,{"$f":"N122951/M122951","v":{"$error":"#DIV/0!"}},null,{"$f":"C122951*P122951","v":0}]
[null,null,null,null,null,null,null,null,null,null,null,null,null,null,{"$error":"#DIV/0!"},null,0]
[null,null,null,null,null,null,null,null,null,null,null,null,null,null,{"$error":"#DIV/0!"},null,0]
[null,null,null,null,null,null,null,null,null,null,null,null,null,null,{"$error":"#DIV/0!"},null,0]
[null,null,null,null,null,null,null,null,null,null,null,null,null,null,{"$error":"#DIV/0!"},null,0]
[null,null,null,null,null,null,null,null,null,null,null,null,null,null,{"$error":"#DIV/0!"},null,0]
[null,null,null,null,null,null,null,null,null,null,null,null,null,null,{"$error":"#DIV/0!"},null,0]
[null,null,null,null,null,null,null,null,null,null,null,null,null,null,{"$error":"#DIV/0!"},null,0]
[null,null,null,null,null,null,null,null,null,null,null,null,null,null,{"$error":"#DIV/0!"},null,0]
[null,null,null,null,null,null,null,null,null,null,null,null,null,null,{"$error":"#DIV/0!"},null,0]
[null,null,null,null,null,null,null,null,null,null,null,null,null,null,{"$error":"#DIV/0!"},null,0]
[null,null,null,null,null,null,null,null,null,null,null,null,null,null,{"$error":"#DIV/0!"},null,0]
[null,null,null,null,null,null,null,null,null,null,null,null,null,null,{"$error":"#DIV/0!"},null,0]
[null,null,null,null,null,null,null,null,null,null,null,null,null,null,{"$error":"#DIV/0!"},null,0]
[null,null,null,null,null,null,null,null,null,null,null,null,null,null,{"$error":"#DIV/0!"},null,0]
[null,null,null,null,null,null,null,null,null,null,null,null,null,null,{"$error":"#DIV/0!"},null,0]
[null,null,null,null,null,null,null,null,null,null,null,null,null,null,{"$error":"#DIV/0!"},null,0]
[null,null,null,null,null,null,null,null,null,null,null,null,null,null,{"$error":"#DIV/0!"},null,0]
[null,null,null,null,null,null,null,null,null,null,null,null,null,null,{"$error":"#DIV/0!"},null,0]
[null,null,null,null,null,null,null,null,null,null,null,null,null,null,{"$error":"#DIV/0!"},null,0]
[null,null,null,null,null,null,null,null,null,null,null,null,null,null,{"$error":"#DIV/0!"},null,0]
[null,null,null,null,null,null,null,null,null,null,null,null,null,null,{"$error":"#DIV/0!"},null,0]
[null,null,null,null,null,null,null,null,null,null,null,null,null,null,{"$error":"#DIV/0!"},null,0]
[null,null,null,null,null,null,null,null,null,null,null,null,null,null,{"$error":"#DIV/0!"},null,0]
[null,null,null,null,null,null,null,null,null,null,null,null,null,null,{"$error":"#DIV/0!"},null,0]
[null,null,null,null,null,null,null,null,null,null,null,null,null,null,{"$error":"#DIV/0!"},null,0]
[null,null,null,null,null,null,null,null,null,null,null,null,null,null,{"$error":"#DIV/0!"},null,0]
[null,null,null,null,null,null,null,null,null,null,null,null,null,null,{"$error":"#DIV/0!"},null,0]
[null,null,null,null,null,null,null,null,null,null,null,null,null,null,{"$error":"#DIV/0!"},null,0]
[null,null,null,null,null,null,null,null,null,null,null,null,null,null,{"$error":"#DIV/0!"},null,0]
[null,null,null,null,null,null,null,null,null,null,null,null,null,null,{"$error":"#DIV/0!"},null,0]
[null,null,null,null,null,null,null,null,null,null,null,null,null,null,{"$error":"#DIV/0!"},null,0]
[null,null,null,null,null,null,null,null,null,null,null,null,null,null,{"$error":"#DIV/0!"},null,0]
[null,null,null,null,null,null,null,null,null,null,null,null,null,null,{"$error":"#DIV/0!"},null,0]
[null,null,null,null,null,null,null,null,null,null,null,null,null,null,{"$error":"#DIV/0!"},null,0]
[null,null,null,null,null,null,null,null,null,null,null,null,null,null,{"$error":"#DIV/0!"},null,0]
[null,null,null,null,null,null,null,null,null,null,null,null,null,null,{"$error":"#DIV/0!"},null,0]
[null,null,null,null,null,null,null,null,null,null,null,null,null,null,{"$error":"#DIV/0!"},null,0]
[null,null,null,null,null,null,null,null,null,null,null,null,null,null,{"$error":"#DIV/0!"},null,0]
[null,null,null,null,null,null,null,null,null,null,null,null,null,null,{"$error":"#DIV/0!"},null,0]
[null,null,null,null,null,null,null,null,null,null,null,null,null,null,{"$error":"#DIV/0!"},null,0]
[null,null,null,null,null,null,null,null,null,null,null,null,null,null,{"$error":"#DIV/0!"},null,0]
[null,null,null,null,null,null,null,null,null,null,null,null,null,null,{"$error":"#DIV/0!"},null,0]
[null,null,null,null,null,null,null,null,null,null,null,null,null,null,{"$error":"#DIV/0!"},null,0]
[null,null,null,null,null,null,null,null,null,null,null,null,null,null,{"$error":"#DIV/0!"},null,0]
[null,null,null,null,null,null,null,null,null,null,null,null,null,null,{"$error":"#DIV/0!"},null,0]
[null,null,null,null,null,null,null,null,null,null,null,null,null,null,{"$error":"#DIV/0!"},null,0]
[null,null,null,null,null,null,null,null,null,null,null,null,null,null,{"$error":"#DIV/0!"},null,0]
[null,null,null,null,null,null,null,null,null,null,null,null,null,null,{"$error":"#DIV/0!"},null,0]
[null,null,null,null,null,null,null,null,null,null,null,null,null,null,{"$error":"#DIV/0!"},null,0]
[null,null,null,null,null,null,null,null,null,null,null,null,null,null,{"$error":"#DIV/0!"},null,0]
[null,null,null,null,null,null,null,null,null,null,null,null,null,null,{"$error":"#DIV/0!"},null,0]
[null,null,null,null,null,null,null,null,null,null,null,null,null,null,{"$error":"#DIV/0!"},null,0]
[null,null,null,null,null,null,null,null,null,null,null,null,null,null,{"$error":"#DIV/0!"},null,0]
[null,null,null,null,null,null,null,null,null,null,null,null,null,null,{"$error":"#DIV/0!"},null,0]
[null,null,null,null,null,null,null,null,null,null,null,null,null,null,{"$error":"#DIV/0!"},null,0]
[null,null,null,null,null,null,null,null,null,null,null,null,null,null,{"$error":"#DIV/0!"},null,0]
[null,null,null,null,null,null,null,null,null,null,null,null,null,null,{"$error":"#DIV/0!"},null,0]
[null,null,null,null,null,null,null,null,null,null,null,null,null,null,{"$error":"#DIV/0!"},null,0]
[null,null,null,null,null,null,null,null,null,null,null,null,null,null,{"$error":"#DIV/0!"},null,0]
[null,null,null,null,null,null,null,null,null,null,null,null,null,null,{"$error":"#DIV/0!"},null,0]
[null,null,null,null,null,null,null,null,null,null,null,null,null,null,{"$error":"#DIV/0!"},null,0]
[null,null,null,null,null,null,null,null,null,null,null,null,null,null,{"$error":"#DIV/0!"},null,0]
[null,null,null,null,null,null,null,null,null,null,null,null,null,null,{"$error":"#DIV/0!"},null,0]
[null,null,null,null,null,null,null,null,null,null,null,null,null,null,{"$error":"#DIV/0!"},null,0]
[null,null,null,null,null,null,null,null,null,null,null,null,null,null,{"$error":"#DIV/0!"},null,0]
[null,null,null,null,null,null,null,null,null,null,null,null,null,null,{"$error":"#DIV/0!"},null,0]
[null,null,null,null,null,null,null,null,null,null,null,null,null,null,{"$error":"#DIV/0!"},null,0]
[null,null,null,null,null,null,null,null,null,null,null,null,null,null,{"$error":"#DIV/0!"},null,0]
[null,null,null,null,null,null,null,null,null,null,null,null,null,null,{"$error":"#DIV/0!"},null,0]
[null,null,null,null,null,null,null,null,null,null,null,null,null,null,{"$error":"#DIV/0!"},null,0]
[null,null,null,null,null,null,null,null,null,null,null,null,null,null,{"$error":"#DIV/0!"},null,0]
[null,null,null,null,null,null,null,null,null,null,null,null,null,null,{"$error":"#DIV/0!"},null,0]
[null,null,null,null,null,null,null,null,null,null,null,null,null,null,{"$error":"#DIV/0!"},null,0]
[null,null,null,null,null,null,null,null,null,null,null,null,null,null,{"$error":"#DIV/0!"},null,0]
[null,null,null,null,null,null,null,null,null,null,null,null,null,null,{"$error":"#DIV/0!"},null,0]
[null,null,null,null,null,null,null,null,null,null,null,null,null,null,{"$error":"#DIV/0!"},null,0]
[null,null,null,null,null,null,null,null,null,null,null,null,null,null,{"$error":"#DIV/0!"},null,0]
[null,null,null,null,null,null,null,null,null,null,null,null,null,null,{"$error":"#DIV/0!"},null,0]
[null,null,null,null,null,null,null,null,null,null,null,null,null,null,{"$error":"#DIV/0!"},null,0]
[null,null,null,null,null,null,null,null,null,null,null,null,null,null,{"$error":"#DIV/0!"},null,0]
[null,null,null,null,null,null,null,null,null,null,null,null,null,null,{"$error":"#DIV/0!"},null,0]
[null,null,null,null,null,null,null,null,null,null,null,null,null,null,{"$error":"#DIV/0!"},null,0]
[null,null,null,null,null,null,null,null,null,null,null,null,null,null,{"$error":"#DIV/0!"},null,0]
[null,null,null,null,null,null,null,null,null,null,null,null,null,null,{"$error":"#DIV/0!"},null,0]
[null,null,null,null,null,null,null,null,null,null,null,null,null,null,{"$error":"#DIV/0!"},null,0]
[null,null,null,null,null,null,null,null,null,null,null,null,null,null,{"$error":"#DIV/0!"},null,0]
[null,null,null,null,null,null,null,null,null,null,null,null,null,null,{"$error":"#DIV/0!"},null,0]
[null,null,null,null,null,null,null,null,null,null,null,null,null,null,{"$error":"#DIV/0!"},null,0]
[null,null,null,null,null,null,null,null,null,null,null,null,null,null,{"$error":"#DIV/0!"},null,0]
[null,null,null,null,null,null,null,null,null,null,null,null,null,null,{"$error":"#DIV/0!"},null,0]
[null,null,null,null,null,null,null,null,null,null,null,null,null,null,{"$error":"#DIV/0!"},null,0]
[null,null,null,null,null,null,null,null,null,null,null,null,null,null,{"$error":"#DIV/0!"},null,0]
[null,null,null,null,null,null,null,null,null,null,null,null,null,null,{"$error":"#DIV/0!"},null,0]
[null,null,null,null,null,null,null,null,null,null,null,null,null,null,{"$error":"#DIV/0!"},null,0]
[null,null,null,null,null,null,null,null,null,null,null,null,null,null,{"$error":"#DIV/0!"},null,0]
[null,null,null,null,null,null,null,null,null,null,null,null,null,null,{"$error":"#DIV/0!"},null,0]
[null,null,null,null,null,null,null,null,null,null,null,null,null,null,{"$f":"N173575/M173575","v":{"$error":"#DIV/0!"}},null,{"$f":"C173575*P173575","v":0}]
[null,null,null,null,null,null,null,null,null,null,null,null,null,null,{"$error":"#DIV/0!"},null,0]
[null,null,null,null,null,null,null,null,null,null,null,null,null,null,{"$error":"#DIV/0!"},null,0]
[null,null,null,null,null,null,null,null,null,null,null,null,null,null,{"$error":"#DIV/0!"},null,0]
[null,null,null,null,null,null,null,null,null,null,null,null,null,null,{"$error":"#DIV/0!"},null,0]
[null,null,null,null,null,null,null,null,null,null,null,null,null,null,{"$error":"#DIV/0!"},null,0]
[null,null,null,null,null,null,null,null,null,null,null,null,null,null,{"$error":"#DIV/0!"},null,0]
[null,null,null,null,null,null,null,null,null,null,null,null,null,null,{"$error":"#DIV/0!"},null,0]
[null,null,null,null,null,null,null,null,null,null,null,null,null,null,{"$error":"#DIV/0!"},null,0]
[null,null,null,null,null,null,null,null,null,null,null,null,null,null,{"$error":"#DIV/0!"},null,0]
[null,null,null,null,null,null,null,null,null,null,null,null,null,null,{"$error":"#DIV/0!"},null,0]
[null,null,null,null,null,null,null,null,null,null,null,null,null,null,{"$error":"#DIV/0!"},null,0]
[null,null,null,null,null,null,null,null,null,null,null,null,null,null,{"$error":"#DIV/0!"},null,0]
[null,null,null,null,null,null,null,null,null,null,null,null,null,null,{"$error":"#DIV/0!"},null,0]
[null,null,null,null,null,null,null,null,null,null,null,null,null,null,{"$error":"#DIV/0!"},null,0]
[null,null,null,null,null,null,null,null,null,null,null,null,null,null,{"$error":"#DIV/0!"},null,0]
[null,null,null,null,null,null,null,null,null,null,null,null,null,null,{"$error":"#DIV/0!"},null,0]
[null,null,null,null,null,null,null,null,null,null,null,null,null,null,{"$error":"#DIV/0!"},null,0]
[null,null,null,null,null,null,null,null,null,null,null,null,null,null,{"$error":"#DIV/0!"},null,0]
[null,null,null,null,null,null,null,null,null,null,null,null,null,null,{"$error":"#DIV/0!"},null,0]
[null,null,null,null,null,null,null,null,null,null,null,null,null,null,{"$error":"#DIV/0!"},null,0]
[null,null,null,null,null,null,null,null,null,null,null,null,null,null,{"$error":"#DIV/0!"},null,0]
[null,null,null,null,null,null,null,null,null,null,null,null,null,null,{"$error":"#DIV/0!"},null,0]
[null,null,null,null,null,null,null,null,null,null,null,null,null,null,{"$error":"#DIV/0!"},null,0]
[null,null,null,null,null,null,null,null,null,null,null,null,null,null,{"$error":"#DIV/0!"},null,0]
[null,null,null,null,null,null,null,null,null,null,null,null,null,null,{"$error":"#DIV/0!"},null,0]
[null,null,null,null,null,null,null,null,null,null,null,null,null,null,{"$error":"#DIV/0!"},null,0]
[null,null,null,null,null,null,null,null,null,null,null,null,null,null,{"$error":"#DIV/0!"},null,0]
[null,null,null,null,null,null,null,null,null,null,null,null,null,null,{"$error":"#DIV/0!"},null,0]
[null,null,null,null,null,null,null,null,null,null,null,null,null,null,{"$error":"#DIV/0!"},null,0]
[null,null,null,null,null,null,null,null,null,null,null,null,null,null,{"$error":"#DIV/0!"},null,0]
[null,null,null,null,null,null,null,null,null,null,null,null,null,null,{"$error":"#DIV/0!"},null,0]
[null,null,null,null,null,null,null,null,null,null,null,null,null,null,{"$error":"#DIV/0!"},null,0]
[null,null,null,null,null,null,null,null,null,null,null,null,null,null,{"$error":"#DIV/0!"},null,0]
[null,null,null,null,null,null,null,null,null,null,null,null,null,null,{"$error":"#DIV/0!"},null,0]
[null,null,null,null,null,null,null,null,null,null,null,null,null,null,{"$error":"#DIV/0!"},null,0]
[null,null,null,null,null,null,null,null,null,null,null,null,null,null,{"$error":"#DIV/0!"},null,0]
[null,null,null,null,null,null,null,null,null,null,null,null,null,null,{"$error":"#DIV/0!"},null,0]
[null,null,null,null,null,null,null,null,null,null,null,null,null,null,{"$error":"#DIV/0!"},null,0]
[null,null,null,null,null,null,null,null,null,null,null,null,null,null,{"$error":"#DIV/0!"},null,0]
[null,null,null,null,null,null,null,null,null,null,null,null,null,null,{"$error":"#DIV/0!"},null,0]
[null,null,null,null,null,null,null,null,null,null,null,null,null,null,{"$error":"#DIV/0!"},null,0]
[null,null,null,null,null,null,null,null,null,null,null,null,null,null,{"$error":"#DIV/0!"},null,0]
[null,null,null,null,null,null,null,null,null,null,null,null,null,null,{"$error":"#DIV/0!"},null,0]
[null,null,null,null,null,null,null,null,null,null,null,null,null,null,{"$error":"#DIV/0!"},null,0]
[null,null,null,null,null,null,null,null,null,null,null,null,null,null,{"$error":"#DIV/0!"},null,0]
[null,null,null,null,null,null,null,null,null,null,null,null,null,null,{"$error":"#DIV/0!"},null,0]
[null,null,null,null,null,null,null,null,null,null,null,null,null,null,{"$error":"#DIV/0!"},null,0]
[null,null,null,null,null,null,null,null,null,null,null,null,null,null,{"$error":"#DIV/0!"},null,0]
[null,null,null,null,null,null,null,null,null,null,null,null,null,null,{"$error":"#DIV/0!"},null,0]
[null,null,null,null,null,null,null,null,null,null,null,null,null,null,{"$error":"#DIV/0!"},null,0]
[null,null,null,null,null,null,null,null,null,null,null,null,null,null,{"$error":"#DIV/0!"},null,0]
[null,null,null,null,null,null,null,null,null,null,null,null,null,null,{"$error":"#DIV/0!"},null,0]
[null,null,null,null,null,null,null,null,null,null,null,null,null,null,{"$error":"#DIV/0!"},null,0]
[null,null,null,null,null,null,null,null,null,null,null,null,null,null,{"$error":"#DIV/0!"},null,0]
[null,null,null,null,null,null,null,null,null,null,null,null,null,null,{"$error":"#DIV/0!"},null,0]
[null,null,null,null,null,null,null,null,null,null,null,null,null,null,{"$error":"#DIV/0!"},null,0]
[null,null,null,null,null,null,null,null,null,null,null,null,null,null,{"$error":"#DIV/0!"},null,0]
[null,null,null,null,null,null,null,null,null,null,null,null,null,null,{"$error":"#DIV/0!"},null,0]
[null,null,null,null,null,null,null,null,null,null,null,null,null,null,{"$error":"#DIV/0!"},null,0]
[null,null,null,null,null,null,null,null,null,null,null,null,null,null,{"$error":"#DIV/0!"},null,0]
[null,null,null,null,null,null,null,null,null,null,null,null,null,null,{"$error":"#DIV/0!"},null,0]
[null,null,null,null,null,null,null,null,null,null,null,null,null,null,{"$error":"#DIV/0!"},null,0]
[null,null,null,null,null,null,null,null,null,null,null,null,null,null,{"$error":"#DIV/0!"},null,0]
[null,null,null,null,null,null,null,null,null,null,null,null,null,null,{"$error":"#DIV/0!"},null,0]
[null,null,null,null,null,null,null,null,null,null,null,null,null,null,{"$error":"#DIV/0!"},null,0]
[null,null,null,null,null,null,null,null,null,null,null,null,null,null,{"$error":"#DIV/0!"},null,0]
[null,null,null,null,null,null,null,null,null,null,null,null,null,null,{"$error":"#DIV/0!"},null,0]
[null,null,null,null,null,null,null,null,null,null,null,null,null,null,{"$error":"#DIV/0!"},null,0]
[null,null,null,null,null,null,null,null,null,null,null,null,null,null,{"$error":"#DIV/0!"},null,0]
[null,null,null,null,null,null,null,null,null,null,null,null,null,null,{"$error":"#DIV/0!"},null,0]
[null,null,null,null,null,null,null,null,null,null,null,null,null,null,{"$error":"#DIV/0!"},null,0]
[null,null,null,null,null,null,null,null,null,null,null,null,null,null,{"$error":"#DIV/0!"},null,0]
[null,null,null,null,null,null,null,null,null,null,null,null,null,null,{"$error":"#DIV/0!"},null,0]
[null,null,null,null,null,null,null,null,null,null,null,null,null,null,{"$error":"#DIV/0!"},null,0]
[null,null,null,null,null,null,null,null,null,null,null,null,null,null,{"$error":"#DIV/0!"},null,0]
[null,null,null,null,null,null,null,null,null,null,null,null,null,null,{"$error":"#DIV/0!"},null,0]
[null,null,null,null,null,null,null,null,null,null,null,null,null,null,{"$error":"#DIV/0!"},null,0]
[null,null,null,null,null,null,null,null,null,null,null,null,null,null,{"$error":"#DIV/0!"},null,0]
[null,null,null,null,null,null,null,null,null,null,null,null,null,null,{"$error":"#DIV/0!"},null,0]
[null,null,null,null,null,null,null,null,null,null,null,null,null,null,{"$error":"#DIV/0!"},null,0]
[null,null,null,null,null,null,null,null,null,null,null,null,null,null,{"$error":"#DIV/0!"},null,0]
[null,null,null,null,null,null,null,null,null,null,null,null,null,null,{"$error":"#DIV/0!"},null,0]
[null,null,null,null,null,null,null,null,null,null,null,null,null,null,{"$error":"#DIV/0!"},null,0]
[null,null,null,null,null,null,null,null,null,null,null,null,null,null,{"$error":"#DIV/0!"},null,0]
[null,null,null,null,null,null,null,null,null,null,null,null,null,null,{"$error":"#DIV/0!"},null,0]
[null,null,null,null,null,null,null,null,null,null,null,null,null,null,{"$error":"#DIV/0!"},null,0]
[null,null,null,null,null,null,null,null,null,null,null,null,null,null,{"$error":"#DIV/0!"},null,0]
[null,null,null,null,null,null,null,null,null,null,null,null,null,null,{"$error":"#DIV/0!"},null,0]
[null,null,null,null,null,null,null,null,null,null,null,null,null,null,{"$error":"#DIV/0!"},null,0]
[null,null,null,null,null,null,null,null,null,null,null,null,null,null,{"$error":"#DIV/0!"},null,0]
[null,null,null,null,null,null,null,null,null,null,null,null,null,null,{"$error":"#DIV/0!"},null,0]
[null,null,null,null,null,null,null,null,null,null,null,null,null,null,{"$error":"#DIV/0!"},null,0]
[null,null,null,null,null,null,null,null,null,null,null,null,null,null,{"$error":"#DIV/0!"},null,0]
[null,null,null,null,null,null,null,null,null,null,null,null,null,null,{"$error":"#DIV/0!"},null,0]
[null,null,null,null,null,null,null,null,null,null,null,null,null,null,{"$error":"#DIV/0!"},null,0]
[null,null,null,null,null,null,null,null,null,null,null,null,null,null,{"$error":"#DIV/0!"},null,0]
[null,null,null,null,null,null,null,null,null,null,null,null,null,null,{"$error":"#DIV/0!"},null,0]
[null,null,null,null,null,null,null,null,null,null,null,null,null,null,{"$error":"#DIV/0!"},null,0]
[null,null,null,null,null,null,null,null,null,null,null,null,null,null,{"$error":"#DIV/0!"},null,0]
[null,null,null,null,null,null,null,null,null,null,null,null,null,null,{"$error":"#DIV/0!"},null,0]
[null,null,null,null,null,null,null,null,null,null,null,null,null,null,{"$error":"#DIV/0!"},null,0]
[null,null,null,null,null,null,null,null,null,null,null,null,null,null,{"$error":"#DIV/0!"},null,0]
[null,null,null,null,null,null,null,null,null,null,null,null,null,null,{"$error":"#DIV/0!"},null,0]
[null,null,null,null,null,null,null,null,null,null,null,null,null,null,{"$error":"#DIV/0!"},null,0]
[null,null,null,null,null,null,null,null,null,null,null,null,null,null,{"$error":"#DIV/0!"},null,0]
[null,null,null,null,null,null,null,null,null,null,null,null,null,null,{"$error":"#DIV/0!"},null,0]
[null,null,null,null,null,null,null,null,null,null,null,null,null,null,{"$error":"#DIV/0!"},null,0]
[null,null,null,null,null,null,null,null,null,null,null,null,null,null,{"$error":"#DIV/0!"},null,0]
[null,null,null,null,null,null,null,null,null,null,null,null,null,null,{"$error":"#DIV/0!"},null,0]
[null,null,null,null,null,null,null,null,null,null,null,null,null,null,{"$error":"#DIV/0!"},null,0]
[null,null,null,null,null,null,null,null,null,null,null,null,null,null,{"$error":"#DIV/0!"},null,0]
[null,null,null,null,null,null,null,null,null,null,null,null,null,null,{"$error":"#DIV/0!"},null,0]
[null,null,null,null,null,null,null,null,null,null,null,null,null,null,{"$error":"#DIV/0!"},null,0]
[null,null,null,null,null,null,null,null,null,null,null,null,null,null,{"$error":"#DIV/0!"},null,0]
[null,null,null,null,null,null,null,null,null,null,null,null,null,null,{"$error":"#DIV/0!"},null,0]
[null,null,null,null,null,null,null,null,null,null,null,null,null,null,{"$error":"#DIV/0!"},null,0]
[null,null,null,null,null,null,null,null,null,null,null,null,null,null,{"$error":"#DIV/0!"},null,0]
[null,null,null,null,null,null,null,null,null,null,null,null,null,null,{"$error":"#DIV/0!"},null,0]
[null,null,null,null,null,null,null,null,null,null,null,null,null,null,{"$error":"#DIV/0!"},null,0]
[null,null,null,null,null,null,null,null,null,null,null,null,null,null,{"$error":"#DIV/0!"},null,0]
[null,null,null,null,null,null,null,null,null,null,null,null,null,null,{"$error":"#DIV/0!"},null,0]
[null,null,null,null,null,null,null,null,null,null,null,null,null,null,{"$error":"#DIV/0!"},null,0]
[null,null,null,null,null,null,null,null,null,null,null,null,null,null,{"$error":"#DIV/0!"},null,0]
[null,null,null,null,null,null,null,null,null,null,null,null,null,null,{"$error":"#DIV/0!"},null,0]
[null,null,null,null,null,null,null,null,null,null,null,null,null,null,{"$error":"#DIV/0!"},null,0]
[null,null,null,null,null,null,null,null,null,null,null,null,null,null,{"$error":"#DIV/0!"},null,0]
[null,null,null,null,null,null,null,null,null,null,null,null,null,null,{"$error":"#DIV/0!"},null,0]
[null,null,null,null,null,null,null,null,null,null,null,null,null,null,{"$error":"#DIV/0!"},null,0]
[null,null,null,null,null,null,null,null,null,null,null,null,null,null,{"$error":"#DIV/0!"},null,0]
[null,null,null,null,null,null,null,null,null,null,null,null,null,null,{"$error":"#DIV/0!"},null,0]
[null,null,null,null,null,null,null,null,null,null,null,null,null,null,{"$error":"#DIV/0!"},null,0]
[null,null,null,null,null,null,null,null,null,null,null,null,null,null,{"$f":"N243079/M243079","v":{"$error":"#DIV/0!"}},null,{"$f":"C243079*P243079","v":0}]
[null,null,null,null,null,null,null,null,null,null,null,null,null,null,{"$error":"#DIV/0!"},null,0]
[null,null,null,null,null,null,null,null,null,null,null,null,null,null,{"$error":"#DIV/0!"},null,0]
[null,null,null,null,null,null,null,null,null,null,null,null,null,null,{"$error":"#DIV/0!"},null,0]
[null,null,null,null,null,null,null,null,null,null,null,null,null,null,{"$error":"#DIV/0!"},null,0]
[null,null,null,null,null,null,null,null,null,null,null,null,null,null,{"$error":"#DIV/0!"},null,0]
[null,null,null,null,null,null,null,null,null,null,null,null,null,null,{"$error":"#DIV/0!"},null,0]
[null,null,null,null,null,null,null,null,null,null,null,null,null,null,{"$error":"#DIV/0!"},null,0]
[null,null,null,null,null,null,null,null,null,null,null,null,null,null,{"$error":"#DIV/0!"},null,0]
[null,null,null,null,null,null,null,null,null,null,null,null,null,null,{"$error":"#DIV/0!"},null,0]
[null,null,null,null,null,null,null,null,null,null,null,null,null,null,{"$error":"#DIV/0!"},null,0]
[null,null,null,null,null,null,null,null,null,null,null,null,null,null,{"$error":"#DIV/0!"},null,0]
[null,null,null,null,null,null,null,null,null,null,null,null,null,null,{"$error":"#DIV/0!"},null,0]
[null,null,null,null,null,null,null,null,null,null,null,null,null,null,{"$error":"#DIV/0!"},null,0]
[null,null,null,null,null,null,null,null,null,null,null,null,null,null,{"$error":"#DIV/0!"},null,0]
[null,null,null,null,null,null,null,null,null,null,null,null,null,null,{"$error":"#DIV/0!"},null,0]
[null,null,null,null,null,null,null,null,null,null,null,null,null,null,{"$error":"#DIV/0!"},null,0]
[null,null,null,null,null,null,null,null,null,null,null,null,null,null,{"$error":"#DIV/0!"},null,0]
[null,null,null,null,null,null,null,null,null,null,null,null,null,null,{"$error":"#DIV/0!"},null,0]
[null,null,null,null,null,null,null,null,null,null,null,null,null,null,{"$error":"#DIV/0!"},null,0]
[null,null,null,null,null,null,null,null,null,null,null,null,null,null,{"$error":"#DIV/0!"},null,0]
[null,null,null,null,null,null,null,null,null,null,null,null,null,null,{"$error":"#DIV/0!"},null,0]
[null,null,null,null,null,null,null,null,null,null,null,null,null,null,{"$error":"#DIV/0!"},null,0]
[null,null,null,null,null,null,null,null,null,null,null,null,null,null,{"$error":"#DIV/0!"},null,0]
[null,null,null,null,null,null,null,null,null,null,null,null,null,null,{"$error":"#DIV/0!"},null,0]
[null,null,null,null,null,null,null,null,null,null,null,null,null,null,{"$error":"#DIV/0!"},null,0]
[null,null,null,null,null,null,null,null,null,null,null,null,null,null,{"$error":"#DIV/0!"},null,0]
[null,null,null,null,null,null,null,null,null,null,null,null,null,null,{"$error":"#DIV/0!"},null,0]
[null,null,null,null,null,null,null,null,null,null,null,null,null,null,{"$error":"#DIV/0!"},null,0]
[null,null,null,null,null,null,null,null,null,null,null,null,null,null,{"$error":"#DIV/0!"},null,0]
[null,null,null,null,null,null,null,null,null,null,null,null,null,null,{"$error":"#DIV/0!"},null,0]
[null,null,null,null,null,null,null,null,null,null,null,null,null,null,{"$error":"#DIV/0!"},null,0]
[null,null,null,null,null,null,null,null,null,null,null,null,null,null,{"$error":"#DIV/0!"},null,0]
[null,null,null,null,null,null,null,null,null,null,null,null,null,null,{"$error":"#DIV/0!"},null,0]
[null,null,null,null,null,null,null,null,null,null,null,null,null,null,{"$error":"#DIV/0!"},null,0]
[null,null,null,null,null,null,null,null,null,null,null,null,null,null,{"$error":"#DIV/0!"},null,0]
[null,null,null,null,null,null,null,null,null,null,null,null,null,null,{"$error":"#DIV/0!"},null,0]
[null,null,null,null,null,null,null,null,null,null,null,null,null,null,{"$error":"#DIV/0!"},null,0]
[null,null,null,null,null,null,null,null,null,null,null,null,null,null,{"$error":"#DIV/0!"},null,0]
[null,null,null,null,null,null,null,null,null,null,null,null,null,null,{"$error":"#DIV/0!"},null,0]
[null,null,null,null,null,null,null,null,null,null,null,null,null,null,{"$error":"#DIV/0!"},null,0]
[null,null,null,null,null,null,null,null,null,null,null,null,null,null,{"$error":"#DIV/0!"},null,0]
[null,null,null,null,null,null,null,null,null,null,null,null,null,null,{"$error":"#DIV/0!"},null,0]
[null,null,null,null,null,null,null,null,null,null,null,null,null,null,{"$error":"#DIV/0!"},null,0]
[null,null,null,null,null,null,null,null,null,null,null,null,null,null,{"$error":"#DIV/0!"},null,0]
[null,null,null,null,null,null,null,null,null,null,null,null,null,null,{"$error":"#DIV/0!"},null,0]
[null,null,null,null,null,null,null,null,null,null,null,null,null,null,{"$error":"#DIV/0!"},null,0]
[null,null,null,null,null,null,null,null,null,null,null,null,null,null,{"$error":"#DIV/0!"},null,0]
[null,null,null,null,null,null,null,null,null,null,null,null,null,null,{"$error":"#DIV/0!"},null,0]
[null,null,null,null,null,null,null,null,null,null,null,null,null,null,{"$error":"#DIV/0!"},null,0]
[null,null,null,null,null,null,null,null,null,null,null,null,null,null,{"$error":"#DIV/0!"},null,0]
[null,null,null,null,null,null,null,null,null,null,null,null,null,null,{"$error":"#DIV/0!"},null,0]
[null,null,null,null,null,null,null,null,null,null,null,null,null,null,{"$error":"#DIV/0!"},null,0]
[null,null,null,null,null,null,null,null,null,null,null,null,null,null,{"$error":"#DIV/0!"},null,0]
[null,null,null,null,null,null,null,null,null,null,null,null,null,null,{"$error":"#DIV/0!"},null,0]
[null,null,null,null,null,null,null,null,null,null,null,null,null,null,{"$error":"#DIV/0!"},null,0]
[null,null,null,null,null,null,null,null,null,null,null,null,null,null,{"$error":"#DIV/0!"},null,0]
[null,null,null,null,null,null,null,null,null,null,null,null,null,null,{"$error":"#DIV/0!"},null,0]
[null,null,null,null,null,null,null,null,null,null,null,null,null,null,{"$error":"#DIV/0!"},null,0]
[null,null,null,null,null,null,null,null,null,null,null,null,null,null,{"$error":"#DIV/0!"},null,0]
[null,null,null,null,null,null,null,null,null,null,null,null,null,null,{"$error":"#DIV/0!"},null,0]
[null,null,null,null,null,null,null,null,null,null,null,null,null,null,{"$error":"#DIV/0!"},null,0]
[null,null,null,null,null,null,null,null,null,null,null,null,null,null,{"$error":"#DIV/0!"},null,0]
[null,null,null,null,null,null,null,null,null,null,null,null,null,null,{"$error":"#DIV/0!"},null,0]
[null,null,null,null,null,null,null,null,null,null,null,null,null,null,{"$error":"#DIV/0!"},null,0]
[null,null,null,null,null,null,null,null,null,null,null,null,null,null,{"$error":"#DIV/0!"},null,0]
[null,null,null,null,null,null,null,null,null,null,null,null,null,null,{"$error":"#DIV/0!"},null,0]
[null,null,null,null,null,null,null,null,null,null,null,null,null,null,{"$error":"#DIV/0!"},null,0]
[null,null,null,null,null,null,null,null,null,null,null,null,null,null,{"$error":"#DIV/0!"},null,0]
[null,null,null,null,null,null,null,null,null,null,null,null,null,null,{"$error":"#DIV/0!"},null,0]
[null,null,null,null,null,null,null,null,null,null,null,null,null,null,{"$error":"#DIV/0!"},null,0]
[null,null,null,null,null,null,null,null,null,null,null,null,null,null,{"$error":"#DIV/0!"},null,0]
[null,null,null,null,null,null,null,null,null,null,null,null,null,null,{"$error":"#DIV/0!"},null,0]
[null,null,null,null,null,null,null,null,null,null,null,null,null,null,{"$error":"#DIV/0!"},null,0]
[null,null,null,null,null,null,null,null,null,null,null,null,null,null,{"$error":"#DIV/0!"},null,0]
[null,null,null,null,null,null,null,null,null,null,null,null,null,null,{"$error":"#DIV/0!"},null,0]
[null,null,null,null,null,null,null,null,null,null,null,null,null,null,{"$error":"#DIV/0!"},null,0]
[null,null,null,null,null,null,null,null,null,null,null,null,null,null,{"$error":"#DIV/0!"},null,0]
[null,null,null,null,null,null,null,null,null,null,null,null,null,null,{"$error":"#DIV/0!"},null,0]
[null,null,null,null,null,null,null,null,null,null,null,null,null,null,{"$error":"#DIV/0!"},null,0]
[null,null,null,null,null,null,null,null,null,null,null,null,null,null,{"$error":"#DIV/0!"},null,0]
[null,null,null,null,null,null,null,null,null,null,null,null,null,null,{"$error":"#DIV/0!"},null,0]
[null,null,null,null,null,null,null,null,null,null,null,null,null,null,{"$error":"#DIV/0!"},null,0]
[null,null,null,null,null,null,null,null,null,null,null,null,null,null,{"$error":"#DIV/0!"},null,0]
[null,null,null,null,null,null,null,null,null,null,null,null,null,null,{"$error":"#DIV/0!"},null,0]
[null,null,null,null,null,null,null,null,null,null,null,null,null,null,{"$error":"#DIV/0!"},null,0]
[null,null,null,null,null,null,null,null,null,null,null,null,null,null,{"$error":"#DIV/0!"},null,0]
[null,null,null,null,null,null,null,null,null,null,null,null,null,null,{"$error":"#DIV/0!"},null,0]
[null,null,null,null,null,null,null,null,null,null,null,null,null,null,{"$error":"#DIV/0!"},null,0]
[null,null,null,null,null,null,null,null,null,null,null,null,null,null,{"$error":"#DIV/0!"},null,0]
[null,null,null,null,null,null,null,null,null,null,null,null,null,null,{"$error":"#DIV/0!"},null,0]
[null,null,null,null,null,null,null,null,null,null,null,null,null,null,{"$error":"#DIV/0!"},null,0]
[null,null,null,null,null,null,null,null,null,null,null,null,null,null,{"$error":"#DIV/0!"},null,0]
[null,null,null,null,null,null,null,null,null,null,null,null,null,null,{"$error":"#DIV/0!"},null,0]
[null,null,null,null,null,null,null,null,null,null,null,null,null,null,{"$error":"#DIV/0!"},null,0]
[null,null,null,null,null,null,null,null,null,null,null,null,null,null,{"$error":"#DIV/0!"},null,0]
[null,null,null,null,null,null,null,null,null,null,null,null,null,null,{"$error":"#DIV/0!"},null,0]
[null,null,null,null,null,null,null,null,null,null,null,null,null,null,{"$f":"N293703/M293703","v":{"$error":"#DIV/0!"}},null,{"$f":"C293703*P293703","v":0}]
[null,null,null,null,null,null,null,null,null,null,null,null,null,null,{"$error":"#DIV/0!"},null,0]
[null,null,null,null,null,null,null,null,null,null,null,null,null,null,{"$error":"#DIV/0!"},null,0]
[null,null,null,null,null,null,null,null,null,null,null,null,null,null,{"$error":"#DIV/0!"},null,0]
[null,null,null,null,null,null,null,null,null,null,null,null,null,null,{"$error":"#DIV/0!"},null,0]
[null,null,null,null,null,null,null,null,null,null,null,null,null,null,{"$error":"#DIV/0!"},null,0]
[null,null,null,null,null,null,null,null,null,null,null,null,null,null,{"$error":"#DIV/0!"},null,0]
[null,null,null,null,null,null,null,null,null,null,null,null,null,null,{"$error":"#DIV/0!"},null,0]
[null,null,null,null,null,null,null,null,null,null,null,null,null,null,{"$error":"#DIV/0!"},null,0]
[null,null,null,null,null,null,null,null,null,null,null,null,null,null,{"$error":"#DIV/0!"},null,0]
[null,null,null,null,null,null,null,null,null,null,null,null,null,null,{"$error":"#DIV/0!"},null,0]
[null,null,null,null,null,null,null,null,null,null,null,null,null,null,{"$error":"#DIV/0!"},null,0]
[null,null,null,null,null,null,null,null,null,null,null,null,null,null,{"$error":"#DIV/0!"},null,0]
[null,null,null,null,null,null,null,null,null,null,null,null,null,null,{"$error":"#DIV/0!"},null,0]
[null,null,null,null,null,null,null,null,null,null,null,null,null,null,{"$error":"#DIV/0!"},null,0]
[null,null,null,null,null,null,null,null,null,null,null,null,null,null,{"$error":"#DIV/0!"},null,0]
[null,null,null,null,null,null,null,null,null,null,null,null,null,null,{"$error":"#DIV/0!"},null,0]
[null,null,null,null,null,null,null,null,null,null,null,null,null,null,{"$error":"#DIV/0!"},null,0]
[null,null,null,null,null,null,null,null,null,null,null,null,null,null,{"$error":"#DIV/0!"},null,0]
[null,null,null,null,null,null,null,null,null,null,null,null,null,null,{"$error":"#DIV/0!"},null,0]
[null,null,null,null,null,null,null,null,null,null,null,null,null,null,{"$error":"#DIV/0!"},null,0]
[null,null,null,null,null,null,null,null,null,null,null,null,null,null,{"$error":"#DIV/0!"},null,0]
[null,null,null,null,null,null,null,null,null,null,null,null,null,null,{"$error":"#DIV/0!"},null,0]
[null,null,null,null,null,null,null,null,null,null,null,null,null,null,{"$error":"#DIV/0!"},null,0]
[null,null,null,null,null,null,null,null,null,null,null,null,null,null,{"$error":"#DIV/0!"},null,0]
[null,null,null,null,null,null,null,null,null,null,null,null,null,null,{"$error":"#DIV/0!"},null,0]
[null,null,null,null,null,null,null,null,null,null,null,null,null,null,{"$error":"#DIV/0!"},null,0]
[null,null,null,null,null,null,null,null,null,null,null,null,null,null,{"$error":"#DIV/0!"},null,0]
[null,null,null,null,null,null,null,null,null,null,null,null,null,null,{"$error":"#DIV/0!"},null,0]
[null,null,null,null,null,null,null,null,null,null,null,null,null,null,{"$error":"#DIV/0!"},null,0]
[null,null,null,null,null,null,null,null,null,null,null,null,null,null,{"$error":"#DIV/0!"},null,0]
[null,null,null,null,null,null,null,null,null,null,null,null,null,null,{"$error":"#DIV/0!"},null,0]
[null,null,null,null,null,null,null,null,null,null,null,null,null,null,{"$error":"#DIV/0!"},null,0]
[null,null,null,null,null,null,null,null,null,null,null,null,null,null,{"$error":"#DIV/0!"},null,0]
[null,null,null,null,null,null,null,null,null,null,null,null,null,null,{"$error":"#DIV/0!"},null,0]
[null,null,null,null,null,null,null,null,null,null,null,null,null,null,{"$error":"#DIV/0!"},null,0]
[null,null,null,null,null,null,null,null,null,null,null,null,null,null,{"$error":"#DIV/0!"},null,0]
[null,null,null,null,null,null,null,null,null,null,null,null,null,null,{"$error":"#DIV/0!"},null,0]
[null,null,null,null,null,null,null,null,null,null,null,null,null,null,{"$error":"#DIV/0!"},null,0]
[null,null,null,null,null,null,null,null,null,null,null,null,null,null,{"$f":"N314055/M314055","v":{"$error":"#DIV/0!"}},null,{"$f":"C314055*P314055","v":0}]
[null,null,null,null,null,null,null,null,null,null,null,null,null,null,{"$error":"#DIV/0!"},null,0]
[null,null,null,null,null,null,null,null,null,null,null,null,null,null,{"$error":"#DIV/0!"},null,0]
[null,null,null,null,null,null,null,null,null,null,null,null,null,null,{"$error":"#DIV/0!"},null,0]
[null,null,null,null,null,null,null,null,null,null,null,null,null,null,{"$error":"#DIV/0!"},null,0]
[null,null,null,null,null,null,null,null,null,null,null,null,null,null,{"$error":"#DIV/0!"},null,0]
[null,null,null,null,null,null,null,null,null,null,null,null,null,null,{"$error":"#DIV/0!"},null,0]
[null,null,null,null,null,null,null,null,null,null,null,null,null,null,{"$error":"#DIV/0!"},null,0]
[null,null,null,null,null,null,null,null,null,null,null,null,null,null,{"$error":"#DIV/0!"},null,0]
[null,null,null,null,null,null,null,null,null,null,null,null,null,null,{"$error":"#DIV/0!"},null,0]
[null,null,null,null,null,null,null,null,null,null,null,null,null,null,{"$error":"#DIV/0!"},null,0]
[null,null,null,null,null,null,null,null,null,null,null,null,null,null,{"$error":"#DIV/0!"},null,0]
[null,null,null,null,null,null,null,null,null,null,null,null,null,null,{"$error":"#DIV/0!"},null,0]
[null,null,null,null,null,null,null,null,null,null,null,null,null,null,{"$error":"#DIV/0!"},null,0]
[null,null,null,null,null,null,null,null,null,null,null,null,null,null,{"$error":"#DIV/0!"},null,0]
[null,null,null,null,null,null,null,null,null,null,null,null,null,null,{"$error":"#DIV/0!"},null,0]
[null,null,null,null,null,null,null,null,null,null,null,null,null,null,{"$error":"#DIV/0!"},null,0]
[null,null,null,null,null,null,null,null,null,null,null,null,null,null,{"$error":"#DIV/0!"},null,0]
[null,null,null,null,null,null,null,null,null,null,null,null,null,null,{"$error":"#DIV/0!"},null,0]
[null,null,null,null,null,null,null,null,null,null,null,null,null,null,{"$error":"#DIV/0!"},null,0]
[null,null,null,null,null,null,null,null,null,null,null,null,null,null,{"$error":"#DIV/0!"},null,0]
[null,null,null,null,null,null,null,null,null,null,null,null,null,null,{"$error":"#DIV/0!"},null,0]
[null,null,null,null,null,null,null,null,null,null,null,null,null,null,{"$error":"#DIV/0!"},null,0]
[null,null,null,null,null,null,null,null,null,null,null,null,null,null,{"$error":"#DIV/0!"},null,0]
[null,null,null,null,null,null,null,null,null,null,null,null,null,null,{"$error":"#DIV/0!"},null,0]
[null,null,null,null,null,null,null,null,null,null,null,null,null,null,{"$error":"#DIV/0!"},null,0]
[null,null,null,null,null,null,null,null,null,null,null,null,null,null,{"$error":"#DIV/0!"},null,0]
[null,null,null,null,null,null,null,null,null,null,null,null,null,null,{"$error":"#DIV/0!"},null,0]
[null,null,null,null,null,null,null,null,null,null,null,null,null,null,{"$error":"#DIV/0!"},null,0]
[null,null,null,null,null,null,null,null,null,null,null,null,null,null,{"$error":"#DIV/0!"},null,0]
[null,null,null,null,null,null,null,null,null,null,null,null,null,null,{"$error":"#DIV/0!"},null,0]
[null,null,null,null,null,null,null,null,null,null,null,null,null,null,{"$error":"#DIV/0!"},null,0]
[null,null,null,null,null,null,null,null,null,null,null,null,null,null,{"$error":"#DIV/0!"},null,0]
[null,null,null,null,null,null,null,null,null,null,null,null,null,null,{"$error":"#DIV/0!"},null,0]
[null,null,null,null,null,null,null,null,null,null,null,null,null,null,{"$error":"#DIV/0!"},null,0]
[null,null,null,null,null,null,null,null,null,null,null,null,null,null,{"$error":"#DIV/0!"},null,0]
[null,null,null,null,null,null,null,null,null,null,null,null,null,null,{"$error":"#DIV/0!"},null,0]
[null,null,null,null,null,null,null,null,null,null,null,null,null,null,{"$error":"#DIV/0!"},null,0]
[null,null,null,null,null,null,null,null,null,null,null,null,null,null,{"$error":"#DIV/0!"},null,0]
[null,null,null,null,null,null,null,null,null,null,null,null,null,null,{"$error":"#DIV/0!"},null,0]
[null,null,null,null,null,null,null,null,null,null,null,null,null,null,{"$error":"#DIV/0!"},null,0]
[null,null,null,null,null,null,null,null,null,null,null,null,null,null,{"$error":"#DIV/0!"},null,0]
[null,null,null,null,null,null,null,null,null,null,null,null,null,null,{"$error":"#DIV/0!"},null,0]
[null,null,null,null,null,null,null,null,null,null,null,null,null,null,{"$error":"#DIV/0!"},null,0]
[null,null,null,null,null,null,null,null,null,null,null,null,null,null,{"$error":"#DIV/0!"},null,0]
[null,null,null,null,null,null,null,null,null,null,null,null,null,null,{"$error":"#DIV/0!"},null,0]
[null,null,null,null,null,null,null,null,null,null,null,null,null,null,{"$error":"#DIV/0!"},null,0]
[null,null,null,null,null,null,null,null,null,null,null,null,null,null,{"$error":"#DIV/0!"},null,0]
[null,null,null,null,null,null,null,null,null,null,null,null,null,null,{"$error":"#DIV/0!"},null,0]
[null,null,null,null,null,null,null,null,null,null,null,null,null,null,{"$error":"#DIV/0!"},null,0]
[null,null,null,null,null,null,null,null,null,null,null,null,null,null,{"$error":"#DIV/0!"},null,0]
[null,null,null,null,null,null,null,null,null,null,null,null,null,null,{"$error":"#DIV/0!"},null,0]
[null,null,null,null,null,null,null,null,null,null,null,null,null,null,{"$error":"#DIV/0!"},null,0]
[null,null,null,null,null,null,null,null,null,null,null,null,null,null,{"$error":"#DIV/0!"},null,0]
[null,null,null,null,null,null,null,null,null,null,null,null,null,null,{"$error":"#DIV/0!"},null,0]
[null,null,null,null,null,null,null,null,null,null,null,null,null,null,{"$error":"#DIV/0!"},null,0]
[null,null,null,null,null,null,null,null,null,null,null,null,null,null,{"$error":"#DIV/0!"},null,0]
[null,null,null,null,null,null,null,null,null,null,null,null,null,null,{"$error":"#DIV/0!"},null,0]
[null,null,null,null,null,null,null,null,null,null,null,null,null,null,{"$error":"#DIV/0!"},null,0]
[null,null,null,null,null,null,null,null,null,null,null,null,null,null,{"$error":"#DIV/0!"},null,0]
[null,null,null,null,null,null,null,null,null,null,null,null,null,null,{"$error":"#DIV/0!"},null,0]
[null,null,null,null,null,null,null,null,null,null,null,null,null,null,{"$error":"#DIV/0!"},null,0]
[null,null,null,null,null,null,null,null,null,null,null,null,null,null,{"$error":"#DIV/0!"},null,0]
[null,null,null,null,null,null,null,null,null,null,null,null,null,null,{"$error":"#DIV/0!"},null,0]
[null,null,null,null,null,null,null,null,null,null,null,null,null,null,{"$error":"#DIV/0!"},null,0]
[null,null,null,null,null,null,null,null,null,null,null,null,null,null,{"$error":"#DIV/0!"},null,0]
[null,null,null,null,null,null,null,null,null,null,null,null,null,null,{"$error":"#DIV/0!"},null,0]
[null,null,null,null,null,null,null,null,null,null,null,null,null,null,{"$error":"#DIV/0!"},null,0]
[null,null,null,null,null,null,null,null,null,null,null,null,null,null,{"$error":"#DIV/0!"},null,0]
[null,null,null,null,null,null,null,null,null,null,null,null,null,null,{"$error":"#DIV/0!"},null,0]
[null,null,null,null,null,null,null,null,null,null,null,null,null,null,{"$error":"#DIV/0!"},null,0]
[null,null,null,null,null,null,null,null,null,null,null,null,null,null,{"$error":"#DIV/0!"},null,0]
[null,null,null,null,null,null,null,null,null,null,null,null,null,null,{"$error":"#DIV/0!"},null,0]
[null,null,null,null,null,null,null,null,null,null,null,null,null,null,{"$error":"#DIV/0!"},null,0]
[null,null,null,null,null,null,null,null,null,null,null,null,null,null,{"$error":"#DIV/0!"},null,0]
[null,null,null,null,null,null,null,null,null,null,null,null,null,null,{"$error":"#DIV/0!"},null,0]
[null,null,null,null,null,null,null,null,null,null,null,null,null,null,{"$error":"#DIV/0!"},null,0]
[null,null,null,null,null,null,null,null,null,null,null,null,null,null,{"$error":"#DIV/0!"},null,0]
[null,null,null,null,null,null,null,null,null,null,null,null,null,null,{"$error":"#DIV/0!"},null,0]
[null,null,null,null,null,null,null,null,null,null,null,null,null,null,{"$error":"#DIV/0!"},null,0]
[null,null,null,null,null,null,null,null,null,null,null,null,null,null,{"$error":"#DIV/0!"},null,0]
[null,null,null,null,null,null,null,null,null,null,null,null,null,null,{"$error":"#DIV/0!"},null,0]
[null,null,null,null,null,null,null,null,null,null,null,null,null,null,{"$error":"#DIV/0!"},null,0]
[null,null,null,null,null,null,null,null,null,null,null,null,null,null,{"$error":"#DIV/0!"},null,0]
[null,null,null,null,null,null,null,null,null,null,null,null,null,null,{"$error":"#DIV/0!"},null,0]
[null,null,null,null,null,null,null,null,null,null,null,null,null,null,{"$error":"#DIV/0!"},null,0]
[null,null,null,null,null,null,null,null,null,null,null,null,null,null,{"$error":"#DIV/0!"},null,0]
[null,null,null,null,null,null,null,null,null,null,null,null,null,null,{"$error":"#DIV/0!"},null,0]
[null,null,null,null,null,null,null,null,null,null,null,null,null,null,{"$error":"#DIV/0!"},null,0]
[null,null,null,null,null,null,null,null,null,null,null,null,null,null,{"$error":"#DIV/0!"},null,0]
[null,null,null,null,null,null,null,null,null,null,null,null,null,null,{"$error":"#DIV/0!"},null,0]
[null,null,null,null,null,null,null,null,null,null,null,null,null,null,{"$error":"#DIV/0!"},null,0]
[null,null,null,null,null,null,null,null,null,null,null,null,null,null,{"$error":"#DIV/0!"},null,0]
[null,null,null,null,null,null,null,null,null,null,null,null,null,null,{"$error":"#DIV/0!"},null,0]
[null,null,null,null,null,null,null,null,null,null,null,null,null,null,{"$error":"#DIV/0!"},null,0]
[null,null,null,null,null,null,null,null,null,null,null,null,null,null,{"$error":"#DIV/0!"},null,0]
[null,null,null,null,null,null,null,null,null,null,null,null,null,null,{"$error":"#DIV/0!"},null,0]
[null,null,null,null,null,null,null,null,null,null,null,null,null,null,{"$f":"N364679/M364679","v":{"$error":"#DIV/0!"}},null,{"$f":"C364679*P364679","v":0}]
[null,null,null,null,null,null,null,null,null,null,null,null,null,null,{"$error":"#DIV/0!"},null,0]
[null,null,null,null,null,null,null,null,null,null,null,null,null,null,{"$error":"#DIV/0!"},null,0]
[null,null,null,null,null,null,null,null,null,null,null,null,null,null,{"$error":"#DIV/0!"},null,0]
[null,null,null,null,null,null,null,null,null,null,null,null,null,null,{"$error":"#DIV/0!"},null,0]
[null,null,null,null,null,null,null,null,null,null,null,null,null,null,{"$error":"#DIV/0!"},null,0]
[null,null,null,null,null,null,null,null,null,null,null,null,null,null,{"$error":"#DIV/0!"},null,0]
[null,null,null,null,null,null,null,null,null,null,null,null,null,null,{"$error":"#DIV/0!"},null,0]
[null,null,null,null,null,null,null,null,null,null,null,null,null,null,{"$error":"#DIV/0!"},null,0]
[null,null,null,null,null,null,null,null,null,null,null,null,null,null,{"$error":"#DIV/0!"},null,0]
[null,null,null,null,null,null,null,null,null,null,null,null,null,null,{"$error":"#DIV/0!"},null,0]
[null,null,null,null,null,null,null,null,null,null,null,null,null,null,{"$error":"#DIV/0!"},null,0]
[null,null,null,null,null,null,null,null,null,null,null,null,null,null,{"$error":"#DIV/0!"},null,0]
[null,null,null,null,null,null,null,null,null,null,null,null,null,null,{"$error":"#DIV/0!"},null,0]
[null,null,null,null,null,null,null,null,null,null,null,null,null,null,{"$error":"#DIV/0!"},null,0]
[null,null,null,null,null,null,null,null,null,null,null,null,null,null,{"$error":"#DIV/0!"},null,0]
[null,null,null,null,null,null,null,null,null,null,null,null,null,null,{"$error":"#DIV/0!"},null,0]
[null,null,null,null,null,null,null,null,null,null,null,null,null,null,{"$error":"#DIV/0!"},null,0]
[null,null,null,null,null,null,null,null,null,null,null,null,null,null,{"$error":"#DIV/0!"},null,0]
[null,null,null,null,null,null,null,null,null,null,null,null,null,null,{"$error":"#DIV/0!"},null,0]
[null,null,null,null,null,null,null,null,null,null,null,null,null,null,{"$error":"#DIV/0!"},null,0]
[null,null,null,null,null,null,null,null,null,null,null,null,null,null,{"$error":"#DIV/0!"},null,0]
[null,null,null,null,null,null,null,null,null,null,null,null,null,null,{"$error":"#DIV/0!"},null,0]
[null,null,null,null,null,null,null,null,null,null,null,null,null,null,{"$error":"#DIV/0!"},null,0]
[null,null,null,null,null,null,null,null,null,null,null,null,null,null,{"$error":"#DIV/0!"},null,0]
[null,null,null,null,null,null,null,null,null,null,null,null,null,null,{"$error":"#DIV/0!"},null,0]
[null,null,null,null,null,null,null,null,null,null,null,null,null,null,{"$error":"#DIV/0!"},null,0]
[null,null,null,null,null,null,null,null,null,null,null,null,null,null,{"$error":"#DIV/0!"},null,0]
[null,null,null,null,null,null,null,null,null,null,null,null,null,null,{"$error":"#DIV/0!"},null,0]
[null,null,null,null,null,null,null,null,null,null,null,null,null,null,{"$error":"#DIV/0!"},null,0]
[null,null,null,null,null,null,null,null,null,null,null,null,null,null,{"$error":"#DIV/0!"},null,0]
[null,null,null,null,null,null,null,null,null,null,null,null,null,null,{"$error":"#DIV/0!"},null,0]
[null,null,null,null,null,null,null,null,null,null,null,null,null,null,{"$error":"#DIV/0!"},null,0]
[null,null,null,null,null,null,null,null,null,null,null,null,null,null,{"$error":"#DIV/0!"},null,0]
[null,null,null,null,null,null,null,null,null,null,null,null,null,null,{"$error":"#DIV/0!"},null,0]
[null,null,null,null,null,null,null,null,null,null,null,null,null,null,{"$error":"#DIV/0!"},null,0]
[null,null,null,null,null,null,null,null,null,null,null,null,null,null,{"$error":"#DIV/0!"},null,0]
[null,null,null,null,null,null,null,null,null,null,null,null,null,null,{"$error":"#DIV/0!"},null,0]
[null,null,null,null,null,null,null,null,null,null,null,null,null,null,{"$error":"#DIV/0!"},null,0]
[null,null,null,null,null,null,null,null,null,null,null,null,null,null,{"$f":"N385031/M385031","v":{"$error":"#DIV/0!"}},null,{"$f":"C385031*P385031","v":0}]
[null,null,null,null,null,null,null,null,null,null,null,null,null,null,{"$error":"#DIV/0!"},null,0]
[null,null,null,null,null,null,null,null,null,null,null,null,null,null,{"$error":"#DIV/0!"},null,0]
[null,null,null,null,null,null,null,null,null,null,null,null,null,null,{"$error":"#DIV/0!"},null,0]
[null,null,null,null,null,null,null,null,null,null,null,null,null,null,{"$error":"#DIV/0!"},null,0]
[null,null,null,null,null,null,null,null,null,null,null,null,null,null,{"$error":"#DIV/0!"},null,0]
[null,null,null,null,null,null,null,null,null,null,null,null,null,null,{"$error":"#DIV/0!"},null,0]
[null,null,null,null,null,null,null,null,null,null,null,null,null,null,{"$error":"#DIV/0!"},null,0]
[null,null,null,null,null,null,null,null,null,null,null,null,null,null,{"$error":"#DIV/0!"},null,0]
[null,null,null,null,null,null,null,null,null,null,null,null,null,null,{"$error":"#DIV/0!"},null,0]
[null,null,null,null,null,null,null,null,null,null,null,null,null,null,{"$error":"#DIV/0!"},null,0]
[null,null,null,null,null,null,null,null,null,null,null,null,null,null,{"$error":"#DIV/0!"},null,0]
[null,null,null,null,null,null,null,null,null,null,null,null,null,null,{"$error":"#DIV/0!"},null,0]
[null,null,null,null,null,null,null,null,null,null,null,null,null,null,{"$error":"#DIV/0!"},null,0]
[null,null,null,null,null,null,null,null,null,null,null,null,null,null,{"$error":"#DIV/0!"},null,0]
[null,null,null,null,null,null,null,null,null,null,null,null,null,null,{"$error":"#DIV/0!"},null,0]
[null,null,null,null,null,null,null,null,null,null,null,null,null,null,{"$error":"#DIV/0!"},null,0]
[null,null,null,null,null,null,null,null,null,null,null,null,null,null,{"$error":"#DIV/0!"},null,0]
[null,null,null,null,null,null,null,null,null,null,null,null,null,null,{"$error":"#DIV/0!"},null,0]
[null,null,null,null,null,null,null,null,null,null,null,null,null,null,{"$error":"#DIV/0!"},null,0]
[null,null,null,null,null,null,null,null,null,null,null,null,null,null,{"$error":"#DIV/0!"},null,0]
[null,null,null,null,null,null,null,null,null,null,null,null,null,null,{"$error":"#DIV/0!"},null,0]
[null,null,null,null,null,null,null,null,null,null,null,null,null,null,{"$error":"#DIV/0!"},null,0]
[null,null,null,null,null,null,null,null,null,null,null,null,null,null,{"$error":"#DIV/0!"},null,0]
[null,null,null,null,null,null,null,null,null,null,null,null,null,null,{"$error":"#DIV/0!"},null,0]
[null,null,null,null,null,null,null,null,null,null,null,null,null,null,{"$error":"#DIV/0!"},null,0]
[null,null,null,null,null,null,null,null,null,null,null,null,null,null,{"$error":"#DIV/0!"},null,0]
[null,null,null,null,null,null,null,null,null,null,null,null,null,null,{"$error":"#DIV/0!"},null,0]
[null,null,null,null,null,null,null,null,null,null,null,null,null,null,{"$error":"#DIV/0!"},null,0]
[null,null,null,null,null,null,null,null,null,null,null,null,null,null,{"$error":"#DIV/0!"},null,0]
[null,null,null,null,null,null,null,null,null,null,null,null,null,null,{"$error":"#DIV/0!"},null,0]
[null,null,null,null,null,null,null,null,null,null,null,null,null,null,{"$error":"#DIV/0!"},null,0]
[null,null,null,null,null,null,null,null,null,null,null,null,null,null,{"$error":"#DIV/0!"},null,0]
[null,null,null,null,null,null,null,null,null,null,null,null,null,null,{"$error":"#DIV/0!"},null,0]
[null,null,null,null,null,null,null,null,null,null,null,null,null,null,{"$error":"#DIV/0!"},null,0]
[null,null,null,null,null,null,null,null,null,null,null,null,null,null,{"$error":"#DIV/0!"},null,0]
[null,null,null,null,null,null,null,null,null,null,null,null,null,null,{"$error":"#DIV/0!"},null,0]
[null,null,null,null,null,null,null,null,null,null,null,null,null,null,{"$error":"#DIV/0!"},null,0]
[null,null,null,null,null,null,null,null,null,null,null,null,null,null,{"$error":"#DIV/0!"},null,0]
[null,null,null,null,null,null,null,null,null,null,null,null,null,null,{"$error":"#DIV/0!"},null,0]
[null,null,null,null,null,null,null,null,null,null,null,null,null,null,{"$error":"#DIV/0!"},null,0]
[null,null,null,null,null,null,null,null,null,null,null,null,null,null,{"$error":"#DIV/0!"},null,0]
[null,null,null,null,null,null,null,null,null,null,null,null,null,null,{"$error":"#DIV/0!"},null,0]
[null,null,null,null,null,null,null,null,null,null,null,null,null,null,{"$error":"#DIV/0!"},null,0]
[null,null,null,null,null,null,null,null,null,null,null,null,null,null,{"$error":"#DIV/0!"},null,0]
[null,null,null,null,null,null,null,null,null,null,null,null,null,null,{"$error":"#DIV/0!"},null,0]
[null,null,null,null,null,null,null,null,null,null,null,null,null,null,{"$error":"#DIV/0!"},null,0]
[null,null,null,null,null,null,null,null,null,null,null,null,null,null,{"$error":"#DIV/0!"},null,0]
[null,null,null,null,null,null,null,null,null,null,null,null,null,null,{"$error":"#DIV/0!"},null,0]
[null,null,null,null,null,null,null,null,null,null,null,null,null,null,{"$error":"#DIV/0!"},null,0]
[null,null,null,null,null,null,null,null,null,null,null,null,null,null,{"$error":"#DIV/0!"},null,0]
[null,null,null,null,null,null,null,null,null,null,null,null,null,null,{"$error":"#DIV/0!"},null,0]
[null,null,null,null,null,null,null,null,null,null,null,null,null,null,{"$error":"#DIV/0!"},null,0]
[null,null,null,null,null,null,null,null,null,null,null,null,null,null,{"$error":"#DIV/0!"},null,0]
[null,null,null,null,null,null,null,null,null,null,null,null,null,null,{"$error":"#DIV/0!"},null,0]
[null,null,null,null,null,null,null,null,null,null,null,null,null,null,{"$error":"#DIV/0!"},null,0]
[null,null,null,null,null,null,null,null,null,null,null,null,null,null,{"$error":"#DIV/0!"},null,0]
[null,null,null,null,null,null,null,null,null,null,null,null,null,null,{"$error":"#DIV/0!"},null,0]
[null,null,null,null,null,null,null,null,null,null,null,null,null,null,{"$f":"N415303/M415303","v":{"$error":"#DIV/0!"}},null,{"$f":"C415303*P415303","v":0}]
[null,null,null,null,null,null,null,null,null,null,null,null,null,null,{"$error":"#DIV/0!"},null,0]
[null,null,null,null,null,null,null,null,null,null,null,null,null,null,{"$error":"#DIV/0!"},null,0]
[null,null,null,null,null,null,null,null,null,null,null,null,null,null,{"$error":"#DIV/0!"},null,0]
[null,null,null,null,null,null,null,null,null,null,null,null,null,null,{"$error":"#DIV/0!"},null,0]
[null,null,null,null,null,null,null,null,null,null,null,null,null,null,{"$error":"#DIV/0!"},null,0]
[null,null,null,null,null,null,null,null,null,null,null,null,null,null,{"$error":"#DIV/0!"},null,0]
[null,null,null,null,null,null,null,null,null,null,null,null,null,null,{"$error":"#DIV/0!"},null,0]
[null,null,null,null,null,null,null,null,null,null,null,null,null,null,{"$error":"#DIV/0!"},null,0]
[null,null,null,null,null,null,null,null,null,null,null,null,null,null,{"$error":"#DIV/0!"},null,0]
[null,null,null,null,null,null,null,null,null,null,null,null,null,null,{"$error":"#DIV/0!"},null,0]
[null,null,null,null,null,null,null,null,null,null,null,null,null,null,{"$error":"#DIV/0!"},null,0]
[null,null,null,null,null,null,null,null,null,null,null,null,null,null,{"$error":"#DIV/0!"},null,0]
[null,null,null,null,null,null,null,null,null,null,null,null,null,null,{"$error":"#DIV/0!"},null,0]
[null,null,null,null,null,null,null,null,null,null,null,null,null,null,{"$error":"#DIV/0!"},null,0]
[null,null,null,null,null,null,null,null,null,null,null,null,null,null,{"$error":"#DIV/0!"},null,0]
[null,null,null,null,null,null,null,null,null,null,null,null,null,null,{"$error":"#DIV/0!"},null,0]
[null,null,null,null,null,null,null,null,null,null,null,null,null,null,{"$error":"#DIV/0!"},null,0]
[null,null,null,null,null,null,null,null,null,null,null,null,null,null,{"$error":"#DIV/0!"},null,0]
[null,null,null,null,null,null,null,null,null,null,null,null,null,null,{"$error":"#DIV/0!"},null,0]
[null,null,null,null,null,null,null,null,null,null,null,null,null,null,{"$error":"#DIV/0!"},null,0]
[null,null,null,null,null,null,null,null,null,null,null,null,null,null,{"$error":"#DIV/0!"},null,0]
[null,null,null,null,null,null,null,null,null,null,null,null,null,null,{"$error":"#DIV/0!"},null,0]
[null,null,null,null,null,null,null,null,null,null,null,null,null,null,{"$error":"#DIV/0!"},null,0]
[null,null,null,null,null,null,null,null,null,null,null,null,null,null,{"$error":"#DIV/0!"},null,0]
[null,null,null,null,null,null,null,null,null,null,null,null,null,null,{"$error":"#DIV/0!"},null,0]
[null,null,null,null,null,null,null,null,null,null,null,null,null,null,{"$error":"#DIV/0!"},null,0]
[null,null,null,null,null,null,null,null,null,null,null,null,null,null,{"$error":"#DIV/0!"},null,0]
[null,null,null,null,null,null,null,null,null,null,null,null,null,null,{"$error":"#DIV/0!"},null,0]
[null,null,null,null,null,null,null,null,null,null,null,null,null,null,{"$error":"#DIV/0!"},null,0]
[null,null,null,null,null,null,null,null,null,null,null,null,null,null,{"$error":"#DIV/0!"},null,0]
[null,null,null,null,null,null,null,null,null,null,null,null,null,null,{"$error":"#DIV/0!"},null,0]
[null,null,null,null,null,null,null,null,null,null,null,null,null,null,{"$error":"#DIV/0!"},null,0]
[null,null,null,null,null,null,null,null,null,null,null,null,null,null,{"$error":"#DIV/0!"},null,0]
[null,null,null,null,null,null,null,null,null,null,null,null,null,null,{"$error":"#DIV/0!"},null,0]
[null,null,null,null,null,null,null,null,null,null,null,null,null,null,{"$error":"#DIV/0!"},null,0]
[null,null,null,null,null,null,null,null,null,null,null,null,null,null,{"$error":"#DIV/0!"},null,0]
[null,null,null,null,null,null,null,null,null,null,null,null,null,null,{"$error":"#DIV/0!"},null,0]
[null,null,null,null,null,null,null,null,null,null,null,null,null,null,{"$error":"#DIV/0!"},null,0]
[null,null,null,null,null,null,null,null,null,null,null,null,null,null,{"$f":"N435655/M435655","v":{"$error":"#DIV/0!"}},null,{"$f":"C435655*P435655","v":0}]
[null,null,null,null,null,null,null,null,null,null,null,null,null,null,{"$error":"#DIV/0!"},null,0]
[null,null,null,null,null,null,null,null,null,null,null,null,null,null,{"$error":"#DIV/0!"},null,0]
[null,null,null,null,null,null,null,null,null,null,null,null,null,null,{"$error":"#DIV/0!"},null,0]
[null,null,null,null,null,null,null,null,null,null,null,null,null,null,{"$error":"#DIV/0!"},null,0]
[null,null,null,null,null,null,null,null,null,null,null,null,null,null,{"$error":"#DIV/0!"},null,0]
[null,null,null,null,null,null,null,null,null,null,null,null,null,null,{"$error":"#DIV/0!"},null,0]
[null,null,null,null,null,null,null,null,null,null,null,null,null,null,{"$error":"#DIV/0!"},null,0]
[null,null,null,null,null,null,null,null,null,null,null,null,null,null,{"$error":"#DIV/0!"},null,0]
[null,null,null,null,null,null,null,null,null,null,null,null,null,null,{"$error":"#DIV/0!"},null,0]
[null,null,null,null,null,null,null,null,null,null,null,null,null,null,{"$error":"#DIV/0!"},null,0]
[null,null,null,null,null,null,null,null,null,null,null,null,null,null,{"$error":"#DIV/0!"},null,0]
[null,null,null,null,null,null,null,null,null,null,null,null,null,null,{"$error":"#DIV/0!"},null,0]
[null,null,null,null,null,null,null,null,null,null,null,null,null,null,{"$error":"#DIV/0!"},null,0]
[null,null,null,null,null,null,null,null,null,null,null,null,null,null,{"$error":"#DIV/0!"},null,0]
[null,null,null,null,null,null,null,null,null,null,null,null,null,null,{"$error":"#DIV/0!"},null,0]
[null,null,null,null,null,null,null,null,null,null,null,null,null,null,{"$error":"#DIV/0!"},null,0]
[null,null,null,null,null,null,null,null,null,null,null,null,null,null,{"$error":"#DIV/0!"},null,0]
[null,null,null,null,null,null,null,null,null,null,null,null,null,null,{"$error":"#DIV/0!"},null,0]
[null,null,null,null,null,null,null,null,null,null,null,null,null,null,{"$error":"#DIV/0!"},null,0]
[null,null,null,null,null,null,null,null,null,null,null,null,null,null,{"$error":"#DIV/0!"},null,0]
[null,null,null,null,null,null,null,null,null,null,null,null,null,null,{"$error":"#DIV/0!"},null,0]
[null,null,null,null,null,null,null,null,null,null,null,null,null,null,{"$error":"#DIV/0!"},null,0]
[null,null,null,null,null,null,null,null,null,null,null,null,null,null,{"$error":"#DIV/0!"},null,0]
[null,null,null,null,null,null,null,null,null,null,null,null,null,null,{"$error":"#DIV/0!"},null,0]
[null,null,null,null,null,null,null,null,null,null,null,null,null,null,{"$error":"#DIV/0!"},null,0]
[null,null,null,null,null,null,null,null,null,null,null,null,null,null,{"$error":"#DIV/0!"},null,0]
[null,null,null,null,null,null,null,null,null,null,null,null,null,null,{"$error":"#DIV/0!"},null,0]
[null,null,null,null,null,null,null,null,null,null,null,null,null,null,{"$error":"#DIV/0!"},null,0]
[null,null,null,null,null,null,null,null,null,null,null,null,null,null,{"$error":"#DIV/0!"},null,0]
[null,null,null,null,null,null,null,null,null,null,null,null,null,null,{"$error":"#DIV/0!"},null,0]
[null,null,null,null,null,null,null,null,null,null,null,null,null,null,{"$error":"#DIV/0!"},null,0]
[null,null,null,null,null,null,null,null,null,null,null,null,null,null,{"$error":"#DIV/0!"},null,0]
[null,null,null,null,null,null,null,null,null,null,null,null,null,null,{"$error":"#DIV/0!"},null,0]
[null,null,null,null,null,null,null,null,null,null,null,null,null,null,{"$error":"#DIV/0!"},null,0]
[null,null,null,null,null,null,null,null,null,null,null,null,null,null,{"$error":"#DIV/0!"},null,0]
[null,null,null,null,null,null,null,null,null,null,null,null,null,null,{"$error":"#DIV/0!"},null,0]
[null,null,null,null,null,null,null,null,null,null,null,null,null,null,{"$error":"#DIV/0!"},null,0]
[null,null,null,null,null,null,null,null,null,null,null,null,null,null,{"$error":"#DIV/0!"},null,0]
[null,null,null,null,null,null,null,null,null,null,null,null,null,null,{"$error":"#DIV/0!"},null,0]
[null,null,null,null,null,null,null,null,null,null,null,null,null,null,{"$error":"#DIV/0!"},null,0]
[null,null,null,null,null,null,null,null,null,null,null,null,null,null,{"$error":"#DIV/0!"},null,0]
[null,null,null,null,null,null,null,null,null,null,null,null,null,null,{"$error":"#DIV/0!"},null,0]
[null,null,null,null,null,null,null,null,null,null,null,null,null,null,{"$error":"#DIV/0!"},null,0]
[null,null,null,null,null,null,null,null,null,null,null,null,null,null,{"$error":"#DIV/0!"},null,0]
[null,null,null,null,null,null,null,null,null,null,null,null,null,null,{"$error":"#DIV/0!"},null,0]
[null,null,null,null,null,null,null,null,null,null,null,null,null,null,{"$error":"#DIV/0!"},null,0]
[null,null,null,null,null,null,null,null,null,null,null,null,null,null,{"$error":"#DIV/0!"},null,0]
[null,null,null,null,null,null,null,null,null,null,null,null,null,null,{"$error":"#DIV/0!"},null,0]
[null,null,null,null,null,null,null,null,null,null,null,null,null,null,{"$error":"#DIV/0!"},null,0]
[null,null,null,null,null,null,null,null,null,null,null,null,null,null,{"$error":"#DIV/0!"},null,0]
[null,null,null,null,null,null,null,null,null,null,null,null,null,null,{"$error":"#DIV/0!"},null,0]
[null,null,null,null,null,null,null,null,null,null,null,null,null,null,{"$error":"#DIV/0!"},null,0]
[null,null,null,null,null,null,null,null,null,null,null,null,null,null,{"$error":"#DIV/0!"},null,0]
[null,null,null,null,null,null,null,null,null,null,null,null,null,null,{"$error":"#DIV/0!"},null,0]
[null,null,null,null,null,null,null,null,null,null,null,null,null,null,{"$error":"#DIV/0!"},null,0]
[null,null,null,null,null,null,null,null,null,null,null,null,null,null,{"$error":"#DIV/0!"},null,0]
[null,null,null,null,null,null,null,null,null,null,null,null,null,null,{"$error":"#DIV/0!"},null,0]
[null,null,null,null,null,null,null,null,null,null,null,null,null,null,{"$error":"#DIV/0!"},null,0]
[null,null,null,null,null,null,null,null,null,null,null,null,null,null,{"$error":"#DIV/0!"},null,0]
[null,null,null,null,null,null,null,null,null,null,null,null,null,null,{"$error":"#DIV/0!"},null,0]
[null,null,null,null,null,null,null,null,null,null,null,null,null,null,{"$error":"#DIV/0!"},null,0]
[null,null,null,null,null,null,null,null,null,null,null,null,null,null,{"$error":"#DIV/0!"},null,0]
[null,null,null,null,null,null,null,null,null,null,null,null,null,null,{"$error":"#DIV/0!"},null,0]
[null,null,null,null,null,null,null,null,null,null,null,null,null,null,{"$error":"#DIV/0!"},null,0]
[null,null,null,null,null,null,null,null,null,null,null,null,null,null,{"$error":"#DIV/0!"},null,0]
[null,null,null,null,null,null,null,null,null,null,null,null,null,null,{"$error":"#DIV/0!"},null,0]
[null,null,null,null,null,null,null,null,null,null,null,null,null,null,{"$error":"#DIV/0!"},null,0]
[null,null,null,null,null,null,null,null,null,null,null,null,null,null,{"$error":"#DIV/0!"},null,0]
[null,null,null,null,null,null,null,null,null,null,null,null,null,null,{"$error":"#DIV/0!"},null,0]
[null,null,null,null,null,null,null,null,null,null,null,null,null,null,{"$error":"#DIV/0!"},null,0]
[null,null,null,null,null,null,null,null,null,null,null,null,null,null,{"$error":"#DIV/0!"},null,0]
[null,null,null,null,null,null,null,null,null,null,null,null,null,null,{"$error":"#DIV/0!"},null,0]
[null,null,null,null,null,null,null,null,null,null,null,null,null,null,{"$error":"#DIV/0!"},null,0]
[null,null,null,null,null,null,null,null,null,null,null,null,null,null,{"$error":"#DIV/0!"},null,0]
[null,null,null,null,null,null,null,null,null,null,null,null,null,null,{"$error":"#DIV/0!"},null,0]
[null,null,null,null,null,null,null,null,null,null,null,null,null,null,{"$error":"#DIV/0!"},null,0]
[null,null,null,null,null,null,null,null,null,null,null,null,null,null,{"$error":"#DIV/0!"},null,0]
[null,null,null,null,null,null,null,null,null,null,null,null,null,null,{"$error":"#DIV/0!"},null,0]
[null,null,null,null,null,null,null,null,null,null,null,null,null,null,{"$error":"#DIV/0!"},null,0]
[null,null,null,null,null,null,null,null,null,null,null,null,null,null,{"$error":"#DIV/0!"},null,0]
[null,null,null,null,null,null,null,null,null,null,null,null,null,null,{"$error":"#DIV/0!"},null,0]
[null,null,null,null,null,null,null,null,null,null,null,null,null,null,{"$error":"#DIV/0!"},null,0]
[null,null,null,null,null,null,null,null,null,null,null,null,null,null,{"$error":"#DIV/0!"},null,0]
[null,null,null,null,null,null,null,null,null,null,null,null,null,null,{"$error":"#DIV/0!"},null,0]
[null,null,null,null,null,null,null,null,null,null,null,null,null,null,{"$error":"#DIV/0!"},null,0]
[null,null,null,null,null,null,null,null,null,null,null,null,null,null,{"$error":"#DIV/0!"},null,0]
[null,null,null,null,null,null,null,null,null,null,null,null,null,null,{"$error":"#DIV/0!"},null,0]
[null,null,null,null,null,null,null,null,null,null,null,null,null,null,{"$error":"#DIV/0!"},null,0]
[null,null,null,null,null,null,null,null,null,null,null,null,null,null,{"$error":"#DIV/0!"},null,0]
[null,null,null,null,null,null,null,null,null,null,null,null,null,null,{"$error":"#DIV/0!"},null,0]
[null,null,null,null,null,null,null,null,null,null,null,null,null,null,{"$error":"#DIV/0!"},null,0]
[null,null,null,null,null,null,null,null,null,null,null,null,null,null,{"$error":"#DIV/0!"},null,0]
[null,null,null,null,null,null,null,null,null,null,null,null,null,null,{"$error":"#DIV/0!"},null,0]
[null,null,null,null,null,null,null,null,null,null,null,null,null,null,{"$error":"#DIV/0!"},null,0]
[null,null,null,null,null,null,null,null,null,null,null,null,null,null,{"$error":"#DIV/0!"},null,0]
[null,null,null,null,null,null,null,null,null,null,null,null,null,null,{"$error":"#DIV/0!"},null,0]
[null,null,null,null,null,null,null,null,null,null,null,null,null,null,{"$error":"#DIV/0!"},null,0]
[null,null,null,null,null,null,null,null,null,null,null,null,null,null,{"$error":"#DIV/0!"},null,0]
[null,null,null,null,null,null,null,null,null,null,null,null,null,null,{"$error":"#DIV/0!"},null,0]
[null,null,null,null,null,null,null,null,null,null,null,null,null,null,{"$error":"#DIV/0!"},null,0]
[null,null,null,null,null,null,null,null,null,null,null,null,null,null,{"$error":"#DIV/0!"},null,0]
[null,null,null,null,null,null,null,null,null,null,null,null,null,null,{"$error":"#DIV/0!"},null,0]
[null,null,null,null,null,null,null,null,null,null,null,null,null,null,{"$error":"#DIV/0!"},null,0]
[null,null,null,null,null,null,null,null,null,null,null,null,null,null,{"$error":"#DIV/0!"},null,0]
[null,null,null,null,null,null,null,null,null,null,null,null,null,null,{"$error":"#DIV/0!"},null,0]
[null,null,null,null,null,null,null,null,null,null,null,null,null,null,{"$error":"#DIV/0!"},null,0]
[null,null,null,null,null,null,null,null,null,null,null,null,null,null,{"$error":"#DIV/0!"},null,0]
[null,null,null,null,null,null,null,null,null,null,null,null,null,null,{"$error":"#DIV/0!"},null,0]
[null,null,null,null,null,null,null,null,null,null,null,null,null,null,{"$error":"#DIV/0!"},null,0]
[null,null,null,null,null,null,null,null,null,null,null,null,null,null,{"$error":"#DIV/0!"},null,0]
[null,null,null,null,null,null,null,null,null,null,null,null,null,null,{"$error":"#DIV/0!"},null,0]
[null,null,null,null,null,null,null,null,null,null,null,null,null,null,{"$error":"#DIV/0!"},null,0]
[null,null,null,null,null,null,null,null,null,null,null,null,null,null,{"$error":"#DIV/0!"},null,0]
[null,null,null,null,null,null,null,null,null,null,null,null,null,null,{"$error":"#DIV/0!"},null,0]
[null,null,null,null,null,null,null,null,null,null,null,null,null,null,{"$error":"#DIV/0!"},null,0]
[null,null,null,null,null,null,null,null,null,null,null,null,null,null,{"$error":"#DIV/0!"},null,0]
[null,null,null,null,null,null,null,null,null,null,null,null,null,null,{"$error":"#DIV/0!"},null,0]
[null,null,null,null,null,null,null,null,null,null,null,null,null,null,{"$error":"#DIV/0!"},null,0]
[null,null,null,null,null,null,null,null,null,null,null,null,null,null,{"$error":"#DIV/0!"},null,0]
[null,null,null,null,null,null,null,null,null,null,null,null,null,null,{"$error":"#DIV/0!"},null,0]
[null,null,null,null,null,null,null,null,null,null,null,null,null,null,{"$error":"#DIV/0!"},null,0]
[null,null,null,null,null,null,null,null,null,null,null,null,null,null,{"$error":"#DIV/0!"},null,0]
[null,null,null,null,null,null,null,null,null,null,null,null,null,null,{"$error":"#DIV/0!"},null,0]
[null,null,null,null,null,null,null,null,null,null,null,null,null,null,{"$error":"#DIV/0!"},null,0]
[null,null,null,null,null,null,null,null,null,null,null,null,null,null,{"$error":"#DIV/0!"},null,0]
[null,null,null,null,null,null,null,null,null,null,null,null,null,null,{"$error":"#DIV/0!"},null,0]
[null,null,null,null,null,null,null,null,null,null,null,null,null,null,{"$error":"#DIV/0!"},null,0]
[null,null,null,null,null,null,null,null,null,null,null,null,null,null,{"$error":"#DIV/0!"},null,0]
[null,null,null,null,null,null,null,null,null,null,null,null,null,null,{"$error":"#DIV/0!"},null,0]
[null,null,null,null,null,null,null,null,null,null,null,null,null,null,{"$error":"#DIV/0!"},null,0]
[null,null,null,null,null,null,null,null,null,null,null,null,null,null,{"$error":"#DIV/0!"},null,0]
[null,null,null,null,null,null,null,null,null,null,null,null,null,null,{"$error":"#DIV/0!"},null,0]
[null,null,null,null,null,null,null,null,null,null,null,null,null,null,{"$error":"#DIV/0!"},null,0]
[null,null,null,null,null,null,null,null,null,null,null,null,null,null,{"$error":"#DIV/0!"},null,0]
[null,null,null,null,null,null,null,null,null,null,null,null,null,null,{"$error":"#DIV/0!"},null,0]
[null,null,null,null,null,null,null,null,null,null,null,null,null,null,{"$error":"#DIV/0!"},null,0]
[null,null,null,null,null,null,null,null,null,null,null,null,null,null,{"$error":"#DIV/0!"},null,0]
[null,null,null,null,null,null,null,null,null,null,null,null,null,null,{"$error":"#DIV/0!"},null,0]
[null,null,null,null,null,null,null,null,null,null,null,null,null,null,{"$error":"#DIV/0!"},null,0]
[null,null,null,null,null,null,null,null,null,null,null,null,null,null,{"$error":"#DIV/0!"},null,0]
[null,null,null,null,null,null,null,null,null,null,null,null,null,null,{"$error":"#DIV/0!"},null,0]
[null,null,null,null,null,null,null,null,null,null,null,null,null,null,{"$error":"#DIV/0!"},null,0]
[null,null,null,null,null,null,null,null,null,null,null,null,null,null,{"$error":"#DIV/0!"},null,0]
[null,null,null,null,null,null,null,null,null,null,null,null,null,null,{"$error":"#DIV/0!"},null,0]
[null,null,null,null,null,null,null,null,null,null,null,null,null,null,{"$error":"#DIV/0!"},null,0]
[null,null,null,null,null,null,null,null,null,null,null,null,null,null,{"$error":"#DIV/0!"},null,0]
[null,null,null,null,null,null,null,null,null,null,null,null,null,null,{"$error":"#DIV/0!"},null,0]
[null,null,null,null,null,null,null,null,null,null,null,null,null,null,{"$error":"#DIV/0!"},null,0]
[null,null,null,null,null,null,null,null,null,null,null,null,null,null,{"$error":"#DIV/0!"},null,0]
[null,null,null,null,null,null,null,null,null,null,null,null,null,null,{"$error":"#DIV/0!"},null,0]
[null,null,null,null,null,null,null,null,null,null,null,null,null,null,{"$error":"#DIV/0!"},null,0]
[null,null,null,null,null,null,null,null,null,null,null,null,null,null,{"$error":"#DIV/0!"},null,0]
[null,null,null,null,null,null,null,null,null,null,null,null,null,null,{"$error":"#DIV/0!"},null,0]
[null,null,null,null,null,null,null,null,null,null,null,null,null,null,{"$error":"#DIV/0!"},null,0]
[null,null,null,null,null,null,null,null,null,null,null,null,null,null,{"$error":"#DIV/0!"},null,0]
[null,null,null,null,null,null,null,null,null,null,null,null,null,null,{"$error":"#DIV/0!"},null,0]
[null,null,null,null,null,null,null,null,null,null,null,null,null,null,{"$error":"#DIV/0!"},null,0]
[null,null,null,null,null,null,null,null,null,null,null,null,null,null,{"$error":"#DIV/0!"},null,0]
[null,null,null,null,null,null,null,null,null,null,null,null,null,null,{"$error":"#DIV/0!"},null,0]
[null,null,null,null,null,null,null,null,null,null,null,null,null,null,{"$error":"#DIV/0!"},null,0]
[null,null,null,null,null,null,null,null,null,null,null,null,null,null,{"$f":"N520327/M520327","v":{"$error":"#DIV/0!"}},null,{"$f":"C520327*P520327","v":0}]
[null,null,null,null,null,null,null,null,null,null,null,null,null,null,{"$error":"#DIV/0!"},null,0]
[null,null,null,null,null,null,null,null,null,null,null,null,null,null,{"$error":"#DIV/0!"},null,0]
[null,null,null,null,null,null,null,null,null,null,null,null,null,null,{"$error":"#DIV/0!"},null,0]
[null,null,null,null,null,null,null,null,null,null,null,null,null,null,{"$error":"#DIV/0!"},null,0]
[null,null,null,null,null,null,null,null,null,null,null,null,null,null,{"$error":"#DIV/0!"},null,0]
[null,null,null,null,null,null,null,null,null,null,null,null,null,null,{"$error":"#DIV/0!"},null,0]
[null,null,null,null,null,null,null,null,null,null,null,null,null,null,{"$error":"#DIV/0!"},null,0]
[null,null,null,null,null,null,null,null,null,null,null,null,null,null,{"$error":"#DIV/0!"},null,0]
[null,null,null,null,null,null,null,null,null,null,null,null,null,null,{"$error":"#DIV/0!"},null,0]
[null,null,null,null,null,null,null,null,null,null,null,null,null,null,{"$error":"#DIV/0!"},null,0]
[null,null,null,null,null,null,null,null,null,null,null,null,null,null,{"$error":"#DIV/0!"},null,0]
[null,null,null,null,null,null,null,null,null,null,null,null,null,null,{"$error":"#DIV/0!"},null,0]
[null,null,null,null,null,null,null,null,null,null,null,null,null,null,{"$error":"#DIV/0!"},null,0]
[null,null,null,null,null,null,null,null,null,null,null,null,null,null,{"$error":"#DIV/0!"},null,0]
[null,null,null,null,null,null,null,null,null,null,null,null,null,null,{"$error":"#DIV/0!"},null,0]
[null,null,null,null,null,null,null,null,null,null,null,null,null,null,{"$error":"#DIV/0!"},null,0]
[null,null,null,null,null,null,null,null,null,null,null,null,null,null,{"$error":"#DIV/0!"},null,0]
[null,null,null,null,null,null,null,null,null,null,null,null,null,null,{"$error":"#DIV/0!"},null,0]
[null,null,null,null,null,null,null,null,null,null,null,null,null,null,{"$error":"#DIV/0!"},null,0]
[null,null,null,null,null,null,null,null,null,null,null,null,null,null,{"$error":"#DIV/0!"},null,0]
[null,null,null,null,null,null,null,null,null,null,null,null,null,null,{"$error":"#DIV/0!"},null,0]
[null,null,null,null,null,null,null,null,null,null,null,null,null,null,{"$error":"#DIV/0!"},null,0]
[null,null,null,null,null,null,null,null,null,null,null,null,null,null,{"$error":"#DIV/0!"},null,0]
[null,null,null,null,null,null,null,null,null,null,null,null,null,null,{"$error":"#DIV/0!"},null,0]
[null,null,null,null,null,null,null,null,null,null,null,null,null,null,{"$error":"#DIV/0!"},null,0]
[null,null,null,null,null,null,null,null,null,null,null,null,null,null,{"$error":"#DIV/0!"},null,0]
[null,null,null,null,null,null,null,null,null,null,null,null,null,null,{"$error":"#DIV/0!"},null,0]
[null,null,null,null,null,null,null,null,null,null,null,null,null,null,{"$error":"#DIV/0!"},null,0]
[null,null,null,null,null,null,null,null,null,null,null,null,null,null,{"$error":"#DIV/0!"},null,0]
[null,null,null,null,null,null,null,null,null,null,null,null,null,null,{"$error":"#DIV/0!"},null,0]
[null,null,null,null,null,null,null,null,null,null,null,null,null,null,{"$error":"#DIV/0!"},null,0]
[null,null,null,null,null,null,null,null,null,null,null,null,null,null,{"$error":"#DIV/0!"},null,0]
[null,null,null,null,null,null,null,null,null,null,null,null,null,null,{"$error":"#DIV/0!"},null,0]
[null,null,null,null,null,null,null,null,null,null,null,null,null,null,{"$error":"#DIV/0!"},null,0]
[null,null,null,null,null,null,null,null,null,null,null,null,null,null,{"$error":"#DIV/0!"},null,0]
[null,null,null,null,null,null,null,null,null,null,null,null,null,null,{"$error":"#DIV/0!"},null,0]
[null,null,null,null,null,null,null,null,null,null,null,null,null,null,{"$error":"#DIV/0!"},null,0]
[null,null,null,null,null,null,null,null,null,null,null,null,null,null,{"$error":"#DIV/0!"},null,0]
[null,null,null,null,null,null,null,null,null,null,null,null,null,null,{"$error":"#DIV/0!"},null,0]
[null,null,null,null,null,null,null,null,null,null,null,null,null,null,{"$error":"#DIV/0!"},null,0]
[null,null,null,null,null,null,null,null,null,null,null,null,null,null,{"$error":"#DIV/0!"},null,0]
[null,null,null,null,null,null,null,null,null,null,null,null,null,null,{"$error":"#DIV/0!"},null,0]
[null,null,null,null,null,null,null,null,null,null,null,null,null,null,{"$error":"#DIV/0!"},null,0]
[null,null,null,null,null,null,null,null,null,null,null,null,null,null,{"$error":"#DIV/0!"},null,0]
[null,null,null,null,null,null,null,null,null,null,null,null,null,null,{"$error":"#DIV/0!"},null,0]
[null,null,null,null,null,null,null,null,null,null,null,null,null,null,{"$error":"#DIV/0!"},null,0]
[null,null,null,null,null,null,null,null,null,null,null,null,null,null,{"$error":"#DIV/0!"},null,0]
[null,null,null,null,null,null,null,null,null,null,null,null,null,null,{"$error":"#DIV/0!"},null,0]
[null,null,null,null,null,null,null,null,null,null,null,null,null,null,{"$error":"#DIV/0!"},null,0]
[null,null,null,null,null,null,null,null,null,null,null,null,null,null,{"$error":"#DIV/0!"},null,0]
[null,null,null,null,null,null,null,null,null,null,null,null,null,null,{"$error":"#DIV/0!"},null,0]
[null,null,null,null,null,null,null,null,null,null,null,null,null,null,{"$error":"#DIV/0!"},null,0]
[null,null,null,null,null,null,null,null,null,null,null,null,null,null,{"$error":"#DIV/0!"},null,0]
[null,null,null,null,null,null,null,null,null,null,null,null,null,null,{"$error":"#DIV/0!"},null,0]
[null,null,null,null,null,null,null,null,null,null,null,null,null,null,{"$error":"#DIV/0!"},null,0]
[null,null,null,null,null,null,null,null,null,null,null,null,null,null,{"$error":"#DIV/0!"},null,0]
[null,null,null,null,null,null,null,null,null,null,null,null,null,null,{"$error":"#DIV/0!"},null,0]
[null,null,null,null,null,null,null,null,null,null,null,null,null,null,{"$error":"#DIV/0!"},null,0]
[null,null,null,null,null,null,null,null,null,null,null,null,null,null,{"$error":"#DIV/0!"},null,0]
[null,null,null,null,null,null,null,null,null,null,null,null,null,null,{"$error":"#DIV/0!"},null,0]
[null,null,null,null,null,null,null,null,null,null,null,null,null,null,{"$error":"#DIV/0!"},null,0]
[null,null,null,null,null,null,null,null,null,null,null,null,null,null,{"$error":"#DIV/0!"},null,0]
[null,null,null,null,null,null,null,null,null,null,null,null,null,null,{"$error":"#DIV/0!"},null,0]
[null,null,null,null,null,null,null,null,null,null,null,null,null,null,{"$error":"#DIV/0!"},null,0]
[null,null,null,null,null,null,null,null,null,null,null,null,null,null,{"$error":"#DIV/0!"},null,0]
[null,null,null,null,null,null,null,null,null,null,null,null,null,null,{"$error":"#DIV/0!"},null,0]
[null,null,null,null,null,null,null,null,null,null,null,null,null,null,{"$error":"#DIV/0!"},null,0]
[null,null,null,null,null,null,null,null,null,null,null,null,null,null,{"$error":"#DIV/0!"},null,0]
[null,null,null,null,null,null,null,null,null,null,null,null,null,null,{"$error":"#DIV/0!"},null,0]
[null,null,null,null,null,null,null,null,null,null,null,null,null,null,{"$error":"#DIV/0!"},null,0]
[null,null,null,null,null,null,null,null,null,null,null,null,null,null,{"$error":"#DIV/0!"},null,0]
[null,null,null,null,null,null,null,null,null,null,null,null,null,null,{"$error":"#DIV/0!"},null,0]
[null,null,null,null,null,null,null,null,null,null,null,null,null,null,{"$error":"#DIV/0!"},null,0]
[null,null,null,null,null,null,null,null,null,null,null,null,null,null,{"$error":"#DIV/0!"},null,0]
[null,null,null,null,null,null,null,null,null,null,null,null,null,null,{"$error":"#DIV/0!"},null,0]
[null,null,null,null,null,null,null,null,null,null,null,null,null,null,{"$error":"#DIV/0!"},null,0]
[null,null,null,null,null,null,null,null,null,null,null,null,null,null,{"$error":"#DIV/0!"},null,0]
[null,null,null,null,null,null,null,null,null,null,null,null,null,null,{"$error":"#DIV/0!"},null,0]
[null,null,null,null,null,null,null,null,null,null,null,null,null,null,{"$error":"#DIV/0!"},null,0]
[null,null,null,null,null,null,null,null,null,null,null,null,null,null,{"$error":"#DIV/0!"},null,0]
[null,null,null,null,null,null,null,null,null,null,null,null,null,null,{"$error":"#DIV/0!"},null,0]
[null,null,null,null,null,null,null,null,null,null,null,null,null,null,{"$error":"#DIV/0!"},null,0]
[null,null,null,null,null,null,null,null,null,null,null,null,null,null,{"$error":"#DIV/0!"},null,0]
[null,null,null,null,null,null,null,null,null,null,null,null,null,null,{"$error":"#DIV/0!"},null,0]
[null,null,null,null,null,null,null,null,null,null,null,null,null,null,{"$error":"#DIV/0!"},null,0]
[null,null,null,null,null,null,null,null,null,null,null,null,null,null,{"$error":"#DIV/0!"},null,0]
[null,null,null,null,null,null,null,null,null,null,null,null,null,null,{"$error":"#DIV/0!"},null,0]
[null,null,null,null,null,null,null,null,null,null,null,null,null,null,{"$error":"#DIV/0!"},null,0]
[null,null,null,null,null,null,null,null,null,null,null,null,null,null,{"$error":"#DIV/0!"},null,0]
[null,null,null,null,null,null,null,null,null,null,null,null,null,null,{"$error":"#DIV/0!"},null,0]
[null,null,null,null,null,null,null,null,null,null,null,null,null,null,{"$error":"#DIV/0!"},null,0]
[null,null,null,null,null,null,null,null,null,null,null,null,null,null,{"$error":"#DIV/0!"},null,0]
[null,null,null,null,null,null,null,null,null,null,null,null,null,null,{"$error":"#DIV/0!"},null,0]
[null,null,null,null,null,null,null,null,null,null,null,null,null,null,{"$error":"#DIV/0!"},null,0]
[null,null,null,null,null,null,null,null,null,null,null,null,null,null,{"$error":"#DIV/0!"},null,0]
[null,null,null,null,null,null,null,null,null,null,null,null,null,null,{"$error":"#DIV/0!"},null,0]
[null,null,null,null,null,null,null,null,null,null,null,null,null,null,{"$f":"N570951/M570951","v":{"$error":"#DIV/0!"}},null,{"$f":"C570951*P570951","v":0}]
[null,null,null,null,null,null,null,null,null,null,null,null,null,null,{"$error":"#DIV/0!"},null,0]
[null,null,null,null,null,null,null,null,null,null,null,null,null,null,{"$error":"#DIV/0!"},null,0]
[null,null,null,null,null,null,null,null,null,null,null,null,null,null,{"$error":"#DIV/0!"},null,0]
[null,null,null,null,null,null,null,null,null,null,null,null,null,null,{"$error":"#DIV/0!"},null,0]
[null,null,null,null,null,null,null,null,null,null,null,null,null,null,{"$error":"#DIV/0!"},null,0]
[null,null,null,null,null,null,null,null,null,null,null,null,null,null,{"$error":"#DIV/0!"},null,0]
[null,null,null,null,null,null,null,null,null,null,null,null,null,null,{"$error":"#DIV/0!"},null,0]
[null,null,null,null,null,null,null,null,null,null,null,null,null,null,{"$error":"#DIV/0!"},null,0]
[null,null,null,null,null,null,null,null,null,null,null,null,null,null,{"$error":"#DIV/0!"},null,0]
[null,null,null,null,null,null,null,null,null,null,null,null,null,null,{"$error":"#DIV/0!"},null,0]
[null,null,null,null,null,null,null,null,null,null,null,null,null,null,{"$error":"#DIV/0!"},null,0]
[null,null,null,null,null,null,null,null,null,null,null,null,null,null,{"$error":"#DIV/0!"},null,0]
[null,null,null,null,null,null,null,null,null,null,null,null,null,null,{"$error":"#DIV/0!"},null,0]
[null,null,null,null,null,null,null,null,null,null,null,null,null,null,{"$error":"#DIV/0!"},null,0]
[null,null,null,null,null,null,null,null,null,null,null,null,null,null,{"$error":"#DIV/0!"},null,0]
[null,null,null,null,null,null,null,null,null,null,null,null,null,null,{"$error":"#DIV/0!"},null,0]
[null,null,null,null,null,null,null,null,null,null,null,null,null,null,{"$error":"#DIV/0!"},null,0]
[null,null,null,null,null,null,null,null,null,null,null,null,null,null,{"$error":"#DIV/0!"},null,0]
[null,null,null,null,null,null,null,null,null,null,null,null,null,null,{"$error":"#DIV/0!"},null,0]
[null,null,null,null,null,null,null,null,null,null,null,null,null,null,{"$error":"#DIV/0!"},null,0]
[null,null,null,null,null,null,null,null,null,null,null,null,null,null,{"$error":"#DIV/0!"},null,0]
[null,null,null,null,null,null,null,null,null,null,null,null,null,null,{"$error":"#DIV/0!"},null,0]
[null,null,null,null,null,null,null,null,null,null,null,null,null,null,{"$error":"#DIV/0!"},null,0]
[null,null,null,null,null,null,null,null,null,null,null,null,null,null,{"$error":"#DIV/0!"},null,0]
[null,null,null,null,null,null,null,null,null,null,null,null,null,null,{"$error":"#DIV/0!"},null,0]
[null,null,null,null,null,null,null,null,null,null,null,null,null,null,{"$error":"#DIV/0!"},null,0]
[null,null,null,null,null,null,null,null,null,null,null,null,null,null,{"$error":"#DIV/0!"},null,0]
[null,null,null,null,null,null,null,null,null,null,null,null,null,null,{"$error":"#DIV/0!"},null,0]
[null,null,null,null,null,null,null,null,null,null,null,null,null,null,{"$error":"#DIV/0!"},null,0]
[null,null,null,null,null,null,null,null,null,null,null,null,null,null,{"$error":"#DIV/0!"},null,0]
[null,null,null,null,null,null,null,null,null,null,null,null,null,null,{"$error":"#DIV/0!"},null,0]
[null,null,null,null,null,null,null,null,null,null,null,null,null,null,{"$error":"#DIV/0!"},null,0]
[null,null,null,null,null,null,null,null,null,null,null,null,null,null,{"$error":"#DIV/0!"},null,0]
[null,null,null,null,null,null,null,null,null,null,null,null,null,null,{"$error":"#DIV/0!"},null,0]
[null,null,null,null,null,null,null,null,null,null,null,null,null,null,{"$error":"#DIV/0!"},null,0]
[null,null,null,null,null,null,null,null,null,null,null,null,null,null,{"$error":"#DIV/0!"},null,0]
[null,null,null,null,null,null,null,null,null,null,null,null,null,null,{"$error":"#DIV/0!"},null,0]
[null,null,null,null,null,null,null,null,null,null,null,null,null,null,{"$error":"#DIV/0!"},null,0]
[null,null,null,null,null,null,null,null,null,null,null,null,null,null,{"$f":"N591303/M591303","v":{"$error":"#DIV/0!"}},null,{"$f":"C591303*P591303","v":0}]
[null,null,null,null,null,null,null,null,null,null,null,null,null,null,{"$error":"#DIV/0!"},null,0]
[null,null,null,null,null,null,null,null,null,null,null,null,null,null,{"$error":"#DIV/0!"},null,0]
[null,null,null,null,null,null,null,null,null,null,null,null,null,null,{"$error":"#DIV/0!"},null,0]
[null,null,null,null,null,null,null,null,null,null,null,null,null,null,{"$error":"#DIV/0!"},null,0]
[null,null,null,null,null,null,null,null,null,null,null,null,null,null,{"$error":"#DIV/0!"},null,0]
[null,null,null,null,null,null,null,null,null,null,null,null,null,null,{"$error":"#DIV/0!"},null,0]
[null,null,null,null,null,null,null,null,null,null,null,null,null,null,{"$error":"#DIV/0!"},null,0]
[null,null,null,null,null,null,null,null,null,null,null,null,null,null,{"$error":"#DIV/0!"},null,0]
[null,null,null,null,null,null,null,null,null,null,null,null,null,null,{"$error":"#DIV/0!"},null,0]
[null,null,null,null,null,null,null,null,null,null,null,null,null,null,{"$error":"#DIV/0!"},null,0]
[null,null,null,null,null,null,null,null,null,null,null,null,null,null,{"$error":"#DIV/0!"},null,0]
[null,null,null,null,null,null,null,null,null,null,null,null,null,null,{"$error":"#DIV/0!"},null,0]
[null,null,null,null,null,null,null,null,null,null,null,null,null,null,{"$error":"#DIV/0!"},null,0]
[null,null,null,null,null,null,null,null,null,null,null,null,null,null,{"$error":"#DIV/0!"},null,0]
[null,null,null,null,null,null,null,null,null,null,null,null,null,null,{"$error":"#DIV/0!"},null,0]
[null,null,null,null,null,null,null,null,null,null,null,null,null,null,{"$error":"#DIV/0!"},null,0]
[null,null,null,null,null,null,null,null,null,null,null,null,null,null,{"$error":"#DIV/0!"},null,0]
[null,null,null,null,null,null,null,null,null,null,null,null,null,null,{"$error":"#DIV/0!"},null,0]
[null,null,null,null,null,null,null,null,null,null,null,null,null,null,{"$error":"#DIV/0!"},null,0]
[null,null,null,null,null,null,null,null,null,null,null,null,null,null,{"$error":"#DIV/0!"},null,0]
[null,null,null,null,null,null,null,null,null,null,null,null,null,null,{"$error":"#DIV/0!"},null,0]
[null,null,null,null,null,null,null,null,null,null,null,null,null,null,{"$error":"#DIV/0!"},null,0]
[null,null,null,null,null,null,null,null,null,null,null,null,null,null,{"$error":"#DIV/0!"},null,0]
[null,null,null,null,null,null,null,null,null,null,null,null,null,null,{"$error":"#DIV/0!"},null,0]
[null,null,null,null,null,null,null,null,null,null,null,null,null,null,{"$error":"#DIV/0!"},null,0]
[null,null,null,null,null,null,null,null,null,null,null,null,null,null,{"$error":"#DIV/0!"},null,0]
[null,null,null,null,null,null,null,null,null,null,null,null,null,null,{"$error":"#DIV/0!"},null,0]
[null,null,null,null,null,null,null,null,null,null,null,null,null,null,{"$error":"#DIV/0!"},null,0]
[null,null,null,null,null,null,null,null,null,null,null,null,null,null,{"$error":"#DIV/0!"},null,0]
[null,null,null,null,null,null,null,null,null,null,null,null,null,null,{"$error":"#DIV/0!"},null,0]
[null,null,null,null,null,null,null,null,null,null,null,null,null,null,{"$error":"#DIV/0!"},null,0]
[null,null,null,null,null,null,null,null,null,null,null,null,null,null,{"$error":"#DIV/0!"},null,0]
[null,null,null,null,null,null,null,null,null,null,null,null,null,null,{"$error":"#DIV/0!"},null,0]
[null,null,null,null,null,null,null,null,null,null,null,null,null,null,{"$error":"#DIV/0!"},null,0]
[null,null,null,null,null,null,null,null,null,null,null,null,null,null,{"$error":"#DIV/0!"},null,0]
[null,null,null,null,null,null,null,null,null,null,null,null,null,null,{"$error":"#DIV/0!"},null,0]
[null,null,null,null,null,null,null,null,null,null,null,null,null,null,{"$error":"#DIV/0!"},null,0]
[null,null,null,null,null,null,null,null,null,null,null,null,null,null,{"$error":"#DIV/0!"},null,0]
[null,null,null,null,null,null,null,null,null,null,null,null,null,null,{"$error":"#DIV/0!"},null,0]
[null,null,null,null,null,null,null,null,null,null,null,null,null,null,{"$error":"#DIV/0!"},null,0]
[null,null,null,null,null,null,null,null,null,null,null,null,null,null,{"$error":"#DIV/0!"},null,0]
[null,null,null,null,null,null,null,null,null,null,null,null,null,null,{"$error":"#DIV/0!"},null,0]
[null,null,null,null,null,null,null,null,null,null,null,null,null,null,{"$error":"#DIV/0!"},null,0]
[null,null,null,null,null,null,null,null,null,null,null,null,null,null,{"$error":"#DIV/0!"},null,0]
[null,null,null,null,null,null,null,null,null,null,null,null,null,null,{"$error":"#DIV/0!"},null,0]
[null,null,null,null,null,null,null,null,null,null,null,null,null,null,{"$error":"#DIV/0!"},null,0]
[null,null,null,null,null,null,null,null,null,null,null,null,null,null,{"$error":"#DIV/0!"},null,0]
[null,null,null,null,null,null,null,null,null,null,null,null,null,null,{"$error":"#DIV/0!"},null,0]
[null,null,null,null,null,null,null,null,null,null,null,null,null,null,{"$error":"#DIV/0!"},null,0]
[null,null,null,null,null,null,null,null,null,null,null,null,null,null,{"$error":"#DIV/0!"},null,0]
[null,null,null,null,null,null,null,null,null,null,null,null,null,null,{"$error":"#DIV/0!"},null,0]
[null,null,null,null,null,null,null,null,null,null,null,null,null,null,{"$error":"#DIV/0!"},null,0]
[null,null,null,null,null,null,null,null,null,null,null,null,null,null,{"$error":"#DIV/0!"},null,0]
[null,null,null,null,null,null,null,null,null,null,null,null,null,null,{"$error":"#DIV/0!"},null,0]
[null,null,null,null,null,null,null,null,null,null,null,null,null,null,{"$error":"#DIV/0!"},null,0]
[null,null,null,null,null,null,null,null,null,null,null,null,null,null,{"$error":"#DIV/0!"},null,0]
[null,null,null,null,null,null,null,null,null,null,null,null,null,null,{"$error":"#DIV/0!"},null,0]
[null,null,null,null,null,null,null,null,null,null,null,null,null,null,{"$error":"#DIV/0!"},null,0]
[null,null,null,null,null,null,null,null,null,null,null,null,null,null,{"$error":"#DIV/0!"},null,0]
[null,null,null,null,null,null,null,null,null,null,null,null,null,null,{"$error":"#DIV/0!"},null,0]
[null,null,null,null,null,null,null,null,null,null,null,null,null,null,{"$error":"#DIV/0!"},null,0]
[null,null,null,null,null,null,null,null,null,null,null,null,null,null,{"$error":"#DIV/0!"},null,0]
[null,null,null,null,null,null,null,null,null,null,null,null,null,null,{"$error":"#DIV/0!"},null,0]
[null,null,null,null,null,null,null,null,null,null,null,null,null,null,{"$error":"#DIV/0!"},null,0]
[null,null,null,null,null,null,null,null,null,null,null,null,null,null,{"$error":"#DIV/0!"},null,0]
[null,null,null,null,null,null,null,null,null,null,null,null,null,null,{"$error":"#DIV/0!"},null,0]
[null,null,null,null,null,null,null,null,null,null,null,null,null,null,{"$error":"#DIV/0!"},null,0]
[null,null,null,null,null,null,null,null,null,null,null,null,null,null,{"$error":"#DIV/0!"},null,0]
[null,null,null,null,null,null,null,null,null,null,null,null,null,null,{"$error":"#DIV/0!"},null,0]
[null,null,null,null,null,null,null,null,null,null,null,null,null,null,{"$error":"#DIV/0!"},null,0]
[null,null,null,null,null,null,null,null,null,null,null,null,null,null,{"$error":"#DIV/0!"},null,0]
[null,null,null,null,null,null,null,null,null,null,null,null,null,null,{"$error":"#DIV/0!"},null,0]
[null,null,null,null,null,null,null,null,null,null,null,null,null,null,{"$error":"#DIV/0!"},null,0]
[null,null,null,null,null,null,null,null,null,null,null,null,null,null,{"$error":"#DIV/0!"},null,0]
[null,null,null,null,null,null,null,null,null,null,null,null,null,null,{"$error":"#DIV/0!"},null,0]
[null,null,null,null,null,null,null,null,null,null,null,null,null,null,{"$error":"#DIV/0!"},null,0]
[null,null,null,null,null,null,null,null,null,null,null,null,null,null,{"$error":"#DIV/0!"},null,0]
[null,null,null,null,null,null,null,null,null,null,null,null,null,null,{"$error":"#DIV/0!"},null,0]
[null,null,null,null,null,null,null,null,null,null,null,null,null,null,{"$error":"#DIV/0!"},null,0]
[null,null,null,null,null,null,null,null,null,null,null,null,null,null,{"$error":"#DIV/0!"},null,0]
[null,null,null,null,null,null,null,null,null,null,null,null,null,null,{"$error":"#DIV/0!"},null,0]
[null,null,null,null,null,null,null,null,null,null,null,null,null,null,{"$error":"#DIV/0!"},null,0]
[null,null,null,null,null,null,null,null,null,null,null,null,null,null,{"$error":"#DIV/0!"},null,0]
[null,null,null,null,null,null,null,null,null,null,null,null,null,null,{"$error":"#DIV/0!"},null,0]
[null,null,null,null,null,null,null,null,null,null,null,null,null,null,{"$error":"#DIV/0!"},null,0]
[null,null,null,null,null,null,null,null,null,null,null,null,null,null,{"$error":"#DIV/0!"},null,0]
[null,null,null,null,null,null,null,null,null,null,null,null,null,null,{"$error":"#DIV/0!"},null,0]
[null,null,null,null,null,null,null,null,null,null,null,null,null,null,{"$error":"#DIV/0!"},null,0]
[null,null,null,null,null,null,null,null,null,null,null,null,null,null,{"$error":"#DIV/0!"},null,0]
[null,null,null,null,null,null,null,null,null,null,null,null,null,null,{"$error":"#DIV/0!"},null,0]
[null,null,null,null,null,null,null,null,null,null,null,null,null,null,{"$error":"#DIV/0!"},null,0]
[null,null,null,null,null,null,null,null,null,null,null,null,null,null,{"$error":"#DIV/0!"},null,0]
[null,null,null,null,null,null,null,null,null,null,null,null,null,null,{"$error":"#DIV/0!"},null,0]
[null,null,null,null,null,null,null,null,null,null,null,null,null,null,{"$error":"#DIV/0!"},null,0]
[null,null,null,null,null,null,null,null,null,null,null,null,null,null,{"$error":"#DIV/0!"},null,0]
[null,null,null,null,null,null,null,null,null,null,null,null,null,null,{"$error":"#DIV/0!"},null,0]
[null,null,null,null,null,null,null,null,null,null,null,null,null,null,{"$f":"N641927/M641927","v":{"$error":"#DIV/0!"}},null,{"$f":"C641927*P641927","v":0}]
[null,null,null,null,null,null,null,null,null,null,null,null,null,null,{"$error":"#DIV/0!"},null,0]
[null,null,null,null,null,null,null,null,null,null,null,null,null,null,{"$error":"#DIV/0!"},null,0]
[null,null,null,null,null,null,null,null,null,null,null,null,null,null,{"$error":"#DIV/0!"},null,0]
[null,null,null,null,null,null,null,null,null,null,null,null,null,null,{"$error":"#DIV/0!"},null,0]
[null,null,null,null,null,null,null,null,null,null,null,null,null,null,{"$error":"#DIV/0!"},null,0]
[null,null,null,null,null,null,null,null,null,null,null,null,null,null,{"$error":"#DIV/0!"},null,0]
[null,null,null,null,null,null,null,null,null,null,null,null,null,null,{"$error":"#DIV/0!"},null,0]
[null,null,null,null,null,null,null,null,null,null,null,null,null,null,{"$error":"#DIV/0!"},null,0]
[null,null,null,null,null,null,null,null,null,null,null,null,null,null,{"$error":"#DIV/0!"},null,0]
[null,null,null,null,null,null,null,null,null,null,null,null,null,null,{"$f":"N647111/M647111","v":{"$error":"#DIV/0!"}},null,{"$f":"C647111*P647111","v":0}]
[null,null,null,null,null,null,null,null,null,null,null,null,null,null,{"$error":"#DIV/0!"},null,0]
[null,null,null,null,null,null,null,null,null,null,null,null,null,null,{"$error":"#DIV/0!"},null,0]
[null,null,null,null,null,null,null,null,null,null,null,null,null,null,{"$error":"#DIV/0!"},null,0]
[null,null,null,null,null,null,null,null,null,null,null,null,null,null,{"$error":"#DIV/0!"},null,0]
[null,null,null,null,null,null,null,null,null,null,null,null,null,null,{"$error":"#DIV/0!"},null,0]
[null,null,null,null,null,null,null,null,null,null,null,null,null,null,{"$error":"#DIV/0!"},null,0]
[null,null,null,null,null,null,null,null,null,null,null,null,null,null,{"$error":"#DIV/0!"},null,0]
[null,null,null,null,null,null,null,null,null,null,null,null,null,null,{"$error":"#DIV/0!"},null,0]
[null,null,null,null,null,null,null,null,null,null,null,null,null,null,{"$error":"#DIV/0!"},null,0]
[null,null,null,null,null,null,null,null,null,null,null,null,null,null,{"$error":"#DIV/0!"},null,0]
[null,null,null,null,null,null,null,null,null,null,null,null,null,null,{"$error":"#DIV/0!"},null,0]
[null,null,null,null,null,null,null,null,null,null,null,null,null,null,{"$error":"#DIV/0!"},null,0]
[null,null,null,null,null,null,null,null,null,null,null,null,null,null,{"$error":"#DIV/0!"},null,0]
[null,null,null,null,null,null,null,null,null,null,null,null,null,null,{"$error":"#DIV/0!"},null,0]
[null,null,null,null,null,null,null,null,null,null,null,null,null,null,{"$error":"#DIV/0!"},null,0]
[null,null,null,null,null,null,null,null,null,null,null,null,null,null,{"$error":"#DIV/0!"},null,0]
[null,null,null,null,null,null,null,null,null,null,null,null,null,null,{"$error":"#DIV/0!"},null,0]
[null,null,null,null,null,null,null,null,null,null,null,null,null,null,{"$error":"#DIV/0!"},null,0]
[null,null,null,null,null,null,null,null,null,null,null,null,null,null,{"$error":"#DIV/0!"},null,0]
[null,null,null,null,null,null,null,null,null,null,null,null,null,null,{"$error":"#DIV/0!"},null,0]
[null,null,null,null,null,null,null,null,null,null,null,null,null,null,{"$error":"#DIV/0!"},null,0]
[null,null,null,null,null,null,null,null,null,null,null,null,null,null,{"$error":"#DIV/0!"},null,0]
[null,null,null,null,null,null,null,null,null,null,null,null,null,null,{"$error":"#DIV/0!"},null,0]
[null,null,null,null,null,null,null,null,null,null,null,null,null,null,{"$error":"#DIV/0!"},null,0]
[null,null,null,null,null,null,null,null,null,null,null,null,null,null,{"$error":"#DIV/0!"},null,0]
[null,null,null,null,null,null,null,null,null,null,null,null,null,null,{"$error":"#DIV/0!"},null,0]
[null,null,null,null,null,null,null,null,null,null,null,null,null,null,{"$error":"#DIV/0!"},null,0]
[null,null,null,null,null,null,null,null,null,null,null,null,null,null,{"$error":"#DIV/0!"},null,0]
[null,null,null,null,null,null,null,null,null,null,null,null,null,null,{"$f":"N662279/M662279","v":{"$error":"#DIV/0!"}},null,{"$f":"C662279*P662279","v":0}]
[null,null,null,null,null,null,null,null,null,null,null,null,null,null,{"$error":"#DIV/0!"},null,0]
[null,null,null,null,null,null,null,null,null,null,null,null,null,null,{"$error":"#DIV/0!"},null,0]
[null,null,null,null,null,null,null,null,null,null,null,null,null,null,{"$error":"#DIV/0!"},null,0]
[null,null,null,null,null,null,null,null,null,null,null,null,null,null,{"$error":"#DIV/0!"},null,0]
[null,null,null,null,null,null,null,null,null,null,null,null,null,null,{"$error":"#DIV/0!"},null,0]
[null,null,null,null,null,null,null,null,null,null,null,null,null,null,{"$error":"#DIV/0!"},null,0]
[null,null,null,null,null,null,null,null,null,null,null,null,null,null,{"$error":"#DIV/0!"},null,0]
[null,null,null,null,null,null,null,null,null,null,null,null,null,null,{"$error":"#DIV/0!"},null,0]
[null,null,null,null,null,null,null,null,null,null,null,null,null,null,{"$error":"#DIV/0!"},null,0]
[null,null,null,null,null,null,null,null,null,null,null,null,null,null,{"$error":"#DIV/0!"},null,0]
[null,null,null,null,null,null,null,null,null,null,null,null,null,null,{"$error":"#DIV/0!"},null,0]
[null,null,null,null,null,null,null,null,null,null,null,null,null,null,{"$error":"#DIV/0!"},null,0]
[null,null,null,null,null,null,null,null,null,null,null,null,null,null,{"$error":"#DIV/0!"},null,0]
[null,null,null,null,null,null,null,null,null,null,null,null,null,null,{"$error":"#DIV/0!"},null,0]
[null,null,null,null,null,null,null,null,null,null,null,null,null,null,{"$error":"#DIV/0!"},null,0]
[null,null,null,null,null,null,null,null,null,null,null,null,null,null,{"$error":"#DIV/0!"},null,0]
[null,null,null,null,null,null,null,null,null,null,null,null,null,null,{"$error":"#DIV/0!"},null,0]
[null,null,null,null,null,null,null,null,null,null,null,null,null,null,{"$error":"#DIV/0!"},null,0]
[null,null,null,null,null,null,null,null,null,null,null,null,null,null,{"$error":"#DIV/0!"},null,0]
[null,null,null,null,null,null,null,null,null,null,null,null,null,null,{"$error":"#DIV/0!"},null,0]
[null,null,null,null,null,null,null,null,null,null,null,null,null,null,{"$error":"#DIV/0!"},null,0]
[null,null,null,null,null,null,null,null,null,null,null,null,null,null,{"$error":"#DIV/0!"},null,0]
[null,null,null,null,null,null,null,null,null,null,null,null,null,null,{"$error":"#DIV/0!"},null,0]
[null,null,null,null,null,null,null,null,null,null,null,null,null,null,{"$error":"#DIV/0!"},null,0]
[null,null,null,null,null,null,null,null,null,null,null,null,null,null,{"$error":"#DIV/0!"},null,0]
[null,null,null,null,null,null,null,null,null,null,null,null,null,null,{"$error":"#DIV/0!"},null,0]
[null,null,null,null,null,null,null,null,null,null,null,null,null,null,{"$error":"#DIV/0!"},null,0]
[null,null,null,null,null,null,null,null,null,null,null,null,null,null,{"$error":"#DIV/0!"},null,0]
[null,null,null,null,null,null,null,null,null,null,null,null,null,null,{"$error":"#DIV/0!"},null,0]
[null,null,null,null,null,null,null,null,null,null,null,null,null,null,{"$error":"#DIV/0!"},null,0]
[null,null,null,null,null,null,null,null,null,null,null,null,null,null,{"$error":"#DIV/0!"},null,0]
[null,null,null,null,null,null,null,null,null,null,null,null,null,null,{"$error":"#DIV/0!"},null,0]
[null,null,null,null,null,null,null,null,null,null,null,null,null,null,{"$error":"#DIV/0!"},null,0]
[null,null,null,null,null,null,null,null,null,null,null,null,null,null,{"$error":"#DIV/0!"},null,0]
[null,null,null,null,null,null,null,null,null,null,null,null,null,null,{"$error":"#DIV/0!"},null,0]
[null,null,null,null,null,null,null,null,null,null,null,null,null,null,{"$error":"#DIV/0!"},null,0]
[null,null,null,null,null,null,null,null,null,null,null,null,null,null,{"$error":"#DIV/0!"},null,0]
[null,null,null,null,null,null,null,null,null,null,null,null,null,null,{"$error":"#DIV/0!"},null,0]
[null,null,null,null,null,null,null,null,null,null,null,null,null,null,{"$error":"#DIV/0!"},null,0]
[null,null,null,null,null,null,null,null,null,null,null,null,null,null,{"$error":"#DIV/0!"},null,0]
[null,null,null,null,null,null,null,null,null,null,null,null,null,null,{"$error":"#DIV/0!"},null,0]
[null,null,null,null,null,null,null,null,null,null,null,null,null,null,{"$error":"#DIV/0!"},null,0]
[null,null,null,null,null,null,null,null,null,null,null,null,null,null,{"$error":"#DIV/0!"},null,0]
[null,null,null,null,null,null,null,null,null,null,null,null,null,null,{"$error":"#DIV/0!"},null,0]
[null,null,null,null,null,null,null,null,null,null,null,null,null,null,{"$error":"#DIV/0!"},null,0]
[null,null,null,null,null,null,null,null,null,null,null,null,null,null,{"$error":"#DIV/0!"},null,0]
[null,null,null,null,null,null,null,null,null,null,null,null,null,null,{"$error":"#DIV/0!"},null,0]
[null,null,null,null,null,null,null,null,null,null,null,null,null,null,{"$error":"#DIV/0!"},null,0]
[null,null,null,null,null,null,null,null,null,null,null,null,null,null,{"$error":"#DIV/0!"},null,0]
[null,null,null,null,null,null,null,null,null,null,null,null,null,null,{"$error":"#DIV/0!"},null,0]
[null,null,null,null,null,null,null,null,null,null,null,null,null,null,{"$error":"#DIV/0!"},null,0]
[null,null,null,null,null,null,null,null,null,null,null,null,null,null,{"$error":"#DIV/0!"},null,0]
[null,null,null,null,null,null,null,null,null,null,null,null,null,null,{"$error":"#DIV/0!"},null,0]
[null,null,null,null,null,null,null,null,null,null,null,null,null,null,{"$error":"#DIV/0!"},null,0]
[null,null,null,null,null,null,null,null,null,null,null,null,null,null,{"$error":"#DIV/0!"},null,0]
[null,null,null,null,null,null,null,null,null,null,null,null,null,null,{"$error":"#DIV/0!"},null,0]
[null,null,null,null,null,null,null,null,null,null,null,null,null,null,{"$error":"#DIV/0!"},null,0]
[null,null,null,null,null,null,null,null,null,null,null,null,null,null,{"$f":"N692551/M692551","v":{"$error":"#DIV/0!"}},null,{"$f":"C692551*P692551","v":0}]
[null,null,null,null,null,null,null,null,null,null,null,null,null,null,{"$error":"#DIV/0!"},null,0]
[null,null,null,null,null,null,null,null,null,null,null,null,null,null,{"$error":"#DIV/0!"},null,0]
[null,null,null,null,null,null,null,null,null,null,null,null,null,null,{"$error":"#DIV/0!"},null,0]
[null,null,null,null,null,null,null,null,null,null,null,null,null,null,{"$error":"#DIV/0!"},null,0]
[null,null,null,null,null,null,null,null,null,null,null,null,null,null,{"$error":"#DIV/0!"},null,0]
[null,null,null,null,null,null,null,null,null,null,null,null,null,null,{"$error":"#DIV/0!"},null,0]
[null,null,null,null,null,null,null,null,null,null,null,null,null,null,{"$error":"#DIV/0!"},null,0]
[null,null,null,null,null,null,null,null,null,null,null,null,null,null,{"$error":"#DIV/0!"},null,0]
[null,null,null,null,null,null,null,null,null,null,null,null,null,null,{"$error":"#DIV/0!"},null,0]
[null,null,null,null,null,null,null,null,null,null,null,null,null,null,{"$error":"#DIV/0!"},null,0]
[null,null,null,null,null,null,null,null,null,null,null,null,null,null,{"$error":"#DIV/0!"},null,0]
[null,null,null,null,null,null,null,null,null,null,null,null,null,null,{"$error":"#DIV/0!"},null,0]
[null,null,null,null,null,null,null,null,null,null,null,null,null,null,{"$error":"#DIV/0!"},null,0]
[null,null,null,null,null,null,null,null,null,null,null,null,null,null,{"$error":"#DIV/0!"},null,0]
[null,null,null,null,null,null,null,null,null,null,null,null,null,null,{"$error":"#DIV/0!"},null,0]
[null,null,null,null,null,null,null,null,null,null,null,null,null,null,{"$error":"#DIV/0!"},null,0]
[null,null,null,null,null,null,null,null,null,null,null,null,null,null,{"$error":"#DIV/0!"},null,0]
[null,null,null,null,null,null,null,null,null,null,null,null,null,null,{"$error":"#DIV/0!"},null,0]
[null,null,null,null,null,null,null,null,null,null,null,null,null,null,{"$error":"#DIV/0!"},null,0]
[null,null,null,null,null,null,null,null,null,null,null,null,null,null,{"$error":"#DIV/0!"},null,0]
[null,null,null,null,null,null,null,null,null,null,null,null,null,null,{"$error":"#DIV/0!"},null,0]
[null,null,null,null,null,null,null,null,null,null,null,null,null,null,{"$error":"#DIV/0!"},null,0]
[null,null,null,null,null,null,null,null,null,null,null,null,null,null,{"$error":"#DIV/0!"},null,0]
[null,null,null,null,null,null,null,null,null,null,null,null,null,null,{"$error":"#DIV/0!"},null,0]
[null,null,null,null,null,null,null,null,null,null,null,null,null,null,{"$error":"#DIV/0!"},null,0]
[null,null,null,null,null,null,null,null,null,null,null,null,null,null,{"$error":"#DIV/0!"},null,0]
[null,null,null,null,null,null,null,null,null,null,null,null,null,null,{"$error":"#DIV/0!"},null,0]
[null,null,null,null,null,null,null,null,null,null,null,null,null,null,{"$error":"#DIV/0!"},null,0]
[null,null,null,null,null,null,null,null,null,null,null,null,null,null,{"$error":"#DIV/0!"},null,0]
[null,null,null,null,null,null,null,null,null,null,null,null,null,null,{"$error":"#DIV/0!"},null,0]
[null,null,null,null,null,null,null,null,null,null,null,null,null,null,{"$error":"#DIV/0!"},null,0]
[null,null,null,null,null,null,null,null,null,null,null,null,null,null,{"$error":"#DIV/0!"},null,0]
[null,null,null,null,null,null,null,null,null,null,null,null,null,null,{"$error":"#DIV/0!"},null,0]
[null,null,null,null,null,null,null,null,null,null,null,null,null,null,{"$error":"#DIV/0!"},null,0]
[null,null,null,null,null,null,null,null,null,null,null,null,null,null,{"$error":"#DIV/0!"},null,0]
[null,null,null,null,null,null,null,null,null,null,null,null,null,null,{"$error":"#DIV/0!"},null,0]
[null,null,null,null,null,null,null,null,null,null,null,null,null,null,{"$error":"#DIV/0!"},null,0]
[null,null,null,null,null,null,null,null,null,null,null,null,null,null,{"$error":"#DIV/0!"},null,0]
[null,null,null,null,null,null,null,null,null,null,null,null,null,null,{"$f":"N712903/M712903","v":{"$error":"#DIV/0!"}},null,{"$f":"C712903*P712903","v":0}]
[null,null,null,null,null,null,null,null,null,null,null,null,null,null,{"$error":"#DIV/0!"},null,0]
[null,null,null,null,null,null,null,null,null,null,null,null,null,null,{"$error":"#DIV/0!"},null,0]
[null,null,null,null,null,null,null,null,null,null,null,null,null,null,{"$error":"#DIV/0!"},null,0]
[null,null,null,null,null,null,null,null,null,null,null,null,null,null,{"$error":"#DIV/0!"},null,0]
[null,null,null,null,null,null,null,null,null,null,null,null,null,null,{"$error":"#DIV/0!"},null,0]
[null,null,null,null,null,null,null,null,null,null,null,null,null,null,{"$error":"#DIV/0!"},null,0]
[null,null,null,null,null,null,null,null,null,null,null,null,null,null,{"$error":"#DIV/0!"},null,0]
[null,null,null,null,null,null,null,null,null,null,null,null,null,null,{"$error":"#DIV/0!"},null,0]
[null,null,null,null,null,null,null,null,null,null,null,null,null,null,{"$error":"#DIV/0!"},null,0]
[null,null,null,null,null,null,null,null,null,null,null,null,null,null,{"$error":"#DIV/0!"},null,0]
[null,null,null,null,null,null,null,null,null,null,null,null,null,null,{"$error":"#DIV/0!"},null,0]
[null,null,null,null,null,null,null,null,null,null,null,null,null,null,{"$error":"#DIV/0!"},null,0]
[null,null,null,null,null,null,null,null,null,null,null,null,null,null,{"$error":"#DIV/0!"},null,0]
[null,null,null,null,null,null,null,null,null,null,null,null,null,null,{"$error":"#DIV/0!"},null,0]
[null,null,null,null,null,null,null,null,null,null,null,null,null,null,{"$error":"#DIV/0!"},null,0]
[null,null,null,null,null,null,null,null,null,null,null,null,null,null,{"$error":"#DIV/0!"},null,0]
[null,null,null,null,null,null,null,null,null,null,null,null,null,null,{"$error":"#DIV/0!"},null,0]
[null,null,null,null,null,null,null,null,null,null,null,null,null,null,{"$error":"#DIV/0!"},null,0]
[null,null,null,null,null,null,null,null,null,null,null,null,null,null,{"$error":"#DIV/0!"},null,0]
[null,null,null,null,null,null,null,null,null,null,null,null,null,null,{"$error":"#DIV/0!"},null,0]
[null,null,null,null,null,null,null,null,null,null,null,null,null,null,{"$error":"#DIV/0!"},null,0]
[null,null,null,null,null,null,null,null,null,null,null,null,null,null,{"$error":"#DIV/0!"},null,0]
[null,null,null,null,null,null,null,null,null,null,null,null,null,null,{"$error":"#DIV/0!"},null,0]
[null,null,null,null,null,null,null,null,null,null,null,null,null,null,{"$error":"#DIV/0!"},null,0]
[null,null,null,null,null,null,null,null,null,null,null,null,null,null,{"$error":"#DIV/0!"},null,0]
[null,null,null,null,null,null,null,null,null,null,null,null,null,null,{"$error":"#DIV/0!"},null,0]
[null,null,null,null,null,null,null,null,null,null,null,null,null,null,{"$error":"#DIV/0!"},null,0]
[null,null,null,null,null,null,null,null,null,null,null,null,null,null,{"$error":"#DIV/0!"},null,0]
[null,null,null,null,null,null,null,null,null,null,null,null,null,null,{"$error":"#DIV/0!"},null,0]
[null,null,null,null,null,null,null,null,null,null,null,null,null,null,{"$error":"#DIV/0!"},null,0]
[null,null,null,null,null,null,null,null,null,null,null,null,null,null,{"$error":"#DIV/0!"},null,0]
[null,null,null,null,null,null,null,null,null,null,null,null,null,null,{"$error":"#DIV/0!"},null,0]
[null,null,null,null,null,null,null,null,null,null,null,null,null,null,{"$error":"#DIV/0!"},null,0]
[null,null,null,null,null,null,null,null,null,null,null,null,null,null,{"$error":"#DIV/0!"},null,0]
[null,null,null,null,null,null,null,null,null,null,null,null,null,null,{"$error":"#DIV/0!"},null,0]
[null,null,null,null,null,null,null,null,null,null,null,null,null,null,{"$error":"#DIV/0!"},null,0]
[null,null,null,null,null,null,null,null,null,null,null,null,null,null,{"$error":"#DIV/0!"},null,0]
[null,null,null,null,null,null,null,null,null,null,null,null,null,null,{"$error":"#DIV/0!"},null,0]
[null,null,null,null,null,null,null,null,null,null,null,null,null,null,{"$error":"#DIV/0!"},null,0]
[null,null,null,null,null,null,null,null,null,null,null,null,null,null,{"$error":"#DIV/0!"},null,0]
[null,null,null,null,null,null,null,null,null,null,null,null,null,null,{"$error":"#DIV/0!"},null,0]
[null,null,null,null,null,null,null,null,null,null,null,null,null,null,{"$error":"#DIV/0!"},null,0]
[null,null,null,null,null,null,null,null,null,null,null,null,null,null,{"$error":"#DIV/0!"},null,0]
[null,null,null,null,null,null,null,null,null,null,null,null,null,null,{"$error":"#DIV/0!"},null,0]
[null,null,null,null,null,null,null,null,null,null,null,null,null,null,{"$error":"#DIV/0!"},null,0]
[null,null,null,null,null,null,null,null,null,null,null,null,null,null,{"$error":"#DIV/0!"},null,0]
[null,null,null,null,null,null,null,null,null,null,null,null,null,null,{"$error":"#DIV/0!"},null,0]
[null,null,null,null,null,null,null,null,null,null,null,null,null,null,{"$error":"#DIV/0!"},null,0]
[null,null,null,null,null,null,null,null,null,null,null,null,null,null,{"$error":"#DIV/0!"},null,0]
[null,null,null,null,null,null,null,null,null,null,null,null,null,null,{"$error":"#DIV/0!"},null,0]
[null,null,null,null,null,null,null,null,null,null,null,null,null,null,{"$error":"#DIV/0!"},null,0]
[null,null,null,null,null,null,null,null,null,null,null,null,null,null,{"$error":"#DIV/0!"},null,0]
[null,null,null,null,null,null,null,null,null,null,null,null,null,null,{"$error":"#DIV/0!"},null,0]
[null,null,null,null,null,null,null,null,null,null,null,null,null,null,{"$error":"#DIV/0!"},null,0]
[null,null,null,null,null,null,null,null,null,null,null,null,null,null,{"$error":"#DIV/0!"},null,0]
[null,null,null,null,null,null,null,null,null,null,null,null,null,null,{"$error":"#DIV/0!"},null,0]
[null,null,null,null,null,null,null,null,null,null,null,null,null,null,{"$error":"#DIV/0!"},null,0]
[null,null,null,null,null,null,null,null,null,null,null,null,null,null,{"$error":"#DIV/0!"},null,0]
[null,null,null,null,null,null,null,null,null,null,null,null,null,null,{"$error":"#DIV/0!"},null,0]
[null,null,null,null,null,null,null,null,null,null,null,null,null,null,{"$error":"#DIV/0!"},null,0]
[null,null,null,null,null,null,null,null,null,null,null,null,null,null,{"$error":"#DIV/0!"},null,0]
[null,null,null,null,null,null,null,null,null,null,null,null,null,null,{"$error":"#DIV/0!"},null,0]
[null,null,null,null,null,null,null,null,null,null,null,null,null,null,{"$error":"#DIV/0!"},null,0]
[null,null,null,null,null,null,null,null,null,null,null,null,null,null,{"$error":"#DIV/0!"},null,0]
[null,null,null,null,null,null,null,null,null,null,null,null,null,null,{"$error":"#DIV/0!"},null,0]
[null,null,null,null,null,null,null,null,null,null,null,null,null,null,{"$error":"#DIV/0!"},null,0]
[null,null,null,null,null,null,null,null,null,null,null,null,null,null,{"$error":"#DIV/0!"},null,0]
[null,null,null,null,null,null,null,null,null,null,null,null,null,null,{"$error":"#DIV/0!"},null,0]
[null,null,null,null,null,null,null,null,null,null,null,null,null,null,{"$error":"#DIV/0!"},null,0]
[null,null,null,null,null,null,null,null,null,null,null,null,null,null,{"$error":"#DIV/0!"},null,0]
[null,null,null,null,null,null,null,null,null,null,null,null,null,null,{"$error":"#DIV/0!"},null,0]
[null,null,null,null,null,null,null,null,null,null,null,null,null,null,{"$error":"#DIV/0!"},null,0]
[null,null,null,null,null,null,null,null,null,null,null,null,null,null,{"$error":"#DIV/0!"},null,0]
[null,null,null,null,null,null,null,null,null,null,null,null,null,null,{"$error":"#DIV/0!"},null,0]
[null,null,null,null,null,null,null,null,null,null,null,null,null,null,{"$error":"#DIV/0!"},null,0]
[null,null,null,null,null,null,null,null,null,null,null,null,null,null,{"$error":"#DIV/0!"},null,0]
[null,null,null,null,null,null,null,null,null,null,null,null,null,null,{"$error":"#DIV/0!"},null,0]
[null,null,null,null,null,null,null,null,null,null,null,null,null,null,{"$error":"#DIV/0!"},null,0]
[null,null,null,null,null,null,null,null,null,null,null,null,null,null,{"$error":"#DIV/0!"},null,0]
[null,null,null,null,null,null,null,null,null,null,null,null,null,null,{"$error":"#DIV/0!"},null,0]
[null,null,null,null,null,null,null,null,null,null,null,null,null,null,{"$error":"#DIV/0!"},null,0]
[null,null,null,null,null,null,null,null,null,null,null,null,null,null,{"$error":"#DIV/0!"},null,0]
[null,null,null,null,null,null,null,null,null,null,null,null,null,null,{"$error":"#DIV/0!"},null,0]
[null,null,null,null,null,null,null,null,null,null,null,null,null,null,{"$error":"#DIV/0!"},null,0]
[null,null,null,null,null,null,null,null,null,null,null,null,null,null,{"$error":"#DIV/0!"},null,0]
[null,null,null,null,null,null,null,null,null,null,null,null,null,null,{"$error":"#DIV/0!"},null,0]
[null,null,null,null,null,null,null,null,null,null,null,null,null,null,{"$error":"#DIV/0!"},null,0]
[null,null,null,null,null,null,null,null,null,null,null,null,null,null,{"$error":"#DIV/0!"},null,0]
[null,null,null,null,null,null,null,null,null,null,null,null,null,null,{"$error":"#DIV/0!"},null,0]
[null,null,null,null,null,null,null,null,null,null,null,null,null,null,{"$error":"#DIV/0!"},null,0]
[null,null,null,null,null,null,null,null,null,null,null,null,null,null,{"$error":"#DIV/0!"},null,0]
[null,null,null,null,null,null,null,null,null,null,null,null,null,null,{"$error":"#DIV/0!"},null,0]
[null,null,null,null,null,null,null,null,null,null,null,null,null,null,{"$error":"#DIV/0!"},null,0]
[null,null,null,null,null,null,null,null,null,null,null,null,null,null,{"$error":"#DIV/0!"},null,0]
[null,null,null,null,null,null,null,null,null,null,null,null,null,null,{"$error":"#DIV/0!"},null,0]
[null,null,null,null,null,null,null,null,null,null,null,null,null,null,{"$error":"#DIV/0!"},null,0]
[null,null,null,null,null,null,null,null,null,null,null,null,null,null,{"$error":"#DIV/0!"},null,0]
[null,null,null,null,null,null,null,null,null,null,null,null,null,null,{"$error":"#DIV/0!"},null,0]
[null,null,null,null,null,null,null,null,null,null,null,null,null,null,{"$error":"#DIV/0!"},null,0]
[null,null,null,null,null,null,null,null,null,null,null,null,null,null,{"$error":"#DIV/0!"},null,0]
[null,null,null,null,null,null,null,null,null,null,null,null,null,null,{"$error":"#DIV/0!"},null,0]
[null,null,null,null,null,null,null,null,null,null,null,null,null,null,{"$error":"#DIV/0!"},null,0]
[null,null,null,null,null,null,null,null,null,null,null,null,null,null,{"$error":"#DIV/0!"},null,0]
[null,null,null,null,null,null,null,null,null,null,null,null,null,null,{"$error":"#DIV/0!"},null,0]
[null,null,null,null,null,null,null,null,null,null,null,null,null,null,{"$error":"#DIV/0!"},null,0]
[null,null,null,null,null,null,null,null,null,null,null,null,null,null,{"$error":"#DIV/0!"},null,0]
[null,null,null,null,null,null,null,null,null,null,null,null,null,null,{"$error":"#DIV/0!"},null,0]
[null,null,null,null,null,null,null,null,null,null,null,null,null,null,{"$error":"#DIV/0!"},null,0]
[null,null,null,null,null,null,null,null,null,null,null,null,null,null,{"$error":"#DIV/0!"},null,0]
[null,null,null,null,null,null,null,null,null,null,null,null,null,null,{"$error":"#DIV/0!"},null,0]
[null,null,null,null,null,null,null,null,null,null,null,null,null,null,{"$error":"#DIV/0!"},null,0]
[null,null,null,null,null,null,null,null,null,null,null,null,null,null,{"$error":"#DIV/0!"},null,0]
[null,null,null,null,null,null,null,null,null,null,null,null,null,null,{"$error":"#DIV/0!"},null,0]
[null,null,null,null,null,null,null,null,null,null,null,null,null,null,{"$error":"#DIV/0!"},null,0]
[null,null,null,null,null,null,null,null,null,null,null,null,null,null,{"$error":"#DIV/0!"},null,0]
[null,null,null,null,null,null,null,null,null,null,null,null,null,null,{"$error":"#DIV/0!"},null,0]
[null,null,null,null,null,null,null,null,null,null,null,null,null,null,{"$error":"#DIV/0!"},null,0]
[null,null,null,null,null,null,null,null,null,null,null,null,null,null,{"$error":"#DIV/0!"},null,0]
[null,null,null,null,null,null,null,null,null,null,null,null,null,null,{"$error":"#DIV/0!"},null,0]
[null,null,null,null,null,null,null,null,null,null,null,null,null,null,{"$error":"#DIV/0!"},null,0]
[null,null,null,null,null,null,null,null,null,null,null,null,null,null,{"$error":"#DIV/0!"},null,0]
[null,null,null,null,null,null,null,null,null,null,null,null,null,null,{"$error":"#DIV/0!"},null,0]
[null,null,null,null,null,null,null,null,null,null,null,null,null,null,{"$error":"#DIV/0!"},null,0]
[null,null,null,null,null,null,null,null,null,null,null,null,null,null,{"$error":"#DIV/0!"},null,0]
[null,null,null,null,null,null,null,null,null,null,null,null,null,null,{"$error":"#DIV/0!"},null,0]
[null,null,null,null,null,null,null,null,null,null,null,null,null,null,{"$error":"#DIV/0!"},null,0]
[null,null,null,null,null,null,null,null,null,null,null,null,null,null,{"$error":"#DIV/0!"},null,0]
[null,null,null,null,null,null,null,null,null,null,null,null,null,null,{"$error":"#DIV/0!"},null,0]
[null,null,null,null,null,null,null,null,null,null,null,null,null,null,{"$error":"#DIV/0!"},null,0]
[null,null,null,null,null,null,null,null,null,null,null,null,null,null,{"$error":"#DIV/0!"},null,0]
[null,null,null,null,null,null,null,null,null,null,null,null,null,null,{"$error":"#DIV/0!"},null,0]
[null,null,null,null,null,null,null,null,null,null,null,null,null,null,{"$error":"#DIV/0!"},null,0]
[null,null,null,null,null,null,null,null,null,null,null,null,null,null,{"$error":"#DIV/0!"},null,0]
[null,null,null,null,null,null,null,null,null,null,null,null,null,null,{"$error":"#DIV/0!"},null,0]
[null,null,null,null,null,null,null,null,null,null,null,null,null,null,{"$error":"#DIV/0!"},null,0]
[null,null,null,null,null,null,null,null,null,null,null,null,null,null,{"$error":"#DIV/0!"},null,0]
[null,null,null,null,null,null,null,null,null,null,null,null,null,null,{"$error":"#DIV/0!"},null,0]
[null,null,null,null,null,null,null,null,null,null,null,null,null,null,{"$error":"#DIV/0!"},null,0]
[null,null,null,null,null,null,null,null,null,null,null,null,null,null,{"$error":"#DIV/0!"},null,0]
[null,null,null,null,null,null,null,null,null,null,null,null,null,null,{"$error":"#DIV/0!"},null,0]
[null,null,null,null,null,null,null,null,null,null,null,null,null,null,{"$error":"#DIV/0!"},null,0]
[null,null,null,null,null,null,null,null,null,null,null,null,null,null,{"$error":"#DIV/0!"},null,0]
[null,null,null,null,null,null,null,null,null,null,null,null,null,null,{"$error":"#DIV/0!"},null,0]
[null,null,null,null,null,null,null,null,null,null,null,null,null,null,{"$error":"#DIV/0!"},null,0]
[null,null,null,null,null,null,null,null,null,null,null,null,null,null,{"$error":"#DIV/0!"},null,0]
[null,null,null,null,null,null,null,null,null,null,null,null,null,null,{"$error":"#DIV/0!"},null,0]
[null,null,null,null,null,null,null,null,null,null,null,null,null,null,{"$error":"#DIV/0!"},null,0]
[null,null,null,null,null,null,null,null,null,null,null,null,null,null,{"$error":"#DIV/0!"},null,0]
[null,null,null,null,null,null,null,null,null,null,null,null,null,null,{"$error":"#DIV/0!"},null,0]
[null,null,null,null,null,null,null,null,null,null,null,null,null,null,{"$error":"#DIV/0!"},null,0]
[null,null,null,null,null,null,null,null,null,null,null,null,null,null,{"$error":"#DIV/0!"},null,0]
[null,null,null,null,null,null,null,null,null,null,null,null,null,null,{"$error":"#DIV/0!"},null,0]
[null,null,null,null,null,null,null,null,null,null,null,null,null,null,{"$error":"#DIV/0!"},null,0]
[null,null,null,null,null,null,null,null,null,null,null,null,null,null,{"$error":"#DIV/0!"},null,0]
[null,null,null,null,null,null,null,null,null,null,null,null,null,null,{"$error":"#DIV/0!"},null,0]
[null,null,null,null,null,null,null,null,null,null,null,null,null,null,{"$error":"#DIV/0!"},null,0]
[null,null,null,null,null,null,null,null,null,null,null,null,null,null,{"$error":"#DIV/0!"},null,0]
[null,null,null,null,null,null,null,null,null,null,null,null,null,null,{"$error":"#DIV/0!"},null,0]
[null,null,null,null,null,null,null,null,null,null,null,null,null,null,{"$error":"#DIV/0!"},null,0]
[null,null,null,null,null,null,null,null,null,null,null,null,null,null,{"$error":"#DIV/0!"},null,0]
[null,null,null,null,null,null,null,null,null,null,null,null,null,null,{"$error":"#DIV/0!"},null,0]
[null,null,null,null,null,null,null,null,null,null,null,null,null,null,{"$error":"#DIV/0!"},null,0]
[null,null,null,null,null,null,null,null,null,null,null,null,null,null,{"$error":"#DIV/0!"},null,0]
[null,null,null,null,null,null,null,null,null,null,null,null,null,null,{"$error":"#DIV/0!"},null,0]
[null,null,null,null,null,null,null,null,null,null,null,null,null,null,{"$error":"#DIV/0!"},null,0]
[null,null,null,null,null,null,null,null,null,null,null,null,null,null,{"$error":"#DIV/0!"},null,0]
[null,null,null,null,null,null,null,null,null,null,null,null,null,null,{"$error":"#DIV/0!"},null,0]
[null,null,null,null,null,null,null,null,null,null,null,null,null,null,{"$error":"#DIV/0!"},null,0]
[null,null,null,null,null,null,null,null,null,null,null,null,null,null,{"$error":"#DIV/0!"},null,0]
[null,null,null,null,null,null,null,null,null,null,null,null,null,null,{"$error":"#DIV/0!"},null,0]
[null,null,null,null,null,null,null,null,null,null,null,null,null,null,{"$error":"#DIV/0!"},null,0]
[null,null,null,null,null,null,null,null,null,null,null,null,null,null,{"$error":"#DIV/0!"},null,0]
[null,null,null,null,null,null,null,null,null,null,null,null,null,null,{"$error":"#DIV/0!"},null,0]
[null,null,null,null,null,null,null,null,null,null,null,null,null,null,{"$error":"#DIV/0!"},null,0]
[null,null,null,null,null,null,null,null,null,null,null,null,null,null,{"$error":"#DIV/0!"},null,0]
[null,null,null,null,null,null,null,null,null,null,null,null,null,null,{"$error":"#DIV/0!"},null,0]
[null,null,null,null,null,null,null,null,null,null,null,null,null,null,{"$error":"#DIV/0!"},null,0]
[null,null,null,null,null,null,null,null,null,null,null,null,null,null,{"$error":"#DIV/0!"},null,0]
[null,null,null,null,null,null,null,null,null,null,null,null,null,null,{"$error":"#DIV/0!"},null,0]
[null,null,null,null,null,null,null,null,null,null,null,null,null,null,{"$error":"#DIV/0!"},null,0]
[null,null,null,null,null,null,null,null,null,null,null,null,null,null,{"$error":"#DIV/0!"},null,0]
[null,null,null,null,null,null,null,null,null,null,null,null,null,null,{"$error":"#DIV/0!"},null,0]
[null,null,null,null,null,null,null,null,null,null,null,null,null,null,{"$error":"#DIV/0!"},null,0]
[null,null,null,null,null,null,null,null,null,null,null,null,null,null,{"$error":"#DIV/0!"},null,0]
[null,null,null,null,null,null,null,null,null,null,null,null,null,null,{"$error":"#DIV/0!"},null,0]
[null,null,null,null,null,null,null,null,null,null,null,null,null,null,{"$error":"#DIV/0!"},null,0]
[null,null,null,null,null,null,null,null,null,null,null,null,null,null,{"$error":"#DIV/0!"},null,0]
[null,null,null,null,null,null,null,null,null,null,null,null,null,null,{"$error":"#DIV/0!"},null,0]
[null,null,null,null,null,null,null,null,null,null,null,null,null,null,{"$error":"#DIV/0!"},null,0]
[null,null,null,null,null,null,null,null,null,null,null,null,null,null,{"$error":"#DIV/0!"},null,0]
[null,null,null,null,null,null,null,null,null,null,null,null,null,null,{"$error":"#DIV/0!"},null,0]
[null,null,null,null,null,null,null,null,null,null,null,null,null,null,{"$error":"#DIV/0!"},null,0]
[null,null,null,null,null,null,null,null,null,null,null,null,null,null,{"$error":"#DIV/0!"},null,0]
[null,null,null,null,null,null,null,null,null,null,null,null,null,null,{"$error":"#DIV/0!"},null,0]
[null,null,null,null,null,null,null,null,null,null,null,null,null,null,{"$error":"#DIV/0!"},null,0]
[null,null,null,null,null,null,null,null,null,null,null,null,null,null,{"$error":"#DIV/0!"},null,0]
[null,null,null,null,null,null,null,null,null,null,null,null,null,null,{"$error":"#DIV/0!"},null,0]
[null,null,null,null,null,null,null,null,null,null,null,null,null,null,{"$error":"#DIV/0!"},null,0]
[null,null,null,null,null,null,null,null,null,null,null,null,null,null,{"$error":"#DIV/0!"},null,0]
[null,null,null,null,null,null,null,null,null,null,null,null,null,null,{"$error":"#DIV/0!"},null,0]
[null,null,null,null,null,null,null,null,null,null,null,null,null,null,{"$error":"#DIV/0!"},null,0]
[null,null,null,null,null,null,null,null,null,null,null,null,null,null,{"$error":"#DIV/0!"},null,0]
[null,null,null,null,null,null,null,null,null,null,null,null,null,null,{"$error":"#DIV/0!"},null,0]
[null,null,null,null,null,null,null,null,null,null,null,null,null,null,{"$error":"#DIV/0!"},null,0]
[null,null,null,null,null,null,null,null,null,null,null,null,null,null,{"$error":"#DIV/0!"},null,0]
[null,null,null,null,null,null,null,null,null,null,null,null,null,null,{"$error":"#DIV/0!"},null,0]
[null,null,null,null,null,null,null,null,null,null,null,null,null,null,{"$error":"#DIV/0!"},null,0]
[null,null,null,null,null,null,null,null,null,null,null,null,null,null,{"$error":"#DIV/0!"},null,0]
[null,null,null,null,null,null,null,null,null,null,null,null,null,null,{"$error":"#DIV/0!"},null,0]
[null,null,null,null,null,null,null,null,null,null,null,null,null,null,{"$error":"#DIV/0!"},null,0]
[null,null,null,null,null,null,null,null,null,null,null,null,null,null,{"$error":"#DIV/0!"},null,0]
[null,null,null,null,null,null,null,null,null,null,null,null,null,null,{"$error":"#DIV/0!"},null,0]
[null,null,null,null,null,null,null,null,null,null,null,null,null,null,{"$error":"#DIV/0!"},null,0]
[null,null,null,null,null,null,null,null,null,null,null,null,null,null,{"$error":"#DIV/0!"},null,0]
[null,null,null,null,null,null,null,null,null,null,null,null,null,null,{"$error":"#DIV/0!"},null,0]
[null,null,null,null,null,null,null,null,null,null,null,null,null,null,{"$error":"#DIV/0!"},null,0]
[null,null,null,null,null,null,null,null,null,null,null,null,null,null,{"$error":"#DIV/0!"},null,0]
[null,null,null,null,null,null,null,null,null,null,null,null,null,null,{"$error":"#DIV/0!"},null,0]
[null,null,null,null,null,null,null,null,null,null,null,null,null,null,{"$error":"#DIV/0!"},null,0]
[null,null,null,null,null,null,null,null,null,null,null,null,null,null,{"$error":"#DIV/0!"},null,0]
[null,null,null,null,null,null,null,null,null,null,null,null,null,null,{"$error":"#DIV/0!"},null,0]
[null,null,null,null,null,null,null,null,null,null,null,null,null,null,{"$error":"#DIV/0!"},null,0]
[null,null,null,null,null,null,null,null,null,null,null,null,null,null,{"$error":"#DIV/0!"},null,0]
[null,null,null,null,null,null,null,null,null,null,null,null,null,null,{"$error":"#DIV/0!"},null,0]
[null,null,null,null,null,null,null,null,null,null,null,null,null,null,{"$error":"#DIV/0!"},null,0]
[null,null,null,null,null,null,null,null,null,null,null,null,null,null,{"$error":"#DIV/0!"},null,0]
[null,null,null,null,null,null,null,null,null,null,null,null,null,null,{"$error":"#DIV/0!"},null,0]
[null,null,null,null,null,null,null,null,null,null,null,null,null,null,{"$error":"#DIV/0!"},null,0]
[null,null,null,null,null,null,null,null,null,null,null,null,null,null,{"$f":"N833031/M833031","v":{"$error":"#DIV/0!"}},null,{"$f":"C833031*P833031","v":0}]
[null,null,null,null,null,null,null,null,null,null,null,null,null,null,{"$error":"#DIV/0!"},null,0]
[null,null,null,null,null,null,null,null,null,null,null,null,null,null,{"$error":"#DIV/0!"},null,0]
[null,null,null,null,null,null,null,null,null,null,null,null,null,null,{"$error":"#DIV/0!"},null,0]
[null,null,null,null,null,null,null,null,null,null,null,null,null,null,{"$error":"#DIV/0!"},null,0]
[null,null,null,null,null,null,null,null,null,null,null,null,null,null,{"$error":"#DIV/0!"},null,0]
[null,null,null,null,null,null,null,null,null,null,null,null,null,null,{"$error":"#DIV/0!"},null,0]
[null,null,null,null,null,null,null,null,null,null,null,null,null,null,{"$error":"#DIV/0!"},null,0]
[null,null,null,null,null,null,null,null,null,null,null,null,null,null,{"$error":"#DIV/0!"},null,0]
[null,null,null,null,null,null,null,null,null,null,null,null,null,null,{"$error":"#DIV/0!"},null,0]
[null,null,null,null,null,null,null,null,null,null,null,null,null,null,{"$error":"#DIV/0!"},null,0]
[null,null,null,null,null,null,null,null,null,null,null,null,null,null,{"$error":"#DIV/0!"},null,0]
[null,null,null,null,null,null,null,null,null,null,null,null,null,null,{"$error":"#DIV/0!"},null,0]
[null,null,null,null,null,null,null,null,null,null,null,null,null,null,{"$error":"#DIV/0!"},null,0]
[null,null,null,null,null,null,null,null,null,null,null,null,null,null,{"$error":"#DIV/0!"},null,0]
[null,null,null,null,null,null,null,null,null,null,null,null,null,null,{"$error":"#DIV/0!"},null,0]
[null,null,null,null,null,null,null,null,null,null,null,null,null,null,{"$error":"#DIV/0!"},null,0]
[null,null,null,null,null,null,null,null,null,null,null,null,null,null,{"$error":"#DIV/0!"},null,0]
[null,null,null,null,null,null,null,null,null,null,null,null,null,null,{"$error":"#DIV/0!"},null,0]
[null,null,null,null,null,null,null,null,null,null,null,null,null,null,{"$error":"#DIV/0!"},null,0]
[null,null,null,null,null,null,null,null,null,null,null,null,null,null,{"$error":"#DIV/0!"},null,0]
[null,null,null,null,null,null,null,null,null,null,null,null,null,null,{"$error":"#DIV/0!"},null,0]
[null,null,null,null,null,null,null,null,null,null,null,null,null,null,{"$error":"#DIV/0!"},null,0]
[null,null,null,null,null,null,null,null,null,null,null,null,null,null,{"$error":"#DIV/0!"},null,0]
[null,null,null,null,null,null,null,null,null,null,null,null,null,null,{"$error":"#DIV/0!"},null,0]
[null,null,null,null,null,null,null,null,null,null,null,null,null,null,{"$error":"#DIV/0!"},null,0]
[null,null,null,null,null,null,null,null,null,null,null,null,null,null,{"$error":"#DIV/0!"},null,0]
[null,null,null,null,null,null,null,null,null,null,null,null,null,null,{"$error":"#DIV/0!"},null,0]
[null,null,null,null,null,null,null,null,null,null,null,null,null,null,{"$error":"#DIV/0!"},null,0]
[null,null,null,null,null,null,null,null,null,null,null,null,null,null,{"$error":"#DIV/0!"},null,0]
[null,null,null,null,null,null,null,null,null,null,null,null,null,null,{"$error":"#DIV/0!"},null,0]
[null,null,null,null,null,null,null,null,null,null,null,null,null,null,{"$error":"#DIV/0!"},null,0]
[null,null,null,null,null,null,null,null,null,null,null,null,null,null,{"$error":"#DIV/0!"},null,0]
[null,null,null,null,null,null,null,null,null,null,null,null,null,null,{"$error":"#DIV/0!"},null,0]
[null,null,null,null,null,null,null,null,null,null,null,null,null,null,{"$error":"#DIV/0!"},null,0]
[null,null,null,null,null,null,null,null,null,null,null,null,null,null,{"$error":"#DIV/0!"},null,0]
[null,null,null,null,null,null,null,null,null,null,null,null,null,null,{"$error":"#DIV/0!"},null,0]
[null,null,null,null,null,null,null,null,null,null,null,null,null,null,{"$error":"#DIV/0!"},null,0]
[null,null,null,null,null,null,null,null,null,null,null,null,null,null,{"$error":"#DIV/0!"},null,0]
[null,null,null,null,null,null,null,null,null,null,null,null,null,null,{"$f":"N853383/M853383","v":{"$error":"#DIV/0!"}},null,{"$f":"C853383*P853383","v":0}]
[null,null,null,null,null,null,null,null,null,null,null,null,null,null,{"$error":"#DIV/0!"},null,0]
[null,null,null,null,null,null,null,null,null,null,null,null,null,null,{"$error":"#DIV/0!"},null,0]
[null,null,null,null,null,null,null,null,null,null,null,null,null,null,{"$error":"#DIV/0!"},null,0]
[null,null,null,null,null,null,null,null,null,null,null,null,null,null,{"$error":"#DIV/0!"},null,0]
[null,null,null,null,null,null,null,null,null,null,null,null,null,null,{"$error":"#DIV/0!"},null,0]
[null,null,null,null,null,null,null,null,null,null,null,null,null,null,{"$error":"#DIV/0!"},null,0]
[null,null,null,null,null,null,null,null,null,null,null,null,null,null,{"$error":"#DIV/0!"},null,0]
[null,null,null,null,null,null,null,null,null,null,null,null,null,null,{"$error":"#DIV/0!"},null,0]
[null,null,null,null,null,null,null,null,null,null,null,null,null,null,{"$error":"#DIV/0!"},null,0]
[null,null,null,null,null,null,null,null,null,null,null,null,null,null,{"$error":"#DIV/0!"},null,0]
[null,null,null,null,null,null,null,null,null,null,null,null,null,null,{"$error":"#DIV/0!"},null,0]
[null,null,null,null,null,null,null,null,null,null,null,null,null,null,{"$error":"#DIV/0!"},null,0]
[null,null,null,null,null,null,null,null,null,null,null,null,null,null,{"$error":"#DIV/0!"},null,0]
[null,null,null,null,null,null,null,null,null,null,null,null,null,null,{"$error":"#DIV/0!"},null,0]
[null,null,null,null,null,null,null,null,null,null,null,null,null,null,{"$error":"#DIV/0!"},null,0]
[null,null,null,null,null,null,null,null,null,null,null,null,null,null,{"$error":"#DIV/0!"},null,0]
[null,null,null,null,null,null,null,null,null,null,null,null,null,null,{"$error":"#DIV/0!"},null,0]
[null,null,null,null,null,null,null,null,null,null,null,null,null,null,{"$error":"#DIV/0!"},null,0]
[null,null,null,null,null,null,null,null,null,null,null,null,null,null,{"$error":"#DIV/0!"},null,0]
[null,null,null,null,null,null,null,null,null,null,null,null,null,null,{"$error":"#DIV/0!"},null,0]
[null,null,null,null,null,null,null,null,null,null,null,null,null,null,{"$error":"#DIV/0!"},null,0]
[null,null,null,null,null,null,null,null,null,null,null,null,null,null,{"$error":"#DIV/0!"},null,0]
[null,null,null,null,null,null,null,null,null,null,null,null,null,null,{"$error":"#DIV/0!"},null,0]
[null,null,null,null,null,null,null,null,null,null,null,null,null,null,{"$error":"#DIV/0!"},null,0]
[null,null,null,null,null,null,null,null,null,null,null,null,null,null,{"$error":"#DIV/0!"},null,0]
[null,null,null,null,null,null,null,null,null,null,null,null,null,null,{"$error":"#DIV/0!"},null,0]
[null,null,null,null,null,null,null,null,null,null,null,null,null,null,{"$error":"#DIV/0!"},null,0]
[null,null,null,null,null,null,null,null,null,null,null,null,null,null,{"$error":"#DIV/0!"},null,0]
[null,null,null,null,null,null,null,null,null,null,null,null,null,null,{"$error":"#DIV/0!"},null,0]
[null,null,null,null,null,null,null,null,null,null,null,null,null,null,{"$error":"#DIV/0!"},null,0]
[null,null,null,null,null,null,null,null,null,null,null,null,null,null,{"$error":"#DIV/0!"},null,0]
[null,null,null,null,null,null,null,null,null,null,null,null,null,null,{"$error":"#DIV/0!"},null,0]
[null,null,null,null,null,null,null,null,null,null,null,null,null,null,{"$error":"#DIV/0!"},null,0]
[null,null,null,null,null,null,null,null,null,null,null,null,null,null,{"$error":"#DIV/0!"},null,0]
[null,null,null,null,null,null,null,null,null,null,null,null,null,null,{"$error":"#DIV/0!"},null,0]
[null,null,null,null,null,null,null,null,null,null,null,null,null,null,{"$error":"#DIV/0!"},null,0]
[null,null,null,null,null,null,null,null,null,null,null,null,null,null,{"$error":"#DIV/0!"},null,0]
[null,null,null,null,null,null,null,null,null,null,null,null,null,null,{"$error":"#DIV/0!"},null,0]
[null,null,null,null,null,null,null,null,null,null,null,null,null,null,{"$error":"#DIV/0!"},null,0]
[null,null,null,null,null,null,null,null,null,null,null,null,null,null,{"$error":"#DIV/0!"},null,0]
[null,null,null,null,null,null,null,null,null,null,null,null,null,null,{"$error":"#DIV/0!"},null,0]
[null,null,null,null,null,null,null,null,null,null,null,null,null,null,{"$error":"#DIV/0!"},null,0]
[null,null,null,null,null,null,null,null,null,null,null,null,null,null,{"$error":"#DIV/0!"},null,0]
[null,null,null,null,null,null,null,null,null,null,null,null,null,null,{"$error":"#DIV/0!"},null,0]
[null,null,null,null,null,null,null,null,null,null,null,null,null,null,{"$error":"#DIV/0!"},null,0]
[null,null,null,null,null,null,null,null,null,null,null,null,null,null,{"$error":"#DIV/0!"},null,0]
[null,null,null,null,null,null,null,null,null,null,null,null,null,null,{"$error":"#DIV/0!"},null,0]
[null,null,null,null,null,null,null,null,null,null,null,null,null,null,{"$error":"#DIV/0!"},null,0]
[null,null,null,null,null,null,null,null,null,null,null,null,null,null,{"$error":"#DIV/0!"},null,0]
[null,null,null,null,null,null,null,null,null,null,null,null,null,null,{"$error":"#DIV/0!"},null,0]
[null,null,null,null,null,null,null,null,null,null,null,null,null,null,{"$error":"#DIV/0!"},null,0]
[null,null,null,null,null,null,null,null,null,null,null,null,null,null,{"$error":"#DIV/0!"},null,0]
[null,null,null,null,null,null,null,null,null,null,null,null,null,null,{"$error":"#DIV/0!"},null,0]
[null,null,null,null,null,null,null,null,null,null,null,null,null,null,{"$error":"#DIV/0!"},null,0]
[null,null,null,null,null,null,null,null,null,null,null,null,null,null,{"$error":"#DIV/0!"},null,0]
[null,null,null,null,null,null,null,null,null,null,null,null,null,null,{"$error":"#DIV/0!"},null,0]
[null,null,null,null,null,null,null,null,null,null,null,null,null,null,{"$error":"#DIV/0!"},null,0]
[null,null,null,null,null,null,null,null,null,null,null,null,null,null,{"$f":"N883655/M883655","v":{"$error":"#DIV/0!"}},null,{"$f":"C883655*P883655","v":0}]
[null,null,null,null,null,null,null,null,null,null,null,null,null,null,{"$error":"#DIV/0!"},null,0]
[null,null,null,null,null,null,null,null,null,null,null,null,null,null,{"$error":"#DIV/0!"},null,0]
[null,null,null,null,null,null,null,null,null,null,null,null,null,null,{"$error":"#DIV/0!"},null,0]
[null,null,null,null,null,null,null,null,null,null,null,null,null,null,{"$error":"#DIV/0!"},null,0]
[null,null,null,null,null,null,null,null,null,null,null,null,null,null,{"$error":"#DIV/0!"},null,0]
[null,null,null,null,null,null,null,null,null,null,null,null,null,null,{"$error":"#DIV/0!"},null,0]
[null,null,null,null,null,null,null,null,null,null,null,null,null,null,{"$error":"#DIV/0!"},null,0]
[null,null,null,null,null,null,null,null,null,null,null,null,null,null,{"$error":"#DIV/0!"},null,0]
[null,null,null,null,null,null,null,null,null,null,null,null,null,null,{"$error":"#DIV/0!"},null,0]
[null,null,null,null,null,null,null,null,null,null,null,null,null,null,{"$error":"#DIV/0!"},null,0]
[null,null,null,null,null,null,null,null,null,null,null,null,null,null,{"$error":"#DIV/0!"},null,0]
[null,null,null,null,null,null,null,null,null,null,null,null,null,null,{"$error":"#DIV/0!"},null,0]
[null,null,null,null,null,null,null,null,null,null,null,null,null,null,{"$error":"#DIV/0!"},null,0]
[null,null,null,null,null,null,null,null,null,null,null,null,null,null,{"$error":"#DIV/0!"},null,0]
[null,null,null,null,null,null,null,null,null,null,null,null,null,null,{"$error":"#DIV/0!"},null,0]
[null,null,null,null,null,null,null,null,null,null,null,null,null,null,{"$error":"#DIV/0!"},null,0]
[null,null,null,null,null,null,null,null,null,null,null,null,null,null,{"$error":"#DIV/0!"},null,0]
[null,null,null,null,null,null,null,null,null,null,null,null,null,null,{"$error":"#DIV/0!"},null,0]
[null,null,null,null,null,null,null,null,null,null,null,null,null,null,{"$error":"#DIV/0!"},null,0]
[null,null,null,null,null,null,null,null,null,null,null,null,null,null,{"$error":"#DIV/0!"},null,0]
[null,null,null,null,null,null,null,null,null,null,null,null,null,null,{"$error":"#DIV/0!"},null,0]
[null,null,null,null,null,null,null,null,null,null,null,null,null,null,{"$error":"#DIV/0!"},null,0]
[null,null,null,null,null,null,null,null,null,null,null,null,null,null,{"$error":"#DIV/0!"},null,0]
[null,null,null,null,null,null,null,null,null,null,null,null,null,null,{"$error":"#DIV/0!"},null,0]
[null,null,null,null,null,null,null,null,null,null,null,null,null,null,{"$error":"#DIV/0!"},null,0]
[null,null,null,null,null,null,null,null,null,null,null,null,null,null,{"$error":"#DIV/0!"},null,0]
[null,null,null,null,null,null,null,null,null,null,null,null,null,null,{"$error":"#DIV/0!"},null,0]
[null,null,null,null,null,null,null,null,null,null,null,null,null,null,{"$error":"#DIV/0!"},null,0]
[null,null,null,null,null,null,null,null,null,null,null,null,null,null,{"$error":"#DIV/0!"},null,0]
[null,null,null,null,null,null,null,null,null,null,null,null,null,null,{"$error":"#DIV/0!"},null,0]
[null,null,null,null,null,null,null,null,null,null,null,null,null,null,{"$error":"#DIV/0!"},null,0]
[null,null,null,null,null,null,null,null,null,null,null,null,null,null,{"$error":"#DIV/0!"},null,0]
[null,null,null,null,null,null,null,null,null,null,null,null,null,null,{"$error":"#DIV/0!"},null,0]
[null,null,null,null,null,null,null,null,null,null,null,null,null,null,{"$error":"#DIV/0!"},null,0]
[null,null,null,null,null,null,null,null,null,null,null,null,null,null,{"$error":"#DIV/0!"},null,0]
[null,null,null,null,null,null,null,null,null,null,null,null,null,null,{"$error":"#DIV/0!"},null,0]
[null,null,null,null,null,null,null,null,null,null,null,null,null,null,{"$error":"#DIV/0!"},null,0]
[null,null,null,null,null,null,null,null,null,null,null,null,null,null,{"$error":"#DIV/0!"},null,0]
[null,null,null,null,null,null,null,null,null,null,null,null,null,null,{"$f":"N904007/M904007","v":{"$error":"#DIV/0!"}},null,{"$f":"C904007*P904007","v":0}]
[null,null,null,null,null,null,null,null,null,null,null,null,null,null,{"$error":"#DIV/0!"},null,0]
[null,null,null,null,null,null,null,null,null,null,null,null,null,null,{"$error":"#DIV/0!"},null,0]
[null,null,null,null,null,null,null,null,null,null,null,null,null,null,{"$error":"#DIV/0!"},null,0]
[null,null,null,null,null,null,null,null,null,null,null,null,null,null,{"$error":"#DIV/0!"},null,0]
[null,null,null,null,null,null,null,null,null,null,null,null,null,null,{"$error":"#DIV/0!"},null,0]
[null,null,null,null,null,null,null,null,null,null,null,null,null,null,{"$error":"#DIV/0!"},null,0]
[null,null,null,null,null,null,null,null,null,null,null,null,null,null,{"$error":"#DIV/0!"},null,0]
[null,null,null,null,null,null,null,null,null,null,null,null,null,null,{"$error":"#DIV/0!"},null,0]
[null,null,null,null,null,null,null,null,null,null,null,null,null,null,{"$error":"#DIV/0!"},null,0]
[null,null,null,null,null,null,null,null,null,null,null,null,null,null,{"$error":"#DIV/0!"},null,0]
[null,null,null,null,null,null,null,null,null,null,null,null,null,null,{"$error":"#DIV/0!"},null,0]
[null,null,null,null,null,null,null,null,null,null,null,null,null,null,{"$f":"N910407/M910407","v":{"$error":"#DIV/0!"}},null,{"$f":"C910407*P910407","v":0}]
[null,null,null,null,null,null,null,null,null,null,null,null,null,null,{"$error":"#DIV/0!"},null,0]
[null,null,null,null,null,null,null,null,null,null,null,null,null,null,{"$error":"#DIV/0!"},null,0]
[null,null,null,null,null,null,null,null,null,null,null,null,null,null,{"$error":"#DIV/0!"},null,0]
[null,null,null,null,null,null,null,null,null,null,null,null,null,null,{"$error":"#DIV/0!"},null,0]
[null,null,null,null,null,null,null,null,null,null,null,null,null,null,{"$error":"#DIV/0!"},null,0]
[null,null,null,null,null,null,null,null,null,null,null,null,null,null,{"$error":"#DIV/0!"},null,0]
[null,null,null,null,null,null,null,null,null,null,null,null,null,null,{"$error":"#DIV/0!"},null,0]
[null,null,null,null,null,null,null,null,null,null,null,null,null,null,{"$error":"#DIV/0!"},null,0]
[null,null,null,null,null,null,null,null,null,null,null,null,null,null,{"$error":"#DIV/0!"},null,0]
[null,null,null,null,null,null,null,null,null,null,null,null,null,null,{"$error":"#DIV/0!"},null,0]
[null,null,null,null,null,null,null,null,null,null,null,null,null,null,{"$error":"#DIV/0!"},null,0]
[null,null,null,null,null,null,null,null,null,null,null,null,null,null,{"$error":"#DIV/0!"},null,0]
[null,null,null,null,null,null,null,null,null,null,null,null,null,null,{"$error":"#DIV/0!"},null,0]
[null,null,null,null,null,null,null,null,null,null,null,null,null,null,{"$error":"#DIV/0!"},null,0]
[null,null,null,null,null,null,null,null,null,null,null,null,null,null,{"$error":"#DIV/0!"},null,0]
[null,null,null,null,null,null,null,null,null,null,null,null,null,null,{"$error":"#DIV/0!"},null,0]
[null,null,null,null,null,null,null,null,null,null,null,null,null,null,{"$error":"#DIV/0!"},null,0]
[null,null,null,null,null,null,null,null,null,null,null,null,null,null,{"$error":"#DIV/0!"},null,0]
[null,null,null,null,null,null,null,null,null,null,null,null,null,null,{"$error":"#DIV/0!"},null,0]
[null,null,null,null,null,null,null,null,null,null,null,null,null,null,{"$error":"#DIV/0!"},null,0]
[null,null,null,null,null,null,null,null,null,null,null,null,null,null,{"$error":"#DIV/0!"},null,0]
[null,null,null,null,null,null,null,null,null,null,null,null,null,null,{"$error":"#DIV/0!"},null,0]
[null,null,null,null,null,null,null,null,null,null,null,null,null,null,{"$error":"#DIV/0!"},null,0]
[null,null,null,null,null,null,null,null,null,null,null,null,null,null,{"$error":"#DIV/0!"},null,0]
[null,null,null,null,null,null,null,null,null,null,null,null,null,null,{"$error":"#DIV/0!"},null,0]
[null,null,null,null,null,null,null,null,null,null,null,null,null,null,{"$error":"#DIV/0!"},null,0]
[null,null,null,null,null,null,null,null,null,null,null,null,null,null,{"$error":"#DIV/0!"},null,0]
[null,null,null,null,null,null,null,null,null,null,null,null,null,null,{"$error":"#DIV/0!"},null,0]
[null,null,null,null,null,null,null,null,null,null,null,null,null,null,{"$error":"#DIV/0!"},null,0]
[null,null,null,null,null,null,null,null,null,null,null,null,null,null,{"$error":"#DIV/0!"},null,0]
[null,null,null,null,null,null,null,null,null,null,null,null,null,null,{"$error":"#DIV/0!"},null,0]
[null,null,null,null,null,null,null,null,null,null,null,null,null,null,{"$error":"#DIV/0!"},null,0]
[null,null,null,null,null,null,null,null,null,null,null,null,null,null,{"$error":"#DIV/0!"},null,0]
[null,null,null,null,null,null,null,null,null,null,null,null,null,null,{"$error":"#DIV/0!"},null,0]
[null,null,null,null,null,null,null,null,null,null,null,null,null,null,{"$error":"#DIV/0!"},null,0]
[null,null,null,null,null,null,null,null,null,null,null,null,null,null,{"$error":"#DIV/0!"},null,0]
[null,null,null,null,null,null,null,null,null,null,null,null,null,null,{"$error":"#DIV/0!"},null,0]
[null,null,null,null,null,null,null,null,null,null,null,null,null,null,{"$error":"#DIV/0!"},null,0]
[null,null,null,null,null,null,null,null,null,null,null,null,null,null,{"$error":"#DIV/0!"},null,0]
[null,null,null,null,null,null,null,null,null,null,null,null,null,null,{"$error":"#DIV/0!"},null,0]
[null,null,null,null,null,null,null,null,null,null,null,null,null,null,{"$error":"#DIV/0!"},null,0]
[null,null,null,null,null,null,null,null,null,null,null,null,null,null,{"$error":"#DIV/0!"},null,0]
[null,null,null,null,null,null,null,null,null,null,null,null,null,null,{"$error":"#DIV/0!"},null,0]
[null,null,null,null,null,null,null,null,null,null,null,null,null,null,{"$error":"#DIV/0!"},null,0]
[null,null,null,null,null,null,null,null,null,null,null,null,null,null,{"$error":"#DIV/0!"},null,0]
[null,null,null,null,null,null,null,null,null,null,null,null,null,null,{"$error":"#DIV/0!"},null,0]
[null,null,null,null,null,null,null,null,null,null,null,null,null,null,{"$error":"#DIV/0!"},null,0]
[null,null,null,null,null,null,null,null,null,null,null,null,null,null,{"$error":"#DIV/0!"},null,0]
[null,null,null,null,null,null,null,null,null,null,null,null,null,null,{"$error":"#DIV/0!"},null,0]
[null,null,null,null,null,null,null,null,null,null,null,null,null,null,{"$error":"#DIV/0!"},null,0]
[null,null,null,null,null,null,null,null,null,null,null,null,null,null,{"$error":"#DIV/0!"},null,0]
[null,null,null,null,null,null,null,null,null,null,null,null,null,null,{"$error":"#DIV/0!"},null,0]
[null,null,null,null,null,null,null,null,null,null,null,null,null,null,{"$error":"#DIV/0!"},null,0]
[null,null,null,null,null,null,null,null,null,null,null,null,null,null,{"$error":"#DIV/0!"},null,0]
[null,null,null,null,null,null,null,null,null,null,null,null,null,null,{"$error":"#DIV/0!"},null,0]
[null,null,null,null,null,null,null,null,null,null,null,null,null,null,{"$error":"#DIV/0!"},null,0]
[null,null,null,null,null,null,null,null,null,null,null,null,null,null,{"$error":"#DIV/0!"},null,0]
[null,null,null,null,null,null,null,null,null,null,null,null,null,null,{"$error":"#DIV/0!"},null,0]
[null,null,null,null,null,null,null,null,null,null,null,null,null,null,{"$error":"#DIV/0!"},null,0]
[null,null,null,null,null,null,null,null,null,null,null,null,null,null,{"$error":"#DIV/0!"},null,0]
[null,null,null,null,null,null,null,null,null,null,null,null,null,null,{"$error":"#DIV/0!"},null,0]
[null,null,null,null,null,null,null,null,null,null,null,null,null,null,{"$error":"#DIV/0!"},null,0]
[null,null,null,null,null,null,null,null,null,null,null,null,null,null,{"$error":"#DIV/0!"},null,0]
[null,null,null,null,null,null,null,null,null,null,null,null,null,null,{"$error":"#DIV/0!"},null,0]
[null,null,null,null,null,null,null,null,null,null,null,null,null,null,{"$error":"#DIV/0!"},null,0]
[null,null,null,null,null,null,null,null,null,null,null,null,null,null,{"$error":"#DIV/0!"},null,0]
[null,null,null,null,null,null,null,null,null,null,null,null,null,null,{"$error":"#DIV/0!"},null,0]
[null,null,null,null,null,null,null,null,null,null,null,null,null,null,{"$error":"#DIV/0!"},null,0]
[null,null,null,null,null,null,null,null,null,null,null,null,null,null,{"$error":"#DIV/0!"},null,0]
[null,null,null,null,null,null,null,null,null,null,null,null,null,null,{"$error":"#DIV/0!"},null,0]
[null,null,null,null,null,null,null,null,null,null,null,null,null,null,{"$error":"#DIV/0!"},null,0]
[null,null,null,null,null,null,null,null,null,null,null,null,null,null,{"$error":"#DIV/0!"},null,0]
[null,null,null,null,null,null,null,null,null,null,null,null,null,null,{"$error":"#DIV/0!"},null,0]
[null,null,null,null,null,null,null,null,null,null,null,null,null,null,{"$error":"#DIV/0!"},null,0]
[null,null,null,null,null,null,null,null,null,null,null,null,null,null,{"$error":"#DIV/0!"},null,0]
[null,null,null,null,null,null,null,null,null,null,null,null,null,null,{"$error":"#DIV/0!"},null,0]
[null,null,null,null,null,null,null,null,null,null,null,null,null,null,{"$error":"#DIV/0!"},null,0]
[null,null,null,null,null,null,null,null,null,null,null,null,null,null,{"$error":"#DIV/0!"},null,0]
[null,null,null,null,null,null,null,null,null,null,null,null,null,null,{"$error":"#DIV/0!"},null,0]
[null,null,null,null,null,null,null,null,null,null,null,null,null,null,{"$error":"#DIV/0!"},null,0]
[null,null,null,null,null,null,null,null,null,null,null,null,null,null,{"$error":"#DIV/0!"},null,0]
[null,null,null,null,null,null,null,null,null,null,null,null,null,null,{"$error":"#DIV/0!"},null,0]
[null,null,null,null,null,null,null,null,null,null,null,null,null,null,{"$error":"#DIV/0!"},null,0]
[null,null,null,null,null,null,null,null,null,null,null,null,null,null,{"$error":"#DIV/0!"},null,0]
[null,null,null,null,null,null,null,null,null,null,null,null,null,null,{"$f":"N954631/M954631","v":{"$error":"#DIV/0!"}},null,{"$f":"C954631*P954631","v":0}]
[null,null,null,null,null,null,null,null,null,null,null,null,null,null,{"$error":"#DIV/0!"},null,0]
[null,null,null,null,null,null,null,null,null,null,null,null,null,null,{"$error":"#DIV/0!"},null,0]
[null,null,null,null,null,null,null,null,null,null,null,null,null,null,{"$error":"#DIV/0!"},null,0]
[null,null,null,null,null,null,null,null,null,null,null,null,null,null,{"$error":"#DIV/0!"},null,0]
[null,null,null,null,null,null,null,null,null,null,null,null,null,null,{"$error":"#DIV/0!"},null,0]
[null,null,null,null,null,null,null,null,null,null,null,null,null,null,{"$error":"#DIV/0!"},null,0]
[null,null,null,null,null,null,null,null,null,null,null,null,null,null,{"$error":"#DIV/0!"},null,0]
[null,null,null,null,null,null,null,null,null,null,null,null,null,null,{"$error":"#DIV/0!"},null,0]
[null,null,null,null,null,null,null,null,null,null,null,null,null,null,{"$error":"#DIV/0!"},null,0]
[null,null,null,null,null,null,null,null,null,null,null,null,null,null,{"$error":"#DIV/0!"},null,0]
[null,null,null,null,null,null,null,null,null,null,null,null,null,null,{"$error":"#DIV/0!"},null,0]
[null,null,null,null,null,null,null,null,null,null,null,null,null,null,{"$error":"#DIV/0!"},null,0]
[null,null,null,null,null,null,null,null,null,null,null,null,null,null,{"$error":"#DIV/0!"},null,0]
[null,null,null,null,null,null,null,null,null,null,null,null,null,null,{"$error":"#DIV/0!"},null,0]
[null,null,null,null,null,null,null,null,null,null,null,null,null,null,{"$error":"#DIV/0!"},null,0]
[null,null,null,null,null,null,null,null,null,null,null,null,null,null,{"$error":"#DIV/0!"},null,0]
[null,null,null,null,null,null,null,null,null,null,null,null,null,null,{"$error":"#DIV/0!"},null,0]
[null,null,null,null,null,null,null,null,null,null,null,null,null,null,{"$error":"#DIV/0!"},null,0]
[null,null,null,null,null,null,null,null,null,null,null,null,null,null,{"$error":"#DIV/0!"},null,0]
[null,null,null,null,null,null,null,null,null,null,null,null,null,null,{"$error":"#DIV/0!"},null,0]
[null,null,null,null,null,null,null,null,null,null,null,null,null,null,{"$error":"#DIV/0!"},null,0]
[null,null,null,null,null,null,null,null,null,null,null,null,null,null,{"$error":"#DIV/0!"},null,0]
[null,null,null,null,null,null,null,null,null,null,null,null,null,null,{"$error":"#DIV/0!"},null,0]
[null,null,null,null,null,null,null,null,null,null,null,null,null,null,{"$error":"#DIV/0!"},null,0]
[null,null,null,null,null,null,null,null,null,null,null,null,null,null,{"$error":"#DIV/0!"},null,0]
[null,null,null,null,null,null,null,null,null,null,null,null,null,null,{"$error":"#DIV/0!"},null,0]
[null,null,null,null,null,null,null,null,null,null,null,null,null,null,{"$error":"#DIV/0!"},null,0]
[null,null,null,null,null,null,null,null,null,null,null,null,null,null,{"$error":"#DIV/0!"},null,0]
[null,null,null,null,null,null,null,null,null,null,null,null,null,null,{"$error":"#DIV/0!"},null,0]
[null,null,null,null,null,null,null,null,null,null,null,null,null,null,{"$error":"#DIV/0!"},null,0]
[null,null,null,null,null,null,null,null,null,null,null,null,null,null,{"$error":"#DIV/0!"},null,0]
[null,null,null,null,null,null,null,null,null,null,null,null,null,null,{"$error":"#DIV/0!"},null,0]
[null,null,null,null,null,null,null,null,null,null,null,null,null,null,{"$error":"#DIV/0!"},null,0]
[null,null,null,null,null,null,null,null,null,null,null,null,null,null,{"$error":"#DIV/0!"},null,0]
[null,null,null,null,null,null,null,null,null,null,null,null,null,null,{"$error":"#DIV/0!"},null,0]
[null,null,null,null,null,null,null,null,null,null,null,null,null,null,{"$error":"#DIV/0!"},null,0]
[null,null,null,null,null,null,null,null,null,null,null,null,null,null,{"$error":"#DIV/0!"},null,0]
[null,null,null,null,null,null,null,null,null,null,null,null,null,null,{"$error":"#DIV/0!"},null,0]
[null,null,null,null,null,null,null,null,null,null,null,null,null,null,{"$f":"N974983/M974983","v":{"$error":"#DIV/0!"}},null,{"$f":"C974983*P974983","v":0}]
[null,null,null,null,null,null,null,null,null,null,null,null,null,null,{"$error":"#DIV/0!"},null,0]
[null,null,null,null,null,null,null,null,null,null,null,null,null,null,{"$error":"#DIV/0!"},null,0]
[null,null,null,null,null,null,null,null,null,null,null,null,null,null,{"$error":"#DIV/0!"},null,0]
[null,null,null,null,null,null,null,null,null,null,null,null,null,null,{"$error":"#DIV/0!"},null,0]
[null,null,null,null,null,null,null,null,null,null,null,null,null,null,{"$error":"#DIV/0!"},null,0]
[null,null,null,null,null,null,null,null,null,null,null,null,null,null,{"$error":"#DIV/0!"},null,0]
[null,null,null,null,null,null,null,null,null,null,null,null,null,null,{"$error":"#DIV/0!"},null,0]
[null,null,null,null,null,null,null,null,null,null,null,null,null,null,{"$error":"#DIV/0!"},null,0]
[null,null,null,null,null,null,null,null,null,null,null,null,null,null,{"$error":"#DIV/0!"},null,0]
[null,null,null,null,null,null,null,null,null,null,null,null,null,null,{"$error":"#DIV/0!"},null,0]
[null,null,null,null,null,null,null,null,null,null,null,null,null,null,{"$error":"#DIV/0!"},null,0]
[null,null,null,null,null,null,null,null,null,null,null,null,null,null,{"$error":"#DIV/0!"},null,0]
[null,null,null,null,null,null,null,null,null,null,null,null,null,null,{"$error":"#DIV/0!"},null,0]
[null,null,null,null,null,null,null,null,null,null,null,null,null,null,{"$error":"#DIV/0!"},null,0]
[null,null,null,null,null,null,null,null,null,null,null,null,null,null,{"$error":"#DIV/0!"},null,0]
[null,null,null,null,null,null,null,null,null,null,null,null,null,null,{"$error":"#DIV/0!"},null,0]
[null,null,null,null,null,null,null,null,null,null,null,null,null,null,{"$error":"#DIV/0!"},null,0]
[null,null,null,null,null,null,null,null,null,null,null,null,null,null,{"$error":"#DIV/0!"},null,0]
[null,null,null,null,null,null,null,null,null,null,null,null,null,null,{"$error":"#DIV/0!"},null,0]
[null,null,null,null,null,null,null,null,null,null,null,null,null,null,{"$error":"#DIV/0!"},null,0]
[null,null,null,null,null,null,null,null,null,null,null,null,null,null,{"$error":"#DIV/0!"},null,0]
[null,null,null,null,null,null,null,null,null,null,null,null,null,null,{"$error":"#DIV/0!"},null,0]
[null,null,null,null,null,null,null,null,null,null,null,null,null,null,{"$error":"#DIV/0!"},null,0]
[null,null,null,null,null,null,null,null,null,null,null,null,null,null,{"$error":"#DIV/0!"},null,0]
[null,null,null,null,null,null,null,null,null,null,null,null,null,null,{"$error":"#DIV/0!"},null,0]
[null,null,null,null,null,null,null,null,null,null,null,null,null,null,{"$error":"#DIV/0!"},null,0]
[null,null,null,null,null,null,null,null,null,null,null,null,null,null,{"$error":"#DIV/0!"},null,0]
[null,null,null,null,null,null,null,null,null,null,null,null,null,null,{"$error":"#DIV/0!"},null,0]
[null,null,null,null,null,null,null,null,null,null,null,null,null,null,{"$error":"#DIV/0!"},null,0]
[null,null,null,null,null,null,null,null,null,null,null,null,null,null,{"$error":"#DIV/0!"},null,0]
[null,null,null,null,null,null,null,null,null,null,null,null,null,null,{"$error":"#DIV/0!"},null,0]
[null,null,null,null,null,null,null,null,null,null,null,null,null,null,{"$error":"#DIV/0!"},null,0]
[null,null,null,null,null,null,null,null,null,null,null,null,null,null,{"$error":"#DIV/0!"},null,0]
[null,null,null,null,null,null,null,null,null,null,null,null,null,null,{"$error":"#DIV/0!"},null,0]
[null,null,null,null,null,null,null,null,null,null,null,null,null,null,{"$error":"#DIV/0!"},null,0]
[null,null,null,null,null,null,null,null,null,null,null,null,null,null,{"$error":"#DIV/0!"},null,0]
[null,null,null,null,null,null,null,null,null,null,null,null,null,null,{"$error":"#DIV/0!"},null,0]
[null,null,null,null,null,null,null,null,null,null,null,null,null,null,{"$error":"#DIV/0!"},null,0]
[null,null,null,null,null,null,null,null,null,null,null,null,null,null,{"$error":"#DIV/0!"},null,0]
[null,null,null,null,null,null,null,null,null,null,null,null,null,null,{"$error":"#DIV/0!"},null,0]
[null,null,null,null,null,null,null,null,null,null,null,null,null,null,{"$error":"#DIV/0!"},null,0]
[null,null,null,null,null,null,null,null,null,null,null,null,null,null,{"$error":"#DIV/0!"},null,0]
[null,null,null,null,null,null,null,null,null,null,null,null,null,null,{"$error":"#DIV/0!"},null,0]
[null,null,null,null,null,null,null,null,null,null,null,null,null,null,{"$error":"#DIV/0!"},null,0]
[null,null,null,null,null,null,null,null,null,null,null,null,null,null,{"$error":"#DIV/0!"},null,0]
[null,null,null,null,null,null,null,null,null,null,null,null,null,null,{"$error":"#DIV/0!"},null,0]
[null,null,null,null,null,null,null,null,null,null,null,null,null,null,{"$error":"#DIV/0!"},null,0]
[null,null,null,null,null,null,null,null,null,null,null,null,null,null,{"$error":"#DIV/0!"},null,0]
[null,null,null,null,null,null,null,null,null,null,null,null,null,null,{"$error":"#DIV/0!"},null,0]
[null,null,null,null,null,null,null,null,null,null,null,null,null,null,{"$error":"#DIV/0!"},null,0]
[null,null,null,null,null,null,null,null,null,null,null,null,null,null,{"$error":"#DIV/0!"},null,0]
[null,null,null,null,null,null,null,null,null,null,null,null,null,null,{"$error":"#DIV/0!"},null,0]
[null,null,null,null,null,null,null,null,null,null,null,null,null,null,{"$error":"#DIV/0!"},null,0]
[null,null,null,null,null,null,null,null,null,null,null,null,null,null,{"$error":"#DIV/0!"},null,0]
[null,null,null,null,null,null,null,null,null,null,null,null,null,null,{"$error":"#DIV/0!"},null,0]
[null,null,null,null,null,null,null,null,null,null,null,null,null,null,{"$error":"#DIV/0!"},null,0]
[null,null,null,null,null,null,null,null,null,null,null,null,null,null,{"$error":"#DIV/0!"},null,0]
[null,null,null,null,null,null,null,null,null,null,null,null,null,null,{"$error":"#DIV/0!"},null,0]
[null,null,null,null,null,null,null,null,null,null,null,null,null,null,{"$error":"#DIV/0!"},null,0]
[null,null,null,null,null,null,null,null,null,null,null,null,null,null,{"$error":"#DIV/0!"},null,0]
[null,null,null,null,null,null,null,null,null,null,null,null,null,null,{"$error":"#DIV/0!"},null,0]
[null,null,null,null,null,null,null,null,null,null,null,null,null,null,{"$error":"#DIV/0!"},null,0]
[null,null,null,null,null,null,null,null,null,null,null,null,null,null,{"$error":"#DIV/0!"},null,0]
[null,null,null,null,null,null,null,null,null,null,null,null,null,null,{"$error":"#DIV/0!"},null,0]
[null,null,null,null,null,null,null,null,null,null,null,null,null,null,{"$error":"#DIV/0!"},null,0]
[null,null,null,null,null,null,null,null,null,null,null,null,null,null,{"$error":"#DIV/0!"},null,0]
[null,null,null,null,null,null,null,null,null,null,null,null,null,null,{"$error":"#DIV/0!"},null,0]
[null,null,null,null,null,null,null,null,null,null,null,null,null,null,{"$error":"#DIV/0!"},null,0]
[null,null,null,null,null,null,null,null,null,null,null,null,null,null,{"$error":"#DIV/0!"},null,0]
[null,null,null,null,null,null,null,null,null,null,null,null,null,null,{"$error":"#DIV/0!"},null,0]
[null,null,null,null,null,null,null,null,null,null,null,null,null,null,{"$error":"#DIV/0!"},null,0]
[null,null,null,null,null,null,null,null,null,null,null,null,null,null,{"$error":"#DIV/0!"},null,0]
[null,null,null,null,null,null,null,null,null,null,null,null,null,null,{"$error":"#DIV/0!"},null,0]
[null,null,null,null,null,null,null,null,null,null,null,null,null,null,{"$error":"#DIV/0!"},null,0]
[null,null,null,null,null,null,null,null,null,null,null,null,null,null,{"$error":"#DIV/0!"},null,0]
[null,null,null,null,null,null,null,null,null,null,null,null,null,null,{"$error":"#DIV/0!"},null,0]
[null,null,null,null,null,null,null,null,null,null,null,null,null,null,{"$error":"#DIV/0!"},null,0]
[null,null,null,null,null,null,null,null,null,null,null,null,null,null,{"$error":"#DIV/0!"},null,0]
[null,null,null,null,null,null,null,null,null,null,null,null,null,null,{"$error":"#DIV/0!"},null,0]
[null,null,null,null,null,null,null,null,null,null,null,null,null,null,{"$error":"#DIV/0!"},null,0]
[null,null,null,null,null,null,null,null,null,null,null,null,null,null,{"$error":"#DIV/0!"},null,0]
[null,null,null,null,null,null,null,null,null,null,null,null,null,null,{"$error":"#DIV/0!"},null,0]
[null,null,null,null,null,null,null,null,null,null,null,null,null,null,{"$error":"#DIV/0!"},null,0]
[null,null,null,null,null,null,null,null,null,null,null,null,null,null,{"$error":"#DIV/0!"},null,0]
[null,null,null,null,null,null,null,null,null,null,null,null,null,null,{"$error":"#DIV/0!"},null,0]
[null,null,null,null,null,null,null,null,null,null,null,null,null,null,{"$error":"#DIV/0!"},null,0]
[null,null,null,null,null,null,null,null,null,null,null,null,null,null,{"$f":"N1020423/M1020423","v":{"$error":"#DIV/0!"}},null,{"$f":"C1020423*P1020423","v":0}]
[null,null,null,null,null,null,null,null,null,null,null,null,null,null,{"$error":"#DIV/0!"},null,0]
[null,null,null,null,null,null,null,null,null,null,null,null,null,null,{"$error":"#DIV/0!"},null,0]
[null,null,null,null,null,null,null,null,null,null,null,null,null,null,{"$error":"#DIV/0!"},null,0]
[null,null,null,null,null,null,null,null,null,null,null,null,null,null,{"$error":"#DIV/0!"},null,0]
[null,null,null,null,null,null,null,null,null,null,null,null,null,null,{"$error":"#DIV/0!"},null,0]
[null,null,null,null,null,null,null,null,null,null,null,null,null,null,{"$error":"#DIV/0!"},null,0]
[null,null,null,null,null,null,null,null,null,null,null,null,null,null,{"$error":"#DIV/0!"},null,0]
[null,null,null,null,null,null,null,null,null,null,null,null,null,null,{"$error":"#DIV/0!"},null,0]
[null,null,null,null,null,null,null,null,null,null,null,null,null,null,{"$error":"#DIV/0!"},null,0]
[null,null,null,null,null,null,null,null,null,null,null,null,null,null,{"$f":"N1025607/M1025607","v":{"$error":"#DIV/0!"}},null,{"$f":"C1025607*P1025607","v":0}]
[null,null,null,null,null,null,null,null,null,null,null,null,null,null,{"$error":"#DIV/0!"},null,0]
[null,null,null,null,null,null,null,null,null,null,null,null,null,null,{"$error":"#DIV/0!"},null,0]
[null,null,null,null,null,null,null,null,null,null,null,null,null,null,{"$error":"#DIV/0!"},null,0]
[null,null,null,null,null,null,null,null,null,null,null,null,null,null,{"$error":"#DIV/0!"},null,0]
[null,null,null,null,null,null,null,null,null,null,null,null,null,null,{"$error":"#DIV/0!"},null,0]
[null,null,null,null,null,null,null,null,null,null,null,null,null,null,{"$error":"#DIV/0!"},null,0]
[null,null,null,null,null,null,null,null,null,null,null,null,null,null,{"$error":"#DIV/0!"},null,0]
[null,null,null,null,null,null,null,null,null,null,null,null,null,null,{"$error":"#DIV/0!"},null,0]
[null,null,null,null,null,null,null,null,null,null,null,null,null,null,{"$error":"#DIV/0!"},null,0]
[null,null,null,null,null,null,null,null,null,null,null,null,null,null,{"$error":"#DIV/0!"},null,0]
[null,null,null,null,null,null,null,null,null,null,null,null,null,null,{"$error":"#DIV/0!"},null,0]
[null,null,null,null,null,null,null,null,null,null,null,null,null,null,{"$error":"#DIV/0!"},null,0]
[null,null,null,null,null,null,null,null,null,null,null,null,null,null,{"$error":"#DIV/0!"},null,0]
[null,null,null,null,null,null,null,null,null,null,null,null,null,null,{"$error":"#DIV/0!"},null,0]
[null,null,null,null,null,null,null,null,null,null,null,null,null,null,{"$error":"#DIV/0!"},null,0]
[null,null,null,null,null,null,null,null,null,null,null,null,null,null,{"$error":"#DIV/0!"},null,0]
[null,null,null,null,null,null,null,null,null,null,null,null,null,null,{"$error":"#DIV/0!"},null,0]
[null,null,null,null,null,null,null,null,null,null,null,null,null,null,{"$error":"#DIV/0!"},null,0]
[null,null,null,null,null,null,null,null,null,null,null,null,null,null,{"$error":"#DIV/0!"},null,0]
[null,null,null,null,null,null,null,null,null,null,null,null,null,null,{"$error":"#DIV/0!"},null,0]
[null,null,null,null,null,null,null,null,null,null,null,null,null,null,{"$error":"#DIV/0!"},null,0]
[null,null,null,null,null,null,null,null,null,null,null,null,null,null,{"$error":"#DIV/0!"},null,0]
[null,null,null,null,null,null,null,null,null,null,null,null,null,null,{"$error":"#DIV/0!"},null,0]
[null,null,null,null,null,null,null,null,null,null,null,null,null,null,{"$error":"#DIV/0!"},null,0]
[null,null,null,null,null,null,null,null,null,null,null,null,null,null,{"$error":"#DIV/0!"},null,0]
[null,null,null,null,null,null,null,null,null,null,null,null,null,null,{"$error":"#DIV/0!"},null,0]
[null,null,null,null,null,null,null,null,null,null,null,null,null,null,{"$error":"#DIV/0!"},null,0]
[null,null,null,null,null,null,null,null,null,null,null,null,null,null,{"$error":"#DIV/0!"},null,0]
[null,null,null,null,null,null,null,null,null,null,null,null,null,null,{"$error":"#DIV/0!"},null,0]
[null,null,null,null,null,null,null,null,null,null,null,null,null,null,{"$error":"#DIV/0!"},null,0]
[null,null,null,null,null,null,null,null,null,null,null,null,null,null,{"$error":"#DIV/0!"},null,0]
[null,null,null,null,null,null,null,null,null,null,null,null,null,null,{"$error":"#DIV/0!"},null,0]
[null,null,null,null,null,null,null,null,null,null,null,null,null,null,{"$error":"#DIV/0!"},null,0]
[null,null,null,null,null,null,null,null,null,null,null,null,null,null,{"$error":"#DIV/0!"},null,0]
[null,null,null,null,null,null,null,null,null,null,null,null,null,null,{"$error":"#DIV/0!"},null,0]
[null,null,null,null,null,null,null,null,null,null,null,null,null,null,{"$error":"#DIV/0!"},null,0]
[null,null,null,null,null,null,null,null,null,null,null,null,null,null,{"$error":"#DIV/0!"},null,0]
[null,null,null,null,null,null,null,null,null,null,null,null,null,null,{"$error":"#DIV/0!"},null,0]
[null,null,null,null,null,null,null,null,null,null,null,null,null,null,{"$error":"#DIV/0!"},null,0]
[null,null,null,null,null,null,null,null,null,null,null,null,null,null,{"$error":"#DIV/0!"},null,0]
[null,null,null,null,null,null,null,null,null,null,null,null,null,null,{"$error":"#DIV/0!"},null,0]
[null,null,null,null,null,null,null,null,null,null,null,null,null,null,{"$error":"#DIV/0!"},null,0]
[null,null,null,null,null,null,null,null,null,null,null,null,null,null,{"$error":"#DIV/0!"},null,0]
[null,null,null,null,null,null,null,null,null,null,null,null,null,null,{"$error":"#DIV/0!"},null,0]
[null,null,null,null,null,null,null,null,null,null,null,null,null,null,{"$error":"#DIV/0!"},null,0]
[null,null,null,null,null,null,null,null,null,null,null,null,null,null,{"$error":"#DIV/0!"},null,0]
[null,null,null,null,null,null,null,null,null,null,null,null,null,null,{"$error":"#DIV/0!"},null,0]
[null,null,null,null,null,null,null,null,null,null,null,null,null,null,{"$error":"#DIV/0!"},null,0]
[null,null,null,null,null,null,null,null,null,null,null,null,null,null,{"$error":"#DIV/0!"},null,0]
[null,null,null,null,null,null,null,null,null,null,null,null,null,null,{"$error":"#DIV/0!"},null,0]
[null,null,null,null,null,null,null,null,null,null,null,null,null,null,{"$error":"#DIV/0!"},null,0]
[null,null,null,null,null,null,null,null,null,null,null,null,null,null,{"$error":"#DIV/0!"},null,0]
[null,null,null,null,null,null,null,null,null,null,null,null,null,null,{"$error":"#DIV/0!"},null,0]
[null,null,null,null,null,null,null,null,null,null,null,null,null,null,{"$error":"#DIV/0!"},null,0]
[null,null,null,null,null,null,null,null,null,null,null,null,null,null,{"$error":"#DIV/0!"},null,0]
[null,null,null,null,null,null,null,null,null,null,null,null,null,null,{"$error":"#DIV/0!"},null,0]
[null,null,null,null,null,null,null,null,null,null,null,null,null,null,{"$error":"#DIV/0!"},null,0]
[null,null,null,null,null,null,null,null,null,null,null,null,null,null,{"$error":"#DIV/0!"},null,0]
[null,null,null,null,null,null,null,null,null,null,null,null,null,null,{"$error":"#DIV/0!"},null,0]
[null,null,null,null,null,null,null,null,null,null,null,null,null,null,{"$error":"#DIV/0!"},null,0]
[null,null,null,null,null,null,null,null,null,null,null,null,null,null,{"$error":"#DIV/0!"},null,0]
[null,null,null,null,null,null,null,null,null,null,null,null,null,null,{"$error":"#DIV/0!"},null,0]
[null,null,null,null,null,null,null,null,null,null,null,null,null,null,{"$error":"#DIV/0!"},null,0]
[null,null,null,null,null,null,null,null,null,null,null,null,null,null,{"$error":"#DIV/0!"},null,0]
[null,null,null,null,null,null,null,null,null,null,null,null,null,null,{"$error":"#DIV/0!"},null,0]
[null,null,null,null,null,null,null,null,null,null,null,null,null,null,{"$error":"#DIV/0!"},null,0]
[null,null,null,null,null,null,null,null,null,null,null,null,null,null,{"$error":"#DIV/0!"},null,0]
[null,null,null,null,null,null,null,null,null,null,null,null,null,null,{"$error":"#DIV/0!"},null,0]
[null,null,null,null,null,null,null,null,null,null,null,null,null,null,{"$error":"#DIV/0!"},null,0]
[null,null,null,null,null,null,null,null,null,null,null,null,null,null,{"$error":"#DIV/0!"},null,0]
[null,null,null,null,null,null,null,null,null,null,null,null,null,null,{"$error":"#DIV/0!"},null,0]
[null,null,null,null,null,null,null,null,null,null,null,null,null,null,{"$error":"#DIV/0!"},null,0]
[null,null,null,null,null,null,null,null,null,null,null,null,null,null,{"$error":"#DIV/0!"},null,0]
[null,null,null,null,null,null,null,null,null,null,null,null,null,null,{"$error":"#DIV/0!"},null,0]
[null,null,null,null,null,null,null,null,null,null,null,null,null,null,{"$error":"#DIV/0!"},null,0]
[null,null,null,null,null,null,null,null,null,null,null,null,null,null,{"$error":"#DIV/0!"},null,0]
[null,null,null,null,null,null,null,null,null,null,null,null,null,null,{"$error":"#DIV/0!"},null,0]
[null,null,null,null,null,null,null,null,null,null,null,null,null,null,{"$error":"#DIV/0!"},null,0]
[null,null,null,null,null,null,null,null,null,null,null,null,null,null,{"$error":"#DIV/0!"},null,0]
[null,null,null,null,null,null,null,null,null,null,null,null,null,null,{"$error":"#DIV/0!"},null,0]
[null,null,null,null,null,null,null,null,null,null,null,null,null,null,{"$error":"#DIV/0!"},null,0]
[null,null,null,null,null,null,null,null,null,null,null,null,null,null,{"$error":"#DIV/0!"},null,0]
[null,null,null,null,null,null,null,null,null,null,null,null,null,null,{"$error":"#DIV/0!"},null,0]
[null,null,null,null,null,null,null,null,null,null,null,null,null,null,{"$error":"#DIV/0!"},null,0]
[null,null,null,null,null,null,null,null,null,null,null,null,null,null,{"$error":"#DIV/0!"},null,0]
[null,null,null,null,null,null,null,null,null,null,null,null,null,null,{"$error":"#DIV/0!"},null,0]
[null,null,null,null,null,null,null,null,null,null,null,null,null,null,{"$error":"#DIV/0!"},null,0]
[null,null,null,null,null,null,null,null,null,null,null,null,null,null,{"$error":"#DIV/0!"},null,0]
[null,null,null,null,null,null,null,null,null,null,null,null,null,null,{"$error":"#DIV/0!"},null,0]
[null,null,null,null,null,null,null,null,null,null,null,null,null,null,{"$error":"#DIV/0!"},null,0]
[null,null,null,null,null,null,null,null,null,null,null,null,null,null,{"$error":"#DIV/0!"},null,0]
[null,null,null,null,null,null,null,null,null,null,null,null,null,null,{"$error":"#DIV/0!"},null,0]
[null,null,null,null,null,null,null,null,null,null,null,null,null,null,{"$error":"#DIV/0!"},null,0]
[null,null,null,null,null,null,null,null,null,null,null,null,null,null,{"$error":"#DIV/0!"},null,0]
[null,null,null,null,null,null,null,null,null,null,null,null,null,null,{"$error":"#DIV/0!"},null,0]
[null,null,null,null,null,null,null,null,null,null,null,null,null,null,{"$error":"#DIV/0!"},null,0]
[null,null,null,null,null,null,null,null,null,null,null,null,null,null,{"$error":"#DIV/0!"},null,0]
[null,null,null,null,null,null,null,null,null,null,null,null,null,null,{"$error":"#DIV/0!"},null,0]
[null,null,null,null,null,null,null,null,null,null,null,null,null,null,{"$error":"#DIV/0!"},null,0]
[null,null,null,null,null,null,null,null,null,null,null,null,null,null,{"$error":"#DIV/0!"},null,0]
[null,null,null,null,null,null,null,null,null,null,null,null,null,null,{"$f":"N1048135/M1048135","v":{"$error":"#DIV/0!"}},null,{"$f":"C1048135*P1048135","v":0}]
[null,null,null,null,null,null,null,null,null,null,null,null,null,null,{"$error":"#DIV/0!"},null,0]
[null,null,null,null,null,null,null,null,null,null,null,null,null,null,{"$error":"#DIV/0!"},null,0]
[null,null,null,null,null,null,null,null,null,null,null,null,null,null,{"$error":"#DIV/0!"},null,0]
[null,null,null,null,null,null,null,null,null,null,null,null,null,null,{"$error":"#DIV/0!"},null,0]
[null,null,null,null,null,null,null,null,null,null,null,null,null,null,{"$error":"#DIV/0!"},null,0]
[null,null,null,null,null,null,null,null,null,null,null,null,null,null,{"$error":"#DIV/0!"},null,0]
[null,null,null,null,null,null,null,null,null,null,null,null,null,null,{"$error":"#DIV/0!"},null,0]
[null,null,null,null,null,null,null,null,null,null,null,null,null,null,{"$error":"#DIV/0!"},null,0]
[null,null,null,null,null,null,null,null,null,null,null,null,null,null,{"$error":"#DIV/0!"},null,0]
[null,null,null,null,null,null,null,null,null,null,null,null,null,null,{"$error":"#DIV/0!"},null,0]
[null,null,null,null,null,null,null,null,null,null,null,null,null,null,{"$error":"#DIV/0!"},null,0]
[null,null,null,null,null,null,null,null,null,null,null,null,null,null,{"$error":"#DIV/0!"},null,0]
[null,null,null,null,null,null,null,null,null,null,null,null,null,null,{"$error":"#DIV/0!"},null,0]
[null,null,null,null,null,null,null,null,null,null,null,null,null,null,{"$error":"#DIV/0!"},null,0]
[null,null,null,null,null,null,null,null,null,null,null,null,null,null,{"$error":"#DIV/0!"},null,0]
[null,null,null,null,null,null,null,null,null,null,null,null,null,null,{"$error":"#DIV/0!"},null,0]
[null,null,null,null,null,null,null,null,null,null,null,null,null,null,{"$error":"#DIV/0!"},null,0]
[null,null,null,null,null,null,null,null,null,null,null,null,null,null,{"$error":"#DIV/0!"},null,0]
[null,null,null,null,null,null,null,null,null,null,null,null,null,null,{"$error":"#DIV/0!"},null,0]
[null,null,null,null,null,null,null,null,null,null,null,null,null,null,{"$error":"#DIV/0!"},null,0]
[null,null,null,null,null,null,null,null,null,null,null,null,null,null,{"$error":"#DIV/0!"},null,0]
[null,null,null,null,null,null,null,null,null,null,null,null,null,null,{"$error":"#DIV/0!"},null,0]
[null,null,null,null,null,null,null,null,null,null,null,null,null,null,{"$error":"#DIV/0!"},null,0]
[null,null,null,null,null,null,null,null,null,null,null,null,null,null,{"$error":"#DIV/0!"},null,0]
[null,null,null,null,null,null,null,null,null,null,null,null,null,null,{"$error":"#DIV/0!"},null,0]
[null,null,null,null,null,null,null,null,null,null,null,null,null,null,{"$error":"#DIV/0!"},null,0]
[null,null,null,null,null,null,null,null,null,null,null,null,null,null,{"$error":"#DIV/0!"},null,0]
[null,null,null,null,null,null,null,null,null,null,null,null,null,null,{"$error":"#DIV/0!"},null,0]
[null,null,null,null,null,null,null,null,null,null,null,null,null,null,{"$error":"#DIV/0!"},null,0]
[null,null,null,null,null,null,null,null,null,null,null,null,null,null,{"$error":"#DIV/0!"},null,0]
[null,null,null,null,null,null,null,null,null,null,null,null,null,null,{"$error":"#DIV/0!"},null,0]
[null,null,null,null,null,null,null,null,null,null,null,null,null,null,{"$error":"#DIV/0!"},null,0]
[null,null,null,null,null,null,null,null,null,null,null,null,null,null,{"$error":"#DIV/0!"},null,0]
[null,null,null,null,null,null,null,null,null,null,null,null,null,null,{"$error":"#DIV/0!"},null,0]
[null,null,null,null,null,null,null,null,null,null,null,null,null,null,{"$error":"#DIV/0!"},null,0]
[null,null,null,null,null,null,null,null,null,null,null,null,null,null,{"$error":"#DIV/0!"},null,0]
[null,null,null,null,null,null,null,null,null,null,null,null,null,null,{"$error":"#DIV/0!"},null,0]
[null,null,null,null,null,null,null,null,null,null,null,null,null,null,{"$error":"#DIV/0!"},null,0]
[null,null,null,null,null,null,null,null,null,null,null,null,null,null,{"$error":"#DIV/0!"},null,0]
[null,null,null,null,null,null,null,null,null,null,null,null,null,null,{"$error":"#DIV/0!"},null,0]
[null,null,null,null,null,null,null,null,null,null,null,null,null,null,{"$error":"#DIV/0!"},null,0]
[null,null,null,null,null,null,null,null,null,null,null,null,null,null,{"$error":"#DIV/0!"},null,0]
[null,null,null,null,null,null,null,null,null,null,null,null,null,null,{"$error":"#DIV/0!"},null,0]
[null,null,null,null,null,null,null,null,null,null,null,null,null,null,{"$error":"#DIV/0!"},null,0]
[null,null,null,null,null,null,null,null,null,null,null,null,null,null,{"$error":"#DIV/0!"},null,0]
[null,null,null,null,null,null,null,null,null,null,null,null,null,null,{"$error":"#DIV/0!"},null,0]
[null,null,null,null,null,null,null,null,null,null,null,null,null,null,{"$error":"#DIV/0!"},null,0]
[null,null,null,null,null,null,null,null,null,null,null,null,null,null,{"$error":"#DIV/0!"},null,0]
[null,null,null,null,null,null,null,null,null,null,null,null,null,null,{"$error":"#DIV/0!"},null,0]
[null,null,null,null,null,null,null,null,null,null,null,null,null,null,{"$error":"#DIV/0!"},null,0]
[null,null,null,null,null,null,null,null,null,null,null,null,null,null,{"$error":"#DIV/0!"},null,0]
[null,null,null,null,null,null,null,null,null,null,null,null,null,null,{"$error":"#DIV/0!"},null,0]
[null,null,null,null,null,null,null,null,null,null,null,null,null,null,{"$error":"#DIV/0!"},null,0]
[null,null,null,null,null,null,null,null,null,null,null,null,null,null,{"$error":"#DIV/0!"},null,0]
[null,null,null,null,null,null,null,null,null,null,null,null,null,null,{"$error":"#DIV/0!"},null,0]
[null,null,null,null,null,null,null,null,null,null,null,null,null,null,{"$error":"#DIV/0!"},null,0]
[null,null,null,null,null,null,null,null,null,null,null,null,null,null,{"$error":"#DIV/0!"},null,0]
[null,null,null,null,null,null,null,null,null,null,null,null,null,null,{"$error":"#DIV/0!"},null,0]
[null,null,null,null,null,null,null,null,null,null,null,null,null,null,{"$error":"#DIV/0!"},null,0]
[null,null,null,null,null,null,null,null,null,null,null,null,null,null,{"$error":"#DIV/0!"},null,0]
[null,null,null,null,null,null,null,null,null,null,null,null,null,null,{"$error":"#DIV/0!"},null,0]
[null,null,null,null,null,null,null,null,null,null,null,null,null,null,{"$error":"#DIV/0!"},null,0]
[null,null,null,null,null,null,null,null,null,null,null,null,null,null,{"$error":"#DIV/0!"},null,0]
[null,null,null,null,null,null,null,null,null,null,null,null,null,null,{"$f":"N1048199/M1048199","v":{"$error":"#DIV/0!"}},null,{"$f":"C1048199*P1048199","v":0}]
[null,null,null,null,null,null,null,null,null,null,null,null,null,null,{"$error":"#DIV/0!"},null,0]
[null,null,null,null,null,null,null,null,null,null,null,null,null,null,{"$error":"#DIV/0!"},null,0]
[null,null,null,null,null,null,null,null,null,null,null,null,null,null,{"$error":"#DIV/0!"},null,0]
[null,null,null,null,null,null,null,null,null,null,null,null,null,null,{"$error":"#DIV/0!"},null,0]
[null,null,null,null,null,null,null,null,null,null,null,null,null,null,{"$error":"#DIV/0!"},null,0]
[null,null,null,null,null,null,null,null,null,null,null,null,null,null,{"$error":"#DIV/0!"},null,0]
[null,null,null,null,null,null,null,null,null,null,null,null,null,null,{"$error":"#DIV/0!"},null,0]
[null,null,null,null,null,null,null,null,null,null,null,null,null,null,{"$error":"#DIV/0!"},null,0]
[null,null,null,null,null,null,null,null,null,null,null,null,null,null,{"$error":"#DIV/0!"},null,0]
[null,null,null,null,null,null,null,null,null,null,null,null,null,null,{"$error":"#DIV/0!"},null,0]
[null,null,null,null,null,null,null,null,null,null,null,null,null,null,{"$error":"#DIV/0!"},null,0]
[null,null,null,null,null,null,null,null,null,null,null,null,null,null,{"$error":"#DIV/0!"},null,0]
[null,null,null,null,null,null,null,null,null,null,null,null,null,null,{"$error":"#DIV/0!"},null,0]
[null,null,null,null,null,null,null,null,null,null,null,null,null,null,{"$error":"#DIV/0!"},null,0]
[null,null,null,null,null,null,null,null,null,null,null,null,null,null,{"$error":"#DIV/0!"},null,0]
[null,null,null,null,null,null,null,null,null,null,null,null,null,null,{"$error":"#DIV/0!"},null,0]
[null,null,null,null,null,null,null,null,null,null,null,null,null,null,{"$error":"#DIV/0!"},null,0]
[null,null,null,null,null,null,null,null,null,null,null,null,null,null,{"$error":"#DIV/0!"},null,0]
[null,null,null,null,null,null,null,null,null,null,null,null,null,null,{"$error":"#DIV/0!"},null,0]
[null,null,null,null,null,null,null,null,null,null,null,null,null,null,{"$error":"#DIV/0!"},null,0]
[null,null,null,null,null,null,null,null,null,null,null,null,null,null,{"$error":"#DIV/0!"},null,0]
[null,null,null,null,null,null,null,null,null,null,null,null,null,null,{"$error":"#DIV/0!"},null,0]
[null,null,null,null,null,null,null,null,null,null,null,null,null,null,{"$error":"#DIV/0!"},null,0]
[null,null,null,null,null,null,null,null,null,null,null,null,null,null,{"$error":"#DIV/0!"},null,0]
[null,null,null,null,null,null,null,null,null,null,null,null,null,null,{"$error":"#DIV/0!"},null,0]
[null,null,null,null,null,null,null,null,null,null,null,null,null,null,{"$error":"#DIV/0!"},null,0]
[null,null,null,null,null,null,null,null,null,null,null,null,null,null,{"$error":"#DIV/0!"},null,0]
[null,null,null,null,null,null,null,null,null,null,null,null,null,null,{"$error":"#DIV/0!"},null,0]
[null,null,null,null,null,null,null,null,null,null,null,null,null,null,{"$error":"#DIV/0!"},null,0]
[null,null,null,null,null,null,null,null,null,null,null,null,null,null,{"$error":"#DIV/0!"},null,0]
[null,null,null,null,null,null,null,null,null,null,null,null,null,null,{"$error":"#DIV/0!"},null,0]
[null,null,null,null,null,null,null,null,null,null,null,null,null,null,{"$error":"#DIV/0!"},null,0]
[null,null,null,null,null,null,null,null,null,null,null,null,null,null,{"$error":"#DIV/0!"},null,0]
[null,null,null,null,null,null,null,null,null,null,null,null,null,null,{"$error":"#DIV/0!"},null,0]
[null,null,null,null,null,null,null,null,null,null,null,null,null,null,{"$error":"#DIV/0!"},null,0]
[null,null,null,null,null,null,null,null,null,null,null,null,null,null,{"$error":"#DIV/0!"},null,0]
[null,null,null,null,null,null,null,null,null,null,null,null,null,null,{"$error":"#DIV/0!"},null,0]
[null,null,null,null,null,null,null,null,null,null,null,null,null,null,{"$error":"#DIV/0!"},null,0]
[null,null,null,null,null,null,null,null,null,null,null,null,null,null,{"$error":"#DIV/0!"},null,0]
[null,null,null,null,null,null,null,null,null,null,null,null,null,null,{"$error":"#DIV/0!"},null,0]
[null,null,null,null,null,null,null,null,null,null,null,null,null,null,{"$error":"#DIV/0!"},null,0]
[null,null,null,null,null,null,null,null,null,null,null,null,null,null,{"$error":"#DIV/0!"},null,0]
[null,null,null,null,null,null,null,null,null,null,null,null,null,null,{"$error":"#DIV/0!"},null,0]
[null,null,null,null,null,null,null,null,null,null,null,null,null,null,{"$error":"#DIV/0!"},null,0]
[null,null,null,null,null,null,null,null,null,null,null,null,null,null,{"$error":"#DIV/0!"},null,0]
[null,null,null,null,null,null,null,null,null,null,null,null,null,null,{"$error":"#DIV/0!"},null,0]
[null,null,null,null,null,null,null,null,null,null,null,null,null,null,{"$error":"#DIV/0!"},null,0]
[null,null,null,null,null,null,null,null,null,null,null,null,null,null,{"$error":"#DIV/0!"},null,0]
[null,null,null,null,null,null,null,null,null,null,null,null,null,null,{"$error":"#DIV/0!"},null,0]
[null,null,null,null,null,null,null,null,null,null,null,null,null,null,{"$error":"#DIV/0!"},null,0]
[null,null,null,null,null,null,null,null,null,null,null,null,null,null,{"$error":"#DIV/0!"},null,0]
[null,null,null,null,null,null,null,null,null,null,null,null,null,null,{"$error":"#DIV/0!"},null,0]
[null,null,null,null,null,null,null,null,null,null,null,null,null,null,{"$error":"#DIV/0!"},null,0]
[null,null,null,null,null,null,null,null,null,null,null,null,null,null,{"$error":"#DIV/0!"},null,0]
[null,null,null,null,null,null,null,null,null,null,null,null,null,null,{"$error":"#DIV/0!"},null,0]
[null,null,null,null,null,null,null,null,null,null,null,null,null,null,{"$error":"#DIV/0!"},null,0]
[null,null,null,null,null,null,null,null,null,null,null,null,null,null,{"$error":"#DIV/0!"},null,0]
[null,null,null,null,null,null,null,null,null,null,null,null,null,null,{"$error":"#DIV/0!"},null,0]
[null,null,null,null,null,null,null,null,null,null,null,null,null,null,{"$error":"#DIV/0!"},null,0]
[null,null,null,null,null,null,null,null,null,null,null,null,null,null,{"$error":"#DIV/0!"},null,0]
[null,null,null,null,null,null,null,null,null,null,null,null,null,null,{"$error":"#DIV/0!"},null,0]
[null,null,null,null,null,null,null,null,null,null,null,null,null,null,{"$error":"#DIV/0!"},null,0]
[null,null,null,null,null,null,null,null,null,null,null,null,null,null,{"$error":"#DIV/0!"},null,0]
[null,null,null,null,null,null,null,null,null,null,null,null,null,null,{"$f":"N1048263/M1048263","v":{"$error":"#DIV/0!"}},null,{"$f":"C1048263*P1048263","v":0}]
[null,null,null,null,null,null,null,null,null,null,null,null,null,null,{"$error":"#DIV/0!"},null,0]
[null,null,null,null,null,null,null,null,null,null,null,null,null,null,{"$error":"#DIV/0!"},null,0]
[null,null,null,null,null,null,null,null,null,null,null,null,null,null,{"$error":"#DIV/0!"},null,0]
[null,null,null,null,null,null,null,null,null,null,null,null,null,null,{"$error":"#DIV/0!"},null,0]
[null,null,null,null,null,null,null,null,null,null,null,null,null,null,{"$error":"#DIV/0!"},null,0]
[null,null,null,null,null,null,null,null,null,null,null,null,null,null,{"$error":"#DIV/0!"},null,0]
[null,null,null,null,null,null,null,null,null,null,null,null,null,null,{"$error":"#DIV/0!"},null,0]
[null,null,null,null,null,null,null,null,null,null,null,null,null,null,{"$error":"#DIV/0!"},null,0]
[null,null,null,null,null,null,null,null,null,null,null,null,null,null,{"$error":"#DIV/0!"},null,0]
[null,null,null,null,null,null,null,null,null,null,null,null,null,null,{"$error":"#DIV/0!"},null,0]
[null,null,null,null,null,null,null,null,null,null,null,null,null,null,{"$error":"#DIV/0!"},null,0]
[null,null,null,null,null,null,null,null,null,null,null,null,null,null,{"$error":"#DIV/0!"},null,0]
[null,null,null,null,null,null,null,null,null,null,null,null,null,null,{"$error":"#DIV/0!"},null,0]
[null,null,null,null,null,null,null,null,null,null,null,null,null,null,{"$error":"#DIV/0!"},null,0]
[null,null,null,null,null,null,null,null,null,null,null,null,null,null,{"$error":"#DIV/0!"},null,0]
[null,null,null,null,null,null,null,null,null,null,null,null,null,null,{"$error":"#DIV/0!"},null,0]
[null,null,null,null,null,null,null,null,null,null,null,null,null,null,{"$error":"#DIV/0!"},null,0]
[null,null,null,null,null,null,null,null,null,null,null,null,null,null,{"$error":"#DIV/0!"},null,0]
[null,null,null,null,null,null,null,null,null,null,null,null,null,null,{"$error":"#DIV/0!"},null,0]
[null,null,null,null,null,null,null,null,null,null,null,null,null,null,{"$error":"#DIV/0!"},null,0]
[null,null,null,null,null,null,null,null,null,null,null,null,null,null,{"$error":"#DIV/0!"},null,0]
[null,null,null,null,null,null,null,null,null,null,null,null,null,null,{"$error":"#DIV/0!"},null,0]
[null,null,null,null,null,null,null,null,null,null,null,null,null,null,{"$error":"#DIV/0!"},null,0]
[null,null,null,null,null,null,null,null,null,null,null,null,null,null,{"$error":"#DIV/0!"},null,0]
[null,null,null,null,null,null,null,null,null,null,null,null,null,null,{"$error":"#DIV/0!"},null,0]
[null,null,null,null,null,null,null,null,null,null,null,null,null,null,{"$error":"#DIV/0!"},null,0]
[null,null,null,null,null,null,null,null,null,null,null,null,null,null,{"$error":"#DIV/0!"},null,0]
[null,null,null,null,null,null,null,null,null,null,null,null,null,null,{"$error":"#DIV/0!"},null,0]
[null,null,null,null,null,null,null,null,null,null,null,null,null,null,{"$error":"#DIV/0!"},null,0]
[null,null,null,null,null,null,null,null,null,null,null,null,null,null,{"$error":"#DIV/0!"},null,0]
[null,null,null,null,null,null,null,null,null,null,null,null,null,null,{"$error":"#DIV/0!"},null,0]
[null,null,null,null,null,null,null,null,null,null,null,null,null,null,{"$error":"#DIV/0!"},null,0]
[null,null,null,null,null,null,null,null,null,null,null,null,null,null,{"$error":"#DIV/0!"},null,0]
[null,null,null,null,null,null,null,null,null,null,null,null,null,null,{"$error":"#DIV/0!"},null,0]
[null,null,null,null,null,null,null,null,null,null,null,null,null,null,{"$error":"#DIV/0!"},null,0]
[null,null,null,null,null,null,null,null,null,null,null,null,null,null,{"$error":"#DIV/0!"},null,0]
[null,null,null,null,null,null,null,null,null,null,null,null,null,null,{"$error":"#DIV/0!"},null,0]
[null,null,null,null,null,null,null,null,null,null,null,null,null,null,{"$error":"#DIV/0!"},null,0]
[null,null,null,null,null,null,null,null,null,null,null,null,null,null,{"$error":"#DIV/0!"},null,0]
[null,null,null,null,null,null,null,null,null,null,null,null,null,null,{"$error":"#DIV/0!"},null,0]
[null,null,null,null,null,null,null,null,null,null,null,null,null,null,{"$error":"#DIV/0!"},null,0]
[null,null,null,null,null,null,null,null,null,null,null,null,null,null,{"$error":"#DIV/0!"},null,0]
[null,null,null,null,null,null,null,null,null,null,null,null,null,null,{"$error":"#DIV/0!"},null,0]
[null,null,null,null,null,null,null,null,null,null,null,null,null,null,{"$error":"#DIV/0!"},null,0]
[null,null,null,null,null,null,null,null,null,null,null,null,null,null,{"$error":"#DIV/0!"},null,0]
[null,null,null,null,null,null,null,null,null,null,null,null,null,null,{"$error":"#DIV/0!"},null,0]
[null,null,null,null,null,null,null,null,null,null,null,null,null,null,{"$error":"#DIV/0!"},null,0]
[null,null,null,null,null,null,null,null,null,null,null,null,null,null,{"$error":"#DIV/0!"},null,0]
[null,null,null,null,null,null,null,null,null,null,null,null,null,null,{"$error":"#DIV/0!"},null,0]
[null,null,null,null,null,null,null,null,null,null,null,null,null,null,{"$error":"#DIV/0!"},null,0]
[null,null,null,null,null,null,null,null,null,null,null,null,null,null,{"$error":"#DIV/0!"},null,0]
[null,null,null,null,null,null,null,null,null,null,null,null,null,null,{"$error":"#DIV/0!"},null,0]
[null,null,null,null,null,null,null,null,null,null,null,null,null,null,{"$error":"#DIV/0!"},null,0]
[null,null,null,null,null,null,null,null,null,null,null,null,null,null,{"$error":"#DIV/0!"},null,0]
[null,null,null,null,null,null,null,null,null,null,null,null,null,null,{"$error":"#DIV/0!"},null,0]
[null,null,null,null,null,null,null,null,null,null,null,null,null,null,{"$error":"#DIV/0!"},null,0]
[null,null,null,null,null,null,null,null,null,null,null,null,null,null,{"$error":"#DIV/0!"},null,0]
[null,null,null,null,null,null,null,null,null,null,null,null,null,null,{"$error":"#DIV/0!"},null,0]
[null,null,null,null,null,null,null,null,null,null,null,null,null,null,{"$error":"#DIV/0!"},null,0]
[null,null,null,null,null,null,null,null,null,null,null,null,null,null,{"$error":"#DIV/0!"},null,0]
[null,null,null,null,null,null,null,null,null,null,null,null,null,null,{"$error":"#DIV/0!"},null,0]
[null,null,null,null,null,null,null,null,null,null,null,null,null,null,{"$error":"#DIV/0!"},null,0]
[null,null,null,null,null,null,null,null,null,null,null,null,null,null,{"$error":"#DIV/0!"},null,0]
[null,null,null,null,null,null,null,null,null,null,null,null,null,null,{"$f":"N1048327/M1048327","v":{"$error":"#DIV/0!"}},null,{"$f":"C1048327*P1048327","v":0}]
[null,null,null,null,null,null,null,null,null,null,null,null,null,null,{"$error":"#DIV/0!"},null,0]
[null,null,null,null,null,null,null,null,null,null,null,null,null,null,{"$error":"#DIV/0!"},null,0]
[null,null,null,null,null,null,null,null,null,null,null,null,null,null,{"$error":"#DIV/0!"},null,0]
[null,null,null,null,null,null,null,null,null,null,null,null,null,null,{"$error":"#DIV/0!"},null,0]
[null,null,null,null,null,null,null,null,null,null,null,null,null,null,{"$error":"#DIV/0!"},null,0]
[null,null,null,null,null,null,null,null,null,null,null,null,null,null,{"$error":"#DIV/0!"},null,0]
[null,null,null,null,null,null,null,null,null,null,null,null,null,null,{"$error":"#DIV/0!"},null,0]
[null,null,null,null,null,null,null,null,null,null,null,null,null,null,{"$error":"#DIV/0!"},null,0]
[null,null,null,null,null,null,null,null,null,null,null,null,null,null,{"$error":"#DIV/0!"},null,0]
[null,null,null,null,null,null,null,null,null,null,null,null,null,null,{"$error":"#DIV/0!"},null,0]
[null,null,null,null,null,null,null,null,null,null,null,null,null,null,{"$error":"#DIV/0!"},null,0]
[null,null,null,null,null,null,null,null,null,null,null,null,null,null,{"$error":"#DIV/0!"},null,0]
[null,null,null,null,null,null,null,null,null,null,null,null,null,null,{"$error":"#DIV/0!"},null,0]
[null,null,null,null,null,null,null,null,null,null,null,null,null,null,{"$error":"#DIV/0!"},null,0]
[null,null,null,null,null,null,null,null,null,null,null,null,null,null,{"$error":"#DIV/0!"},null,0]
[null,null,null,null,null,null,null,null,null,null,null,null,null,null,{"$error":"#DIV/0!"},null,0]
[null,null,null,null,null,null,null,null,null,null,null,null,null,null,{"$error":"#DIV/0!"},null,0]
[null,null,null,null,null,null,null,null,null,null,null,null,null,null,{"$error":"#DIV/0!"},null,0]
[null,null,null,null,null,null,null,null,null,null,null,null,null,null,{"$error":"#DIV/0!"},null,0]
[null,null,null,null,null,null,null,null,null,null,null,null,null,null,{"$error":"#DIV/0!"},null,0]
[null,null,null,null,null,null,null,null,null,null,null,null,null,null,{"$error":"#DIV/0!"},null,0]
[null,null,null,null,null,null,null,null,null,null,null,null,null,null,{"$error":"#DIV/0!"},null,0]
[null,null,null,null,null,null,null,null,null,null,null,null,null,null,{"$error":"#DIV/0!"},null,0]
[null,null,null,null,null,null,null,null,null,null,null,null,null,null,{"$error":"#DIV/0!"},null,0]
[null,null,null,null,null,null,null,null,null,null,null,null,null,null,{"$error":"#DIV/0!"},null,0]
[null,null,null,null,null,null,null,null,null,null,null,null,null,null,{"$error":"#DIV/0!"},null,0]
[null,null,null,null,null,null,null,null,null,null,null,null,null,null,{"$error":"#DIV/0!"},null,0]
[null,null,null,null,null,null,null,null,null,null,null,null,null,null,{"$error":"#DIV/0!"},null,0]
[null,null,null,null,null,null,null,null,null,null,null,null,null,null,{"$error":"#DIV/0!"},null,0]
[null,null,null,null,null,null,null,null,null,null,null,null,null,null,{"$error":"#DIV/0!"},null,0]
[null,null,null,null,null,null,null,null,null,null,null,null,null,null,{"$error":"#DIV/0!"},null,0]
[null,null,null,null,null,null,null,null,null,null,null,null,null,null,{"$error":"#DIV/0!"},null,0]
[null,null,null,null,null,null,null,null,null,null,null,null,null,null,{"$error":"#DIV/0!"},null,0]
[null,null,null,null,null,null,null,null,null,null,null,null,null,null,{"$error":"#DIV/0!"},null,0]
[null,null,null,null,null,null,null,null,null,null,null,null,null,null,{"$error":"#DIV/0!"},null,0]
[null,null,null,null,null,null,null,null,null,null,null,null,null,null,{"$error":"#DIV/0!"},null,0]
[null,null,null,null,null,null,null,null,null,null,null,null,null,null,{"$error":"#DIV/0!"},null,0]
[null,null,null,null,null,null,null,null,null,null,null,null,null,null,{"$error":"#DIV/0!"},null,0]
[null,null,null,null,null,null,null,null,null,null,null,null,null,null,{"$error":"#DIV/0!"},null,0]
[null,null,null,null,null,null,null,null,null,null,null,null,null,null,{"$error":"#DIV/0!"},null,0]
[null,null,null,null,null,null,null,null,null,null,null,null,null,null,{"$error":"#DIV/0!"},null,0]
[null,null,null,null,null,null,null,null,null,null,null,null,null,null,{"$error":"#DIV/0!"},null,0]
[null,null,null,null,null,null,null,null,null,null,null,null,null,null,{"$error":"#DIV/0!"},null,0]
[null,null,null,null,null,null,null,null,null,null,null,null,null,null,{"$error":"#DIV/0!"},null,0]
[null,null,null,null,null,null,null,null,null,null,null,null,null,null,{"$error":"#DIV/0!"},null,0]
[null,null,null,null,null,null,null,null,null,null,null,null,null,null,{"$error":"#DIV/0!"},null,0]
[null,null,null,null,null,null,null,null,null,null,null,null,null,null,{"$error":"#DIV/0!"},null,0]
[null,null,null,null,null,null,null,null,null,null,null,null,null,null,{"$error":"#DIV/0!"},null,0]
[null,null,null,null,null,null,null,null,null,null,null,null,null,null,{"$error":"#DIV/0!"},null,0]
[null,null,null,null,null,null,null,null,null,null,null,null,null,null,{"$error":"#DIV/0!"},null,0]
[null,null,null,null,null,null,null,null,null,null,null,null,null,null,{"$error":"#DIV/0!"},null,0]
[null,null,null,null,null,null,null,null,null,null,null,null,null,null,{"$error":"#DIV/0!"},null,0]
[null,null,null,null,null,null,null,null,null,null,null,null,null,null,{"$error":"#DIV/0!"},null,0]
[null,null,null,null,null,null,null,null,null,null,null,null,null,null,{"$error":"#DIV/0!"},null,0]
[null,null,null,null,null,null,null,null,null,null,null,null,null,null,{"$error":"#DIV/0!"},null,0]
[null,null,null,null,null,null,null,null,null,null,null,null,null,null,{"$error":"#DIV/0!"},null,0]
[null,null,null,null,null,null,null,null,null,null,null,null,null,null,{"$error":"#DIV/0!"},null,0]
[null,null,null,null,null,null,null,null,null,null,null,null,null,null,{"$error":"#DIV/0!"},null,0]
[null,null,null,null,null,null,null,null,null,null,null,null,null,null,{"$error":"#DIV/0!"},null,0]
[null,null,null,null,null,null,null,null,null,null,null,null,null,null,{"$error":"#DIV/0!"},null,0]
[null,null,null,null,null,null,null,null,null,null,null,null,null,null,{"$error":"#DIV/0!"},null,0]
[null,null,null,null,null,null,null,null,null,null,null,null,null,null,{"$error":"#DIV/0!"},null,0]
[null,null,null,null,null,null,null,null,null,null,null,null,null,null,{"$error":"#DIV/0!"},null,0]
[null,null,null,null,null,null,null,null,null,null,null,null,null,null,{"$f":"N1048391/M1048391","v":{"$error":"#DIV/0!"}},null,{"$f":"C1048391*P1048391","v":0}]
[null,null,null,null,null,null,null,null,null,null,null,null,null,null,{"$error":"#DIV/0!"},null,0]
[null,null,null,null,null,null,null,null,null,null,null,null,null,null,{"$error":"#DIV/0!"},null,0]
[null,null,null,null,null,null,null,null,null,null,null,null,null,null,{"$error":"#DIV/0!"},null,0]
[null,null,null,null,null,null,null,null,null,null,null,null,null,null,{"$error":"#DIV/0!"},null,0]
[null,null,null,null,null,null,null,null,null,null,null,null,null,null,{"$error":"#DIV/0!"},null,0]
[null,null,null,null,null,null,null,null,null,null,null,null,null,null,{"$error":"#DIV/0!"},null,0]
[null,null,null,null,null,null,null,null,null,null,null,null,null,null,{"$error":"#DIV/0!"},null,0]
[null,null,null,null,null,null,null,null,null,null,null,null,null,null,{"$error":"#DIV/0!"},null,0]
[null,null,null,null,null,null,null,null,null,null,null,null,null,null,{"$error":"#DIV/0!"},null,0]
[null,null,null,null,null,null,null,null,null,null,null,null,null,null,{"$error":"#DIV/0!"},null,0]
[null,null,null,null,null,null,null,null,null,null,null,null,null,null,{"$error":"#DIV/0!"},null,0]
[null,null,null,null,null,null,null,null,null,null,null,null,null,null,{"$error":"#DIV/0!"},null,0]
[null,null,null,null,null,null,null,null,null,null,null,null,null,null,{"$error":"#DIV/0!"},null,0]
[null,null,null,null,null,null,null,null,null,null,null,null,null,null,{"$error":"#DIV/0!"},null,0]
[null,null,null,null,null,null,null,null,null,null,null,null,null,null,{"$error":"#DIV/0!"},null,0]
[null,null,null,null,null,null,null,null,null,null,null,null,null,null,{"$error":"#DIV/0!"},null,0]
[null,null,null,null,null,null,null,null,null,null,null,null,null,null,{"$error":"#DIV/0!"},null,0]
[null,null,null,null,null,null,null,null,null,null,null,null,null,null,{"$error":"#DIV/0!"},null,0]
[null,null,null,null,null,null,null,null,null,null,null,null,null,null,{"$error":"#DIV/0!"},null,0]
[null,null,null,null,null,null,null,null,null,null,null,null,null,null,{"$error":"#DIV/0!"},null,0]
[null,null,null,null,null,null,null,null,null,null,null,null,null,null,{"$error":"#DIV/0!"},null,0]
[null,null,null,null,null,null,null,null,null,null,null,null,null,null,{"$error":"#DIV/0!"},null,0]
[null,null,null,null,null,null,null,null,null,null,null,null,null,null,{"$error":"#DIV/0!"},null,0]
[null,null,null,null,null,null,null,null,null,null,null,null,null,null,{"$error":"#DIV/0!"},null,0]
[null,null,null,null,null,null,null,null,null,null,null,null,null,null,{"$error":"#DIV/0!"},null,0]
[null,null,null,null,null,null,null,null,null,null,null,null,null,null,{"$error":"#DIV/0!"},null,0]
[null,null,null,null,null,null,null,null,null,null,null,null,null,null,{"$error":"#DIV/0!"},null,0]
[null,null,null,null,null,null,null,null,null,null,null,null,null,null,{"$error":"#DIV/0!"},null,0]
[null,null,null,null,null,null,null,null,null,null,null,null,null,null,{"$error":"#DIV/0!"},null,0]
[null,null,null,null,null,null,null,null,null,null,null,null,null,null,{"$error":"#DIV/0!"},null,0]
[null,null,null,null,null,null,null,null,null,null,null,null,null,null,{"$error":"#DIV/0!"},null,0]
[null,null,null,null,null,null,null,null,null,null,null,null,null,null,{"$error":"#DIV/0!"},null,0]
[null,null,null,null,null,null,null,null,null,null,null,null,null,null,{"$error":"#DIV/0!"},null,0]
[null,null,null,null,null,null,null,null,null,null,null,null,null,null,{"$error":"#DIV/0!"},null,0]
[null,null,null,null,null,null,null,null,null,null,null,null,null,null,{"$error":"#DIV/0!"},null,0]
[null,null,null,null,null,null,null,null,null,null,null,null,null,null,{"$error":"#DIV/0!"},null,0]
[null,null,null,null,null,null,null,null,null,null,null,null,null,null,{"$error":"#DIV/0!"},null,0]
[null,null,null,null,null,null,null,null,null,null,null,null,null,null,{"$error":"#DIV/0!"},null,0]
[null,null,null,null,null,null,null,null,null,null,null,null,null,null,{"$error":"#DIV/0!"},null,0]
[null,null,null,null,null,null,null,null,null,null,null,null,null,null,{"$error":"#DIV/0!"},null,0]
[null,null,null,null,null,null,null,null,null,null,null,null,null,null,{"$error":"#DIV/0!"},null,0]
[null,null,null,null,null,null,null,null,null,null,null,null,null,null,{"$error":"#DIV/0!"},null,0]
[null,null,null,null,null,null,null,null,null,null,null,null,null,null,{"$error":"#DIV/0!"},null,0]
[null,null,null,null,null,null,null,null,null,null,null,null,null,null,{"$error":"#DIV/0!"},null,0]
[null,null,null,null,null,null,null,null,null,null,null,null,null,null,{"$error":"#DIV/0!"},null,0]
[null,null,null,null,null,null,null,null,null,null,null,null,null,null,{"$error":"#DIV/0!"},null,0]
[null,null,null,null,null,null,null,null,null,null,null,null,null,null,{"$error":"#DIV/0!"},null,0]
[null,null,null,null,null,null,null,null,null,null,null,null,null,null,{"$error":"#DIV/0!"},null,0]
[null,null,null,null,null,null,null,null,null,null,null,null,null,null,{"$error":"#DIV/0!"},null,0]
[null,null,null,null,null,null,null,null,null,null,null,null,null,null,{"$error":"#DIV/0!"},null,0]
[null,null,null,null,null,null,null,null,null,null,null,null,null,null,{"$error":"#DIV/0!"},null,0]
[null,null,null,null,null,null,null,null,null,null,null,null,null,null,{"$error":"#DIV/0!"},null,0]
[null,null,null,null,null,null,null,null,null,null,null,null,null,null,{"$error":"#DIV/0!"},null,0]
[null,null,null,null,null,null,null,null,null,null,null,null,null,null,{"$error":"#DIV/0!"},null,0]
[null,null,null,null,null,null,null,null,null,null,null,null,null,null,{"$error":"#DIV/0!"},null,0]
[null,null,null,null,null,null,null,null,null,null,null,null,null,null,{"$error":"#DIV/0!"},null,0]
[null,null,null,null,null,null,null,null,null,null,null,null,null,null,{"$error":"#DIV/0!"},null,0]
[null,null,null,null,null,null,null,null,null,null,null,null,null,null,{"$error":"#DIV/0!"},null,0]
[null,null,null,null,null,null,null,null,null,null,null,null,null,null,{"$error":"#DIV/0!"},null,0]
[null,null,null,null,null,null,null,null,null,null,null,null,null,null,{"$error":"#DIV/0!"},null,0]
[null,null,null,null,null,null,null,null,null,null,null,null,null,null,{"$error":"#DIV/0!"},null,0]
[null,null,null,null,null,null,null,null,null,null,null,null,null,null,{"$error":"#DIV/0!"},null,0]
[null,null,null,null,null,null,null,null,null,null,null,null,null,null,{"$error":"#DIV/0!"},null,0]
[null,null,null,null,null,null,null,null,null,null,null,null,null,null,{"$f":"N1048455/M1048455","v":{"$error":"#DIV/0!"}},null,{"$f":"C1048455*P1048455","v":0}]
[null,null,null,null,null,null,null,null,null,null,null,null,null,null,{"$error":"#DIV/0!"},null,0]
[null,null,null,null,null,null,null,null,null,null,null,null,null,null,{"$error":"#DIV/0!"},null,0]
[null,null,null,null,null,null,null,null,null,null,null,null,null,null,{"$error":"#DIV/0!"},null,0]
[null,null,null,null,null,null,null,null,null,null,null,null,null,null,{"$error":"#DIV/0!"},null,0]
[null,null,null,null,null,null,null,null,null,null,null,null,null,null,{"$error":"#DIV/0!"},null,0]
[null,null,null,null,null,null,null,null,null,null,null,null,null,null,{"$error":"#DIV/0!"},null,0]
[null,null,null,null,null,null,null,null,null,null,null,null,null,null,{"$error":"#DIV/0!"},null,0]
[null,null,null,null,null,null,null,null,null,null,null,null,null,null,{"$error":"#DIV/0!"},null,0]
[null,null,null,null,null,null,null,null,null,null,null,null,null,null,{"$error":"#DIV/0!"},null,0]
[null,null,null,null,null,null,null,null,null,null,null,null,null,null,{"$error":"#DIV/0!"},null,0]
[null,null,null,null,null,null,null,null,null,null,null,null,null,null,{"$error":"#DIV/0!"},null,0]
[null,null,null,null,null,null,null,null,null,null,null,null,null,null,{"$error":"#DIV/0!"},null,0]
[null,null,null,null,null,null,null,null,null,null,null,null,null,null,{"$error":"#DIV/0!"},null,0]
[null,null,null,null,null,null,null,null,null,null,null,null,null,null,{"$error":"#DIV/0!"},null,0]
[null,null,null,null,null,null,null,null,null,null,null,null,null,null,{"$error":"#DIV/0!"},null,0]
[null,null,null,null,null,null,null,null,null,null,null,null,null,null,{"$error":"#DIV/0!"},null,0]
[null,null,null,null,null,null,null,null,null,null,null,null,null,null,{"$error":"#DIV/0!"},null,0]
[null,null,null,null,null,null,null,null,null,null,null,null,null,null,{"$error":"#DIV/0!"},null,0]
[null,null,null,null,null,null,null,null,null,null,null,null,null,null,{"$error":"#DIV/0!"},null,0]
[null,null,null,null,null,null,null,null,null,null,null,null,null,null,{"$error":"#DIV/0!"},null,0]
[null,null,null,null,null,null,null,null,null,null,null,null,null,null,{"$error":"#DIV/0!"},null,0]
[null,null,null,null,null,null,null,null,null,null,null,null,null,null,{"$error":"#DIV/0!"},null,0]
[null,null,null,null,null,null,null,null,null,null,null,null,null,null,{"$error":"#DIV/0!"},null,0]
[null,null,null,null,null,null,null,null,null,null,null,null,null,null,{"$error":"#DIV/0!"},null,0]
[null,null,null,null,null,null,null,null,null,null,null,null,null,null,{"$error":"#DIV/0!"},null,0]
[null,null,null,null,null,null,null,null,null,null,null,null,null,null,{"$error":"#DIV/0!"},null,0]
[null,null,null,null,null,null,null,null,null,null,null,null,null,null,{"$error":"#DIV/0!"},null,0]
[null,null,null,null,null,null,null,null,null,null,null,null,null,null,{"$error":"#DIV/0!"},null,0]
[null,null,null,null,null,null,null,null,null,null,null,null,null,null,{"$error":"#DIV/0!"},null,0]
[null,null,null,null,null,null,null,null,null,null,null,null,null,null,{"$error":"#DIV/0!"},null,0]
[null,null,null,null,null,null,null,null,null,null,null,null,null,null,{"$error":"#DIV/0!"},null,0]
[null,null,null,null,null,null,null,null,null,null,null,null,null,null,{"$error":"#DIV/0!"},null,0]
[null,null,null,null,null,null,null,null,null,null,null,null,null,null,{"$error":"#DIV/0!"},null,0]
[null,null,null,null,null,null,null,null,null,null,null,null,null,null,{"$error":"#DIV/0!"},null,0]
[null,null,null,null,null,null,null,null,null,null,null,null,null,null,{"$error":"#DIV/0!"},null,0]
[null,null,null,null,null,null,null,null,null,null,null,null,null,null,{"$error":"#DIV/0!"},null,0]
[null,null,null,null,null,null,null,null,null,null,null,null,null,null,{"$error":"#DIV/0!"},null,0]
[null,null,null,null,null,null,null,null,null,null,null,null,null,null,{"$error":"#DIV/0!"},null,0]
[null,null,null,null,null,null,null,null,null,null,null,null,null,null,{"$error":"#DIV/0!"},null,0]
[null,null,null,null,null,null,null,null,null,null,null,null,null,null,{"$error":"#DIV/0!"},null,0]
[null,null,null,null,null,null,null,null,null,null,null,null,null,null,{"$error":"#DIV/0!"},null,0]
[null,null,null,null,null,null,null,null,null,null,null,null,null,null,{"$error":"#DIV/0!"},null,0]
[null,null,null,null,null,null,null,null,null,null,null,null,null,null,{"$error":"#DIV/0!"},null,0]
[null,null,null,null,null,null,null,null,null,null,null,null,null,null,{"$error":"#DIV/0!"},null,0]
[null,null,null,null,null,null,null,null,null,null,null,null,null,null,{"$error":"#DIV/0!"},null,0]
[null,null,null,null,null,null,null,null,null,null,null,null,null,null,{"$error":"#DIV/0!"},null,0]
[null,null,null,null,null,null,null,null,null,null,null,null,null,null,{"$error":"#DIV/0!"},null,0]
[null,null,null,null,null,null,null,null,null,null,null,null,null,null,{"$error":"#DIV/0!"},null,0]
[null,null,null,null,null,null,null,null,null,null,null,null,null,null,{"$error":"#DIV/0!"},null,0]
[null,null,null,null,null,null,null,null,null,null,null,null,null,null,{"$error":"#DIV/0!"},null,0]
[null,null,null,null,null,null,null,null,null,null,null,null,null,null,{"$error":"#DIV/0!"},null,0]
[null,null,null,null,null,null,null,null,null,null,null,null,null,null,{"$error":"#DIV/0!"},null,0]
[null,null,null,null,null,null,null,null,null,null,null,null,null,null,{"$error":"#DIV/0!"},null,0]
[null,null,null,null,null,null,null,null,null,null,null,null,null,null,{"$error":"#DIV/0!"},null,0]
[null,null,null,null,null,null,null,null,null,null,null,null,null,null,{"$error":"#DIV/0!"},null,0]
[null,null,null,null,null,null,null,null,null,null,null,null,null,null,{"$error":"#DIV/0!"},null,0]
[null,null,null,null,null,null,null,null,null,null,null,null,null,null,{"$error":"#DIV/0!"},null,0]
[null,null,null,null,null,null,null,null,null,null,null,null,null,null,{"$error":"#DIV/0!"},null,0]
[null,null,null,null,null,null,null,null,null,null,null,null,null,null,{"$error":"#DIV/0!"},null,0]
[null,null,null,null,null,null,null,null,null,null,null,null,null,null,{"$error":"#DIV/0!"},null,0]
[null,null,null,null,null,null,null,null,null,null,null,null,null,null,{"$error":"#DIV/0!"},null,0]
[null,null,null,null,null,null,null,null,null,null,null,null,null,null,{"$error":"#DIV/0!"},null,0]
[null,null,null,null,null,null,null,null,null,null,null,null,null,null,{"$error":"#DIV/0!"},null,0]
[null,null,null,null,null,null,null,null,null,null,null,null,null,null,{"$f":"N1048519/M1048519","v":{"$error":"#DIV/0!"}},null,{"$f":"C1048519*P1048519","v":0}]
[null,null,null,null,null,null,null,null,null,null,null,null,null,null,{"$error":"#DIV/0!"},null,0]
[null,null,null,null,null,null,null,null,null,null,null,null,null,null,{"$error":"#DIV/0!"},null,0]
[null,null,null,null,null,null,null,null,null,null,null,null,null,null,{"$error":"#DIV/0!"},null,0]
[null,null,null,null,null,null,null,null,null,null,null,null,null,null,{"$error":"#DIV/0!"},null,0]
[null,null,null,null,null,null,null,null,null,null,null,null,null,null,{"$error":"#DIV/0!"},null,0]
[null,null,null,null,null,null,null,null,null,null,null,null,null,null,{"$error":"#DIV/0!"},null,0]
[null,null,null,null,null,null,null,null,null,null,null,null,null,null,{"$error":"#DIV/0!"},null,0]
[null,null,null,null,null,null,null,null,null,null,null,null,null,null,{"$error":"#DIV/0!"},null,0]
[null,null,null,null,null,null,null,null,null,null,null,null,null,null,{"$error":"#DIV/0!"},null,0]
[null,null,null,null,null,null,null,null,null,null,null,null,null,null,{"$error":"#DIV/0!"},null,0]
[null,null,null,null,null,null,null,null,null,null,null,null,null,null,{"$error":"#DIV/0!"},null,0]
[null,null,null,null,null,null,null,null,null,null,null,null,null,null,{"$error":"#DIV/0!"},null,0]
[null,null,null,null,null,null,null,null,null,null,null,null,null,null,{"$error":"#DIV/0!"},null,0]
[null,null,null,null,null,null,null,null,null,null,null,null,null,null,{"$error":"#DIV/0!"},null,0]
[null,null,null,null,null,null,null,null,null,null,null,null,null,null,{"$error":"#DIV/0!"},null,0]
[null,null,null,null,null,null,null,null,null,null,null,null,null,null,{"$error":"#DIV/0!"},null,0]
[null,null,null,null,null,null,null,null,null,null,null,null,null,null,{"$error":"#DIV/0!"},null,0]
[null,null,null,null,null,null,null,null,null,null,null,null,null,null,{"$error":"#DIV/0!"},null,0]
[null,null,null,null,null,null,null,null,null,null,null,null,null,null,{"$error":"#DIV/0!"},null,0]
[null,null,null,null,null,null,null,null,null,null,null,null,null,null,{"$error":"#DIV/0!"},null,0]
[null,null,null,null,null,null,null,null,null,null,null,null,null,null,{"$error":"#DIV/0!"},null,0]
[null,null,null,null,null,null,null,null,null,null,null,null,null,null,{"$error":"#DIV/0!"},null,0]
[null,null,null,null,null,null,null,null,null,null,null,null,null,null,{"$error":"#DIV/0!"},null,0]
[null,null,null,null,null,null,null,null,null,null,null,null,null,null,{"$error":"#DIV/0!"},null,0]
[null,null,null,null,null,null,null,null,null,null,null,null,null,null,{"$error":"#DIV/0!"},null,0]
[null,null,null,null,null,null,null,null,null,null,null,null,null,null,{"$error":"#DIV/0!"},null,0]
[null,null,null,null,null,null,null,null,null,null,null,null,null,null,{"$error":"#DIV/0!"},null,0]
[null,null,null,null,null,null,null,null,null,null,null,null,null,null,{"$error":"#DIV/0!"}]
[null,null,null,null,null,null,null,null,null,null,null,null,null,null,{"$error":"#DIV/0!"}]
[null,null,null,null,null,null,null,null,null,null,null,null,null,null,{"$error":"#DIV/0!"}]
[null,null,null,null,null,null,null,null,null,null,null,null,null,null,{"$error":"#DIV/0!"}]
[null,null,null,null,null,null,null,null,null,null,null,null,null,null,{"$error":"#DIV/0!"}]
[null,null,null,null,null,null,null,null,null,null,null,null,null,null,{"$error":"#DIV/0!"}]
[null,null,null,null,null,null,null,null,null,null,null,null,null,null,{"$error":"#DIV/0!"}]
[null,null,null,null,null,null,null,null,null,null,null,null,null,null,{"$error":"#DIV/0!"}]
[null,null,null,null,null,null,null,null,null,null,null,null,null,null,{"$error":"#DIV/0!"}]
[null,null,null,null,null,null,null,null,null,null,null,null,null,null,{"$error":"#DIV/0!"}]
[null,null,null,null,null,null,null,null,null,null,null,null,null,null,{"$error":"#DIV/0!"}]
[null,null,null,null,null,null,null,null,null,null,null,null,null,null,{"$error":"#DIV/0!"}]
[null,null,null,null,null,null,null,null,null,null,null,null,null,null,{"$error":"#DIV/0!"}]
[null,null,null,null,null,null,null,null,null,null,null,null,null,null,{"$error":"#DIV/0!"}]
[null,null,null,null,null,null,null,null,null,null,null,null,null,null,{"$error":"#DIV/0!"}]
[null,null,null,null,null,null,null,null,null,null,null,null,null,null,{"$error":"#DIV/0!"}]
[null,null,null,null,null,null,null,null,null,null,null,null,null,null,{"$error":"#DIV/0!"}]
[null,null,null,null,null,null,null,null,null,null,null,null,null,null,{"$error":"#DIV/0!"}]
[null,null,null,null,null,null,null,null,null,null,null,null,null,null,{"$error":"#DIV/0!"}]
[null,null,null,null,null,null,null,null,null,null,null,null,null,null,{"$error":"#DIV/0!"}]
[null,null,null,null,null,null,null,null,null,null,null,null,null,null,{"$error":"#DIV/0!"}]
[null,null,null,null,null,null,null,null,null,null,null,null,null,null,{"$error":"#DIV/0!"}]
[null,null,null,null,null,null,null,null,null,null,null,null,null,null,{"$error":"#DIV/0!"}]
[null,null,null,null,null,null,null,null,null,null,null,null,null,null,{"$error":"#DIV/0!"}]
[null,null,null,null,null,null,null,null,null,null,null,null,null,null,{"$error":"#DIV/0!"}]
[null,null,null,null,null,null,null,null,null,null,null,null,null,null,{"$error":"#DIV/0!"}]
[null,null,null,null,null,null,null,null,null,null,null,null,null,null,{"$error":"#DIV/0!"}]
[null,null,null,null,null,null,null,null,null,null,null,null,null,null,{"$error":"#DIV/0!"}]
[null,null,null,null,null,null,null,null,null,null,null,null,null,null,{"$error":"#DIV/0!"}]
[null,null,null,null,null,null,null,null,null,null,null,null,null,null,{"$error":"#DIV/0!"}]

{"sheet":"Pivot","index":1,"n_rows":5,"n_cols":4,"rows_kept":5,"cut":false,"hidden":false,"merged":[]}
[]
[]
["Row Labels","Count of Nomenclature","Sum of Price","Average of Price2"]
["(blank)"]
["Grand Total"]

{"sheet":"Data Input","index":2,"n_rows":0,"n_cols":0,"rows_kept":0,"cut":false,"hidden":false,"merged":[]}